Workbook

Sheet Dashboard
A1: Vacation Rental Operations Dashboard
A2: Reporting Date | B2: =IFERROR(TODAY(),"") | D2: Property Filter | E2: All Properties | G2: Upcoming Window (Days) | H2: ='Property Setup'!$B$5
A4: Upcoming Arrivals | D4: Upcoming Departures
A5: =IFERROR(IF($E$2="All Properties",COUNTIFS('Reservations'!$K$5:$K$104,">="&TODAY(),'Reservations'!$K$5:$K$104,"<="&TODAY()+$H$2,'Reservations'!$E$5:$E$104,"<>Canceled"),COUNTIFS('Reservations'!$C$5:$C$104,$E$2,'Reservations'!$K$5:$K$104,">="&TODAY(),'Reservations'!$K$5:$K$104,"<="&TODAY()+$H$2,'Reservations'!$E$5:$E$104,"<>Canceled")),0) | D5: =IFERROR(IF($E$2="All Properties",COUNTIFS('Reservations'!$L$5:$L$104,">="&TODAY(),'Reservations'!$L$5:$L$104,"<="&TODAY()+$H$2,'Reservations'!$E$5:$E$104,"<>Canceled"),COUNTIFS('Reservations'!$C$5:$C$104,$E$2,'Reservations'!$L$5:$L$104,">="&TODAY(),'Reservations'!$L$5:$L$104,"<="&TODAY()+$H$2,'Reservations'!$E$5:$E$104,"<>Canceled")),0)
A7: Occupied Nights This Month | D7: Available Nights This Month | G7: Average Daily Rate This Month
A8: =IFERROR(IF($E$2="All Properties",SUM('Reservations'!$AN$5:$AN$104),SUMIF('Reservations'!$C$5:$C$104,$E$2,'Reservations'!$AN$5:$AN$104)),0) | D8: =IFERROR(IF($E$2="All Properties",SUMIF('Property Setup'!$C$13:$C$21,"Yes",'Property Setup'!$M$13:$M$21),VLOOKUP($E$2,'Property Setup'!$B$13:$M$21,12,0))*DAY(EOMONTH(TODAY(),0)),0) | G8: =IFERROR(D11/A8,0)
A10: Occupancy This Month | D10: Booked Rental Revenue This Month | G10: Outstanding Guest Balance
A11: =IFERROR(A8/D8,0) | D11: =IFERROR(IF($E$2="All Properties",SUM('Reservations'!$AO$5:$AO$104),SUMIF('Reservations'!$C$5:$C$104,$E$2,'Reservations'!$AO$5:$AO$104)),0) | G11: =IFERROR(IF($E$2="All Properties",SUMIF('Reservations'!$E$5:$E$104,"<>Canceled",'Reservations'!$AE$5:$AE$104),SUMIFS('Reservations'!$AE$5:$AE$104,'Reservations'!$C$5:$C$104,$E$2,'Reservations'!$E$5:$E$104,"<>Canceled")),0)
A13: Turns Due Today | D13: Overdue Operations Tasks | G13: Open Maintenance Work Orders
A14: =IFERROR(COUNTIFS('Operations'!$E$5:$E$154,"Turnover Cleaning",'Operations'!$J$5:$J$154,TODAY(),'Operations'!$N$5:$N$154,"<>Completed",'Operations'!$N$5:$N$154,"<>Canceled"),0) | D14: =IFERROR(COUNTIFS('Operations'!$J$5:$J$154,"<"&TODAY(),'Operations'!$N$5:$N$154,"<>Completed",'Operations'!$N$5:$N$154,"<>Canceled"),0) | G14: =IFERROR(COUNTIFS('Operations'!$E$5:$E$154,"Maintenance",'Operations'!$N$5:$N$154,"<>Completed",'Operations'!$N$5:$N$154,"<>Canceled"),0)
G16: Urgent Open Items
G17: =IFERROR(COUNTIFS('Operations'!$H$5:$H$154,"Urgent",'Operations'!$N$5:$N$154,"<>Completed",'Operations'!$N$5:$N$154,"<>Canceled"),0)
A19: Today's Activity
A20: Property | B20: Task Type | C20: Due Date | D20: Assigned To | E20: Status | F20: Priority
A21: =IFERROR(INDEX('Operations'!$C$5:$C$154,MATCH(1,'Operations'!$Z$5:$Z$154,0)),"No tasks due today") | B21: =IFERROR(INDEX('Operations'!$E$5:$E$154,MATCH(1,'Operations'!$Z$5:$Z$154,0)),"") | C21: =IFERROR(INDEX('Operations'!$J$5:$J$154,MATCH(1,'Operations'!$Z$5:$Z$154,0)),"") | D21: =IFERROR(INDEX('Operations'!$L$5:$L$154,MATCH(1,'Operations'!$Z$5:$Z$154,0)),"") | E21: =IFERROR(INDEX('Operations'!$N$5:$N$154,MATCH(1,'Operations'!$Z$5:$Z$154,0)),"") | F21: =IFERROR(INDEX('Operations'!$H$5:$H$154,MATCH(1,'Operations'!$Z$5:$Z$154,0)),"")
A22: =IFERROR(INDEX('Operations'!$C$5:$C$154,MATCH(2,'Operations'!$Z$5:$Z$154,0)),"") | B22: =IFERROR(INDEX('Operations'!$E$5:$E$154,MATCH(2,'Operations'!$Z$5:$Z$154,0)),"") | C22: =IFERROR(INDEX('Operations'!$J$5:$J$154,MATCH(2,'Operations'!$Z$5:$Z$154,0)),"") | D22: =IFERROR(INDEX('Operations'!$L$5:$L$154,MATCH(2,'Operations'!$Z$5:$Z$154,0)),"") | E22: =IFERROR(INDEX('Operations'!$N$5:$N$154,MATCH(2,'Operations'!$Z$5:$Z$154,0)),"") | F22: =IFERROR(INDEX('Operations'!$H$5:$H$154,MATCH(2,'Operations'!$Z$5:$Z$154,0)),"")
A23: =IFERROR(INDEX('Operations'!$C$5:$C$154,MATCH(3,'Operations'!$Z$5:$Z$154,0)),"") | B23: =IFERROR(INDEX('Operations'!$E$5:$E$154,MATCH(3,'Operations'!$Z$5:$Z$154,0)),"") | C23: =IFERROR(INDEX('Operations'!$J$5:$J$154,MATCH(3,'Operations'!$Z$5:$Z$154,0)),"") | D23: =IFERROR(INDEX('Operations'!$L$5:$L$154,MATCH(3,'Operations'!$Z$5:$Z$154,0)),"") | E23: =IFERROR(INDEX('Operations'!$N$5:$N$154,MATCH(3,'Operations'!$Z$5:$Z$154,0)),"") | F23: =IFERROR(INDEX('Operations'!$H$5:$H$154,MATCH(3,'Operations'!$Z$5:$Z$154,0)),"")
A24: =IFERROR(INDEX('Operations'!$C$5:$C$154,MATCH(4,'Operations'!$Z$5:$Z$154,0)),"") | B24: =IFERROR(INDEX('Operations'!$E$5:$E$154,MATCH(4,'Operations'!$Z$5:$Z$154,0)),"") | C24: =IFERROR(INDEX('Operations'!$J$5:$J$154,MATCH(4,'Operations'!$Z$5:$Z$154,0)),"") | D24: =IFERROR(INDEX('Operations'!$L$5:$L$154,MATCH(4,'Operations'!$Z$5:$Z$154,0)),"") | E24: =IFERROR(INDEX('Operations'!$N$5:$N$154,MATCH(4,'Operations'!$Z$5:$Z$154,0)),"") | F24: =IFERROR(INDEX('Operations'!$H$5:$H$154,MATCH(4,'Operations'!$Z$5:$Z$154,0)),"")
A25: =IFERROR(INDEX('Operations'!$C$5:$C$154,MATCH(5,'Operations'!$Z$5:$Z$154,0)),"") | B25: =IFERROR(INDEX('Operations'!$E$5:$E$154,MATCH(5,'Operations'!$Z$5:$Z$154,0)),"") | C25: =IFERROR(INDEX('Operations'!$J$5:$J$154,MATCH(5,'Operations'!$Z$5:$Z$154,0)),"") | D25: =IFERROR(INDEX('Operations'!$L$5:$L$154,MATCH(5,'Operations'!$Z$5:$Z$154,0)),"") | E25: =IFERROR(INDEX('Operations'!$N$5:$N$154,MATCH(5,'Operations'!$Z$5:$Z$154,0)),"") | F25: =IFERROR(INDEX('Operations'!$H$5:$H$154,MATCH(5,'Operations'!$Z$5:$Z$154,0)),"")
A27: Upcoming Arrivals
A28: Arrival Date | B28: Property | C28: Guest Name | D28: Departure Date | E28: Guest Count | F28: Balance Due | G28: Booking Status
A29: =IFERROR(INDEX('Reservations'!$K$5:$K$104,MATCH(1,'Reservations'!$BC$5:$BC$104,0)),"") | B29: =IFERROR(INDEX('Reservations'!$C$5:$C$104,MATCH(1,'Reservations'!$BC$5:$BC$104,0)),"") | C29: =IFERROR(INDEX('Reservations'!$G$5:$G$104,MATCH(1,'Reservations'!$BC$5:$BC$104,0))&" "&INDEX('Reservations'!$H$5:$H$104,MATCH(1,'Reservations'!$BC$5:$BC$104,0)),"") | D29: =IFERROR(INDEX('Reservations'!$L$5:$L$104,MATCH(1,'Reservations'!$BC$5:$BC$104,0)),"") | E29: =IFERROR(INDEX('Reservations'!$P$5:$P$104,MATCH(1,'Reservations'!$BC$5:$BC$104,0)),"") | F29: =IFERROR(INDEX('Reservations'!$AE$5:$AE$104,MATCH(1,'Reservations'!$BC$5:$BC$104,0)),"") | G29: =IFERROR(INDEX('Reservations'!$E$5:$E$104,MATCH(1,'Reservations'!$BC$5:$BC$104,0)),"")
A30: =IFERROR(INDEX('Reservations'!$K$5:$K$104,MATCH(2,'Reservations'!$BC$5:$BC$104,0)),"") | B30: =IFERROR(INDEX('Reservations'!$C$5:$C$104,MATCH(2,'Reservations'!$BC$5:$BC$104,0)),"") | C30: =IFERROR(INDEX('Reservations'!$G$5:$G$104,MATCH(2,'Reservations'!$BC$5:$BC$104,0))&" "&INDEX('Reservations'!$H$5:$H$104,MATCH(2,'Reservations'!$BC$5:$BC$104,0)),"") | D30: =IFERROR(INDEX('Reservations'!$L$5:$L$104,MATCH(2,'Reservations'!$BC$5:$BC$104,0)),"") | E30: =IFERROR(INDEX('Reservations'!$P$5:$P$104,MATCH(2,'Reservations'!$BC$5:$BC$104,0)),"") | F30: =IFERROR(INDEX('Reservations'!$AE$5:$AE$104,MATCH(2,'Reservations'!$BC$5:$BC$104,0)),"") | G30: =IFERROR(INDEX('Reservations'!$E$5:$E$104,MATCH(2,'Reservations'!$BC$5:$BC$104,0)),"")
A31: =IFERROR(INDEX('Reservations'!$K$5:$K$104,MATCH(3,'Reservations'!$BC$5:$BC$104,0)),"") | B31: =IFERROR(INDEX('Reservations'!$C$5:$C$104,MATCH(3,'Reservations'!$BC$5:$BC$104,0)),"") | C31: =IFERROR(INDEX('Reservations'!$G$5:$G$104,MATCH(3,'Reservations'!$BC$5:$BC$104,0))&" "&INDEX('Reservations'!$H$5:$H$104,MATCH(3,'Reservations'!$BC$5:$BC$104,0)),"") | D31: =IFERROR(INDEX('Reservations'!$L$5:$L$104,MATCH(3,'Reservations'!$BC$5:$BC$104,0)),"") | E31: =IFERROR(INDEX('Reservations'!$P$5:$P$104,MATCH(3,'Reservations'!$BC$5:$BC$104,0)),"") | F31: =IFERROR(INDEX('Reservations'!$AE$5:$AE$104,MATCH(3,'Reservations'!$BC$5:$BC$104,0)),"") | G31: =IFERROR(INDEX('Reservations'!$E$5:$E$104,MATCH(3,'Reservations'!$BC$5:$BC$104,0)),"")
A32: =IFERROR(INDEX('Reservations'!$K$5:$K$104,MATCH(4,'Reservations'!$BC$5:$BC$104,0)),"") | B32: =IFERROR(INDEX('Reservations'!$C$5:$C$104,MATCH(4,'Reservations'!$BC$5:$BC$104,0)),"") | C32: =IFERROR(INDEX('Reservations'!$G$5:$G$104,MATCH(4,'Reservations'!$BC$5:$BC$104,0))&" "&INDEX('Reservations'!$H$5:$H$104,MATCH(4,'Reservations'!$BC$5:$BC$104,0)),"") | D32: =IFERROR(INDEX('Reservations'!$L$5:$L$104,MATCH(4,'Reservations'!$BC$5:$BC$104,0)),"") | E32: =IFERROR(INDEX('Reservations'!$P$5:$P$104,MATCH(4,'Reservations'!$BC$5:$BC$104,0)),"") | F32: =IFERROR(INDEX('Reservations'!$AE$5:$AE$104,MATCH(4,'Reservations'!$BC$5:$BC$104,0)),"") | G32: =IFERROR(INDEX('Reservations'!$E$5:$E$104,MATCH(4,'Reservations'!$BC$5:$BC$104,0)),"")
A33: =IFERROR(INDEX('Reservations'!$K$5:$K$104,MATCH(5,'Reservations'!$BC$5:$BC$104,0)),"") | B33: =IFERROR(INDEX('Reservations'!$C$5:$C$104,MATCH(5,'Reservations'!$BC$5:$BC$104,0)),"") | C33: =IFERROR(INDEX('Reservations'!$G$5:$G$104,MATCH(5,'Reservations'!$BC$5:$BC$104,0))&" "&INDEX('Reservations'!$H$5:$H$104,MATCH(5,'Reservations'!$BC$5:$BC$104,0)),"") | D33: =IFERROR(INDEX('Reservations'!$L$5:$L$104,MATCH(5,'Reservations'!$BC$5:$BC$104,0)),"") | E33: =IFERROR(INDEX('Reservations'!$P$5:$P$104,MATCH(5,'Reservations'!$BC$5:$BC$104,0)),"") | F33: =IFERROR(INDEX('Reservations'!$AE$5:$AE$104,MATCH(5,'Reservations'!$BC$5:$BC$104,0)),"") | G33: =IFERROR(INDEX('Reservations'!$E$5:$E$104,MATCH(5,'Reservations'!$BC$5:$BC$104,0)),"")
A34: ="" | D34: ="" | E34: ="" | F34: ="" | G34: =""
A35: Attention Needed | D35: ="" | E35: ="" | F35: ="" | G35: =""
A36: Priority | B36: Record | C36: Action | D36: ="" | E36: ="" | F36: ="" | G36: =""
A37: Urgent overdue task | B37: =IFERROR(INDEX('Operations'!$A$5:$A$154,MATCH(1,'Operations'!$AA$5:$AA$154,0)),"") | C37: =IFERROR(INDEX('Operations'!$C$5:$C$154,MATCH(1,'Operations'!$AA$5:$AA$154,0))&": "&INDEX('Operations'!$F$5:$F$154,MATCH(1,'Operations'!$AA$5:$AA$154,0)),"No urgent overdue task") | D37: ="" | E37: ="" | F37: ="" | G37: =""
A38: Balance before arrival | B38: =IFERROR(INDEX('Reservations'!$A$5:$A$104,MATCH(1,'Reservations'!$BD$5:$BD$104,0)),"") | C38: =IFERROR(INDEX('Reservations'!$C$5:$C$104,MATCH(1,'Reservations'!$BD$5:$BD$104,0))&": review guest balance","") | D38: ="" | E38: ="" | F38: ="" | G38: =""
A39: Contact details | B39: ="" | C39: Review missing guest contact information. | D39: ="" | E39: ="" | F39: ="" | G39: =""
A40: Unassigned task | B40: ="" | C40: Review upcoming tasks without an assignee. | D40: ="" | E40: ="" | F40: ="" | G40: =""
A41: ="" | B41: ="" | C41: ="" | D41: ="" | E41: ="" | F41: ="" | G41: =""
A42: ="" | B42: ="" | C42: ="" | D42: ="" | E42: ="" | F42: ="" | G42: =""
A43: ="" | B43: ="" | C43: ="" | D43: ="" | E43: ="" | F43: ="" | G43: =""
A44: Legend | B44: ="" | C44: ="" | D44: ="" | E44: ="" | F44: ="" | G44: =""
A45: Blue | B45: Editable assumption | C45: ="" | D45: ="" | E45: ="" | F45: ="" | G45: =""
A46: Yellow | B46: Attention needed | C46: ="" | D46: ="" | E46: ="" | F46: ="" | G46: =""
A47: Red | B47: Overdue or exception | C47: ="" | D47: ="" | E47: ="" | F47: ="" | G47: =""
...

Sheet Reservations
A1: Reservations
A2: Enter charges and tax assumptions according to the property's current policies. Review all editable assumptions before use.
A4: Reservation ID | B4: External Reservation ID | C4: Property | D4: Booking Source | E4: Booking Status | F4: Booked Date | G4: Guest First Name | H4: Guest Last Name | I4: Guest Email | J4: Guest Phone | K4: Arrival Date | L4: Departure Date | M4: Nights | N4: Adults | O4: Children | P4: Total Guests | Q4: Maximum Occupancy | R4: Occupancy Check | S4: Nightly Rate | T4: Rental Revenue | U4: Cleaning Fee | V4: Other Guest Charges | W4: Discount | X4: Taxable Lodging Amount | Y4: Lodging Tax Rate | Z4: Estimated Lodging Tax | AA4: Service Charge Rate | AB4: Service Charge | AC4: Reservation Total | AD4: Payments Received | AE4: Balance Due | AF4: Payment Due Date | AG4: Payment Status | AH4: Days Until Arrival | AI4: Arrival Time | AJ4: Departure Time | AK4: Access Instructions Sent | AL4: Special Requests | AM4: Internal Notes | AN4: Current Month Nights | AO4: Current Month Revenue | AP4: Jan Nights | AQ4: Feb Nights | AR4: Mar Nights | AS4: Apr Nights | AT4: May Nights | AU4: Jun Nights | AV4: Jul Nights | AW4: Aug Nights | AX4: Sep Nights | AY4: Oct Nights | AZ4: Nov Nights | BA4: Dec Nights | BB4: Today Arrival Rank | BC4: Upcoming Arrival Rank | BD4: Balance Attention Rank
A5: VR-2026-001 | B5: DIR-5011 | C5: Seabreeze Gulf Cottage | D5: Direct | E5: Completed | F5: 46221 | G5: Emma | H5: Carter | I5: emma.carter@example.com | J5: (555) 310-1001 | K5: 46236 | L5: 46241 | M5: =IFERROR(IF($A5="","",MAX(0,$L5-$K5)),"") | N5: 2 | O5: 2 | P5: =IFERROR(IF($A5="","",$N5+$O5),"") | Q5: =IFERROR(IF($C5="","",VLOOKUP($C5,'Property Setup'!$B$13:$L$21,11,0)),"") | R5: =IFERROR(IF($C5="","",IF($P5>$Q5,"Review Guest Count","Within Limit")),"") | S5: 325 | T5: =IFERROR(IF($A5="","",$M5*$S5),"") | U5: 185 | V5: 0 | W5: 0 | X5: =IFERROR(IF($A5="","",MAX(0,$T5-$W5+IF(VLOOKUP($C5,'Property Setup'!$B$13:$R$21,17,0)="Yes",$U5,0))),"") | Y5: =IFERROR(IF($C5="","",VLOOKUP($C5,'Property Setup'!$B$13:$S$21,18,0)),"") | Z5: =IFERROR(IF($A5="","",$X5*$Y5),"") | AA5: =IFERROR(IF($C5="","",VLOOKUP($C5,'Property Setup'!$B$13:$T$21,19,0)),"") | AB5: =IFERROR(IF($A5="","",MAX(0,$T5-$W5)*$AA5),"") | AC5: =IFERROR(IF($A5="","",$T5+$U5+$V5-$W5+$Z5+$AB5),"") | AD5: 2250 | AE5: =IFERROR(IF($A5="","",MAX(0,$AC5-$AD5)),"") | AF5: 46229 | AG5: =IFERROR(IF($A5="","",IF($E5="Canceled","Canceled",IF($AE5=0,"Paid",IF(AND($AF5<TODAY(),$AE5>0),"Past Due",IF($AD5>0,"Partially Paid","Unpaid"))))),"") | AH5: =IFERROR(IF($A5="","",$K5-TODAY()),"") | AI5: 0.66666667 | AJ5: 0.41666667 | AK5: Yes | AL5: Family beach stay. | AM5: Completed without issue. | AN5: =IFERROR(IF(OR($A5="",$E5="Canceled"),"",MAX(0,MIN($L5,EOMONTH(TODAY(),0)+1)-MAX($K5,EOMONTH(TODAY(),-1)+1))),"") | AO5: =IFERROR(IF(OR($A5="",$AN5=0),"",$AN5*$S5),"") | AP5: =IFERROR(IF(OR($A5="",$E5="Canceled"),"",MAX(0,MIN($L5,46054)-MAX($K5,46023))),"") | AQ5: =IFERROR(IF(OR($A5="",$E5="Canceled"),"",MAX(0,MIN($L5,46082)-MAX($K5,46054))),"") | AR5: =IFERROR(IF(OR($A5="",$E5="Canceled"),"",MAX(0,MIN($L5,46113)-MAX($K5,46082))),"") | AS5: =IFERROR(IF(OR($A5="",$E5="Canceled"),"",MAX(0,MIN($L5,46143)-MAX($K5,46113))),"") | AT5: =IFERROR(IF(OR($A5="",$E5="Canceled"),"",MAX(0,MIN($L5,46174)-MAX($K5,46143))),"") | AU5: =IFERROR(IF(OR($A5="",$E5="Canceled"),"",MAX(0,MIN($L5,46204)-MAX($K5,46174))),"") | AV5: =IFERROR(IF(OR($A5="",$E5="Canceled"),"",MAX(0,MIN($L5,46235)-MAX($K5,46204))),"") | AW5: =IFERROR(IF(OR($A5="",$E5="Canceled"),"",MAX(0,MIN($L5,46266)-MAX($K5,46235))),"") | AX5: =IFERROR(IF(OR($A5="",$E5="Canceled"),"",MAX(0,MIN($L5,46296)-MAX($K5,46266))),"") | AY5: =IFERROR(IF(OR($A5="",$E5="Canceled"),"",MAX(0,MIN($L5,46327)-MAX($K5,46296))),"") | AZ5: =IFERROR(IF(OR($A5="",$E5="Canceled"),"",MAX(0,MIN($L5,46357)-MAX($K5,46327))),"") | BA5: =IFERROR(IF(OR($A5="",$E5="Canceled"),"",MAX(0,MIN($L5,46388)-MAX($K5,46357))),"") | BB5: =IFERROR(IF(AND($A5<>"",$K5=TODAY(),$E5<>"Canceled"),COUNTIFS($K$5:$K$5,TODAY(),$E$5:$E$5,"<>Canceled"),""),"") | BC5: =IFERROR(IF(AND($A5<>"",$K5>=TODAY(),$E5<>"Canceled"),COUNTIFS($K$5:$K$104,"<"&$K5,$E$5:$E$104,"<>Canceled")+COUNTIFS($K$5:$K$5,$K5,$E$5:$E$5,"<>Canceled"),""),"") | BD5: =IFERROR(IF(AND($A5<>"",$E5<>"Canceled",$AE5>0,$K5>=TODAY(),$K5<=TODAY()+'Property Setup'!$B$7),COUNTIFS($AE$5:$AE$5,">0",$K$5:$K$5,">="&TODAY(),$K$5:$K$5,"<="&TODAY()+'Property Setup'!$B$7),""),"")
A6: VR-2026-002 | B6: AB-82014 | C6: Smoky Ridge Cabin | D6: Airbnb | E6: In House | F6: 46201 | G6: Liam | H6: Nguyen | I6: liam.nguyen@example.com | J6: (555) 310-1002 | K6: 46269 | L6: 46274 | M6: =IFERROR(IF($A6="","",MAX(0,$L6-$K6)),"") | N6: 4 | O6: 2 | P6: =IFERROR(IF($A6="","",$N6+$O6),"") | Q6: =IFERROR(IF($C6="","",VLOOKUP($C6,'Property Setup'!$B$13:$L$21,11,0)),"") | R6: =IFERROR(IF($C6="","",IF($P6>$Q6,"Review Guest Count","Within Limit")),"") | S6: 395 | T6: =IFERROR(IF($A6="","",$M6*$S6),"") | U6: 220 | V6: 65 | W6: 0 | X6: =IFERROR(IF($A6="","",MAX(0,$T6-$W6+IF(VLOOKUP($C6,'Property Setup'!$B$13:$R$21,17,0)="Yes",$U6,0))),"") | Y6: =IFERROR(IF($C6="","",VLOOKUP($C6,'Property Setup'!$B$13:$S$21,18,0)),"") | Z6: =IFERROR(IF($A6="","",$X6*$Y6),"") | AA6: =IFERROR(IF($C6="","",VLOOKUP($C6,'Property Setup'!$B$13:$T$21,19,0)),"") | AB6: =IFERROR(IF($A6="","",MAX(0,$T6-$W6)*$AA6),"") | AC6: =IFERROR(IF($A6="","",$T6+$U6+$V6-$W6+$Z6+$AB6),"") | AD6: 1200 | AE6: =IFERROR(IF($A6="","",MAX(0,$AC6-$AD6)),"") | AF6: 46261 | AG6: =IFERROR(IF($A6="","",IF($E6="Canceled","Canceled",IF($AE6=0,"Paid",IF(AND($AF6<TODAY(),$AE6>0),"Past Due",IF($AD6>0,"Partially Paid","Unpaid"))))),"") | AH6: =IFERROR(IF($A6="","",$K6-TODAY()),"") | AI6: 0.66666667 | AJ6: 0.41666667 | AK6: Yes | AL6: Extra towels requested. | AM6: Current in-house stay. | AN6: =IFERROR(IF(OR($A6="",$E6="Canceled"),"",MAX(0,MIN($L6,EOMONTH(TODAY(),0)+1)-MAX($K6,EOMONTH(TODAY(),-1)+1))),"") | AO6: =IFERROR(IF(OR($A6="",$AN6=0),"",$AN6*$S6),"") | AP6: =IFERROR(IF(OR($A6="",$E6="Canceled"),"",MAX(0,MIN($L6,46054)-MAX($K6,46023))),"") | AQ6: =IFERROR(IF(OR($A6="",$E6="Canceled"),"",MAX(0,MIN($L6,46082)-MAX($K6,46054))),"") | AR6: =IFERROR(IF(OR($A6="",$E6="Canceled"),"",MAX(0,MIN($L6,46113)-MAX($K6,46082))),"") | AS6: =IFERROR(IF(OR($A6="",$E6="Canceled"),"",MAX(0,MIN($L6,46143)-MAX($K6,46113))),"") | AT6: =IFERROR(IF(OR($A6="",$E6="Canceled"),"",MAX(0,MIN($L6,46174)-MAX($K6,46143))),"") | AU6: =IFERROR(IF(OR($A6="",$E6="Canceled"),"",MAX(0,MIN($L6,46204)-MAX($K6,46174))),"") | AV6: =IFERROR(IF(OR($A6="",$E6="Canceled"),"",MAX(0,MIN($L6,46235)-MAX($K6,46204))),"") | AW6: =IFERROR(IF(OR($A6="",$E6="Canceled"),"",MAX(0,MIN($L6,46266)-MAX($K6,46235))),"") | AX6: =IFERROR(IF(OR($A6="",$E6="Canceled"),"",MAX(0,MIN($L6,46296)-MAX($K6,46266))),"") | AY6: =IFERROR(IF(OR($A6="",$E6="Canceled"),"",MAX(0,MIN($L6,46327)-MAX($K6,46296))),"") | AZ6: =IFERROR(IF(OR($A6="",$E6="Canceled"),"",MAX(0,MIN($L6,46357)-MAX($K6,46327))),"") | BA6: =IFERROR(IF(OR($A6="",$E6="Canceled"),"",MAX(0,MIN($L6,46388)-MAX($K6,46357))),"") | BB6: =IFERROR(IF(AND($A6<>"",$K6=TODAY(),$E6<>"Canceled"),COUNTIFS($K$5:$K$6,TODAY(),$E$5:$E$6,"<>Canceled"),""),"") | BC6: =IFERROR(IF(AND($A6<>"",$K6>=TODAY(),$E6<>"Canceled"),COUNTIFS($K$5:$K$104,"<"&$K6,$E$5:$E$104,"<>Canceled")+COUNTIFS($K$5:$K$6,$K6,$E$5:$E$6,"<>Canceled"),""),"") | BD6: =IFERROR(IF(AND($A6<>"",$E6<>"Canceled",$AE6>0,$K6>=TODAY(),$K6<=TODAY()+'Property Setup'!$B$7),COUNTIFS($AE$5:$AE$6,">0",$K$5:$K$6,">="&TODAY(),$K$5:$K$6,"<="&TODAY()+'Property Setup'!$B$7),""),"")
A7: VR-2026-003 | B7: VB-77201 | C7: Harborlight Beach Condo | D7: Vrbo | E7: Confirmed | F7: 46246 | G7: Olivia | H7: Martinez | I7: olivia.martinez@example.com | J7: (555) 310-1003 | K7: 46273 | L7: 46278 | M7: =IFERROR(IF($A7="","",MAX(0,$L7-$K7)),"") | N7: 2 | O7: 0 | P7: =IFERROR(IF($A7="","",$N7+$O7),"") | Q7: =IFERROR(IF($C7="","",VLOOKUP($C7,'Property Setup'!$B$13:$L$21,11,0)),"") | R7: =IFERROR(IF($C7="","",IF($P7>$Q7,"Review Guest Count","Within Limit")),"") | S7: 275 | T7: =IFERROR(IF($A7="","",$M7*$S7),"") | U7: 145 | V7: 0 | W7: 25 | X7: =IFERROR(IF($A7="","",MAX(0,$T7-$W7+IF(VLOOKUP($C7,'Property Setup'!$B$13:$R$21,17,0)="Yes",$U7,0))),"") | Y7: =IFERROR(IF($C7="","",VLOOKUP($C7,'Property Setup'!$B$13:$S$21,18,0)),"") | Z7: =IFERROR(IF($A7="","",$X7*$Y7),"") | AA7: =IFERROR(IF($C7="","",VLOOKUP($C7,'Property Setup'!$B$13:$T$21,19,0)),"") | AB7: =IFERROR(IF($A7="","",MAX(0,$T7-$W7)*$AA7),"") | AC7: =IFERROR(IF($A7="","",$T7+$U7+$V7-$W7+$Z7+$AB7),"") | AD7: 900 | AE7: =IFERROR(IF($A7="","",MAX(0,$AC7-$AD7)),"") | AF7: 46270 | AG7: =IFERROR(IF($A7="","",IF($E7="Canceled","Canceled",IF($AE7=0,"Paid",IF(AND($AF7<TODAY(),$AE7>0),"Past Due",IF($AD7>0,"Partially Paid","Unpaid"))))),"") | AH7: =IFERROR(IF($A7="","",$K7-TODAY()),"") | AI7: 0.625 | AJ7: 0.41666667 | AK7: No | AL7: Late arrival expected. | AM7: Balance requires attention. | AN7: =IFERROR(IF(OR($A7="",$E7="Canceled"),"",MAX(0,MIN($L7,EOMONTH(TODAY(),0)+1)-MAX($K7,EOMONTH(TODAY(),-1)+1))),"") | AO7: =IFERROR(IF(OR($A7="",$AN7=0),"",$AN7*$S7),"") | AP7: =IFERROR(IF(OR($A7="",$E7="Canceled"),"",MAX(0,MIN($L7,46054)-MAX($K7,46023))),"") | AQ7: =IFERROR(IF(OR($A7="",$E7="Canceled"),"",MAX(0,MIN($L7,46082)-MAX($K7,46054))),"") | AR7: =IFERROR(IF(OR($A7="",$E7="Canceled"),"",MAX(0,MIN($L7,46113)-MAX($K7,46082))),"") | AS7: =IFERROR(IF(OR($A7="",$E7="Canceled"),"",MAX(0,MIN($L7,46143)-MAX($K7,46113))),"") | AT7: =IFERROR(IF(OR($A7="",$E7="Canceled"),"",MAX(0,MIN($L7,46174)-MAX($K7,46143))),"") | AU7: =IFERROR(IF(OR($A7="",$E7="Canceled"),"",MAX(0,MIN($L7,46204)-MAX($K7,46174))),"") | AV7: =IFERROR(IF(OR($A7="",$E7="Canceled"),"",MAX(0,MIN($L7,46235)-MAX($K7,46204))),"") | AW7: =IFERROR(IF(OR($A7="",$E7="Canceled"),"",MAX(0,MIN($L7,46266)-MAX($K7,46235))),"") | AX7: =IFERROR(IF(OR($A7="",$E7="Canceled"),"",MAX(0,MIN($L7,46296)-MAX($K7,46266))),"") | AY7: =IFERROR(IF(OR($A7="",$E7="Canceled"),"",MAX(0,MIN($L7,46327)-MAX($K7,46296))),"") | AZ7: =IFERROR(IF(OR($A7="",$E7="Canceled"),"",MAX(0,MIN($L7,46357)-MAX($K7,46327))),"") | BA7: =IFERROR(IF(OR($A7="",$E7="Canceled"),"",MAX(0,MIN($L7,46388)-MAX($K7,46357))),"") | BB7: =IFERROR(IF(AND($A7<>"",$K7=TODAY(),$E7<>"Canceled"),COUNTIFS($K$5:$K$7,TODAY(),$E$5:$E$7,"<>Canceled"),""),"") | BC7: =IFERROR(IF(AND($A7<>"",$K7>=TODAY(),$E7<>"Canceled"),COUNTIFS($K$5:$K$104,"<"&$K7,$E$5:$E$104,"<>Canceled")+COUNTIFS($K$5:$K$7,$K7,$E$5:$E$7,"<>Canceled"),""),"") | BD7: =IFERROR(IF(AND($A7<>"",$E7<>"Canceled",$AE7>0,$K7>=TODAY(),$K7<=TODAY()+'Property Setup'!$B$7),COUNTIFS($AE$5:$AE$7,">0",$K$5:$K$7,">="&TODAY(),$K$5:$K$7,"<="&TODAY()+'Property Setup'!$B$7),""),"")
A8: VR-2026-004 | B8: BK-44081 | C8: Sonoran Sunset Casita | D8: Booking.com | E8: Confirmed | F8: 46253 | G8: Noah | H8: Wilson | I8: noah.wilson@example.com | J8: (555) 310-1004 | K8: 46277 | L8: 46281 | M8: =IFERROR(IF($A8="","",MAX(0,$L8-$K8)),"") | N8: 2 | O8: 1 | P8: =IFERROR(IF($A8="","",$N8+$O8),"") | Q8: =IFERROR(IF($C8="","",VLOOKUP($C8,'Property Setup'!$B$13:$L$21,11,0)),"") | R8: =IFERROR(IF($C8="","",IF($P8>$Q8,"Review Guest Count","Within Limit")),"") | S8: 290 | T8: =IFERROR(IF($A8="","",$M8*$S8),"") | U8: 135 | V8: 30 | W8: 50 | X8: =IFERROR(IF($A8="","",MAX(0,$T8-$W8+IF(VLOOKUP($C8,'Property Setup'!$B$13:$R$21,17,0)="Yes",$U8,0))),"") | Y8: =IFERROR(IF($C8="","",VLOOKUP($C8,'Property Setup'!$B$13:$S$21,18,0)),"") | Z8: =IFERROR(IF($A8="","",$X8*$Y8),"") | AA8: =IFERROR(IF($C8="","",VLOOKUP($C8,'Property Setup'!$B$13:$T$21,19,0)),"") | AB8: =IFERROR(IF($A8="","",MAX(0,$T8-$W8)*$AA8),"") | AC8: =IFERROR(IF($A8="","",$T8+$U8+$V8-$W8+$Z8+$AB8),"") | AD8: 600 | AE8: =IFERROR(IF($A8="","",MAX(0,$AC8-$AD8)),"") | AF8: 46272 | AG8: =IFERROR(IF($A8="","",IF($E8="Canceled","Canceled",IF($AE8=0,"Paid",IF(AND($AF8<TODAY(),$AE8>0),"Past Due",IF($AD8>0,"Partially Paid","Unpaid"))))),"") | AH8: =IFERROR(IF($A8="","",$K8-TODAY()),"") | AI8: 0.66666667 | AJ8: 0.45833333 | AK8: No | AL8: Requests shaded parking. | AM8: Send arrival details after final review. | AN8: =IFERROR(IF(OR($A8="",$E8="Canceled"),"",MAX(0,MIN($L8,EOMONTH(TODAY(),0)+1)-MAX($K8,EOMONTH(TODAY(),-1)+1))),"") | AO8: =IFERROR(IF(OR($A8="",$AN8=0),"",$AN8*$S8),"") | AP8: =IFERROR(IF(OR($A8="",$E8="Canceled"),"",MAX(0,MIN($L8,46054)-MAX($K8,46023))),"") | AQ8: =IFERROR(IF(OR($A8="",$E8="Canceled"),"",MAX(0,MIN($L8,46082)-MAX($K8,46054))),"") | AR8: =IFERROR(IF(OR($A8="",$E8="Canceled"),"",MAX(0,MIN($L8,46113)-MAX($K8,46082))),"") | AS8: =IFERROR(IF(OR($A8="",$E8="Canceled"),"",MAX(0,MIN($L8,46143)-MAX($K8,46113))),"") | AT8: =IFERROR(IF(OR($A8="",$E8="Canceled"),"",MAX(0,MIN($L8,46174)-MAX($K8,46143))),"") | AU8: =IFERROR(IF(OR($A8="",$E8="Canceled"),"",MAX(0,MIN($L8,46204)-MAX($K8,46174))),"") | AV8: =IFERROR(IF(OR($A8="",$E8="Canceled"),"",MAX(0,MIN($L8,46235)-MAX($K8,46204))),"") | AW8: =IFERROR(IF(OR($A8="",$E8="Canceled"),"",MAX(0,MIN($L8,46266)-MAX($K8,46235))),"") | AX8: =IFERROR(IF(OR($A8="",$E8="Canceled"),"",MAX(0,MIN($L8,46296)-MAX($K8,46266))),"") | AY8: =IFERROR(IF(OR($A8="",$E8="Canceled"),"",MAX(0,MIN($L8,46327)-MAX($K8,46296))),"") | AZ8: =IFERROR(IF(OR($A8="",$E8="Canceled"),"",MAX(0,MIN($L8,46357)-MAX($K8,46327))),"") | BA8: =IFERROR(IF(OR($A8="",$E8="Canceled"),"",MAX(0,MIN($L8,46388)-MAX($K8,46357))),"") | BB8: =IFERROR(IF(AND($A8<>"",$K8=TODAY(),$E8<>"Canceled"),COUNTIFS($K$5:$K$8,TODAY(),$E$5:$E$8,"<>Canceled"),""),"") | BC8: =IFERROR(IF(AND($A8<>"",$K8>=TODAY(),$E8<>"Canceled"),COUNTIFS($K$5:$K$104,"<"&$K8,$E$5:$E$104,"<>Canceled")+COUNTIFS($K$5:$K$8,$K8,$E$5:$E$8,"<>Canceled"),""),"") | BD8: =IFERROR(IF(AND($A8<>"",$E8<>"Canceled",$AE8>0,$K8>=TODAY(),$K8<=TODAY()+'Property Setup'!$B$7),COUNTIFS($AE$5:$AE$8,">0",$K$5:$K$8,">="&TODAY(),$K$5:$K$8,"<="&TODAY()+'Property Setup'!$B$7),""),"")
A9: VR-2026-005 | B9: DIR-5032 | C9: Blue Heron Lake House | D9: Direct | E9: Confirmed | F9: 46259 | G9: Ava | H9: Thompson | I9: ava.thompson@example.com | J9: (555) 310-1005 | K9: 46283 | L9: 46289 | M9: =IFERROR(IF($A9="","",MAX(0,$L9-$K9)),"") | N9: 5 | O9: 3 | P9: =IFERROR(IF($A9="","",$N9+$O9),"") | Q9: =IFERROR(IF($C9="","",VLOOKUP($C9,'Property Setup'!$B$13:$L$21,11,0)),"") | R9: =IFERROR(IF($C9="","",IF($P9>$Q9,"Review Guest Count","Within Limit")),"") | S9: 425 | T9: =IFERROR(IF($A9="","",$M9*$S9),"") | U9: 240 | V9: 75 | W9: 100 | X9: =IFERROR(IF($A9="","",MAX(0,$T9-$W9+IF(VLOOKUP($C9,'Property Setup'!$B$13:$R$21,17,0)="Yes",$U9,0))),"") | Y9: =IFERROR(IF($C9="","",VLOOKUP($C9,'Property Setup'!$B$13:$S$21,18,0)),"") | Z9: =IFERROR(IF($A9="","",$X9*$Y9),"") | AA9: =IFERROR(IF($C9="","",VLOOKUP($C9,'Property Setup'!$B$13:$T$21,19,0)),"") | AB9: =IFERROR(IF($A9="","",MAX(0,$T9-$W9)*$AA9),"") | AC9: =IFERROR(IF($A9="","",$T9+$U9+$V9-$W9+$Z9+$AB9),"") | AD9: 3400 | AE9: =IFERROR(IF($A9="","",MAX(0,$AC9-$AD9)),"") | AF9: 46276 | AG9: =IFERROR(IF($A9="","",IF($E9="Canceled","Canceled",IF($AE9=0,"Paid",IF(AND($AF9<TODAY(),$AE9>0),"Past Due",IF($AD9>0,"Partially Paid","Unpaid"))))),"") | AH9: =IFERROR(IF($A9="","",$K9-TODAY()),"") | AI9: 0.66666667 | AJ9: 0.41666667 | AK9: Yes | AL9: Family stay; requests crib. | AM9: Payment plan confirmed. | AN9: =IFERROR(IF(OR($A9="",$E9="Canceled"),"",MAX(0,MIN($L9,EOMONTH(TODAY(),0)+1)-MAX($K9,EOMONTH(TODAY(),-1)+1))),"") | AO9: =IFERROR(IF(OR($A9="",$AN9=0),"",$AN9*$S9),"") | AP9: =IFERROR(IF(OR($A9="",$E9="Canceled"),"",MAX(0,MIN($L9,46054)-MAX($K9,46023))),"") | AQ9: =IFERROR(IF(OR($A9="",$E9="Canceled"),"",MAX(0,MIN($L9,46082)-MAX($K9,46054))),"") | AR9: =IFERROR(IF(OR($A9="",$E9="Canceled"),"",MAX(0,MIN($L9,46113)-MAX($K9,46082))),"") | AS9: =IFERROR(IF(OR($A9="",$E9="Canceled"),"",MAX(0,MIN($L9,46143)-MAX($K9,46113))),"") | AT9: =IFERROR(IF(OR($A9="",$E9="Canceled"),"",MAX(0,MIN($L9,46174)-MAX($K9,46143))),"") | AU9: =IFERROR(IF(OR($A9="",$E9="Canceled"),"",MAX(0,MIN($L9,46204)-MAX($K9,46174))),"") | AV9: =IFERROR(IF(OR($A9="",$E9="Canceled"),"",MAX(0,MIN($L9,46235)-MAX($K9,46204))),"") | AW9: =IFERROR(IF(OR($A9="",$E9="Canceled"),"",MAX(0,MIN($L9,46266)-MAX($K9,46235))),"") | AX9: =IFERROR(IF(OR($A9="",$E9="Canceled"),"",MAX(0,MIN($L9,46296)-MAX($K9,46266))),"") | AY9: =IFERROR(IF(OR($A9="",$E9="Canceled"),"",MAX(0,MIN($L9,46327)-MAX($K9,46296))),"") | AZ9: =IFERROR(IF(OR($A9="",$E9="Canceled"),"",MAX(0,MIN($L9,46357)-MAX($K9,46327))),"") | BA9: =IFERROR(IF(OR($A9="",$E9="Canceled"),"",MAX(0,MIN($L9,46388)-MAX($K9,46357))),"") | BB9: =IFERROR(IF(AND($A9<>"",$K9=TODAY(),$E9<>"Canceled"),COUNTIFS($K$5:$K$9,TODAY(),$E$5:$E$9,"<>Canceled"),""),"") | BC9: =IFERROR(IF(AND($A9<>"",$K9>=TODAY(),$E9<>"Canceled"),COUNTIFS($K$5:$K$104,"<"&$K9,$E$5:$E$104,"<>Canceled")+COUNTIFS($K$5:$K$9,$K9,$E$5:$E$9,"<>Canceled"),""),"") | BD9: =IFERROR(IF(AND($A9<>"",$E9<>"Canceled",$AE9>0,$K9>=TODAY(),$K9<=TODAY()+'Property Setup'!$B$7),COUNTIFS($AE$5:$AE$9,">0",$K$5:$K$9,">="&TODAY(),$K$5:$K$9,"<="&TODAY()+'Property Setup'!$B$7),""),"")
A10: VR-2026-006 | B10: OR-99102 | C10: Aspen View Ski Condo | D10: Owner Referral | E10: Tentative | F10: 46267 | G10: Mason | H10: Davis | I10: mason.davis@example.com | J10: (555) 310-1006 | K10: 46296 | L10: 46301 | M10: =IFERROR(IF($A10="","",MAX(0,$L10-$K10)),"") | N10: 4 | O10: 2 | P10: =IFERROR(IF($A10="","",$N10+$O10),"") | Q10: =IFERROR(IF($C10="","",VLOOKUP($C10,'Property Setup'!$B$13:$L$21,11,0)),"") | R10: =IFERROR(IF($C10="","",IF($P10>$Q10,"Review Guest Count","Within Limit")),"") | S10: 510 | T10: =IFERROR(IF($A10="","",$M10*$S10),"") | U10: 210 | V10: 0 | W10: 0 | X10: =IFERROR(IF($A10="","",MAX(0,$T10-$W10+IF(VLOOKUP($C10,'Property Setup'!$B$13:$R$21,17,0)="Yes",$U10,0))),"") | Y10: =IFERROR(IF($C10="","",VLOOKUP($C10,'Property Setup'!$B$13:$S$21,18,0)),"") | Z10: =IFERROR(IF($A10="","",$X10*$Y10),"") | AA10: =IFERROR(IF($C10="","",VLOOKUP($C10,'Property Setup'!$B$13:$T$21,19,0)),"") | AB10: =IFERROR(IF($A10="","",MAX(0,$T10-$W10)*$AA10),"") | AC10: =IFERROR(IF($A10="","",$T10+$U10+$V10-$W10+$Z10+$AB10),"") | AD10: 500 | AE10: =IFERROR(IF($A10="","",MAX(0,$AC10-$AD10)),"") | AF10: 46283 | AG10: =IFERROR(IF($A10="","",IF($E10="Canceled","Canceled",IF($AE10=0,"Paid",IF(AND($AF10<TODAY(),$AE10>0),"Past Due",IF($AD10>0,"Partially Paid","Unpaid"))))),"") | AH10: =IFERROR(IF($A10="","",$K10-TODAY()),"") | AI10: 0.66666667 | AJ10: 0.41666667 | AK10: Not Needed | AL10: Considering equipment rental. | AM10: Tentative hold. | AN10: =IFERROR(IF(OR($A10="",$E10="Canceled"),"",MAX(0,MIN($L10,EOMONTH(TODAY(),0)+1)-MAX($K10,EOMONTH(TODAY(),-1)+1))),"") | AO10: =IFERROR(IF(OR($A10="",$AN10=0),"",$AN10*$S10),"") | AP10: =IFERROR(IF(OR($A10="",$E10="Canceled"),"",MAX(0,MIN($L10,46054)-MAX($K10,46023))),"") | AQ10: =IFERROR(IF(OR($A10="",$E10="Canceled"),"",MAX(0,MIN($L10,46082)-MAX($K10,46054))),"") | AR10: =IFERROR(IF(OR($A10="",$E10="Canceled"),"",MAX(0,MIN($L10,46113)-MAX($K10,46082))),"") | AS10: =IFERROR(IF(OR($A10="",$E10="Canceled"),"",MAX(0,MIN($L10,46143)-MAX($K10,46113))),"") | AT10: =IFERROR(IF(OR($A10="",$E10="Canceled"),"",MAX(0,MIN($L10,46174)-MAX($K10,46143))),"") | AU10: =IFERROR(IF(OR($A10="",$E10="Canceled"),"",MAX(0,MIN($L10,46204)-MAX($K10,46174))),"") | AV10: =IFERROR(IF(OR($A10="",$E10="Canceled"),"",MAX(0,MIN($L10,46235)-MAX($K10,46204))),"") | AW10: =IFERROR(IF(OR($A10="",$E10="Canceled"),"",MAX(0,MIN($L10,46266)-MAX($K10,46235))),"") | AX10: =IFERROR(IF(OR($A10="",$E10="Canceled"),"",MAX(0,MIN($L10,46296)-MAX($K10,46266))),"") | AY10: =IFERROR(IF(OR($A10="",$E10="Canceled"),"",MAX(0,MIN($L10,46327)-MAX($K10,46296))),"") | AZ10: =IFERROR(IF(OR($A10="",$E10="Canceled"),"",MAX(0,MIN($L10,46357)-MAX($K10,46327))),"") | BA10: =IFERROR(IF(OR($A10="",$E10="Canceled"),"",MAX(0,MIN($L10,46388)-MAX($K10,46357))),"") | BB10: =IFERROR(IF(AND($A10<>"",$K10=TODAY(),$E10<>"Canceled"),COUNTIFS($K$5:$K$10,TODAY(),$E$5:$E$10,"<>Canceled"),""),"") | BC10: =IFERROR(IF(AND($A10<>"",$K10>=TODAY(),$E10<>"Canceled"),COUNTIFS($K$5:$K$104,"<"&$K10,$E$5:$E$104,"<>Canceled")+COUNTIFS($K$5:$K$10,$K10,$E$5:$E$10,"<>Canceled"),""),"") | BD10: =IFERROR(IF(AND($A10<>"",$E10<>"Canceled",$AE10>0,$K10>=TODAY(),$K10<=TODAY()+'Property Setup'!$B$7),COUNTIFS($AE$5:$AE$10,">0",$K$5:$K$10,">="&TODAY(),$K$5:$K$10,"<="&TODAY()+'Property Setup'!$B$7),""),"")
A11: VR-2026-007 | B11: AB-82099 | C11: Pine Harbor Coastal Cottage | D11: Airbnb | E11: Canceled | F11: 46241 | G11: Sophia | H11: Anderson | I11: sophia.anderson@example.com | J11: (555) 310-1007 | K11: 46286 | L11: 46290 | M11: =IFERROR(IF($A11="","",MAX(0,$L11-$K11)),"") | N11: 2 | O11: 0 | P11: =IFERROR(IF($A11="","",$N11+$O11),"") | Q11: =IFERROR(IF($C11="","",VLOOKUP($C11,'Property Setup'!$B$13:$L$21,11,0)),"") | R11: =IFERROR(IF($C11="","",IF($P11>$Q11,"Review Guest Count","Within Limit")),"") | S11: 310 | T11: =IFERROR(IF($A11="","",$M11*$S11),"") | U11: 155 | V11: 0 | W11: 0 | X11: =IFERROR(IF($A11="","",MAX(0,$T11-$W11+IF(VLOOKUP($C11,'Property Setup'!$B$13:$R$21,17,0)="Yes",$U11,0))),"") | Y11: =IFERROR(IF($C11="","",VLOOKUP($C11,'Property Setup'!$B$13:$S$21,18,0)),"") | Z11: =IFERROR(IF($A11="","",$X11*$Y11),"") | AA11: =IFERROR(IF($C11="","",VLOOKUP($C11,'Property Setup'!$B$13:$T$21,19,0)),"") | AB11: =IFERROR(IF($A11="","",MAX(0,$T11-$W11)*$AA11),"") | AC11: =IFERROR(IF($A11="","",$T11+$U11+$V11-$W11+$Z11+$AB11),"") | AD11: 0 | AE11: =IFERROR(IF($A11="","",MAX(0,$AC11-$AD11)),"") | AF11: 46263 | AG11: =IFERROR(IF($A11="","",IF($E11="Canceled","Canceled",IF($AE11=0,"Paid",IF(AND($AF11<TODAY(),$AE11>0),"Past Due",IF($AD11>0,"Partially Paid","Unpaid"))))),"") | AH11: =IFERROR(IF($A11="","",$K11-TODAY()),"") | AI11: 0.625 | AJ11: 0.41666667 | AK11: Not Needed | AL11: Canceled travel plans. | AM11: Canceled reservation. | AN11: =IFERROR(IF(OR($A11="",$E11="Canceled"),"",MAX(0,MIN($L11,EOMONTH(TODAY(),0)+1)-MAX($K11,EOMONTH(TODAY(),-1)+1))),"") | AO11: =IFERROR(IF(OR($A11="",$AN11=0),"",$AN11*$S11),"") | AP11: =IFERROR(IF(OR($A11="",$E11="Canceled"),"",MAX(0,MIN($L11,46054)-MAX($K11,46023))),"") | AQ11: =IFERROR(IF(OR($A11="",$E11="Canceled"),"",MAX(0,MIN($L11,46082)-MAX($K11,46054))),"") | AR11: =IFERROR(IF(OR($A11="",$E11="Canceled"),"",MAX(0,MIN($L11,46113)-MAX($K11,46082))),"") | AS11: =IFERROR(IF(OR($A11="",$E11="Canceled"),"",MAX(0,MIN($L11,46143)-MAX($K11,46113))),"") | AT11: =IFERROR(IF(OR($A11="",$E11="Canceled"),"",MAX(0,MIN($L11,46174)-MAX($K11,46143))),"") | AU11: =IFERROR(IF(OR($A11="",$E11="Canceled"),"",MAX(0,MIN($L11,46204)-MAX($K11,46174))),"") | AV11: =IFERROR(IF(OR($A11="",$E11="Canceled"),"",MAX(0,MIN($L11,46235)-MAX($K11,46204))),"") | AW11: =IFERROR(IF(OR($A11="",$E11="Canceled"),"",MAX(0,MIN($L11,46266)-MAX($K11,46235))),"") | AX11: =IFERROR(IF(OR($A11="",$E11="Canceled"),"",MAX(0,MIN($L11,46296)-MAX($K11,46266))),"") | AY11: =IFERROR(IF(OR($A11="",$E11="Canceled"),"",MAX(0,MIN($L11,46327)-MAX($K11,46296))),"") | AZ11: =IFERROR(IF(OR($A11="",$E11="Canceled"),"",MAX(0,MIN($L11,46357)-MAX($K11,46327))),"") | BA11: =IFERROR(IF(OR($A11="",$E11="Canceled"),"",MAX(0,MIN($L11,46388)-MAX($K11,46357))),"") | BB11: =IFERROR(IF(AND($A11<>"",$K11=TODAY(),$E11<>"Canceled"),COUNTIFS($K$5:$K$11,TODAY(),$E$5:$E$11,"<>Canceled"),""),"") | BC11: =IFERROR(IF(AND($A11<>"",$K11>=TODAY(),$E11<>"Canceled"),COUNTIFS($K$5:$K$104,"<"&$K11,$E$5:$E$104,"<>Canceled")+COUNTIFS($K$5:$K$11,$K11,$E$5:$E$11,"<>Canceled"),""),"") | BD11: =IFERROR(IF(AND($A11<>"",$E11<>"Canceled",$AE11>0,$K11>=TODAY(),$K11<=TODAY()+'Property Setup'!$B$7),COUNTIFS($AE$5:$AE$11,">0",$K$5:$K$11,">="&TODAY(),$K$5:$K$11,"<="&TODAY()+'Property Setup'!$B$7),""),"")
A12: VR-2026-008 | B12: VB-77330 | C12: Cypress Hill Country Home | D12: Vrbo | E12: Confirmed | F12: 46239 | G12: Ethan | H12: Robinson | I12: ethan.robinson@example.com | K12: 46275 | L12: 46279 | M12: =IFERROR(IF($A12="","",MAX(0,$L12-$K12)),"") | N12: 4 | O12: 2 | P12: =IFERROR(IF($A12="","",$N12+$O12),"") | Q12: =IFERROR(IF($C12="","",VLOOKUP($C12,'Property Setup'!$B$13:$L$21,11,0)),"") | R12: =IFERROR(IF($C12="","",IF($P12>$Q12,"Review Guest Count","Within Limit")),"") | S12: 360 | T12: =IFERROR(IF($A12="","",$M12*$S12),"") | U12: 190 | V12: 40 | W12: 0 | X12: =IFERROR(IF($A12="","",MAX(0,$T12-$W12+IF(VLOOKUP($C12,'Property Setup'!$B$13:$R$21,17,0)="Yes",$U12,0))),"") | Y12: =IFERROR(IF($C12="","",VLOOKUP($C12,'Property Setup'!$B$13:$S$21,18,0)),"") | Z12: =IFERROR(IF($A12="","",$X12*$Y12),"") | AA12: =IFERROR(IF($C12="","",VLOOKUP($C12,'Property Setup'!$B$13:$T$21,19,0)),"") | AB12: =IFERROR(IF($A12="","",MAX(0,$T12-$W12)*$AA12),"") | AC12: =IFERROR(IF($A12="","",$T12+$U12+$V12-$W12+$Z12+$AB12),"") | AD12: 1500 | AE12: =IFERROR(IF($A12="","",MAX(0,$AC12-$AD12)),"") | AF12: 46268 | AG12: =IFERROR(IF($A12="","",IF($E12="Canceled","Canceled",IF($AE12=0,"Paid",IF(AND($AF12<TODAY(),$AE12>0),"Past Due",IF($AD12>0,"Partially Paid","Unpaid"))))),"") | AH12: =IFERROR(IF($A12="","",$K12-TODAY()),"") | AI12: 0.66666667 | AJ12: 0.45833333 | AK12: Yes | AL12: Anniversary trip. | AM12: Phone number pending. | AN12: =IFERROR(IF(OR($A12="",$E12="Canceled"),"",MAX(0,MIN($L12,EOMONTH(TODAY(),0)+1)-MAX($K12,EOMONTH(TODAY(),-1)+1))),"") | AO12: =IFERROR(IF(OR($A12="",$AN12=0),"",$AN12*$S12),"") | AP12: =IFERROR(IF(OR($A12="",$E12="Canceled"),"",MAX(0,MIN($L12,46054)-MAX($K12,46023))),"") | AQ12: =IFERROR(IF(OR($A12="",$E12="Canceled"),"",MAX(0,MIN($L12,46082)-MAX($K12,46054))),"") | AR12: =IFERROR(IF(OR($A12="",$E12="Canceled"),"",MAX(0,MIN($L12,46113)-MAX($K12,46082))),"") | AS12: =IFERROR(IF(OR($A12="",$E12="Canceled"),"",MAX(0,MIN($L12,46143)-MAX($K12,46113))),"") | AT12: =IFERROR(IF(OR($A12="",$E12="Canceled"),"",MAX(0,MIN($L12,46174)-MAX($K12,46143))),"") | AU12: =IFERROR(IF(OR($A12="",$E12="Canceled"),"",MAX(0,MIN($L12,46204)-MAX($K12,46174))),"") | AV12: =IFERROR(IF(OR($A12="",$E12="Canceled"),"",MAX(0,MIN($L12,46235)-MAX($K12,46204))),"") | AW12: =IFERROR(IF(OR($A12="",$E12="Canceled"),"",MAX(0,MIN($L12,46266)-MAX($K12,46235))),"") | AX12: =IFERROR(IF(OR($A12="",$E12="Canceled"),"",MAX(0,MIN($L12,46296)-MAX($K12,46266))),"") | AY12: =IFERROR(IF(OR($A12="",$E12="Canceled"),"",MAX(0,MIN($L12,46327)-MAX($K12,46296))),"") | AZ12: =IFERROR(IF(OR($A12="",$E12="Canceled"),"",MAX(0,MIN($L12,46357)-MAX($K12,46327))),"") | BA12: =IFERROR(IF(OR($A12="",$E12="Canceled"),"",MAX(0,MIN($L12,46388)-MAX($K12,46357))),"") | BB12: =IFERROR(IF(AND($A12<>"",$K12=TODAY(),$E12<>"Canceled"),COUNTIFS($K$5:$K$12,TODAY(),$E$5:$E$12,"<>Canceled"),""),"") | BC12: =IFERROR(IF(AND($A12<>"",$K12>=TODAY(),$E12<>"Canceled"),COUNTIFS($K$5:$K$104,"<"&$K12,$E$5:$E$104,"<>Canceled")+COUNTIFS($K$5:$K$12,$K12,$E$5:$E$12,"<>Canceled"),""),"") | BD12: =IFERROR(IF(AND($A12<>"",$E12<>"Canceled",$AE12>0,$K12>=TODAY(),$K12<=TODAY()+'Property Setup'!$B$7),COUNTIFS($AE$5:$AE$12,">0",$K$5:$K$12,">="&TODAY(),$K$5:$K$12,"<="&TODAY()+'Property Setup'!$B$7),""),"")
A13: VR-2026-009 | B13: TA-60212 | C13: Mission Bay Urban Loft | D13: Travel Advisor | E13: Confirmed | F13: 46261 | G13: Isabella | H13: Clark | I13: isabella.clark@example.com | J13: (555) 310-1009 | K13: 46272 | L13: 46275 | M13: =IFERROR(IF($A13="","",MAX(0,$L13-$K13)),"") | N13: 2 | O13: 0 | P13: =IFERROR(IF($A13="","",$N13+$O13),"") | Q13: =IFERROR(IF($C13="","",VLOOKUP($C13,'Property Setup'!$B$13:$L$21,11,0)),"") | R13: =IFERROR(IF($C13="","",IF($P13>$Q13,"Review Guest Count","Within Limit")),"") | S13: 245 | T13: =IFERROR(IF($A13="","",$M13*$S13),"") | U13: 120 | V13: 55 | W13: 0 | X13: =IFERROR(IF($A13="","",MAX(0,$T13-$W13+IF(VLOOKUP($C13,'Property Setup'!$B$13:$R$21,17,0)="Yes",$U13,0))),"") | Y13: =IFERROR(IF($C13="","",VLOOKUP($C13,'Property Setup'!$B$13:$S$21,18,0)),"") | Z13: =IFERROR(IF($A13="","",$X13*$Y13),"") | AA13: =IFERROR(IF($C13="","",VLOOKUP($C13,'Property Setup'!$B$13:$T$21,19,0)),"") | AB13: =IFERROR(IF($A13="","",MAX(0,$T13-$W13)*$AA13),"") | AC13: =IFERROR(IF($A13="","",$T13+$U13+$V13-$W13+$Z13+$AB13),"") | AD13: 400 | AE13: =IFERROR(IF($A13="","",MAX(0,$AC13-$AD13)),"") | AF13: 46271 | AG13: =IFERROR(IF($A13="","",IF($E13="Canceled","Canceled",IF($AE13=0,"Paid",IF(AND($AF13<TODAY(),$AE13>0),"Past Due",IF($AD13>0,"Partially Paid","Unpaid"))))),"") | AH13: =IFERROR(IF($A13="","",$K13-TODAY()),"") | AI13: 0.625 | AJ13: 0.45833333 | AK13: No | AL13: Requests quiet-side unit. | AM13: Access instructions pending. | AN13: =IFERROR(IF(OR($A13="",$E13="Canceled"),"",MAX(0,MIN($L13,EOMONTH(TODAY(),0)+1)-MAX($K13,EOMONTH(TODAY(),-1)+1))),"") | AO13: =IFERROR(IF(OR($A13="",$AN13=0),"",$AN13*$S13),"") | AP13: =IFERROR(IF(OR($A13="",$E13="Canceled"),"",MAX(0,MIN($L13,46054)-MAX($K13,46023))),"") | AQ13: =IFERROR(IF(OR($A13="",$E13="Canceled"),"",MAX(0,MIN($L13,46082)-MAX($K13,46054))),"") | AR13: =IFERROR(IF(OR($A13="",$E13="Canceled"),"",MAX(0,MIN($L13,46113)-MAX($K13,46082))),"") | AS13: =IFERROR(IF(OR($A13="",$E13="Canceled"),"",MAX(0,MIN($L13,46143)-MAX($K13,46113))),"") | AT13: =IFERROR(IF(OR($A13="",$E13="Canceled"),"",MAX(0,MIN($L13,46174)-MAX($K13,46143))),"") | AU13: =IFERROR(IF(OR($A13="",$E13="Canceled"),"",MAX(0,MIN($L13,46204)-MAX($K13,46174))),"") | AV13: =IFERROR(IF(OR($A13="",$E13="Canceled"),"",MAX(0,MIN($L13,46235)-MAX($K13,46204))),"") | AW13: =IFERROR(IF(OR($A13="",$E13="Canceled"),"",MAX(0,MIN($L13,46266)-MAX($K13,46235))),"") | AX13: =IFERROR(IF(OR($A13="",$E13="Canceled"),"",MAX(0,MIN($L13,46296)-MAX($K13,46266))),"") | AY13: =IFERROR(IF(OR($A13="",$E13="Canceled"),"",MAX(0,MIN($L13,46327)-MAX($K13,46296))),"") | AZ13: =IFERROR(IF(OR($A13="",$E13="Canceled"),"",MAX(0,MIN($L13,46357)-MAX($K13,46327))),"") | BA13: =IFERROR(IF(OR($A13="",$E13="Canceled"),"",MAX(0,MIN($L13,46388)-MAX($K13,46357))),"") | BB13: =IFERROR(IF(AND($A13<>"",$K13=TODAY(),$E13<>"Canceled"),COUNTIFS($K$5:$K$13,TODAY(),$E$5:$E$13,"<>Canceled"),""),"") | BC13: =IFERROR(IF(AND($A13<>"",$K13>=TODAY(),$E13<>"Canceled"),COUNTIFS($K$5:$K$104,"<"&$K13,$E$5:$E$104,"<>Canceled")+COUNTIFS($K$5:$K$13,$K13,$E$5:$E$13,"<>Canceled"),""),"") | BD13: =IFERROR(IF(AND($A13<>"",$E13<>"Canceled",$AE13>0,$K13>=TODAY(),$K13<=TODAY()+'Property Setup'!$B$7),COUNTIFS($AE$5:$AE$13,">0",$K$5:$K$13,">="&TODAY(),$K$5:$K$13,"<="&TODAY()+'Property Setup'!$B$7),""),"")
M14: =IFERROR(IF($A14="","",MAX(0,$L14-$K14)),"") | P14: =IFERROR(IF($A14="","",$N14+$O14),"") | Q14: =IFERROR(IF($C14="","",VLOOKUP($C14,'Property Setup'!$B$13:$L$21,11,0)),"") | R14: =IFERROR(IF($C14="","",IF($P14>$Q14,"Review Guest Count","Within Limit")),"") | T14: =IFERROR(IF($A14="","",$M14*$S14),"") | X14: =IFERROR(IF($A14="","",MAX(0,$T14-$W14+IF(VLOOKUP($C14,'Property Setup'!$B$13:$R$21,17,0)="Yes",$U14,0))),"") | Y14: =IFERROR(IF($C14="","",VLOOKUP($C14,'Property Setup'!$B$13:$S$21,18,0)),"") | Z14: =IFERROR(IF($A14="","",$X14*$Y14),"") | AA14: =IFERROR(IF($C14="","",VLOOKUP($C14,'Property Setup'!$B$13:$T$21,19,0)),"") | AB14: =IFERROR(IF($A14="","",MAX(0,$T14-$W14)*$AA14),"") | AC14: =IFERROR(IF($A14="","",$T14+$U14+$V14-$W14+$Z14+$AB14),"") | AE14: =IFERROR(IF($A14="","",MAX(0,$AC14-$AD14)),"") | AG14: =IFERROR(IF($A14="","",IF($E14="Canceled","Canceled",IF($AE14=0,"Paid",IF(AND($AF14<TODAY(),$AE14>0),"Past Due",IF($AD14>0,"Partially Paid","Unpaid"))))),"") | AH14: =IFERROR(IF($A14="","",$K14-TODAY()),"") | AN14: =IFERROR(IF(OR($A14="",$E14="Canceled"),"",MAX(0,MIN($L14,EOMONTH(TODAY(),0)+1)-MAX($K14,EOMONTH(TODAY(),-1)+1))),"") | AO14: =IFERROR(IF(OR($A14="",$AN14=0),"",$AN14*$S14),"") | AP14: =IFERROR(IF(OR($A14="",$E14="Canceled"),"",MAX(0,MIN($L14,46054)-MAX($K14,46023))),"") | AQ14: =IFERROR(IF(OR($A14="",$E14="Canceled"),"",MAX(0,MIN($L14,46082)-MAX($K14,46054))),"") | AR14: =IFERROR(IF(OR($A14="",$E14="Canceled"),"",MAX(0,MIN($L14,46113)-MAX($K14,46082))),"") | AS14: =IFERROR(IF(OR($A14="",$E14="Canceled"),"",MAX(0,MIN($L14,46143)-MAX($K14,46113))),"") | AT14: =IFERROR(IF(OR($A14="",$E14="Canceled"),"",MAX(0,MIN($L14,46174)-MAX($K14,46143))),"") | AU14: =IFERROR(IF(OR($A14="",$E14="Canceled"),"",MAX(0,MIN($L14,46204)-MAX($K14,46174))),"") | AV14: =IFERROR(IF(OR($A14="",$E14="Canceled"),"",MAX(0,MIN($L14,46235)-MAX($K14,46204))),"") | AW14: =IFERROR(IF(OR($A14="",$E14="Canceled"),"",MAX(0,MIN($L14,46266)-MAX($K14,46235))),"") | AX14: =IFERROR(IF(OR($A14="",$E14="Canceled"),"",MAX(0,MIN($L14,46296)-MAX($K14,46266))),"") | AY14: =IFERROR(IF(OR($A14="",$E14="Canceled"),"",MAX(0,MIN($L14,46327)-MAX($K14,46296))),"") | AZ14: =IFERROR(IF(OR($A14="",$E14="Canceled"),"",MAX(0,MIN($L14,46357)-MAX($K14,46327))),"") | BA14: =IFERROR(IF(OR($A14="",$E14="Canceled"),"",MAX(0,MIN($L14,46388)-MAX($K14,46357))),"") | BB14: =IFERROR(IF(AND($A14<>"",$K14=TODAY(),$E14<>"Canceled"),COUNTIFS($K$5:$K$14,TODAY(),$E$5:$E$14,"<>Canceled"),""),"") | BC14: =IFERROR(IF(AND($A14<>"",$K14>=TODAY(),$E14<>"Canceled"),COUNTIFS($K$5:$K$104,"<"&$K14,$E$5:$E$104,"<>Canceled")+COUNTIFS($K$5:$K$14,$K14,$E$5:$E$14,"<>Canceled"),""),"") | BD14: =IFERROR(IF(AND($A14<>"",$E14<>"Canceled",$AE14>0,$K14>=TODAY(),$K14<=TODAY()+'Property Setup'!$B$7),COUNTIFS($AE$5:$AE$14,">0",$K$5:$K$14,">="&TODAY(),$K$5:$K$14,"<="&TODAY()+'Property Setup'!$B$7),""),"")
M15: =IFERROR(IF($A15="","",MAX(0,$L15-$K15)),"") | P15: =IFERROR(IF($A15="","",$N15+$O15),"") | Q15: =IFERROR(IF($C15="","",VLOOKUP($C15,'Property Setup'!$B$13:$L$21,11,0)),"") | R15: =IFERROR(IF($C15="","",IF($P15>$Q15,"Review Guest Count","Within Limit")),"") | T15: =IFERROR(IF($A15="","",$M15*$S15),"") | X15: =IFERROR(IF($A15="","",MAX(0,$T15-$W15+IF(VLOOKUP($C15,'Property Setup'!$B$13:$R$21,17,0)="Yes",$U15,0))),"") | Y15: =IFERROR(IF($C15="","",VLOOKUP($C15,'Property Setup'!$B$13:$S$21,18,0)),"") | Z15: =IFERROR(IF($A15="","",$X15*$Y15),"") | AA15: =IFERROR(IF($C15="","",VLOOKUP($C15,'Property Setup'!$B$13:$T$21,19,0)),"") | AB15: =IFERROR(IF($A15="","",MAX(0,$T15-$W15)*$AA15),"") | AC15: =IFERROR(IF($A15="","",$T15+$U15+$V15-$W15+$Z15+$AB15),"") | AE15: =IFERROR(IF($A15="","",MAX(0,$AC15-$AD15)),"") | AG15: =IFERROR(IF($A15="","",IF($E15="Canceled","Canceled",IF($AE15=0,"Paid",IF(AND($AF15<TODAY(),$AE15>0),"Past Due",IF($AD15>0,"Partially Paid","Unpaid"))))),"") | AH15: =IFERROR(IF($A15="","",$K15-TODAY()),"") | AN15: =IFERROR(IF(OR($A15="",$E15="Canceled"),"",MAX(0,MIN($L15,EOMONTH(TODAY(),0)+1)-MAX($K15,EOMONTH(TODAY(),-1)+1))),"") | AO15: =IFERROR(IF(OR($A15="",$AN15=0),"",$AN15*$S15),"") | AP15: =IFERROR(IF(OR($A15="",$E15="Canceled"),"",MAX(0,MIN($L15,46054)-MAX($K15,46023))),"") | AQ15: =IFERROR(IF(OR($A15="",$E15="Canceled"),"",MAX(0,MIN($L15,46082)-MAX($K15,46054))),"") | AR15: =IFERROR(IF(OR($A15="",$E15="Canceled"),"",MAX(0,MIN($L15,46113)-MAX($K15,46082))),"") | AS15: =IFERROR(IF(OR($A15="",$E15="Canceled"),"",MAX(0,MIN($L15,46143)-MAX($K15,46113))),"") | AT15: =IFERROR(IF(OR($A15="",$E15="Canceled"),"",MAX(0,MIN($L15,46174)-MAX($K15,46143))),"") | AU15: =IFERROR(IF(OR($A15="",$E15="Canceled"),"",MAX(0,MIN($L15,46204)-MAX($K15,46174))),"") | AV15: =IFERROR(IF(OR($A15="",$E15="Canceled"),"",MAX(0,MIN($L15,46235)-MAX($K15,46204))),"") | AW15: =IFERROR(IF(OR($A15="",$E15="Canceled"),"",MAX(0,MIN($L15,46266)-MAX($K15,46235))),"") | AX15: =IFERROR(IF(OR($A15="",$E15="Canceled"),"",MAX(0,MIN($L15,46296)-MAX($K15,46266))),"") | AY15: =IFERROR(IF(OR($A15="",$E15="Canceled"),"",MAX(0,MIN($L15,46327)-MAX($K15,46296))),"") | AZ15: =IFERROR(IF(OR($A15="",$E15="Canceled"),"",MAX(0,MIN($L15,46357)-MAX($K15,46327))),"") | BA15: =IFERROR(IF(OR($A15="",$E15="Canceled"),"",MAX(0,MIN($L15,46388)-MAX($K15,46357))),"") | BB15: =IFERROR(IF(AND($A15<>"",$K15=TODAY(),$E15<>"Canceled"),COUNTIFS($K$5:$K$15,TODAY(),$E$5:$E$15,"<>Canceled"),""),"") | BC15: =IFERROR(IF(AND($A15<>"",$K15>=TODAY(),$E15<>"Canceled"),COUNTIFS($K$5:$K$104,"<"&$K15,$E$5:$E$104,"<>Canceled")+COUNTIFS($K$5:$K$15,$K15,$E$5:$E$15,"<>Canceled"),""),"") | BD15: =IFERROR(IF(AND($A15<>"",$E15<>"Canceled",$AE15>0,$K15>=TODAY(),$K15<=TODAY()+'Property Setup'!$B$7),COUNTIFS($AE$5:$AE$15,">0",$K$5:$K$15,">="&TODAY(),$K$5:$K$15,"<="&TODAY()+'Property Setup'!$B$7),""),"")
M16: =IFERROR(IF($A16="","",MAX(0,$L16-$K16)),"") | P16: =IFERROR(IF($A16="","",$N16+$O16),"") | Q16: =IFERROR(IF($C16="","",VLOOKUP($C16,'Property Setup'!$B$13:$L$21,11,0)),"") | R16: =IFERROR(IF($C16="","",IF($P16>$Q16,"Review Guest Count","Within Limit")),"") | T16: =IFERROR(IF($A16="","",$M16*$S16),"") | X16: =IFERROR(IF($A16="","",MAX(0,$T16-$W16+IF(VLOOKUP($C16,'Property Setup'!$B$13:$R$21,17,0)="Yes",$U16,0))),"") | Y16: =IFERROR(IF($C16="","",VLOOKUP($C16,'Property Setup'!$B$13:$S$21,18,0)),"") | Z16: =IFERROR(IF($A16="","",$X16*$Y16),"") | AA16: =IFERROR(IF($C16="","",VLOOKUP($C16,'Property Setup'!$B$13:$T$21,19,0)),"") | AB16: =IFERROR(IF($A16="","",MAX(0,$T16-$W16)*$AA16),"") | AC16: =IFERROR(IF($A16="","",$T16+$U16+$V16-$W16+$Z16+$AB16),"") | AE16: =IFERROR(IF($A16="","",MAX(0,$AC16-$AD16)),"") | AG16: =IFERROR(IF($A16="","",IF($E16="Canceled","Canceled",IF($AE16=0,"Paid",IF(AND($AF16<TODAY(),$AE16>0),"Past Due",IF($AD16>0,"Partially Paid","Unpaid"))))),"") | AH16: =IFERROR(IF($A16="","",$K16-TODAY()),"") | AN16: =IFERROR(IF(OR($A16="",$E16="Canceled"),"",MAX(0,MIN($L16,EOMONTH(TODAY(),0)+1)-MAX($K16,EOMONTH(TODAY(),-1)+1))),"") | AO16: =IFERROR(IF(OR($A16="",$AN16=0),"",$AN16*$S16),"") | AP16: =IFERROR(IF(OR($A16="",$E16="Canceled"),"",MAX(0,MIN($L16,46054)-MAX($K16,46023))),"") | AQ16: =IFERROR(IF(OR($A16="",$E16="Canceled"),"",MAX(0,MIN($L16,46082)-MAX($K16,46054))),"") | AR16: =IFERROR(IF(OR($A16="",$E16="Canceled"),"",MAX(0,MIN($L16,46113)-MAX($K16,46082))),"") | AS16: =IFERROR(IF(OR($A16="",$E16="Canceled"),"",MAX(0,MIN($L16,46143)-MAX($K16,46113))),"") | AT16: =IFERROR(IF(OR($A16="",$E16="Canceled"),"",MAX(0,MIN($L16,46174)-MAX($K16,46143))),"") | AU16: =IFERROR(IF(OR($A16="",$E16="Canceled"),"",MAX(0,MIN($L16,46204)-MAX($K16,46174))),"") | AV16: =IFERROR(IF(OR($A16="",$E16="Canceled"),"",MAX(0,MIN($L16,46235)-MAX($K16,46204))),"") | AW16: =IFERROR(IF(OR($A16="",$E16="Canceled"),"",MAX(0,MIN($L16,46266)-MAX($K16,46235))),"") | AX16: =IFERROR(IF(OR($A16="",$E16="Canceled"),"",MAX(0,MIN($L16,46296)-MAX($K16,46266))),"") | AY16: =IFERROR(IF(OR($A16="",$E16="Canceled"),"",MAX(0,MIN($L16,46327)-MAX($K16,46296))),"") | AZ16: =IFERROR(IF(OR($A16="",$E16="Canceled"),"",MAX(0,MIN($L16,46357)-MAX($K16,46327))),"") | BA16: =IFERROR(IF(OR($A16="",$E16="Canceled"),"",MAX(0,MIN($L16,46388)-MAX($K16,46357))),"") | BB16: =IFERROR(IF(AND($A16<>"",$K16=TODAY(),$E16<>"Canceled"),COUNTIFS($K$5:$K$16,TODAY(),$E$5:$E$16,"<>Canceled"),""),"") | BC16: =IFERROR(IF(AND($A16<>"",$K16>=TODAY(),$E16<>"Canceled"),COUNTIFS($K$5:$K$104,"<"&$K16,$E$5:$E$104,"<>Canceled")+COUNTIFS($K$5:$K$16,$K16,$E$5:$E$16,"<>Canceled"),""),"") | BD16: =IFERROR(IF(AND($A16<>"",$E16<>"Canceled",$AE16>0,$K16>=TODAY(),$K16<=TODAY()+'Property Setup'!$B$7),COUNTIFS($AE$5:$AE$16,">0",$K$5:$K$16,">="&TODAY(),$K$5:$K$16,"<="&TODAY()+'Property Setup'!$B$7),""),"")
M17: =IFERROR(IF($A17="","",MAX(0,$L17-$K17)),"") | P17: =IFERROR(IF($A17="","",$N17+$O17),"") | Q17: =IFERROR(IF($C17="","",VLOOKUP($C17,'Property Setup'!$B$13:$L$21,11,0)),"") | R17: =IFERROR(IF($C17="","",IF($P17>$Q17,"Review Guest Count","Within Limit")),"") | T17: =IFERROR(IF($A17="","",$M17*$S17),"") | X17: =IFERROR(IF($A17="","",MAX(0,$T17-$W17+IF(VLOOKUP($C17,'Property Setup'!$B$13:$R$21,17,0)="Yes",$U17,0))),"") | Y17: =IFERROR(IF($C17="","",VLOOKUP($C17,'Property Setup'!$B$13:$S$21,18,0)),"") | Z17: =IFERROR(IF($A17="","",$X17*$Y17),"") | AA17: =IFERROR(IF($C17="","",VLOOKUP($C17,'Property Setup'!$B$13:$T$21,19,0)),"") | AB17: =IFERROR(IF($A17="","",MAX(0,$T17-$W17)*$AA17),"") | AC17: =IFERROR(IF($A17="","",$T17+$U17+$V17-$W17+$Z17+$AB17),"") | AE17: =IFERROR(IF($A17="","",MAX(0,$AC17-$AD17)),"") | AG17: =IFERROR(IF($A17="","",IF($E17="Canceled","Canceled",IF($AE17=0,"Paid",IF(AND($AF17<TODAY(),$AE17>0),"Past Due",IF($AD17>0,"Partially Paid","Unpaid"))))),"") | AH17: =IFERROR(IF($A17="","",$K17-TODAY()),"") | AN17: =IFERROR(IF(OR($A17="",$E17="Canceled"),"",MAX(0,MIN($L17,EOMONTH(TODAY(),0)+1)-MAX($K17,EOMONTH(TODAY(),-1)+1))),"") | AO17: =IFERROR(IF(OR($A17="",$AN17=0),"",$AN17*$S17),"") | AP17: =IFERROR(IF(OR($A17="",$E17="Canceled"),"",MAX(0,MIN($L17,46054)-MAX($K17,46023))),"") | AQ17: =IFERROR(IF(OR($A17="",$E17="Canceled"),"",MAX(0,MIN($L17,46082)-MAX($K17,46054))),"") | AR17: =IFERROR(IF(OR($A17="",$E17="Canceled"),"",MAX(0,MIN($L17,46113)-MAX($K17,46082))),"") | AS17: =IFERROR(IF(OR($A17="",$E17="Canceled"),"",MAX(0,MIN($L17,46143)-MAX($K17,46113))),"") | AT17: =IFERROR(IF(OR($A17="",$E17="Canceled"),"",MAX(0,MIN($L17,46174)-MAX($K17,46143))),"") | AU17: =IFERROR(IF(OR($A17="",$E17="Canceled"),"",MAX(0,MIN($L17,46204)-MAX($K17,46174))),"") | AV17: =IFERROR(IF(OR($A17="",$E17="Canceled"),"",MAX(0,MIN($L17,46235)-MAX($K17,46204))),"") | AW17: =IFERROR(IF(OR($A17="",$E17="Canceled"),"",MAX(0,MIN($L17,46266)-MAX($K17,46235))),"") | AX17: =IFERROR(IF(OR($A17="",$E17="Canceled"),"",MAX(0,MIN($L17,46296)-MAX($K17,46266))),"") | AY17: =IFERROR(IF(OR($A17="",$E17="Canceled"),"",MAX(0,MIN($L17,46327)-MAX($K17,46296))),"") | AZ17: =IFERROR(IF(OR($A17="",$E17="Canceled"),"",MAX(0,MIN($L17,46357)-MAX($K17,46327))),"") | BA17: =IFERROR(IF(OR($A17="",$E17="Canceled"),"",MAX(0,MIN($L17,46388)-MAX($K17,46357))),"") | BB17: =IFERROR(IF(AND($A17<>"",$K17=TODAY(),$E17<>"Canceled"),COUNTIFS($K$5:$K$17,TODAY(),$E$5:$E$17,"<>Canceled"),""),"") | BC17: =IFERROR(IF(AND($A17<>"",$K17>=TODAY(),$E17<>"Canceled"),COUNTIFS($K$5:$K$104,"<"&$K17,$E$5:$E$104,"<>Canceled")+COUNTIFS($K$5:$K$17,$K17,$E$5:$E$17,"<>Canceled"),""),"") | BD17: =IFERROR(IF(AND($A17<>"",$E17<>"Canceled",$AE17>0,$K17>=TODAY(),$K17<=TODAY()+'Property Setup'!$B$7),COUNTIFS($AE$5:$AE$17,">0",$K$5:$K$17,">="&TODAY(),$K$5:$K$17,"<="&TODAY()+'Property Setup'!$B$7),""),"")
M18: =IFERROR(IF($A18="","",MAX(0,$L18-$K18)),"") | P18: =IFERROR(IF($A18="","",$N18+$O18),"") | Q18: =IFERROR(IF($C18="","",VLOOKUP($C18,'Property Setup'!$B$13:$L$21,11,0)),"") | R18: =IFERROR(IF($C18="","",IF($P18>$Q18,"Review Guest Count","Within Limit")),"") | T18: =IFERROR(IF($A18="","",$M18*$S18),"") | X18: =IFERROR(IF($A18="","",MAX(0,$T18-$W18+IF(VLOOKUP($C18,'Property Setup'!$B$13:$R$21,17,0)="Yes",$U18,0))),"") | Y18: =IFERROR(IF($C18="","",VLOOKUP($C18,'Property Setup'!$B$13:$S$21,18,0)),"") | Z18: =IFERROR(IF($A18="","",$X18*$Y18),"") | AA18: =IFERROR(IF($C18="","",VLOOKUP($C18,'Property Setup'!$B$13:$T$21,19,0)),"") | AB18: =IFERROR(IF($A18="","",MAX(0,$T18-$W18)*$AA18),"") | AC18: =IFERROR(IF($A18="","",$T18+$U18+$V18-$W18+$Z18+$AB18),"") | AE18: =IFERROR(IF($A18="","",MAX(0,$AC18-$AD18)),"") | AG18: =IFERROR(IF($A18="","",IF($E18="Canceled","Canceled",IF($AE18=0,"Paid",IF(AND($AF18<TODAY(),$AE18>0),"Past Due",IF($AD18>0,"Partially Paid","Unpaid"))))),"") | AH18: =IFERROR(IF($A18="","",$K18-TODAY()),"") | AN18: =IFERROR(IF(OR($A18="",$E18="Canceled"),"",MAX(0,MIN($L18,EOMONTH(TODAY(),0)+1)-MAX($K18,EOMONTH(TODAY(),-1)+1))),"") | AO18: =IFERROR(IF(OR($A18="",$AN18=0),"",$AN18*$S18),"") | AP18: =IFERROR(IF(OR($A18="",$E18="Canceled"),"",MAX(0,MIN($L18,46054)-MAX($K18,46023))),"") | AQ18: =IFERROR(IF(OR($A18="",$E18="Canceled"),"",MAX(0,MIN($L18,46082)-MAX($K18,46054))),"") | AR18: =IFERROR(IF(OR($A18="",$E18="Canceled"),"",MAX(0,MIN($L18,46113)-MAX($K18,46082))),"") | AS18: =IFERROR(IF(OR($A18="",$E18="Canceled"),"",MAX(0,MIN($L18,46143)-MAX($K18,46113))),"") | AT18: =IFERROR(IF(OR($A18="",$E18="Canceled"),"",MAX(0,MIN($L18,46174)-MAX($K18,46143))),"") | AU18: =IFERROR(IF(OR($A18="",$E18="Canceled"),"",MAX(0,MIN($L18,46204)-MAX($K18,46174))),"") | AV18: =IFERROR(IF(OR($A18="",$E18="Canceled"),"",MAX(0,MIN($L18,46235)-MAX($K18,46204))),"") | AW18: =IFERROR(IF(OR($A18="",$E18="Canceled"),"",MAX(0,MIN($L18,46266)-MAX($K18,46235))),"") | AX18: =IFERROR(IF(OR($A18="",$E18="Canceled"),"",MAX(0,MIN($L18,46296)-MAX($K18,46266))),"") | AY18: =IFERROR(IF(OR($A18="",$E18="Canceled"),"",MAX(0,MIN($L18,46327)-MAX($K18,46296))),"") | AZ18: =IFERROR(IF(OR($A18="",$E18="Canceled"),"",MAX(0,MIN($L18,46357)-MAX($K18,46327))),"") | BA18: =IFERROR(IF(OR($A18="",$E18="Canceled"),"",MAX(0,MIN($L18,46388)-MAX($K18,46357))),"") | BB18: =IFERROR(IF(AND($A18<>"",$K18=TODAY(),$E18<>"Canceled"),COUNTIFS($K$5:$K$18,TODAY(),$E$5:$E$18,"<>Canceled"),""),"") | BC18: =IFERROR(IF(AND($A18<>"",$K18>=TODAY(),$E18<>"Canceled"),COUNTIFS($K$5:$K$104,"<"&$K18,$E$5:$E$104,"<>Canceled")+COUNTIFS($K$5:$K$18,$K18,$E$5:$E$18,"<>Canceled"),""),"") | BD18: =IFERROR(IF(AND($A18<>"",$E18<>"Canceled",$AE18>0,$K18>=TODAY(),$K18<=TODAY()+'Property Setup'!$B$7),COUNTIFS($AE$5:$AE$18,">0",$K$5:$K$18,">="&TODAY(),$K$5:$K$18,"<="&TODAY()+'Property Setup'!$B$7),""),"")
M19: =IFERROR(IF($A19="","",MAX(0,$L19-$K19)),"") | P19: =IFERROR(IF($A19="","",$N19+$O19),"") | Q19: =IFERROR(IF($C19="","",VLOOKUP($C19,'Property Setup'!$B$13:$L$21,11,0)),"") | R19: =IFERROR(IF($C19="","",IF($P19>$Q19,"Review Guest Count","Within Limit")),"") | T19: =IFERROR(IF($A19="","",$M19*$S19),"") | X19: =IFERROR(IF($A19="","",MAX(0,$T19-$W19+IF(VLOOKUP($C19,'Property Setup'!$B$13:$R$21,17,0)="Yes",$U19,0))),"") | Y19: =IFERROR(IF($C19="","",VLOOKUP($C19,'Property Setup'!$B$13:$S$21,18,0)),"") | Z19: =IFERROR(IF($A19="","",$X19*$Y19),"") | AA19: =IFERROR(IF($C19="","",VLOOKUP($C19,'Property Setup'!$B$13:$T$21,19,0)),"") | AB19: =IFERROR(IF($A19="","",MAX(0,$T19-$W19)*$AA19),"") | AC19: =IFERROR(IF($A19="","",$T19+$U19+$V19-$W19+$Z19+$AB19),"") | AE19: =IFERROR(IF($A19="","",MAX(0,$AC19-$AD19)),"") | AG19: =IFERROR(IF($A19="","",IF($E19="Canceled","Canceled",IF($AE19=0,"Paid",IF(AND($AF19<TODAY(),$AE19>0),"Past Due",IF($AD19>0,"Partially Paid","Unpaid"))))),"") | AH19: =IFERROR(IF($A19="","",$K19-TODAY()),"") | AN19: =IFERROR(IF(OR($A19="",$E19="Canceled"),"",MAX(0,MIN($L19,EOMONTH(TODAY(),0)+1)-MAX($K19,EOMONTH(TODAY(),-1)+1))),"") | AO19: =IFERROR(IF(OR($A19="",$AN19=0),"",$AN19*$S19),"") | AP19: =IFERROR(IF(OR($A19="",$E19="Canceled"),"",MAX(0,MIN($L19,46054)-MAX($K19,46023))),"") | AQ19: =IFERROR(IF(OR($A19="",$E19="Canceled"),"",MAX(0,MIN($L19,46082)-MAX($K19,46054))),"") | AR19: =IFERROR(IF(OR($A19="",$E19="Canceled"),"",MAX(0,MIN($L19,46113)-MAX($K19,46082))),"") | AS19: =IFERROR(IF(OR($A19="",$E19="Canceled"),"",MAX(0,MIN($L19,46143)-MAX($K19,46113))),"") | AT19: =IFERROR(IF(OR($A19="",$E19="Canceled"),"",MAX(0,MIN($L19,46174)-MAX($K19,46143))),"") | AU19: =IFERROR(IF(OR($A19="",$E19="Canceled"),"",MAX(0,MIN($L19,46204)-MAX($K19,46174))),"") | AV19: =IFERROR(IF(OR($A19="",$E19="Canceled"),"",MAX(0,MIN($L19,46235)-MAX($K19,46204))),"") | AW19: =IFERROR(IF(OR($A19="",$E19="Canceled"),"",MAX(0,MIN($L19,46266)-MAX($K19,46235))),"") | AX19: =IFERROR(IF(OR($A19="",$E19="Canceled"),"",MAX(0,MIN($L19,46296)-MAX($K19,46266))),"") | AY19: =IFERROR(IF(OR($A19="",$E19="Canceled"),"",MAX(0,MIN($L19,46327)-MAX($K19,46296))),"") | AZ19: =IFERROR(IF(OR($A19="",$E19="Canceled"),"",MAX(0,MIN($L19,46357)-MAX($K19,46327))),"") | BA19: =IFERROR(IF(OR($A19="",$E19="Canceled"),"",MAX(0,MIN($L19,46388)-MAX($K19,46357))),"") | BB19: =IFERROR(IF(AND($A19<>"",$K19=TODAY(),$E19<>"Canceled"),COUNTIFS($K$5:$K$19,TODAY(),$E$5:$E$19,"<>Canceled"),""),"") | BC19: =IFERROR(IF(AND($A19<>"",$K19>=TODAY(),$E19<>"Canceled"),COUNTIFS($K$5:$K$104,"<"&$K19,$E$5:$E$104,"<>Canceled")+COUNTIFS($K$5:$K$19,$K19,$E$5:$E$19,"<>Canceled"),""),"") | BD19: =IFERROR(IF(AND($A19<>"",$E19<>"Canceled",$AE19>0,$K19>=TODAY(),$K19<=TODAY()+'Property Setup'!$B$7),COUNTIFS($AE$5:$AE$19,">0",$K$5:$K$19,">="&TODAY(),$K$5:$K$19,"<="&TODAY()+'Property Setup'!$B$7),""),"")
