Workbook

Sheet Dashboard
A1: Vacation Rental Profitability Dashboard
A2: Operational revenue, expense, occupancy, and profit overview
A3: Revenue is assigned to the reservation check-out month. Verify all tax rates and policy assumptions for each property.
A4: Reporting Year | B4: 2026 | D4: Property | E4: All Properties
A7: Gross Booking Revenue | C7: Net Rental Revenue | E7: Operating Expenses | G7: Operating Profit
A8: =IFERROR(SUMIFS('Reservations'!$V$4:$V$153,'Reservations'!$G$4:$G$153,">="&DATE($B$4,1,1),'Reservations'!$G$4:$G$153,"<"&DATE($B$4+1,1,1),'Reservations'!$B$4:$B$153,IF($E$4="All Properties","<>",$E$4),'Reservations'!$L$4:$L$153,"Confirmed")+SUMIFS('Reservations'!$V$4:$V$153,'Reservations'!$G$4:$G$153,">="&DATE($B$4,1,1),'Reservations'!$G$4:$G$153,"<"&DATE($B$4+1,1,1),'Reservations'!$B$4:$B$153,IF($E$4="All Properties","<>",$E$4),'Reservations'!$L$4:$L$153,"Checked In")+SUMIFS('Reservations'!$V$4:$V$153,'Reservations'!$G$4:$G$153,">="&DATE($B$4,1,1),'Reservations'!$G$4:$G$153,"<"&DATE($B$4+1,1,1),'Reservations'!$B$4:$B$153,IF($E$4="All Properties","<>",$E$4),'Reservations'!$L$4:$L$153,"Completed"),0) | C8: =IFERROR(SUMIFS('Reservations'!$AC$4:$AC$153,'Reservations'!$G$4:$G$153,">="&DATE($B$4,1,1),'Reservations'!$G$4:$G$153,"<"&DATE($B$4+1,1,1),'Reservations'!$B$4:$B$153,IF($E$4="All Properties","<>",$E$4),'Reservations'!$L$4:$L$153,"Confirmed")+SUMIFS('Reservations'!$AC$4:$AC$153,'Reservations'!$G$4:$G$153,">="&DATE($B$4,1,1),'Reservations'!$G$4:$G$153,"<"&DATE($B$4+1,1,1),'Reservations'!$B$4:$B$153,IF($E$4="All Properties","<>",$E$4),'Reservations'!$L$4:$L$153,"Checked In")+SUMIFS('Reservations'!$AC$4:$AC$153,'Reservations'!$G$4:$G$153,">="&DATE($B$4,1,1),'Reservations'!$G$4:$G$153,"<"&DATE($B$4+1,1,1),'Reservations'!$B$4:$B$153,IF($E$4="All Properties","<>",$E$4),'Reservations'!$L$4:$L$153,"Completed"),0) | E8: =IFERROR(SUMIFS('Expenses'!$R$4:$R$153,'Expenses'!$B$4:$B$153,">="&DATE($B$4,1,1),'Expenses'!$B$4:$B$153,"<"&DATE($B$4+1,1,1),'Expenses'!$C$4:$C$153,IF($E$4="All Properties","<>",$E$4),'Expenses'!$F$4:$F$153,"Operating",'Expenses'!$T$4:$T$153,"Paid")+SUMIFS('Expenses'!$R$4:$R$153,'Expenses'!$B$4:$B$153,">="&DATE($B$4,1,1),'Expenses'!$B$4:$B$153,"<"&DATE($B$4+1,1,1),'Expenses'!$C$4:$C$153,IF($E$4="All Properties","<>",$E$4),'Expenses'!$F$4:$F$153,"Operating",'Expenses'!$T$4:$T$153,"Pending"),0) | G8: =IFERROR(B8-D8,0)
A11: Operating Margin | C11: Booked Nights | E11: Available Nights | G11: Occupancy
A12: =IFERROR(F8/B8,0) | C12: =IFERROR(SUMIFS('Reservations'!$H$4:$H$153,'Reservations'!$G$4:$G$153,">="&DATE($B$4,1,1),'Reservations'!$G$4:$G$153,"<"&DATE($B$4+1,1,1),'Reservations'!$B$4:$B$153,IF($E$4="All Properties","<>",$E$4),'Reservations'!$L$4:$L$153,"Confirmed")+SUMIFS('Reservations'!$H$4:$H$153,'Reservations'!$G$4:$G$153,">="&DATE($B$4,1,1),'Reservations'!$G$4:$G$153,"<"&DATE($B$4+1,1,1),'Reservations'!$B$4:$B$153,IF($E$4="All Properties","<>",$E$4),'Reservations'!$L$4:$L$153,"Checked In")+SUMIFS('Reservations'!$H$4:$H$153,'Reservations'!$G$4:$G$153,">="&DATE($B$4,1,1),'Reservations'!$G$4:$G$153,"<"&DATE($B$4+1,1,1),'Reservations'!$B$4:$B$153,IF($E$4="All Properties","<>",$E$4),'Reservations'!$L$4:$L$153,"Completed"),0) | E12: =IFERROR(IF($E$4="All Properties",SUM(IF('Assumptions'!$E$5="Yes",MAX(0,DATE($B$4+1,1,1)-DATE($B$4,1,1)-'Assumptions'!$L$5-'Assumptions'!$M$5),0),IF('Assumptions'!$E$6="Yes",MAX(0,DATE($B$4+1,1,1)-DATE($B$4,1,1)-'Assumptions'!$L$6-'Assumptions'!$M$6),0),IF('Assumptions'!$E$7="Yes",MAX(0,DATE($B$4+1,1,1)-DATE($B$4,1,1)-'Assumptions'!$L$7-'Assumptions'!$M$7),0)),MAX(0,DATE($B$4+1,1,1)-DATE($B$4,1,1)-VLOOKUP($E$4,'Assumptions'!$B$5:$M$104,11,FALSE)-VLOOKUP($E$4,'Assumptions'!$B$5:$M$104,12,FALSE))),0) | G12: =IFERROR(D12/F12,0)
A15: Average Daily Rate | C15: Revenue per Available Night | E15: Labor Cost Percentage | G15: Average Profit per Reservation
A16: =IFERROR((SUMIFS('Reservations'!$M$4:$M$153,'Reservations'!$G$4:$G$153,">="&DATE($B$4,1,1),'Reservations'!$G$4:$G$153,"<"&DATE($B$4+1,1,1),'Reservations'!$B$4:$B$153,IF($E$4="All Properties","<>",$E$4),'Reservations'!$L$4:$L$153,"Confirmed")+SUMIFS('Reservations'!$M$4:$M$153,'Reservations'!$G$4:$G$153,">="&DATE($B$4,1,1),'Reservations'!$G$4:$G$153,"<"&DATE($B$4+1,1,1),'Reservations'!$B$4:$B$153,IF($E$4="All Properties","<>",$E$4),'Reservations'!$L$4:$L$153,"Checked In")+SUMIFS('Reservations'!$M$4:$M$153,'Reservations'!$G$4:$G$153,">="&DATE($B$4,1,1),'Reservations'!$G$4:$G$153,"<"&DATE($B$4+1,1,1),'Reservations'!$B$4:$B$153,IF($E$4="All Properties","<>",$E$4),'Reservations'!$L$4:$L$153,"Completed")-SUMIFS('Reservations'!$Q$4:$Q$153,'Reservations'!$G$4:$G$153,">="&DATE($B$4,1,1),'Reservations'!$G$4:$G$153,"<"&DATE($B$4+1,1,1),'Reservations'!$B$4:$B$153,IF($E$4="All Properties","<>",$E$4),'Reservations'!$L$4:$L$153,"Confirmed")+SUMIFS('Reservations'!$Q$4:$Q$153,'Reservations'!$G$4:$G$153,">="&DATE($B$4,1,1),'Reservations'!$G$4:$G$153,"<"&DATE($B$4+1,1,1),'Reservations'!$B$4:$B$153,IF($E$4="All Properties","<>",$E$4),'Reservations'!$L$4:$L$153,"Checked In")+SUMIFS('Reservations'!$Q$4:$Q$153,'Reservations'!$G$4:$G$153,">="&DATE($B$4,1,1),'Reservations'!$G$4:$G$153,"<"&DATE($B$4+1,1,1),'Reservations'!$B$4:$B$153,IF($E$4="All Properties","<>",$E$4),'Reservations'!$L$4:$L$153,"Completed")-SUMIFS('Reservations'!$R$4:$R$153,'Reservations'!$G$4:$G$153,">="&DATE($B$4,1,1),'Reservations'!$G$4:$G$153,"<"&DATE($B$4+1,1,1),'Reservations'!$B$4:$B$153,IF($E$4="All Properties","<>",$E$4),'Reservations'!$L$4:$L$153,"Confirmed")+SUMIFS('Reservations'!$R$4:$R$153,'Reservations'!$G$4:$G$153,">="&DATE($B$4,1,1),'Reservations'!$G$4:$G$153,"<"&DATE($B$4+1,1,1),'Reservations'!$B$4:$B$153,IF($E$4="All Properties","<>",$E$4),'Reservations'!$L$4:$L$153,"Checked In")+SUMIFS('Reservations'!$R$4:$R$153,'Reservations'!$G$4:$G$153,">="&DATE($B$4,1,1),'Reservations'!$G$4:$G$153,"<"&DATE($B$4+1,1,1),'Reservations'!$B$4:$B$153,IF($E$4="All Properties","<>",$E$4),'Reservations'!$L$4:$L$153,"Completed"))/D12,0) | C16: =IFERROR((SUMIFS('Reservations'!$M$4:$M$153,'Reservations'!$G$4:$G$153,">="&DATE($B$4,1,1),'Reservations'!$G$4:$G$153,"<"&DATE($B$4+1,1,1),'Reservations'!$B$4:$B$153,IF($E$4="All Properties","<>",$E$4),'Reservations'!$L$4:$L$153,"Confirmed")+SUMIFS('Reservations'!$M$4:$M$153,'Reservations'!$G$4:$G$153,">="&DATE($B$4,1,1),'Reservations'!$G$4:$G$153,"<"&DATE($B$4+1,1,1),'Reservations'!$B$4:$B$153,IF($E$4="All Properties","<>",$E$4),'Reservations'!$L$4:$L$153,"Checked In")+SUMIFS('Reservations'!$M$4:$M$153,'Reservations'!$G$4:$G$153,">="&DATE($B$4,1,1),'Reservations'!$G$4:$G$153,"<"&DATE($B$4+1,1,1),'Reservations'!$B$4:$B$153,IF($E$4="All Properties","<>",$E$4),'Reservations'!$L$4:$L$153,"Completed")-SUMIFS('Reservations'!$Q$4:$Q$153,'Reservations'!$G$4:$G$153,">="&DATE($B$4,1,1),'Reservations'!$G$4:$G$153,"<"&DATE($B$4+1,1,1),'Reservations'!$B$4:$B$153,IF($E$4="All Properties","<>",$E$4),'Reservations'!$L$4:$L$153,"Confirmed")+SUMIFS('Reservations'!$Q$4:$Q$153,'Reservations'!$G$4:$G$153,">="&DATE($B$4,1,1),'Reservations'!$G$4:$G$153,"<"&DATE($B$4+1,1,1),'Reservations'!$B$4:$B$153,IF($E$4="All Properties","<>",$E$4),'Reservations'!$L$4:$L$153,"Checked In")+SUMIFS('Reservations'!$Q$4:$Q$153,'Reservations'!$G$4:$G$153,">="&DATE($B$4,1,1),'Reservations'!$G$4:$G$153,"<"&DATE($B$4+1,1,1),'Reservations'!$B$4:$B$153,IF($E$4="All Properties","<>",$E$4),'Reservations'!$L$4:$L$153,"Completed")-SUMIFS('Reservations'!$R$4:$R$153,'Reservations'!$G$4:$G$153,">="&DATE($B$4,1,1),'Reservations'!$G$4:$G$153,"<"&DATE($B$4+1,1,1),'Reservations'!$B$4:$B$153,IF($E$4="All Properties","<>",$E$4),'Reservations'!$L$4:$L$153,"Confirmed")+SUMIFS('Reservations'!$R$4:$R$153,'Reservations'!$G$4:$G$153,">="&DATE($B$4,1,1),'Reservations'!$G$4:$G$153,"<"&DATE($B$4+1,1,1),'Reservations'!$B$4:$B$153,IF($E$4="All Properties","<>",$E$4),'Reservations'!$L$4:$L$153,"Checked In")+SUMIFS('Reservations'!$R$4:$R$153,'Reservations'!$G$4:$G$153,">="&DATE($B$4,1,1),'Reservations'!$G$4:$G$153,"<"&DATE($B$4+1,1,1),'Reservations'!$B$4:$B$153,IF($E$4="All Properties","<>",$E$4),'Reservations'!$L$4:$L$153,"Completed"))/F12,0) | E16: =IFERROR(H49/B8,0) | G16: =IFERROR(F8/H49,0)
A19: Month | B19: Gross Booking Revenue | C19: Net Rental Revenue | D19: Operating Expenses | E19: Operating Profit | F19: Booked Nights | G19: Available Nights | H19: Occupancy | I19: Average Daily Rate
A20: =IFERROR(DATE($B$4,1,1),"") | B20: =IFERROR(SUMIFS('Reservations'!$V$4:$V$153,'Reservations'!$G$4:$G$153,">="&A20,'Reservations'!$G$4:$G$153,"<"&DATE(YEAR(A20),MONTH(A20)+1,1),'Reservations'!$B$4:$B$153,IF($E$4="All Properties","<>",$E$4),'Reservations'!$L$4:$L$153,"Confirmed")+SUMIFS('Reservations'!$V$4:$V$153,'Reservations'!$G$4:$G$153,">="&A20,'Reservations'!$G$4:$G$153,"<"&DATE(YEAR(A20),MONTH(A20)+1,1),'Reservations'!$B$4:$B$153,IF($E$4="All Properties","<>",$E$4),'Reservations'!$L$4:$L$153,"Checked In")+SUMIFS('Reservations'!$V$4:$V$153,'Reservations'!$G$4:$G$153,">="&A20,'Reservations'!$G$4:$G$153,"<"&DATE(YEAR(A20),MONTH(A20)+1,1),'Reservations'!$B$4:$B$153,IF($E$4="All Properties","<>",$E$4),'Reservations'!$L$4:$L$153,"Completed"),0) | C20: =IFERROR(SUMIFS('Reservations'!$AC$4:$AC$153,'Reservations'!$G$4:$G$153,">="&A20,'Reservations'!$G$4:$G$153,"<"&DATE(YEAR(A20),MONTH(A20)+1,1),'Reservations'!$B$4:$B$153,IF($E$4="All Properties","<>",$E$4),'Reservations'!$L$4:$L$153,"Confirmed")+SUMIFS('Reservations'!$AC$4:$AC$153,'Reservations'!$G$4:$G$153,">="&A20,'Reservations'!$G$4:$G$153,"<"&DATE(YEAR(A20),MONTH(A20)+1,1),'Reservations'!$B$4:$B$153,IF($E$4="All Properties","<>",$E$4),'Reservations'!$L$4:$L$153,"Checked In")+SUMIFS('Reservations'!$AC$4:$AC$153,'Reservations'!$G$4:$G$153,">="&A20,'Reservations'!$G$4:$G$153,"<"&DATE(YEAR(A20),MONTH(A20)+1,1),'Reservations'!$B$4:$B$153,IF($E$4="All Properties","<>",$E$4),'Reservations'!$L$4:$L$153,"Completed"),0) | D20: =IFERROR(SUMIFS('Expenses'!$R$4:$R$153,'Expenses'!$B$4:$B$153,">="&A20,'Expenses'!$B$4:$B$153,"<"&DATE(YEAR(A20),MONTH(A20)+1,1),'Expenses'!$C$4:$C$153,IF($E$4="All Properties","<>",$E$4),'Expenses'!$F$4:$F$153,"Operating",'Expenses'!$T$4:$T$153,"Paid")+SUMIFS('Expenses'!$R$4:$R$153,'Expenses'!$B$4:$B$153,">="&A20,'Expenses'!$B$4:$B$153,"<"&DATE(YEAR(A20),MONTH(A20)+1,1),'Expenses'!$C$4:$C$153,IF($E$4="All Properties","<>",$E$4),'Expenses'!$F$4:$F$153,"Operating",'Expenses'!$T$4:$T$153,"Pending"),0) | E20: =IFERROR(C20-D20,0) | F20: =IFERROR(SUMIFS('Reservations'!$H$4:$H$153,'Reservations'!$G$4:$G$153,">="&A20,'Reservations'!$G$4:$G$153,"<"&DATE(YEAR(A20),MONTH(A20)+1,1),'Reservations'!$B$4:$B$153,IF($E$4="All Properties","<>",$E$4),'Reservations'!$L$4:$L$153,"Confirmed")+SUMIFS('Reservations'!$H$4:$H$153,'Reservations'!$G$4:$G$153,">="&A20,'Reservations'!$G$4:$G$153,"<"&DATE(YEAR(A20),MONTH(A20)+1,1),'Reservations'!$B$4:$B$153,IF($E$4="All Properties","<>",$E$4),'Reservations'!$L$4:$L$153,"Checked In")+SUMIFS('Reservations'!$H$4:$H$153,'Reservations'!$G$4:$G$153,">="&A20,'Reservations'!$G$4:$G$153,"<"&DATE(YEAR(A20),MONTH(A20)+1,1),'Reservations'!$B$4:$B$153,IF($E$4="All Properties","<>",$E$4),'Reservations'!$L$4:$L$153,"Completed"),0) | G20: =IFERROR($F$12/12,0) | H20: =IFERROR(F20/G20,0) | I20: =IFERROR((SUMIFS('Reservations'!$M$4:$M$153,'Reservations'!$G$4:$G$153,">="&A20,'Reservations'!$G$4:$G$153,"<"&DATE(YEAR(A20),MONTH(A20)+1,1),'Reservations'!$B$4:$B$153,IF($E$4="All Properties","<>",$E$4),'Reservations'!$L$4:$L$153,"Confirmed")+SUMIFS('Reservations'!$M$4:$M$153,'Reservations'!$G$4:$G$153,">="&A20,'Reservations'!$G$4:$G$153,"<"&DATE(YEAR(A20),MONTH(A20)+1,1),'Reservations'!$B$4:$B$153,IF($E$4="All Properties","<>",$E$4),'Reservations'!$L$4:$L$153,"Checked In")+SUMIFS('Reservations'!$M$4:$M$153,'Reservations'!$G$4:$G$153,">="&A20,'Reservations'!$G$4:$G$153,"<"&DATE(YEAR(A20),MONTH(A20)+1,1),'Reservations'!$B$4:$B$153,IF($E$4="All Properties","<>",$E$4),'Reservations'!$L$4:$L$153,"Completed")-SUMIFS('Reservations'!$Q$4:$Q$153,'Reservations'!$G$4:$G$153,">="&A20,'Reservations'!$G$4:$G$153,"<"&DATE(YEAR(A20),MONTH(A20)+1,1),'Reservations'!$B$4:$B$153,IF($E$4="All Properties","<>",$E$4),'Reservations'!$L$4:$L$153,"Confirmed")+SUMIFS('Reservations'!$Q$4:$Q$153,'Reservations'!$G$4:$G$153,">="&A20,'Reservations'!$G$4:$G$153,"<"&DATE(YEAR(A20),MONTH(A20)+1,1),'Reservations'!$B$4:$B$153,IF($E$4="All Properties","<>",$E$4),'Reservations'!$L$4:$L$153,"Checked In")+SUMIFS('Reservations'!$Q$4:$Q$153,'Reservations'!$G$4:$G$153,">="&A20,'Reservations'!$G$4:$G$153,"<"&DATE(YEAR(A20),MONTH(A20)+1,1),'Reservations'!$B$4:$B$153,IF($E$4="All Properties","<>",$E$4),'Reservations'!$L$4:$L$153,"Completed")-SUMIFS('Reservations'!$R$4:$R$153,'Reservations'!$G$4:$G$153,">="&A20,'Reservations'!$G$4:$G$153,"<"&DATE(YEAR(A20),MONTH(A20)+1,1),'Reservations'!$B$4:$B$153,IF($E$4="All Properties","<>",$E$4),'Reservations'!$L$4:$L$153,"Confirmed")+SUMIFS('Reservations'!$R$4:$R$153,'Reservations'!$G$4:$G$153,">="&A20,'Reservations'!$G$4:$G$153,"<"&DATE(YEAR(A20),MONTH(A20)+1,1),'Reservations'!$B$4:$B$153,IF($E$4="All Properties","<>",$E$4),'Reservations'!$L$4:$L$153,"Checked In")+SUMIFS('Reservations'!$R$4:$R$153,'Reservations'!$G$4:$G$153,">="&A20,'Reservations'!$G$4:$G$153,"<"&DATE(YEAR(A20),MONTH(A20)+1,1),'Reservations'!$B$4:$B$153,IF($E$4="All Properties","<>",$E$4),'Reservations'!$L$4:$L$153,"Completed"))/F20,0)
A21: =IFERROR(DATE($B$4,2,1),"") | B21: =IFERROR(SUMIFS('Reservations'!$V$4:$V$153,'Reservations'!$G$4:$G$153,">="&A21,'Reservations'!$G$4:$G$153,"<"&DATE(YEAR(A21),MONTH(A21)+1,1),'Reservations'!$B$4:$B$153,IF($E$4="All Properties","<>",$E$4),'Reservations'!$L$4:$L$153,"Confirmed")+SUMIFS('Reservations'!$V$4:$V$153,'Reservations'!$G$4:$G$153,">="&A21,'Reservations'!$G$4:$G$153,"<"&DATE(YEAR(A21),MONTH(A21)+1,1),'Reservations'!$B$4:$B$153,IF($E$4="All Properties","<>",$E$4),'Reservations'!$L$4:$L$153,"Checked In")+SUMIFS('Reservations'!$V$4:$V$153,'Reservations'!$G$4:$G$153,">="&A21,'Reservations'!$G$4:$G$153,"<"&DATE(YEAR(A21),MONTH(A21)+1,1),'Reservations'!$B$4:$B$153,IF($E$4="All Properties","<>",$E$4),'Reservations'!$L$4:$L$153,"Completed"),0) | C21: =IFERROR(SUMIFS('Reservations'!$AC$4:$AC$153,'Reservations'!$G$4:$G$153,">="&A21,'Reservations'!$G$4:$G$153,"<"&DATE(YEAR(A21),MONTH(A21)+1,1),'Reservations'!$B$4:$B$153,IF($E$4="All Properties","<>",$E$4),'Reservations'!$L$4:$L$153,"Confirmed")+SUMIFS('Reservations'!$AC$4:$AC$153,'Reservations'!$G$4:$G$153,">="&A21,'Reservations'!$G$4:$G$153,"<"&DATE(YEAR(A21),MONTH(A21)+1,1),'Reservations'!$B$4:$B$153,IF($E$4="All Properties","<>",$E$4),'Reservations'!$L$4:$L$153,"Checked In")+SUMIFS('Reservations'!$AC$4:$AC$153,'Reservations'!$G$4:$G$153,">="&A21,'Reservations'!$G$4:$G$153,"<"&DATE(YEAR(A21),MONTH(A21)+1,1),'Reservations'!$B$4:$B$153,IF($E$4="All Properties","<>",$E$4),'Reservations'!$L$4:$L$153,"Completed"),0) | D21: =IFERROR(SUMIFS('Expenses'!$R$4:$R$153,'Expenses'!$B$4:$B$153,">="&A21,'Expenses'!$B$4:$B$153,"<"&DATE(YEAR(A21),MONTH(A21)+1,1),'Expenses'!$C$4:$C$153,IF($E$4="All Properties","<>",$E$4),'Expenses'!$F$4:$F$153,"Operating",'Expenses'!$T$4:$T$153,"Paid")+SUMIFS('Expenses'!$R$4:$R$153,'Expenses'!$B$4:$B$153,">="&A21,'Expenses'!$B$4:$B$153,"<"&DATE(YEAR(A21),MONTH(A21)+1,1),'Expenses'!$C$4:$C$153,IF($E$4="All Properties","<>",$E$4),'Expenses'!$F$4:$F$153,"Operating",'Expenses'!$T$4:$T$153,"Pending"),0) | E21: =IFERROR(C21-D21,0) | F21: =IFERROR(SUMIFS('Reservations'!$H$4:$H$153,'Reservations'!$G$4:$G$153,">="&A21,'Reservations'!$G$4:$G$153,"<"&DATE(YEAR(A21),MONTH(A21)+1,1),'Reservations'!$B$4:$B$153,IF($E$4="All Properties","<>",$E$4),'Reservations'!$L$4:$L$153,"Confirmed")+SUMIFS('Reservations'!$H$4:$H$153,'Reservations'!$G$4:$G$153,">="&A21,'Reservations'!$G$4:$G$153,"<"&DATE(YEAR(A21),MONTH(A21)+1,1),'Reservations'!$B$4:$B$153,IF($E$4="All Properties","<>",$E$4),'Reservations'!$L$4:$L$153,"Checked In")+SUMIFS('Reservations'!$H$4:$H$153,'Reservations'!$G$4:$G$153,">="&A21,'Reservations'!$G$4:$G$153,"<"&DATE(YEAR(A21),MONTH(A21)+1,1),'Reservations'!$B$4:$B$153,IF($E$4="All Properties","<>",$E$4),'Reservations'!$L$4:$L$153,"Completed"),0) | G21: =IFERROR($F$12/12,0) | H21: =IFERROR(F21/G21,0) | I21: =IFERROR((SUMIFS('Reservations'!$M$4:$M$153,'Reservations'!$G$4:$G$153,">="&A21,'Reservations'!$G$4:$G$153,"<"&DATE(YEAR(A21),MONTH(A21)+1,1),'Reservations'!$B$4:$B$153,IF($E$4="All Properties","<>",$E$4),'Reservations'!$L$4:$L$153,"Confirmed")+SUMIFS('Reservations'!$M$4:$M$153,'Reservations'!$G$4:$G$153,">="&A21,'Reservations'!$G$4:$G$153,"<"&DATE(YEAR(A21),MONTH(A21)+1,1),'Reservations'!$B$4:$B$153,IF($E$4="All Properties","<>",$E$4),'Reservations'!$L$4:$L$153,"Checked In")+SUMIFS('Reservations'!$M$4:$M$153,'Reservations'!$G$4:$G$153,">="&A21,'Reservations'!$G$4:$G$153,"<"&DATE(YEAR(A21),MONTH(A21)+1,1),'Reservations'!$B$4:$B$153,IF($E$4="All Properties","<>",$E$4),'Reservations'!$L$4:$L$153,"Completed")-SUMIFS('Reservations'!$Q$4:$Q$153,'Reservations'!$G$4:$G$153,">="&A21,'Reservations'!$G$4:$G$153,"<"&DATE(YEAR(A21),MONTH(A21)+1,1),'Reservations'!$B$4:$B$153,IF($E$4="All Properties","<>",$E$4),'Reservations'!$L$4:$L$153,"Confirmed")+SUMIFS('Reservations'!$Q$4:$Q$153,'Reservations'!$G$4:$G$153,">="&A21,'Reservations'!$G$4:$G$153,"<"&DATE(YEAR(A21),MONTH(A21)+1,1),'Reservations'!$B$4:$B$153,IF($E$4="All Properties","<>",$E$4),'Reservations'!$L$4:$L$153,"Checked In")+SUMIFS('Reservations'!$Q$4:$Q$153,'Reservations'!$G$4:$G$153,">="&A21,'Reservations'!$G$4:$G$153,"<"&DATE(YEAR(A21),MONTH(A21)+1,1),'Reservations'!$B$4:$B$153,IF($E$4="All Properties","<>",$E$4),'Reservations'!$L$4:$L$153,"Completed")-SUMIFS('Reservations'!$R$4:$R$153,'Reservations'!$G$4:$G$153,">="&A21,'Reservations'!$G$4:$G$153,"<"&DATE(YEAR(A21),MONTH(A21)+1,1),'Reservations'!$B$4:$B$153,IF($E$4="All Properties","<>",$E$4),'Reservations'!$L$4:$L$153,"Confirmed")+SUMIFS('Reservations'!$R$4:$R$153,'Reservations'!$G$4:$G$153,">="&A21,'Reservations'!$G$4:$G$153,"<"&DATE(YEAR(A21),MONTH(A21)+1,1),'Reservations'!$B$4:$B$153,IF($E$4="All Properties","<>",$E$4),'Reservations'!$L$4:$L$153,"Checked In")+SUMIFS('Reservations'!$R$4:$R$153,'Reservations'!$G$4:$G$153,">="&A21,'Reservations'!$G$4:$G$153,"<"&DATE(YEAR(A21),MONTH(A21)+1,1),'Reservations'!$B$4:$B$153,IF($E$4="All Properties","<>",$E$4),'Reservations'!$L$4:$L$153,"Completed"))/F21,0)
A22: =IFERROR(DATE($B$4,3,1),"") | B22: =IFERROR(SUMIFS('Reservations'!$V$4:$V$153,'Reservations'!$G$4:$G$153,">="&A22,'Reservations'!$G$4:$G$153,"<"&DATE(YEAR(A22),MONTH(A22)+1,1),'Reservations'!$B$4:$B$153,IF($E$4="All Properties","<>",$E$4),'Reservations'!$L$4:$L$153,"Confirmed")+SUMIFS('Reservations'!$V$4:$V$153,'Reservations'!$G$4:$G$153,">="&A22,'Reservations'!$G$4:$G$153,"<"&DATE(YEAR(A22),MONTH(A22)+1,1),'Reservations'!$B$4:$B$153,IF($E$4="All Properties","<>",$E$4),'Reservations'!$L$4:$L$153,"Checked In")+SUMIFS('Reservations'!$V$4:$V$153,'Reservations'!$G$4:$G$153,">="&A22,'Reservations'!$G$4:$G$153,"<"&DATE(YEAR(A22),MONTH(A22)+1,1),'Reservations'!$B$4:$B$153,IF($E$4="All Properties","<>",$E$4),'Reservations'!$L$4:$L$153,"Completed"),0) | C22: =IFERROR(SUMIFS('Reservations'!$AC$4:$AC$153,'Reservations'!$G$4:$G$153,">="&A22,'Reservations'!$G$4:$G$153,"<"&DATE(YEAR(A22),MONTH(A22)+1,1),'Reservations'!$B$4:$B$153,IF($E$4="All Properties","<>",$E$4),'Reservations'!$L$4:$L$153,"Confirmed")+SUMIFS('Reservations'!$AC$4:$AC$153,'Reservations'!$G$4:$G$153,">="&A22,'Reservations'!$G$4:$G$153,"<"&DATE(YEAR(A22),MONTH(A22)+1,1),'Reservations'!$B$4:$B$153,IF($E$4="All Properties","<>",$E$4),'Reservations'!$L$4:$L$153,"Checked In")+SUMIFS('Reservations'!$AC$4:$AC$153,'Reservations'!$G$4:$G$153,">="&A22,'Reservations'!$G$4:$G$153,"<"&DATE(YEAR(A22),MONTH(A22)+1,1),'Reservations'!$B$4:$B$153,IF($E$4="All Properties","<>",$E$4),'Reservations'!$L$4:$L$153,"Completed"),0) | D22: =IFERROR(SUMIFS('Expenses'!$R$4:$R$153,'Expenses'!$B$4:$B$153,">="&A22,'Expenses'!$B$4:$B$153,"<"&DATE(YEAR(A22),MONTH(A22)+1,1),'Expenses'!$C$4:$C$153,IF($E$4="All Properties","<>",$E$4),'Expenses'!$F$4:$F$153,"Operating",'Expenses'!$T$4:$T$153,"Paid")+SUMIFS('Expenses'!$R$4:$R$153,'Expenses'!$B$4:$B$153,">="&A22,'Expenses'!$B$4:$B$153,"<"&DATE(YEAR(A22),MONTH(A22)+1,1),'Expenses'!$C$4:$C$153,IF($E$4="All Properties","<>",$E$4),'Expenses'!$F$4:$F$153,"Operating",'Expenses'!$T$4:$T$153,"Pending"),0) | E22: =IFERROR(C22-D22,0) | F22: =IFERROR(SUMIFS('Reservations'!$H$4:$H$153,'Reservations'!$G$4:$G$153,">="&A22,'Reservations'!$G$4:$G$153,"<"&DATE(YEAR(A22),MONTH(A22)+1,1),'Reservations'!$B$4:$B$153,IF($E$4="All Properties","<>",$E$4),'Reservations'!$L$4:$L$153,"Confirmed")+SUMIFS('Reservations'!$H$4:$H$153,'Reservations'!$G$4:$G$153,">="&A22,'Reservations'!$G$4:$G$153,"<"&DATE(YEAR(A22),MONTH(A22)+1,1),'Reservations'!$B$4:$B$153,IF($E$4="All Properties","<>",$E$4),'Reservations'!$L$4:$L$153,"Checked In")+SUMIFS('Reservations'!$H$4:$H$153,'Reservations'!$G$4:$G$153,">="&A22,'Reservations'!$G$4:$G$153,"<"&DATE(YEAR(A22),MONTH(A22)+1,1),'Reservations'!$B$4:$B$153,IF($E$4="All Properties","<>",$E$4),'Reservations'!$L$4:$L$153,"Completed"),0) | G22: =IFERROR($F$12/12,0) | H22: =IFERROR(F22/G22,0) | I22: =IFERROR((SUMIFS('Reservations'!$M$4:$M$153,'Reservations'!$G$4:$G$153,">="&A22,'Reservations'!$G$4:$G$153,"<"&DATE(YEAR(A22),MONTH(A22)+1,1),'Reservations'!$B$4:$B$153,IF($E$4="All Properties","<>",$E$4),'Reservations'!$L$4:$L$153,"Confirmed")+SUMIFS('Reservations'!$M$4:$M$153,'Reservations'!$G$4:$G$153,">="&A22,'Reservations'!$G$4:$G$153,"<"&DATE(YEAR(A22),MONTH(A22)+1,1),'Reservations'!$B$4:$B$153,IF($E$4="All Properties","<>",$E$4),'Reservations'!$L$4:$L$153,"Checked In")+SUMIFS('Reservations'!$M$4:$M$153,'Reservations'!$G$4:$G$153,">="&A22,'Reservations'!$G$4:$G$153,"<"&DATE(YEAR(A22),MONTH(A22)+1,1),'Reservations'!$B$4:$B$153,IF($E$4="All Properties","<>",$E$4),'Reservations'!$L$4:$L$153,"Completed")-SUMIFS('Reservations'!$Q$4:$Q$153,'Reservations'!$G$4:$G$153,">="&A22,'Reservations'!$G$4:$G$153,"<"&DATE(YEAR(A22),MONTH(A22)+1,1),'Reservations'!$B$4:$B$153,IF($E$4="All Properties","<>",$E$4),'Reservations'!$L$4:$L$153,"Confirmed")+SUMIFS('Reservations'!$Q$4:$Q$153,'Reservations'!$G$4:$G$153,">="&A22,'Reservations'!$G$4:$G$153,"<"&DATE(YEAR(A22),MONTH(A22)+1,1),'Reservations'!$B$4:$B$153,IF($E$4="All Properties","<>",$E$4),'Reservations'!$L$4:$L$153,"Checked In")+SUMIFS('Reservations'!$Q$4:$Q$153,'Reservations'!$G$4:$G$153,">="&A22,'Reservations'!$G$4:$G$153,"<"&DATE(YEAR(A22),MONTH(A22)+1,1),'Reservations'!$B$4:$B$153,IF($E$4="All Properties","<>",$E$4),'Reservations'!$L$4:$L$153,"Completed")-SUMIFS('Reservations'!$R$4:$R$153,'Reservations'!$G$4:$G$153,">="&A22,'Reservations'!$G$4:$G$153,"<"&DATE(YEAR(A22),MONTH(A22)+1,1),'Reservations'!$B$4:$B$153,IF($E$4="All Properties","<>",$E$4),'Reservations'!$L$4:$L$153,"Confirmed")+SUMIFS('Reservations'!$R$4:$R$153,'Reservations'!$G$4:$G$153,">="&A22,'Reservations'!$G$4:$G$153,"<"&DATE(YEAR(A22),MONTH(A22)+1,1),'Reservations'!$B$4:$B$153,IF($E$4="All Properties","<>",$E$4),'Reservations'!$L$4:$L$153,"Checked In")+SUMIFS('Reservations'!$R$4:$R$153,'Reservations'!$G$4:$G$153,">="&A22,'Reservations'!$G$4:$G$153,"<"&DATE(YEAR(A22),MONTH(A22)+1,1),'Reservations'!$B$4:$B$153,IF($E$4="All Properties","<>",$E$4),'Reservations'!$L$4:$L$153,"Completed"))/F22,0)
A23: =IFERROR(DATE($B$4,4,1),"") | B23: =IFERROR(SUMIFS('Reservations'!$V$4:$V$153,'Reservations'!$G$4:$G$153,">="&A23,'Reservations'!$G$4:$G$153,"<"&DATE(YEAR(A23),MONTH(A23)+1,1),'Reservations'!$B$4:$B$153,IF($E$4="All Properties","<>",$E$4),'Reservations'!$L$4:$L$153,"Confirmed")+SUMIFS('Reservations'!$V$4:$V$153,'Reservations'!$G$4:$G$153,">="&A23,'Reservations'!$G$4:$G$153,"<"&DATE(YEAR(A23),MONTH(A23)+1,1),'Reservations'!$B$4:$B$153,IF($E$4="All Properties","<>",$E$4),'Reservations'!$L$4:$L$153,"Checked In")+SUMIFS('Reservations'!$V$4:$V$153,'Reservations'!$G$4:$G$153,">="&A23,'Reservations'!$G$4:$G$153,"<"&DATE(YEAR(A23),MONTH(A23)+1,1),'Reservations'!$B$4:$B$153,IF($E$4="All Properties","<>",$E$4),'Reservations'!$L$4:$L$153,"Completed"),0) | C23: =IFERROR(SUMIFS('Reservations'!$AC$4:$AC$153,'Reservations'!$G$4:$G$153,">="&A23,'Reservations'!$G$4:$G$153,"<"&DATE(YEAR(A23),MONTH(A23)+1,1),'Reservations'!$B$4:$B$153,IF($E$4="All Properties","<>",$E$4),'Reservations'!$L$4:$L$153,"Confirmed")+SUMIFS('Reservations'!$AC$4:$AC$153,'Reservations'!$G$4:$G$153,">="&A23,'Reservations'!$G$4:$G$153,"<"&DATE(YEAR(A23),MONTH(A23)+1,1),'Reservations'!$B$4:$B$153,IF($E$4="All Properties","<>",$E$4),'Reservations'!$L$4:$L$153,"Checked In")+SUMIFS('Reservations'!$AC$4:$AC$153,'Reservations'!$G$4:$G$153,">="&A23,'Reservations'!$G$4:$G$153,"<"&DATE(YEAR(A23),MONTH(A23)+1,1),'Reservations'!$B$4:$B$153,IF($E$4="All Properties","<>",$E$4),'Reservations'!$L$4:$L$153,"Completed"),0) | D23: =IFERROR(SUMIFS('Expenses'!$R$4:$R$153,'Expenses'!$B$4:$B$153,">="&A23,'Expenses'!$B$4:$B$153,"<"&DATE(YEAR(A23),MONTH(A23)+1,1),'Expenses'!$C$4:$C$153,IF($E$4="All Properties","<>",$E$4),'Expenses'!$F$4:$F$153,"Operating",'Expenses'!$T$4:$T$153,"Paid")+SUMIFS('Expenses'!$R$4:$R$153,'Expenses'!$B$4:$B$153,">="&A23,'Expenses'!$B$4:$B$153,"<"&DATE(YEAR(A23),MONTH(A23)+1,1),'Expenses'!$C$4:$C$153,IF($E$4="All Properties","<>",$E$4),'Expenses'!$F$4:$F$153,"Operating",'Expenses'!$T$4:$T$153,"Pending"),0) | E23: =IFERROR(C23-D23,0) | F23: =IFERROR(SUMIFS('Reservations'!$H$4:$H$153,'Reservations'!$G$4:$G$153,">="&A23,'Reservations'!$G$4:$G$153,"<"&DATE(YEAR(A23),MONTH(A23)+1,1),'Reservations'!$B$4:$B$153,IF($E$4="All Properties","<>",$E$4),'Reservations'!$L$4:$L$153,"Confirmed")+SUMIFS('Reservations'!$H$4:$H$153,'Reservations'!$G$4:$G$153,">="&A23,'Reservations'!$G$4:$G$153,"<"&DATE(YEAR(A23),MONTH(A23)+1,1),'Reservations'!$B$4:$B$153,IF($E$4="All Properties","<>",$E$4),'Reservations'!$L$4:$L$153,"Checked In")+SUMIFS('Reservations'!$H$4:$H$153,'Reservations'!$G$4:$G$153,">="&A23,'Reservations'!$G$4:$G$153,"<"&DATE(YEAR(A23),MONTH(A23)+1,1),'Reservations'!$B$4:$B$153,IF($E$4="All Properties","<>",$E$4),'Reservations'!$L$4:$L$153,"Completed"),0) | G23: =IFERROR($F$12/12,0) | H23: =IFERROR(F23/G23,0) | I23: =IFERROR((SUMIFS('Reservations'!$M$4:$M$153,'Reservations'!$G$4:$G$153,">="&A23,'Reservations'!$G$4:$G$153,"<"&DATE(YEAR(A23),MONTH(A23)+1,1),'Reservations'!$B$4:$B$153,IF($E$4="All Properties","<>",$E$4),'Reservations'!$L$4:$L$153,"Confirmed")+SUMIFS('Reservations'!$M$4:$M$153,'Reservations'!$G$4:$G$153,">="&A23,'Reservations'!$G$4:$G$153,"<"&DATE(YEAR(A23),MONTH(A23)+1,1),'Reservations'!$B$4:$B$153,IF($E$4="All Properties","<>",$E$4),'Reservations'!$L$4:$L$153,"Checked In")+SUMIFS('Reservations'!$M$4:$M$153,'Reservations'!$G$4:$G$153,">="&A23,'Reservations'!$G$4:$G$153,"<"&DATE(YEAR(A23),MONTH(A23)+1,1),'Reservations'!$B$4:$B$153,IF($E$4="All Properties","<>",$E$4),'Reservations'!$L$4:$L$153,"Completed")-SUMIFS('Reservations'!$Q$4:$Q$153,'Reservations'!$G$4:$G$153,">="&A23,'Reservations'!$G$4:$G$153,"<"&DATE(YEAR(A23),MONTH(A23)+1,1),'Reservations'!$B$4:$B$153,IF($E$4="All Properties","<>",$E$4),'Reservations'!$L$4:$L$153,"Confirmed")+SUMIFS('Reservations'!$Q$4:$Q$153,'Reservations'!$G$4:$G$153,">="&A23,'Reservations'!$G$4:$G$153,"<"&DATE(YEAR(A23),MONTH(A23)+1,1),'Reservations'!$B$4:$B$153,IF($E$4="All Properties","<>",$E$4),'Reservations'!$L$4:$L$153,"Checked In")+SUMIFS('Reservations'!$Q$4:$Q$153,'Reservations'!$G$4:$G$153,">="&A23,'Reservations'!$G$4:$G$153,"<"&DATE(YEAR(A23),MONTH(A23)+1,1),'Reservations'!$B$4:$B$153,IF($E$4="All Properties","<>",$E$4),'Reservations'!$L$4:$L$153,"Completed")-SUMIFS('Reservations'!$R$4:$R$153,'Reservations'!$G$4:$G$153,">="&A23,'Reservations'!$G$4:$G$153,"<"&DATE(YEAR(A23),MONTH(A23)+1,1),'Reservations'!$B$4:$B$153,IF($E$4="All Properties","<>",$E$4),'Reservations'!$L$4:$L$153,"Confirmed")+SUMIFS('Reservations'!$R$4:$R$153,'Reservations'!$G$4:$G$153,">="&A23,'Reservations'!$G$4:$G$153,"<"&DATE(YEAR(A23),MONTH(A23)+1,1),'Reservations'!$B$4:$B$153,IF($E$4="All Properties","<>",$E$4),'Reservations'!$L$4:$L$153,"Checked In")+SUMIFS('Reservations'!$R$4:$R$153,'Reservations'!$G$4:$G$153,">="&A23,'Reservations'!$G$4:$G$153,"<"&DATE(YEAR(A23),MONTH(A23)+1,1),'Reservations'!$B$4:$B$153,IF($E$4="All Properties","<>",$E$4),'Reservations'!$L$4:$L$153,"Completed"))/F23,0)
A24: =IFERROR(DATE($B$4,5,1),"") | B24: =IFERROR(SUMIFS('Reservations'!$V$4:$V$153,'Reservations'!$G$4:$G$153,">="&A24,'Reservations'!$G$4:$G$153,"<"&DATE(YEAR(A24),MONTH(A24)+1,1),'Reservations'!$B$4:$B$153,IF($E$4="All Properties","<>",$E$4),'Reservations'!$L$4:$L$153,"Confirmed")+SUMIFS('Reservations'!$V$4:$V$153,'Reservations'!$G$4:$G$153,">="&A24,'Reservations'!$G$4:$G$153,"<"&DATE(YEAR(A24),MONTH(A24)+1,1),'Reservations'!$B$4:$B$153,IF($E$4="All Properties","<>",$E$4),'Reservations'!$L$4:$L$153,"Checked In")+SUMIFS('Reservations'!$V$4:$V$153,'Reservations'!$G$4:$G$153,">="&A24,'Reservations'!$G$4:$G$153,"<"&DATE(YEAR(A24),MONTH(A24)+1,1),'Reservations'!$B$4:$B$153,IF($E$4="All Properties","<>",$E$4),'Reservations'!$L$4:$L$153,"Completed"),0) | C24: =IFERROR(SUMIFS('Reservations'!$AC$4:$AC$153,'Reservations'!$G$4:$G$153,">="&A24,'Reservations'!$G$4:$G$153,"<"&DATE(YEAR(A24),MONTH(A24)+1,1),'Reservations'!$B$4:$B$153,IF($E$4="All Properties","<>",$E$4),'Reservations'!$L$4:$L$153,"Confirmed")+SUMIFS('Reservations'!$AC$4:$AC$153,'Reservations'!$G$4:$G$153,">="&A24,'Reservations'!$G$4:$G$153,"<"&DATE(YEAR(A24),MONTH(A24)+1,1),'Reservations'!$B$4:$B$153,IF($E$4="All Properties","<>",$E$4),'Reservations'!$L$4:$L$153,"Checked In")+SUMIFS('Reservations'!$AC$4:$AC$153,'Reservations'!$G$4:$G$153,">="&A24,'Reservations'!$G$4:$G$153,"<"&DATE(YEAR(A24),MONTH(A24)+1,1),'Reservations'!$B$4:$B$153,IF($E$4="All Properties","<>",$E$4),'Reservations'!$L$4:$L$153,"Completed"),0) | D24: =IFERROR(SUMIFS('Expenses'!$R$4:$R$153,'Expenses'!$B$4:$B$153,">="&A24,'Expenses'!$B$4:$B$153,"<"&DATE(YEAR(A24),MONTH(A24)+1,1),'Expenses'!$C$4:$C$153,IF($E$4="All Properties","<>",$E$4),'Expenses'!$F$4:$F$153,"Operating",'Expenses'!$T$4:$T$153,"Paid")+SUMIFS('Expenses'!$R$4:$R$153,'Expenses'!$B$4:$B$153,">="&A24,'Expenses'!$B$4:$B$153,"<"&DATE(YEAR(A24),MONTH(A24)+1,1),'Expenses'!$C$4:$C$153,IF($E$4="All Properties","<>",$E$4),'Expenses'!$F$4:$F$153,"Operating",'Expenses'!$T$4:$T$153,"Pending"),0) | E24: =IFERROR(C24-D24,0) | F24: =IFERROR(SUMIFS('Reservations'!$H$4:$H$153,'Reservations'!$G$4:$G$153,">="&A24,'Reservations'!$G$4:$G$153,"<"&DATE(YEAR(A24),MONTH(A24)+1,1),'Reservations'!$B$4:$B$153,IF($E$4="All Properties","<>",$E$4),'Reservations'!$L$4:$L$153,"Confirmed")+SUMIFS('Reservations'!$H$4:$H$153,'Reservations'!$G$4:$G$153,">="&A24,'Reservations'!$G$4:$G$153,"<"&DATE(YEAR(A24),MONTH(A24)+1,1),'Reservations'!$B$4:$B$153,IF($E$4="All Properties","<>",$E$4),'Reservations'!$L$4:$L$153,"Checked In")+SUMIFS('Reservations'!$H$4:$H$153,'Reservations'!$G$4:$G$153,">="&A24,'Reservations'!$G$4:$G$153,"<"&DATE(YEAR(A24),MONTH(A24)+1,1),'Reservations'!$B$4:$B$153,IF($E$4="All Properties","<>",$E$4),'Reservations'!$L$4:$L$153,"Completed"),0) | G24: =IFERROR($F$12/12,0) | H24: =IFERROR(F24/G24,0) | I24: =IFERROR((SUMIFS('Reservations'!$M$4:$M$153,'Reservations'!$G$4:$G$153,">="&A24,'Reservations'!$G$4:$G$153,"<"&DATE(YEAR(A24),MONTH(A24)+1,1),'Reservations'!$B$4:$B$153,IF($E$4="All Properties","<>",$E$4),'Reservations'!$L$4:$L$153,"Confirmed")+SUMIFS('Reservations'!$M$4:$M$153,'Reservations'!$G$4:$G$153,">="&A24,'Reservations'!$G$4:$G$153,"<"&DATE(YEAR(A24),MONTH(A24)+1,1),'Reservations'!$B$4:$B$153,IF($E$4="All Properties","<>",$E$4),'Reservations'!$L$4:$L$153,"Checked In")+SUMIFS('Reservations'!$M$4:$M$153,'Reservations'!$G$4:$G$153,">="&A24,'Reservations'!$G$4:$G$153,"<"&DATE(YEAR(A24),MONTH(A24)+1,1),'Reservations'!$B$4:$B$153,IF($E$4="All Properties","<>",$E$4),'Reservations'!$L$4:$L$153,"Completed")-SUMIFS('Reservations'!$Q$4:$Q$153,'Reservations'!$G$4:$G$153,">="&A24,'Reservations'!$G$4:$G$153,"<"&DATE(YEAR(A24),MONTH(A24)+1,1),'Reservations'!$B$4:$B$153,IF($E$4="All Properties","<>",$E$4),'Reservations'!$L$4:$L$153,"Confirmed")+SUMIFS('Reservations'!$Q$4:$Q$153,'Reservations'!$G$4:$G$153,">="&A24,'Reservations'!$G$4:$G$153,"<"&DATE(YEAR(A24),MONTH(A24)+1,1),'Reservations'!$B$4:$B$153,IF($E$4="All Properties","<>",$E$4),'Reservations'!$L$4:$L$153,"Checked In")+SUMIFS('Reservations'!$Q$4:$Q$153,'Reservations'!$G$4:$G$153,">="&A24,'Reservations'!$G$4:$G$153,"<"&DATE(YEAR(A24),MONTH(A24)+1,1),'Reservations'!$B$4:$B$153,IF($E$4="All Properties","<>",$E$4),'Reservations'!$L$4:$L$153,"Completed")-SUMIFS('Reservations'!$R$4:$R$153,'Reservations'!$G$4:$G$153,">="&A24,'Reservations'!$G$4:$G$153,"<"&DATE(YEAR(A24),MONTH(A24)+1,1),'Reservations'!$B$4:$B$153,IF($E$4="All Properties","<>",$E$4),'Reservations'!$L$4:$L$153,"Confirmed")+SUMIFS('Reservations'!$R$4:$R$153,'Reservations'!$G$4:$G$153,">="&A24,'Reservations'!$G$4:$G$153,"<"&DATE(YEAR(A24),MONTH(A24)+1,1),'Reservations'!$B$4:$B$153,IF($E$4="All Properties","<>",$E$4),'Reservations'!$L$4:$L$153,"Checked In")+SUMIFS('Reservations'!$R$4:$R$153,'Reservations'!$G$4:$G$153,">="&A24,'Reservations'!$G$4:$G$153,"<"&DATE(YEAR(A24),MONTH(A24)+1,1),'Reservations'!$B$4:$B$153,IF($E$4="All Properties","<>",$E$4),'Reservations'!$L$4:$L$153,"Completed"))/F24,0)
A25: =IFERROR(DATE($B$4,6,1),"") | B25: =IFERROR(SUMIFS('Reservations'!$V$4:$V$153,'Reservations'!$G$4:$G$153,">="&A25,'Reservations'!$G$4:$G$153,"<"&DATE(YEAR(A25),MONTH(A25)+1,1),'Reservations'!$B$4:$B$153,IF($E$4="All Properties","<>",$E$4),'Reservations'!$L$4:$L$153,"Confirmed")+SUMIFS('Reservations'!$V$4:$V$153,'Reservations'!$G$4:$G$153,">="&A25,'Reservations'!$G$4:$G$153,"<"&DATE(YEAR(A25),MONTH(A25)+1,1),'Reservations'!$B$4:$B$153,IF($E$4="All Properties","<>",$E$4),'Reservations'!$L$4:$L$153,"Checked In")+SUMIFS('Reservations'!$V$4:$V$153,'Reservations'!$G$4:$G$153,">="&A25,'Reservations'!$G$4:$G$153,"<"&DATE(YEAR(A25),MONTH(A25)+1,1),'Reservations'!$B$4:$B$153,IF($E$4="All Properties","<>",$E$4),'Reservations'!$L$4:$L$153,"Completed"),0) | C25: =IFERROR(SUMIFS('Reservations'!$AC$4:$AC$153,'Reservations'!$G$4:$G$153,">="&A25,'Reservations'!$G$4:$G$153,"<"&DATE(YEAR(A25),MONTH(A25)+1,1),'Reservations'!$B$4:$B$153,IF($E$4="All Properties","<>",$E$4),'Reservations'!$L$4:$L$153,"Confirmed")+SUMIFS('Reservations'!$AC$4:$AC$153,'Reservations'!$G$4:$G$153,">="&A25,'Reservations'!$G$4:$G$153,"<"&DATE(YEAR(A25),MONTH(A25)+1,1),'Reservations'!$B$4:$B$153,IF($E$4="All Properties","<>",$E$4),'Reservations'!$L$4:$L$153,"Checked In")+SUMIFS('Reservations'!$AC$4:$AC$153,'Reservations'!$G$4:$G$153,">="&A25,'Reservations'!$G$4:$G$153,"<"&DATE(YEAR(A25),MONTH(A25)+1,1),'Reservations'!$B$4:$B$153,IF($E$4="All Properties","<>",$E$4),'Reservations'!$L$4:$L$153,"Completed"),0) | D25: =IFERROR(SUMIFS('Expenses'!$R$4:$R$153,'Expenses'!$B$4:$B$153,">="&A25,'Expenses'!$B$4:$B$153,"<"&DATE(YEAR(A25),MONTH(A25)+1,1),'Expenses'!$C$4:$C$153,IF($E$4="All Properties","<>",$E$4),'Expenses'!$F$4:$F$153,"Operating",'Expenses'!$T$4:$T$153,"Paid")+SUMIFS('Expenses'!$R$4:$R$153,'Expenses'!$B$4:$B$153,">="&A25,'Expenses'!$B$4:$B$153,"<"&DATE(YEAR(A25),MONTH(A25)+1,1),'Expenses'!$C$4:$C$153,IF($E$4="All Properties","<>",$E$4),'Expenses'!$F$4:$F$153,"Operating",'Expenses'!$T$4:$T$153,"Pending"),0) | E25: =IFERROR(C25-D25,0) | F25: =IFERROR(SUMIFS('Reservations'!$H$4:$H$153,'Reservations'!$G$4:$G$153,">="&A25,'Reservations'!$G$4:$G$153,"<"&DATE(YEAR(A25),MONTH(A25)+1,1),'Reservations'!$B$4:$B$153,IF($E$4="All Properties","<>",$E$4),'Reservations'!$L$4:$L$153,"Confirmed")+SUMIFS('Reservations'!$H$4:$H$153,'Reservations'!$G$4:$G$153,">="&A25,'Reservations'!$G$4:$G$153,"<"&DATE(YEAR(A25),MONTH(A25)+1,1),'Reservations'!$B$4:$B$153,IF($E$4="All Properties","<>",$E$4),'Reservations'!$L$4:$L$153,"Checked In")+SUMIFS('Reservations'!$H$4:$H$153,'Reservations'!$G$4:$G$153,">="&A25,'Reservations'!$G$4:$G$153,"<"&DATE(YEAR(A25),MONTH(A25)+1,1),'Reservations'!$B$4:$B$153,IF($E$4="All Properties","<>",$E$4),'Reservations'!$L$4:$L$153,"Completed"),0) | G25: =IFERROR($F$12/12,0) | H25: =IFERROR(F25/G25,0) | I25: =IFERROR((SUMIFS('Reservations'!$M$4:$M$153,'Reservations'!$G$4:$G$153,">="&A25,'Reservations'!$G$4:$G$153,"<"&DATE(YEAR(A25),MONTH(A25)+1,1),'Reservations'!$B$4:$B$153,IF($E$4="All Properties","<>",$E$4),'Reservations'!$L$4:$L$153,"Confirmed")+SUMIFS('Reservations'!$M$4:$M$153,'Reservations'!$G$4:$G$153,">="&A25,'Reservations'!$G$4:$G$153,"<"&DATE(YEAR(A25),MONTH(A25)+1,1),'Reservations'!$B$4:$B$153,IF($E$4="All Properties","<>",$E$4),'Reservations'!$L$4:$L$153,"Checked In")+SUMIFS('Reservations'!$M$4:$M$153,'Reservations'!$G$4:$G$153,">="&A25,'Reservations'!$G$4:$G$153,"<"&DATE(YEAR(A25),MONTH(A25)+1,1),'Reservations'!$B$4:$B$153,IF($E$4="All Properties","<>",$E$4),'Reservations'!$L$4:$L$153,"Completed")-SUMIFS('Reservations'!$Q$4:$Q$153,'Reservations'!$G$4:$G$153,">="&A25,'Reservations'!$G$4:$G$153,"<"&DATE(YEAR(A25),MONTH(A25)+1,1),'Reservations'!$B$4:$B$153,IF($E$4="All Properties","<>",$E$4),'Reservations'!$L$4:$L$153,"Confirmed")+SUMIFS('Reservations'!$Q$4:$Q$153,'Reservations'!$G$4:$G$153,">="&A25,'Reservations'!$G$4:$G$153,"<"&DATE(YEAR(A25),MONTH(A25)+1,1),'Reservations'!$B$4:$B$153,IF($E$4="All Properties","<>",$E$4),'Reservations'!$L$4:$L$153,"Checked In")+SUMIFS('Reservations'!$Q$4:$Q$153,'Reservations'!$G$4:$G$153,">="&A25,'Reservations'!$G$4:$G$153,"<"&DATE(YEAR(A25),MONTH(A25)+1,1),'Reservations'!$B$4:$B$153,IF($E$4="All Properties","<>",$E$4),'Reservations'!$L$4:$L$153,"Completed")-SUMIFS('Reservations'!$R$4:$R$153,'Reservations'!$G$4:$G$153,">="&A25,'Reservations'!$G$4:$G$153,"<"&DATE(YEAR(A25),MONTH(A25)+1,1),'Reservations'!$B$4:$B$153,IF($E$4="All Properties","<>",$E$4),'Reservations'!$L$4:$L$153,"Confirmed")+SUMIFS('Reservations'!$R$4:$R$153,'Reservations'!$G$4:$G$153,">="&A25,'Reservations'!$G$4:$G$153,"<"&DATE(YEAR(A25),MONTH(A25)+1,1),'Reservations'!$B$4:$B$153,IF($E$4="All Properties","<>",$E$4),'Reservations'!$L$4:$L$153,"Checked In")+SUMIFS('Reservations'!$R$4:$R$153,'Reservations'!$G$4:$G$153,">="&A25,'Reservations'!$G$4:$G$153,"<"&DATE(YEAR(A25),MONTH(A25)+1,1),'Reservations'!$B$4:$B$153,IF($E$4="All Properties","<>",$E$4),'Reservations'!$L$4:$L$153,"Completed"))/F25,0)
A26: =IFERROR(DATE($B$4,7,1),"") | B26: =IFERROR(SUMIFS('Reservations'!$V$4:$V$153,'Reservations'!$G$4:$G$153,">="&A26,'Reservations'!$G$4:$G$153,"<"&DATE(YEAR(A26),MONTH(A26)+1,1),'Reservations'!$B$4:$B$153,IF($E$4="All Properties","<>",$E$4),'Reservations'!$L$4:$L$153,"Confirmed")+SUMIFS('Reservations'!$V$4:$V$153,'Reservations'!$G$4:$G$153,">="&A26,'Reservations'!$G$4:$G$153,"<"&DATE(YEAR(A26),MONTH(A26)+1,1),'Reservations'!$B$4:$B$153,IF($E$4="All Properties","<>",$E$4),'Reservations'!$L$4:$L$153,"Checked In")+SUMIFS('Reservations'!$V$4:$V$153,'Reservations'!$G$4:$G$153,">="&A26,'Reservations'!$G$4:$G$153,"<"&DATE(YEAR(A26),MONTH(A26)+1,1),'Reservations'!$B$4:$B$153,IF($E$4="All Properties","<>",$E$4),'Reservations'!$L$4:$L$153,"Completed"),0) | C26: =IFERROR(SUMIFS('Reservations'!$AC$4:$AC$153,'Reservations'!$G$4:$G$153,">="&A26,'Reservations'!$G$4:$G$153,"<"&DATE(YEAR(A26),MONTH(A26)+1,1),'Reservations'!$B$4:$B$153,IF($E$4="All Properties","<>",$E$4),'Reservations'!$L$4:$L$153,"Confirmed")+SUMIFS('Reservations'!$AC$4:$AC$153,'Reservations'!$G$4:$G$153,">="&A26,'Reservations'!$G$4:$G$153,"<"&DATE(YEAR(A26),MONTH(A26)+1,1),'Reservations'!$B$4:$B$153,IF($E$4="All Properties","<>",$E$4),'Reservations'!$L$4:$L$153,"Checked In")+SUMIFS('Reservations'!$AC$4:$AC$153,'Reservations'!$G$4:$G$153,">="&A26,'Reservations'!$G$4:$G$153,"<"&DATE(YEAR(A26),MONTH(A26)+1,1),'Reservations'!$B$4:$B$153,IF($E$4="All Properties","<>",$E$4),'Reservations'!$L$4:$L$153,"Completed"),0) | D26: =IFERROR(SUMIFS('Expenses'!$R$4:$R$153,'Expenses'!$B$4:$B$153,">="&A26,'Expenses'!$B$4:$B$153,"<"&DATE(YEAR(A26),MONTH(A26)+1,1),'Expenses'!$C$4:$C$153,IF($E$4="All Properties","<>",$E$4),'Expenses'!$F$4:$F$153,"Operating",'Expenses'!$T$4:$T$153,"Paid")+SUMIFS('Expenses'!$R$4:$R$153,'Expenses'!$B$4:$B$153,">="&A26,'Expenses'!$B$4:$B$153,"<"&DATE(YEAR(A26),MONTH(A26)+1,1),'Expenses'!$C$4:$C$153,IF($E$4="All Properties","<>",$E$4),'Expenses'!$F$4:$F$153,"Operating",'Expenses'!$T$4:$T$153,"Pending"),0) | E26: =IFERROR(C26-D26,0) | F26: =IFERROR(SUMIFS('Reservations'!$H$4:$H$153,'Reservations'!$G$4:$G$153,">="&A26,'Reservations'!$G$4:$G$153,"<"&DATE(YEAR(A26),MONTH(A26)+1,1),'Reservations'!$B$4:$B$153,IF($E$4="All Properties","<>",$E$4),'Reservations'!$L$4:$L$153,"Confirmed")+SUMIFS('Reservations'!$H$4:$H$153,'Reservations'!$G$4:$G$153,">="&A26,'Reservations'!$G$4:$G$153,"<"&DATE(YEAR(A26),MONTH(A26)+1,1),'Reservations'!$B$4:$B$153,IF($E$4="All Properties","<>",$E$4),'Reservations'!$L$4:$L$153,"Checked In")+SUMIFS('Reservations'!$H$4:$H$153,'Reservations'!$G$4:$G$153,">="&A26,'Reservations'!$G$4:$G$153,"<"&DATE(YEAR(A26),MONTH(A26)+1,1),'Reservations'!$B$4:$B$153,IF($E$4="All Properties","<>",$E$4),'Reservations'!$L$4:$L$153,"Completed"),0) | G26: =IFERROR($F$12/12,0) | H26: =IFERROR(F26/G26,0) | I26: =IFERROR((SUMIFS('Reservations'!$M$4:$M$153,'Reservations'!$G$4:$G$153,">="&A26,'Reservations'!$G$4:$G$153,"<"&DATE(YEAR(A26),MONTH(A26)+1,1),'Reservations'!$B$4:$B$153,IF($E$4="All Properties","<>",$E$4),'Reservations'!$L$4:$L$153,"Confirmed")+SUMIFS('Reservations'!$M$4:$M$153,'Reservations'!$G$4:$G$153,">="&A26,'Reservations'!$G$4:$G$153,"<"&DATE(YEAR(A26),MONTH(A26)+1,1),'Reservations'!$B$4:$B$153,IF($E$4="All Properties","<>",$E$4),'Reservations'!$L$4:$L$153,"Checked In")+SUMIFS('Reservations'!$M$4:$M$153,'Reservations'!$G$4:$G$153,">="&A26,'Reservations'!$G$4:$G$153,"<"&DATE(YEAR(A26),MONTH(A26)+1,1),'Reservations'!$B$4:$B$153,IF($E$4="All Properties","<>",$E$4),'Reservations'!$L$4:$L$153,"Completed")-SUMIFS('Reservations'!$Q$4:$Q$153,'Reservations'!$G$4:$G$153,">="&A26,'Reservations'!$G$4:$G$153,"<"&DATE(YEAR(A26),MONTH(A26)+1,1),'Reservations'!$B$4:$B$153,IF($E$4="All Properties","<>",$E$4),'Reservations'!$L$4:$L$153,"Confirmed")+SUMIFS('Reservations'!$Q$4:$Q$153,'Reservations'!$G$4:$G$153,">="&A26,'Reservations'!$G$4:$G$153,"<"&DATE(YEAR(A26),MONTH(A26)+1,1),'Reservations'!$B$4:$B$153,IF($E$4="All Properties","<>",$E$4),'Reservations'!$L$4:$L$153,"Checked In")+SUMIFS('Reservations'!$Q$4:$Q$153,'Reservations'!$G$4:$G$153,">="&A26,'Reservations'!$G$4:$G$153,"<"&DATE(YEAR(A26),MONTH(A26)+1,1),'Reservations'!$B$4:$B$153,IF($E$4="All Properties","<>",$E$4),'Reservations'!$L$4:$L$153,"Completed")-SUMIFS('Reservations'!$R$4:$R$153,'Reservations'!$G$4:$G$153,">="&A26,'Reservations'!$G$4:$G$153,"<"&DATE(YEAR(A26),MONTH(A26)+1,1),'Reservations'!$B$4:$B$153,IF($E$4="All Properties","<>",$E$4),'Reservations'!$L$4:$L$153,"Confirmed")+SUMIFS('Reservations'!$R$4:$R$153,'Reservations'!$G$4:$G$153,">="&A26,'Reservations'!$G$4:$G$153,"<"&DATE(YEAR(A26),MONTH(A26)+1,1),'Reservations'!$B$4:$B$153,IF($E$4="All Properties","<>",$E$4),'Reservations'!$L$4:$L$153,"Checked In")+SUMIFS('Reservations'!$R$4:$R$153,'Reservations'!$G$4:$G$153,">="&A26,'Reservations'!$G$4:$G$153,"<"&DATE(YEAR(A26),MONTH(A26)+1,1),'Reservations'!$B$4:$B$153,IF($E$4="All Properties","<>",$E$4),'Reservations'!$L$4:$L$153,"Completed"))/F26,0)
A27: =IFERROR(DATE($B$4,8,1),"") | B27: =IFERROR(SUMIFS('Reservations'!$V$4:$V$153,'Reservations'!$G$4:$G$153,">="&A27,'Reservations'!$G$4:$G$153,"<"&DATE(YEAR(A27),MONTH(A27)+1,1),'Reservations'!$B$4:$B$153,IF($E$4="All Properties","<>",$E$4),'Reservations'!$L$4:$L$153,"Confirmed")+SUMIFS('Reservations'!$V$4:$V$153,'Reservations'!$G$4:$G$153,">="&A27,'Reservations'!$G$4:$G$153,"<"&DATE(YEAR(A27),MONTH(A27)+1,1),'Reservations'!$B$4:$B$153,IF($E$4="All Properties","<>",$E$4),'Reservations'!$L$4:$L$153,"Checked In")+SUMIFS('Reservations'!$V$4:$V$153,'Reservations'!$G$4:$G$153,">="&A27,'Reservations'!$G$4:$G$153,"<"&DATE(YEAR(A27),MONTH(A27)+1,1),'Reservations'!$B$4:$B$153,IF($E$4="All Properties","<>",$E$4),'Reservations'!$L$4:$L$153,"Completed"),0) | C27: =IFERROR(SUMIFS('Reservations'!$AC$4:$AC$153,'Reservations'!$G$4:$G$153,">="&A27,'Reservations'!$G$4:$G$153,"<"&DATE(YEAR(A27),MONTH(A27)+1,1),'Reservations'!$B$4:$B$153,IF($E$4="All Properties","<>",$E$4),'Reservations'!$L$4:$L$153,"Confirmed")+SUMIFS('Reservations'!$AC$4:$AC$153,'Reservations'!$G$4:$G$153,">="&A27,'Reservations'!$G$4:$G$153,"<"&DATE(YEAR(A27),MONTH(A27)+1,1),'Reservations'!$B$4:$B$153,IF($E$4="All Properties","<>",$E$4),'Reservations'!$L$4:$L$153,"Checked In")+SUMIFS('Reservations'!$AC$4:$AC$153,'Reservations'!$G$4:$G$153,">="&A27,'Reservations'!$G$4:$G$153,"<"&DATE(YEAR(A27),MONTH(A27)+1,1),'Reservations'!$B$4:$B$153,IF($E$4="All Properties","<>",$E$4),'Reservations'!$L$4:$L$153,"Completed"),0) | D27: =IFERROR(SUMIFS('Expenses'!$R$4:$R$153,'Expenses'!$B$4:$B$153,">="&A27,'Expenses'!$B$4:$B$153,"<"&DATE(YEAR(A27),MONTH(A27)+1,1),'Expenses'!$C$4:$C$153,IF($E$4="All Properties","<>",$E$4),'Expenses'!$F$4:$F$153,"Operating",'Expenses'!$T$4:$T$153,"Paid")+SUMIFS('Expenses'!$R$4:$R$153,'Expenses'!$B$4:$B$153,">="&A27,'Expenses'!$B$4:$B$153,"<"&DATE(YEAR(A27),MONTH(A27)+1,1),'Expenses'!$C$4:$C$153,IF($E$4="All Properties","<>",$E$4),'Expenses'!$F$4:$F$153,"Operating",'Expenses'!$T$4:$T$153,"Pending"),0) | E27: =IFERROR(C27-D27,0) | F27: =IFERROR(SUMIFS('Reservations'!$H$4:$H$153,'Reservations'!$G$4:$G$153,">="&A27,'Reservations'!$G$4:$G$153,"<"&DATE(YEAR(A27),MONTH(A27)+1,1),'Reservations'!$B$4:$B$153,IF($E$4="All Properties","<>",$E$4),'Reservations'!$L$4:$L$153,"Confirmed")+SUMIFS('Reservations'!$H$4:$H$153,'Reservations'!$G$4:$G$153,">="&A27,'Reservations'!$G$4:$G$153,"<"&DATE(YEAR(A27),MONTH(A27)+1,1),'Reservations'!$B$4:$B$153,IF($E$4="All Properties","<>",$E$4),'Reservations'!$L$4:$L$153,"Checked In")+SUMIFS('Reservations'!$H$4:$H$153,'Reservations'!$G$4:$G$153,">="&A27,'Reservations'!$G$4:$G$153,"<"&DATE(YEAR(A27),MONTH(A27)+1,1),'Reservations'!$B$4:$B$153,IF($E$4="All Properties","<>",$E$4),'Reservations'!$L$4:$L$153,"Completed"),0) | G27: =IFERROR($F$12/12,0) | H27: =IFERROR(F27/G27,0) | I27: =IFERROR((SUMIFS('Reservations'!$M$4:$M$153,'Reservations'!$G$4:$G$153,">="&A27,'Reservations'!$G$4:$G$153,"<"&DATE(YEAR(A27),MONTH(A27)+1,1),'Reservations'!$B$4:$B$153,IF($E$4="All Properties","<>",$E$4),'Reservations'!$L$4:$L$153,"Confirmed")+SUMIFS('Reservations'!$M$4:$M$153,'Reservations'!$G$4:$G$153,">="&A27,'Reservations'!$G$4:$G$153,"<"&DATE(YEAR(A27),MONTH(A27)+1,1),'Reservations'!$B$4:$B$153,IF($E$4="All Properties","<>",$E$4),'Reservations'!$L$4:$L$153,"Checked In")+SUMIFS('Reservations'!$M$4:$M$153,'Reservations'!$G$4:$G$153,">="&A27,'Reservations'!$G$4:$G$153,"<"&DATE(YEAR(A27),MONTH(A27)+1,1),'Reservations'!$B$4:$B$153,IF($E$4="All Properties","<>",$E$4),'Reservations'!$L$4:$L$153,"Completed")-SUMIFS('Reservations'!$Q$4:$Q$153,'Reservations'!$G$4:$G$153,">="&A27,'Reservations'!$G$4:$G$153,"<"&DATE(YEAR(A27),MONTH(A27)+1,1),'Reservations'!$B$4:$B$153,IF($E$4="All Properties","<>",$E$4),'Reservations'!$L$4:$L$153,"Confirmed")+SUMIFS('Reservations'!$Q$4:$Q$153,'Reservations'!$G$4:$G$153,">="&A27,'Reservations'!$G$4:$G$153,"<"&DATE(YEAR(A27),MONTH(A27)+1,1),'Reservations'!$B$4:$B$153,IF($E$4="All Properties","<>",$E$4),'Reservations'!$L$4:$L$153,"Checked In")+SUMIFS('Reservations'!$Q$4:$Q$153,'Reservations'!$G$4:$G$153,">="&A27,'Reservations'!$G$4:$G$153,"<"&DATE(YEAR(A27),MONTH(A27)+1,1),'Reservations'!$B$4:$B$153,IF($E$4="All Properties","<>",$E$4),'Reservations'!$L$4:$L$153,"Completed")-SUMIFS('Reservations'!$R$4:$R$153,'Reservations'!$G$4:$G$153,">="&A27,'Reservations'!$G$4:$G$153,"<"&DATE(YEAR(A27),MONTH(A27)+1,1),'Reservations'!$B$4:$B$153,IF($E$4="All Properties","<>",$E$4),'Reservations'!$L$4:$L$153,"Confirmed")+SUMIFS('Reservations'!$R$4:$R$153,'Reservations'!$G$4:$G$153,">="&A27,'Reservations'!$G$4:$G$153,"<"&DATE(YEAR(A27),MONTH(A27)+1,1),'Reservations'!$B$4:$B$153,IF($E$4="All Properties","<>",$E$4),'Reservations'!$L$4:$L$153,"Checked In")+SUMIFS('Reservations'!$R$4:$R$153,'Reservations'!$G$4:$G$153,">="&A27,'Reservations'!$G$4:$G$153,"<"&DATE(YEAR(A27),MONTH(A27)+1,1),'Reservations'!$B$4:$B$153,IF($E$4="All Properties","<>",$E$4),'Reservations'!$L$4:$L$153,"Completed"))/F27,0)
A28: =IFERROR(DATE($B$4,9,1),"") | B28: =IFERROR(SUMIFS('Reservations'!$V$4:$V$153,'Reservations'!$G$4:$G$153,">="&A28,'Reservations'!$G$4:$G$153,"<"&DATE(YEAR(A28),MONTH(A28)+1,1),'Reservations'!$B$4:$B$153,IF($E$4="All Properties","<>",$E$4),'Reservations'!$L$4:$L$153,"Confirmed")+SUMIFS('Reservations'!$V$4:$V$153,'Reservations'!$G$4:$G$153,">="&A28,'Reservations'!$G$4:$G$153,"<"&DATE(YEAR(A28),MONTH(A28)+1,1),'Reservations'!$B$4:$B$153,IF($E$4="All Properties","<>",$E$4),'Reservations'!$L$4:$L$153,"Checked In")+SUMIFS('Reservations'!$V$4:$V$153,'Reservations'!$G$4:$G$153,">="&A28,'Reservations'!$G$4:$G$153,"<"&DATE(YEAR(A28),MONTH(A28)+1,1),'Reservations'!$B$4:$B$153,IF($E$4="All Properties","<>",$E$4),'Reservations'!$L$4:$L$153,"Completed"),0) | C28: =IFERROR(SUMIFS('Reservations'!$AC$4:$AC$153,'Reservations'!$G$4:$G$153,">="&A28,'Reservations'!$G$4:$G$153,"<"&DATE(YEAR(A28),MONTH(A28)+1,1),'Reservations'!$B$4:$B$153,IF($E$4="All Properties","<>",$E$4),'Reservations'!$L$4:$L$153,"Confirmed")+SUMIFS('Reservations'!$AC$4:$AC$153,'Reservations'!$G$4:$G$153,">="&A28,'Reservations'!$G$4:$G$153,"<"&DATE(YEAR(A28),MONTH(A28)+1,1),'Reservations'!$B$4:$B$153,IF($E$4="All Properties","<>",$E$4),'Reservations'!$L$4:$L$153,"Checked In")+SUMIFS('Reservations'!$AC$4:$AC$153,'Reservations'!$G$4:$G$153,">="&A28,'Reservations'!$G$4:$G$153,"<"&DATE(YEAR(A28),MONTH(A28)+1,1),'Reservations'!$B$4:$B$153,IF($E$4="All Properties","<>",$E$4),'Reservations'!$L$4:$L$153,"Completed"),0) | D28: =IFERROR(SUMIFS('Expenses'!$R$4:$R$153,'Expenses'!$B$4:$B$153,">="&A28,'Expenses'!$B$4:$B$153,"<"&DATE(YEAR(A28),MONTH(A28)+1,1),'Expenses'!$C$4:$C$153,IF($E$4="All Properties","<>",$E$4),'Expenses'!$F$4:$F$153,"Operating",'Expenses'!$T$4:$T$153,"Paid")+SUMIFS('Expenses'!$R$4:$R$153,'Expenses'!$B$4:$B$153,">="&A28,'Expenses'!$B$4:$B$153,"<"&DATE(YEAR(A28),MONTH(A28)+1,1),'Expenses'!$C$4:$C$153,IF($E$4="All Properties","<>",$E$4),'Expenses'!$F$4:$F$153,"Operating",'Expenses'!$T$4:$T$153,"Pending"),0) | E28: =IFERROR(C28-D28,0) | F28: =IFERROR(SUMIFS('Reservations'!$H$4:$H$153,'Reservations'!$G$4:$G$153,">="&A28,'Reservations'!$G$4:$G$153,"<"&DATE(YEAR(A28),MONTH(A28)+1,1),'Reservations'!$B$4:$B$153,IF($E$4="All Properties","<>",$E$4),'Reservations'!$L$4:$L$153,"Confirmed")+SUMIFS('Reservations'!$H$4:$H$153,'Reservations'!$G$4:$G$153,">="&A28,'Reservations'!$G$4:$G$153,"<"&DATE(YEAR(A28),MONTH(A28)+1,1),'Reservations'!$B$4:$B$153,IF($E$4="All Properties","<>",$E$4),'Reservations'!$L$4:$L$153,"Checked In")+SUMIFS('Reservations'!$H$4:$H$153,'Reservations'!$G$4:$G$153,">="&A28,'Reservations'!$G$4:$G$153,"<"&DATE(YEAR(A28),MONTH(A28)+1,1),'Reservations'!$B$4:$B$153,IF($E$4="All Properties","<>",$E$4),'Reservations'!$L$4:$L$153,"Completed"),0) | G28: =IFERROR($F$12/12,0) | H28: =IFERROR(F28/G28,0) | I28: =IFERROR((SUMIFS('Reservations'!$M$4:$M$153,'Reservations'!$G$4:$G$153,">="&A28,'Reservations'!$G$4:$G$153,"<"&DATE(YEAR(A28),MONTH(A28)+1,1),'Reservations'!$B$4:$B$153,IF($E$4="All Properties","<>",$E$4),'Reservations'!$L$4:$L$153,"Confirmed")+SUMIFS('Reservations'!$M$4:$M$153,'Reservations'!$G$4:$G$153,">="&A28,'Reservations'!$G$4:$G$153,"<"&DATE(YEAR(A28),MONTH(A28)+1,1),'Reservations'!$B$4:$B$153,IF($E$4="All Properties","<>",$E$4),'Reservations'!$L$4:$L$153,"Checked In")+SUMIFS('Reservations'!$M$4:$M$153,'Reservations'!$G$4:$G$153,">="&A28,'Reservations'!$G$4:$G$153,"<"&DATE(YEAR(A28),MONTH(A28)+1,1),'Reservations'!$B$4:$B$153,IF($E$4="All Properties","<>",$E$4),'Reservations'!$L$4:$L$153,"Completed")-SUMIFS('Reservations'!$Q$4:$Q$153,'Reservations'!$G$4:$G$153,">="&A28,'Reservations'!$G$4:$G$153,"<"&DATE(YEAR(A28),MONTH(A28)+1,1),'Reservations'!$B$4:$B$153,IF($E$4="All Properties","<>",$E$4),'Reservations'!$L$4:$L$153,"Confirmed")+SUMIFS('Reservations'!$Q$4:$Q$153,'Reservations'!$G$4:$G$153,">="&A28,'Reservations'!$G$4:$G$153,"<"&DATE(YEAR(A28),MONTH(A28)+1,1),'Reservations'!$B$4:$B$153,IF($E$4="All Properties","<>",$E$4),'Reservations'!$L$4:$L$153,"Checked In")+SUMIFS('Reservations'!$Q$4:$Q$153,'Reservations'!$G$4:$G$153,">="&A28,'Reservations'!$G$4:$G$153,"<"&DATE(YEAR(A28),MONTH(A28)+1,1),'Reservations'!$B$4:$B$153,IF($E$4="All Properties","<>",$E$4),'Reservations'!$L$4:$L$153,"Completed")-SUMIFS('Reservations'!$R$4:$R$153,'Reservations'!$G$4:$G$153,">="&A28,'Reservations'!$G$4:$G$153,"<"&DATE(YEAR(A28),MONTH(A28)+1,1),'Reservations'!$B$4:$B$153,IF($E$4="All Properties","<>",$E$4),'Reservations'!$L$4:$L$153,"Confirmed")+SUMIFS('Reservations'!$R$4:$R$153,'Reservations'!$G$4:$G$153,">="&A28,'Reservations'!$G$4:$G$153,"<"&DATE(YEAR(A28),MONTH(A28)+1,1),'Reservations'!$B$4:$B$153,IF($E$4="All Properties","<>",$E$4),'Reservations'!$L$4:$L$153,"Checked In")+SUMIFS('Reservations'!$R$4:$R$153,'Reservations'!$G$4:$G$153,">="&A28,'Reservations'!$G$4:$G$153,"<"&DATE(YEAR(A28),MONTH(A28)+1,1),'Reservations'!$B$4:$B$153,IF($E$4="All Properties","<>",$E$4),'Reservations'!$L$4:$L$153,"Completed"))/F28,0)
A29: =IFERROR(DATE($B$4,10,1),"") | B29: =IFERROR(SUMIFS('Reservations'!$V$4:$V$153,'Reservations'!$G$4:$G$153,">="&A29,'Reservations'!$G$4:$G$153,"<"&DATE(YEAR(A29),MONTH(A29)+1,1),'Reservations'!$B$4:$B$153,IF($E$4="All Properties","<>",$E$4),'Reservations'!$L$4:$L$153,"Confirmed")+SUMIFS('Reservations'!$V$4:$V$153,'Reservations'!$G$4:$G$153,">="&A29,'Reservations'!$G$4:$G$153,"<"&DATE(YEAR(A29),MONTH(A29)+1,1),'Reservations'!$B$4:$B$153,IF($E$4="All Properties","<>",$E$4),'Reservations'!$L$4:$L$153,"Checked In")+SUMIFS('Reservations'!$V$4:$V$153,'Reservations'!$G$4:$G$153,">="&A29,'Reservations'!$G$4:$G$153,"<"&DATE(YEAR(A29),MONTH(A29)+1,1),'Reservations'!$B$4:$B$153,IF($E$4="All Properties","<>",$E$4),'Reservations'!$L$4:$L$153,"Completed"),0) | C29: =IFERROR(SUMIFS('Reservations'!$AC$4:$AC$153,'Reservations'!$G$4:$G$153,">="&A29,'Reservations'!$G$4:$G$153,"<"&DATE(YEAR(A29),MONTH(A29)+1,1),'Reservations'!$B$4:$B$153,IF($E$4="All Properties","<>",$E$4),'Reservations'!$L$4:$L$153,"Confirmed")+SUMIFS('Reservations'!$AC$4:$AC$153,'Reservations'!$G$4:$G$153,">="&A29,'Reservations'!$G$4:$G$153,"<"&DATE(YEAR(A29),MONTH(A29)+1,1),'Reservations'!$B$4:$B$153,IF($E$4="All Properties","<>",$E$4),'Reservations'!$L$4:$L$153,"Checked In")+SUMIFS('Reservations'!$AC$4:$AC$153,'Reservations'!$G$4:$G$153,">="&A29,'Reservations'!$G$4:$G$153,"<"&DATE(YEAR(A29),MONTH(A29)+1,1),'Reservations'!$B$4:$B$153,IF($E$4="All Properties","<>",$E$4),'Reservations'!$L$4:$L$153,"Completed"),0) | D29: =IFERROR(SUMIFS('Expenses'!$R$4:$R$153,'Expenses'!$B$4:$B$153,">="&A29,'Expenses'!$B$4:$B$153,"<"&DATE(YEAR(A29),MONTH(A29)+1,1),'Expenses'!$C$4:$C$153,IF($E$4="All Properties","<>",$E$4),'Expenses'!$F$4:$F$153,"Operating",'Expenses'!$T$4:$T$153,"Paid")+SUMIFS('Expenses'!$R$4:$R$153,'Expenses'!$B$4:$B$153,">="&A29,'Expenses'!$B$4:$B$153,"<"&DATE(YEAR(A29),MONTH(A29)+1,1),'Expenses'!$C$4:$C$153,IF($E$4="All Properties","<>",$E$4),'Expenses'!$F$4:$F$153,"Operating",'Expenses'!$T$4:$T$153,"Pending"),0) | E29: =IFERROR(C29-D29,0) | F29: =IFERROR(SUMIFS('Reservations'!$H$4:$H$153,'Reservations'!$G$4:$G$153,">="&A29,'Reservations'!$G$4:$G$153,"<"&DATE(YEAR(A29),MONTH(A29)+1,1),'Reservations'!$B$4:$B$153,IF($E$4="All Properties","<>",$E$4),'Reservations'!$L$4:$L$153,"Confirmed")+SUMIFS('Reservations'!$H$4:$H$153,'Reservations'!$G$4:$G$153,">="&A29,'Reservations'!$G$4:$G$153,"<"&DATE(YEAR(A29),MONTH(A29)+1,1),'Reservations'!$B$4:$B$153,IF($E$4="All Properties","<>",$E$4),'Reservations'!$L$4:$L$153,"Checked In")+SUMIFS('Reservations'!$H$4:$H$153,'Reservations'!$G$4:$G$153,">="&A29,'Reservations'!$G$4:$G$153,"<"&DATE(YEAR(A29),MONTH(A29)+1,1),'Reservations'!$B$4:$B$153,IF($E$4="All Properties","<>",$E$4),'Reservations'!$L$4:$L$153,"Completed"),0) | G29: =IFERROR($F$12/12,0) | H29: =IFERROR(F29/G29,0) | I29: =IFERROR((SUMIFS('Reservations'!$M$4:$M$153,'Reservations'!$G$4:$G$153,">="&A29,'Reservations'!$G$4:$G$153,"<"&DATE(YEAR(A29),MONTH(A29)+1,1),'Reservations'!$B$4:$B$153,IF($E$4="All Properties","<>",$E$4),'Reservations'!$L$4:$L$153,"Confirmed")+SUMIFS('Reservations'!$M$4:$M$153,'Reservations'!$G$4:$G$153,">="&A29,'Reservations'!$G$4:$G$153,"<"&DATE(YEAR(A29),MONTH(A29)+1,1),'Reservations'!$B$4:$B$153,IF($E$4="All Properties","<>",$E$4),'Reservations'!$L$4:$L$153,"Checked In")+SUMIFS('Reservations'!$M$4:$M$153,'Reservations'!$G$4:$G$153,">="&A29,'Reservations'!$G$4:$G$153,"<"&DATE(YEAR(A29),MONTH(A29)+1,1),'Reservations'!$B$4:$B$153,IF($E$4="All Properties","<>",$E$4),'Reservations'!$L$4:$L$153,"Completed")-SUMIFS('Reservations'!$Q$4:$Q$153,'Reservations'!$G$4:$G$153,">="&A29,'Reservations'!$G$4:$G$153,"<"&DATE(YEAR(A29),MONTH(A29)+1,1),'Reservations'!$B$4:$B$153,IF($E$4="All Properties","<>",$E$4),'Reservations'!$L$4:$L$153,"Confirmed")+SUMIFS('Reservations'!$Q$4:$Q$153,'Reservations'!$G$4:$G$153,">="&A29,'Reservations'!$G$4:$G$153,"<"&DATE(YEAR(A29),MONTH(A29)+1,1),'Reservations'!$B$4:$B$153,IF($E$4="All Properties","<>",$E$4),'Reservations'!$L$4:$L$153,"Checked In")+SUMIFS('Reservations'!$Q$4:$Q$153,'Reservations'!$G$4:$G$153,">="&A29,'Reservations'!$G$4:$G$153,"<"&DATE(YEAR(A29),MONTH(A29)+1,1),'Reservations'!$B$4:$B$153,IF($E$4="All Properties","<>",$E$4),'Reservations'!$L$4:$L$153,"Completed")-SUMIFS('Reservations'!$R$4:$R$153,'Reservations'!$G$4:$G$153,">="&A29,'Reservations'!$G$4:$G$153,"<"&DATE(YEAR(A29),MONTH(A29)+1,1),'Reservations'!$B$4:$B$153,IF($E$4="All Properties","<>",$E$4),'Reservations'!$L$4:$L$153,"Confirmed")+SUMIFS('Reservations'!$R$4:$R$153,'Reservations'!$G$4:$G$153,">="&A29,'Reservations'!$G$4:$G$153,"<"&DATE(YEAR(A29),MONTH(A29)+1,1),'Reservations'!$B$4:$B$153,IF($E$4="All Properties","<>",$E$4),'Reservations'!$L$4:$L$153,"Checked In")+SUMIFS('Reservations'!$R$4:$R$153,'Reservations'!$G$4:$G$153,">="&A29,'Reservations'!$G$4:$G$153,"<"&DATE(YEAR(A29),MONTH(A29)+1,1),'Reservations'!$B$4:$B$153,IF($E$4="All Properties","<>",$E$4),'Reservations'!$L$4:$L$153,"Completed"))/F29,0)
