Workbook

Sheet Dashboard
A1: Resort Activity Booking Dashboard
A2: Use the date filters below to review activity dates. Update bookings on the Activity Bookings worksheet and rates or policies on the Activity Setup worksheet. | AF2: All Activities
A3: Property | B3: =IFERROR(VLOOKUP("Property Name",'Activity Setup'!$A$5:$B$10,2,0),"") | AF3: =IFERROR('Activity Setup'!B12,"")
A4: Activity Date From | B4: 46174 | C4: Activity Date Through | D4: 46203 | E4: Activity Filter | F4: All Activities | G4: Booking Status Filter | H4: All Statuses | I4: Dashboard Updated | J4: =IFERROR(TODAY(),"") | N4: Match | O4: Activity | P4: Participants | Q4: Revenue | R4: Balance | S4: Distinct Capacity | T4: Utilization | U4: Attention | V4: Over Capacity | W4: Payment Due | X4: Waiver Follow-Up | Y4: Minimum Age Review | Z4: Missing Meeting Point | AA4: Unassigned Staff | AB4: Duplicate ID | AC4: Past Still Open | AD4: Next 7 Days | AF4: =IFERROR('Activity Setup'!B13,"")
N5: =IFERROR(IF(AND('Activity Bookings'!$A5<>"",'Activity Bookings'!$C5>=$B$4,'Activity Bookings'!$C5<=$D$4,IF($F$4="All Activities",1,'Activity Bookings'!$F5=$F$4),IF($H$4="All Statuses",'Activity Bookings'!$O5<>"Canceled",'Activity Bookings'!$O5=$H$4)),1,0),0) | O5: =IFERROR(IF($N5=1,'Activity Bookings'!$F5,""),"") | P5: =IFERROR(IF($N5=1,'Activity Bookings'!$M5,0),0) | Q5: =IFERROR(IF($N5=1,'Activity Bookings'!$AD5,0),0) | R5: =IFERROR(IF($N5=1,'Activity Bookings'!$AF5,0),0) | S5: =IFERROR(IF(AND($N5=1,COUNTIFS('Activity Bookings'!$F$5:'Activity Bookings'!$F5,'Activity Bookings'!$F5,'Activity Bookings'!$C$5:'Activity Bookings'!$C5,'Activity Bookings'!$C5,'Activity Bookings'!$D$5:'Activity Bookings'!$D5,'Activity Bookings'!$D5)=1),'Activity Bookings'!$AL5,0),0) | T5: =IFERROR(IF($N5=1,'Activity Bookings'!$AO5,""),"") | U5: =IFERROR(IF(AND($N5=1,'Activity Bookings'!$AS5<>"Ready"),1,0),0) | V5: =IFERROR(IF(AND($N5=1,'Activity Bookings'!$AO5>1),1,0),0) | W5: =IFERROR(IF(AND($N5=1,'Activity Bookings'!$AF5>0,'Activity Bookings'!$O5<>"Canceled"),1,0),0) | X5: =IFERROR(IF(AND($N5=1,'Activity Bookings'!$AI5="Yes",'Activity Bookings'!$AJ5<>"Received",'Activity Bookings'!$AJ5<>"Verify On Arrival"),1,0),0) | Y5: =IFERROR(IF(AND($N5=1,'Activity Bookings'!$N5<>"",'Activity Bookings'!$AK5<>"",'Activity Bookings'!$N5<'Activity Bookings'!$AK5),1,0),0) | Z5: =IFERROR(IF(AND($N5=1,'Activity Bookings'!$T5=""),1,0),0) | AA5: =IFERROR(IF(AND($N5=1,'Activity Bookings'!$Q5=""),1,0),0) | AB5: =IFERROR(IF(AND($N5=1,COUNTIF('Activity Bookings'!$A$5:$A$154,'Activity Bookings'!$A5)>1),1,0),0) | AC5: =IFERROR(IF(AND($N5=1,('Activity Bookings'!$C5+'Activity Bookings'!$D5)<NOW(),OR('Activity Bookings'!$O5="Inquiry",'Activity Bookings'!$O5="Pending",'Activity Bookings'!$O5="Confirmed")),1,0),0) | AD5: =IFERROR(IF(AND('Activity Bookings'!$A5<>"",'Activity Bookings'!$C5>=TODAY(),'Activity Bookings'!$C5<=TODAY()+7,OR('Activity Bookings'!$O5="Confirmed",'Activity Bookings'!$O5="Pending")),1,0),0) | AF5: =IFERROR('Activity Setup'!B14,"")
A6: Active Bookings | D6: Booked Participants | G6: Projected Booking Revenue | J6: Outstanding Balance | N6: =IFERROR(IF(AND('Activity Bookings'!$A6<>"",'Activity Bookings'!$C6>=$B$4,'Activity Bookings'!$C6<=$D$4,IF($F$4="All Activities",1,'Activity Bookings'!$F6=$F$4),IF($H$4="All Statuses",'Activity Bookings'!$O6<>"Canceled",'Activity Bookings'!$O6=$H$4)),1,0),0) | O6: =IFERROR(IF($N6=1,'Activity Bookings'!$F6,""),"") | P6: =IFERROR(IF($N6=1,'Activity Bookings'!$M6,0),0) | Q6: =IFERROR(IF($N6=1,'Activity Bookings'!$AD6,0),0) | R6: =IFERROR(IF($N6=1,'Activity Bookings'!$AF6,0),0) | S6: =IFERROR(IF(AND($N6=1,COUNTIFS('Activity Bookings'!$F$5:'Activity Bookings'!$F6,'Activity Bookings'!$F6,'Activity Bookings'!$C$5:'Activity Bookings'!$C6,'Activity Bookings'!$C6,'Activity Bookings'!$D$5:'Activity Bookings'!$D6,'Activity Bookings'!$D6)=1),'Activity Bookings'!$AL6,0),0) | T6: =IFERROR(IF($N6=1,'Activity Bookings'!$AO6,""),"") | U6: =IFERROR(IF(AND($N6=1,'Activity Bookings'!$AS6<>"Ready"),1,0),0) | V6: =IFERROR(IF(AND($N6=1,'Activity Bookings'!$AO6>1),1,0),0) | W6: =IFERROR(IF(AND($N6=1,'Activity Bookings'!$AF6>0,'Activity Bookings'!$O6<>"Canceled"),1,0),0) | X6: =IFERROR(IF(AND($N6=1,'Activity Bookings'!$AI6="Yes",'Activity Bookings'!$AJ6<>"Received",'Activity Bookings'!$AJ6<>"Verify On Arrival"),1,0),0) | Y6: =IFERROR(IF(AND($N6=1,'Activity Bookings'!$N6<>"",'Activity Bookings'!$AK6<>"",'Activity Bookings'!$N6<'Activity Bookings'!$AK6),1,0),0) | Z6: =IFERROR(IF(AND($N6=1,'Activity Bookings'!$T6=""),1,0),0) | AA6: =IFERROR(IF(AND($N6=1,'Activity Bookings'!$Q6=""),1,0),0) | AB6: =IFERROR(IF(AND($N6=1,COUNTIF('Activity Bookings'!$A$5:$A$154,'Activity Bookings'!$A6)>1),1,0),0) | AC6: =IFERROR(IF(AND($N6=1,('Activity Bookings'!$C6+'Activity Bookings'!$D6)<NOW(),OR('Activity Bookings'!$O6="Inquiry",'Activity Bookings'!$O6="Pending",'Activity Bookings'!$O6="Confirmed")),1,0),0) | AD6: =IFERROR(IF(AND('Activity Bookings'!$A6<>"",'Activity Bookings'!$C6>=TODAY(),'Activity Bookings'!$C6<=TODAY()+7,OR('Activity Bookings'!$O6="Confirmed",'Activity Bookings'!$O6="Pending")),1,0),0) | AF6: =IFERROR('Activity Setup'!B15,"")
B7: =IFERROR(SUM($N$5:$N$154),0) | E7: =IFERROR(SUM($P$5:$P$154),0) | H7: =IFERROR(SUM($Q$5:$Q$154),0) | K7: =IFERROR(SUM($R$5:$R$154),0) | N7: =IFERROR(IF(AND('Activity Bookings'!$A7<>"",'Activity Bookings'!$C7>=$B$4,'Activity Bookings'!$C7<=$D$4,IF($F$4="All Activities",1,'Activity Bookings'!$F7=$F$4),IF($H$4="All Statuses",'Activity Bookings'!$O7<>"Canceled",'Activity Bookings'!$O7=$H$4)),1,0),0) | O7: =IFERROR(IF($N7=1,'Activity Bookings'!$F7,""),"") | P7: =IFERROR(IF($N7=1,'Activity Bookings'!$M7,0),0) | Q7: =IFERROR(IF($N7=1,'Activity Bookings'!$AD7,0),0) | R7: =IFERROR(IF($N7=1,'Activity Bookings'!$AF7,0),0) | S7: =IFERROR(IF(AND($N7=1,COUNTIFS('Activity Bookings'!$F$5:'Activity Bookings'!$F7,'Activity Bookings'!$F7,'Activity Bookings'!$C$5:'Activity Bookings'!$C7,'Activity Bookings'!$C7,'Activity Bookings'!$D$5:'Activity Bookings'!$D7,'Activity Bookings'!$D7)=1),'Activity Bookings'!$AL7,0),0) | T7: =IFERROR(IF($N7=1,'Activity Bookings'!$AO7,""),"") | U7: =IFERROR(IF(AND($N7=1,'Activity Bookings'!$AS7<>"Ready"),1,0),0) | V7: =IFERROR(IF(AND($N7=1,'Activity Bookings'!$AO7>1),1,0),0) | W7: =IFERROR(IF(AND($N7=1,'Activity Bookings'!$AF7>0,'Activity Bookings'!$O7<>"Canceled"),1,0),0) | X7: =IFERROR(IF(AND($N7=1,'Activity Bookings'!$AI7="Yes",'Activity Bookings'!$AJ7<>"Received",'Activity Bookings'!$AJ7<>"Verify On Arrival"),1,0),0) | Y7: =IFERROR(IF(AND($N7=1,'Activity Bookings'!$N7<>"",'Activity Bookings'!$AK7<>"",'Activity Bookings'!$N7<'Activity Bookings'!$AK7),1,0),0) | Z7: =IFERROR(IF(AND($N7=1,'Activity Bookings'!$T7=""),1,0),0) | AA7: =IFERROR(IF(AND($N7=1,'Activity Bookings'!$Q7=""),1,0),0) | AB7: =IFERROR(IF(AND($N7=1,COUNTIF('Activity Bookings'!$A$5:$A$154,'Activity Bookings'!$A7)>1),1,0),0) | AC7: =IFERROR(IF(AND($N7=1,('Activity Bookings'!$C7+'Activity Bookings'!$D7)<NOW(),OR('Activity Bookings'!$O7="Inquiry",'Activity Bookings'!$O7="Pending",'Activity Bookings'!$O7="Confirmed")),1,0),0) | AD7: =IFERROR(IF(AND('Activity Bookings'!$A7<>"",'Activity Bookings'!$C7>=TODAY(),'Activity Bookings'!$C7<=TODAY()+7,OR('Activity Bookings'!$O7="Confirmed",'Activity Bookings'!$O7="Pending")),1,0),0) | AF7: =IFERROR('Activity Setup'!B16,"")
N8: =IFERROR(IF(AND('Activity Bookings'!$A8<>"",'Activity Bookings'!$C8>=$B$4,'Activity Bookings'!$C8<=$D$4,IF($F$4="All Activities",1,'Activity Bookings'!$F8=$F$4),IF($H$4="All Statuses",'Activity Bookings'!$O8<>"Canceled",'Activity Bookings'!$O8=$H$4)),1,0),0) | O8: =IFERROR(IF($N8=1,'Activity Bookings'!$F8,""),"") | P8: =IFERROR(IF($N8=1,'Activity Bookings'!$M8,0),0) | Q8: =IFERROR(IF($N8=1,'Activity Bookings'!$AD8,0),0) | R8: =IFERROR(IF($N8=1,'Activity Bookings'!$AF8,0),0) | S8: =IFERROR(IF(AND($N8=1,COUNTIFS('Activity Bookings'!$F$5:'Activity Bookings'!$F8,'Activity Bookings'!$F8,'Activity Bookings'!$C$5:'Activity Bookings'!$C8,'Activity Bookings'!$C8,'Activity Bookings'!$D$5:'Activity Bookings'!$D8,'Activity Bookings'!$D8)=1),'Activity Bookings'!$AL8,0),0) | T8: =IFERROR(IF($N8=1,'Activity Bookings'!$AO8,""),"") | U8: =IFERROR(IF(AND($N8=1,'Activity Bookings'!$AS8<>"Ready"),1,0),0) | V8: =IFERROR(IF(AND($N8=1,'Activity Bookings'!$AO8>1),1,0),0) | W8: =IFERROR(IF(AND($N8=1,'Activity Bookings'!$AF8>0,'Activity Bookings'!$O8<>"Canceled"),1,0),0) | X8: =IFERROR(IF(AND($N8=1,'Activity Bookings'!$AI8="Yes",'Activity Bookings'!$AJ8<>"Received",'Activity Bookings'!$AJ8<>"Verify On Arrival"),1,0),0) | Y8: =IFERROR(IF(AND($N8=1,'Activity Bookings'!$N8<>"",'Activity Bookings'!$AK8<>"",'Activity Bookings'!$N8<'Activity Bookings'!$AK8),1,0),0) | Z8: =IFERROR(IF(AND($N8=1,'Activity Bookings'!$T8=""),1,0),0) | AA8: =IFERROR(IF(AND($N8=1,'Activity Bookings'!$Q8=""),1,0),0) | AB8: =IFERROR(IF(AND($N8=1,COUNTIF('Activity Bookings'!$A$5:$A$154,'Activity Bookings'!$A8)>1),1,0),0) | AC8: =IFERROR(IF(AND($N8=1,('Activity Bookings'!$C8+'Activity Bookings'!$D8)<NOW(),OR('Activity Bookings'!$O8="Inquiry",'Activity Bookings'!$O8="Pending",'Activity Bookings'!$O8="Confirmed")),1,0),0) | AD8: =IFERROR(IF(AND('Activity Bookings'!$A8<>"",'Activity Bookings'!$C8>=TODAY(),'Activity Bookings'!$C8<=TODAY()+7,OR('Activity Bookings'!$O8="Confirmed",'Activity Bookings'!$O8="Pending")),1,0),0) | AF8: =IFERROR('Activity Setup'!B17,"")
N9: =IFERROR(IF(AND('Activity Bookings'!$A9<>"",'Activity Bookings'!$C9>=$B$4,'Activity Bookings'!$C9<=$D$4,IF($F$4="All Activities",1,'Activity Bookings'!$F9=$F$4),IF($H$4="All Statuses",'Activity Bookings'!$O9<>"Canceled",'Activity Bookings'!$O9=$H$4)),1,0),0) | O9: =IFERROR(IF($N9=1,'Activity Bookings'!$F9,""),"") | P9: =IFERROR(IF($N9=1,'Activity Bookings'!$M9,0),0) | Q9: =IFERROR(IF($N9=1,'Activity Bookings'!$AD9,0),0) | R9: =IFERROR(IF($N9=1,'Activity Bookings'!$AF9,0),0) | S9: =IFERROR(IF(AND($N9=1,COUNTIFS('Activity Bookings'!$F$5:'Activity Bookings'!$F9,'Activity Bookings'!$F9,'Activity Bookings'!$C$5:'Activity Bookings'!$C9,'Activity Bookings'!$C9,'Activity Bookings'!$D$5:'Activity Bookings'!$D9,'Activity Bookings'!$D9)=1),'Activity Bookings'!$AL9,0),0) | T9: =IFERROR(IF($N9=1,'Activity Bookings'!$AO9,""),"") | U9: =IFERROR(IF(AND($N9=1,'Activity Bookings'!$AS9<>"Ready"),1,0),0) | V9: =IFERROR(IF(AND($N9=1,'Activity Bookings'!$AO9>1),1,0),0) | W9: =IFERROR(IF(AND($N9=1,'Activity Bookings'!$AF9>0,'Activity Bookings'!$O9<>"Canceled"),1,0),0) | X9: =IFERROR(IF(AND($N9=1,'Activity Bookings'!$AI9="Yes",'Activity Bookings'!$AJ9<>"Received",'Activity Bookings'!$AJ9<>"Verify On Arrival"),1,0),0) | Y9: =IFERROR(IF(AND($N9=1,'Activity Bookings'!$N9<>"",'Activity Bookings'!$AK9<>"",'Activity Bookings'!$N9<'Activity Bookings'!$AK9),1,0),0) | Z9: =IFERROR(IF(AND($N9=1,'Activity Bookings'!$T9=""),1,0),0) | AA9: =IFERROR(IF(AND($N9=1,'Activity Bookings'!$Q9=""),1,0),0) | AB9: =IFERROR(IF(AND($N9=1,COUNTIF('Activity Bookings'!$A$5:$A$154,'Activity Bookings'!$A9)>1),1,0),0) | AC9: =IFERROR(IF(AND($N9=1,('Activity Bookings'!$C9+'Activity Bookings'!$D9)<NOW(),OR('Activity Bookings'!$O9="Inquiry",'Activity Bookings'!$O9="Pending",'Activity Bookings'!$O9="Confirmed")),1,0),0) | AD9: =IFERROR(IF(AND('Activity Bookings'!$A9<>"",'Activity Bookings'!$C9>=TODAY(),'Activity Bookings'!$C9<=TODAY()+7,OR('Activity Bookings'!$O9="Confirmed",'Activity Bookings'!$O9="Pending")),1,0),0) | AF9: =IFERROR('Activity Setup'!B18,"")
A10: Average Revenue per Participant | D10: Average Booking-Slot Utilization | G10: Bookings Needing Attention | J10: Arrivals in the Next 7 Days | N10: =IFERROR(IF(AND('Activity Bookings'!$A10<>"",'Activity Bookings'!$C10>=$B$4,'Activity Bookings'!$C10<=$D$4,IF($F$4="All Activities",1,'Activity Bookings'!$F10=$F$4),IF($H$4="All Statuses",'Activity Bookings'!$O10<>"Canceled",'Activity Bookings'!$O10=$H$4)),1,0),0) | O10: =IFERROR(IF($N10=1,'Activity Bookings'!$F10,""),"") | P10: =IFERROR(IF($N10=1,'Activity Bookings'!$M10,0),0) | Q10: =IFERROR(IF($N10=1,'Activity Bookings'!$AD10,0),0) | R10: =IFERROR(IF($N10=1,'Activity Bookings'!$AF10,0),0) | S10: =IFERROR(IF(AND($N10=1,COUNTIFS('Activity Bookings'!$F$5:'Activity Bookings'!$F10,'Activity Bookings'!$F10,'Activity Bookings'!$C$5:'Activity Bookings'!$C10,'Activity Bookings'!$C10,'Activity Bookings'!$D$5:'Activity Bookings'!$D10,'Activity Bookings'!$D10)=1),'Activity Bookings'!$AL10,0),0) | T10: =IFERROR(IF($N10=1,'Activity Bookings'!$AO10,""),"") | U10: =IFERROR(IF(AND($N10=1,'Activity Bookings'!$AS10<>"Ready"),1,0),0) | V10: =IFERROR(IF(AND($N10=1,'Activity Bookings'!$AO10>1),1,0),0) | W10: =IFERROR(IF(AND($N10=1,'Activity Bookings'!$AF10>0,'Activity Bookings'!$O10<>"Canceled"),1,0),0) | X10: =IFERROR(IF(AND($N10=1,'Activity Bookings'!$AI10="Yes",'Activity Bookings'!$AJ10<>"Received",'Activity Bookings'!$AJ10<>"Verify On Arrival"),1,0),0) | Y10: =IFERROR(IF(AND($N10=1,'Activity Bookings'!$N10<>"",'Activity Bookings'!$AK10<>"",'Activity Bookings'!$N10<'Activity Bookings'!$AK10),1,0),0) | Z10: =IFERROR(IF(AND($N10=1,'Activity Bookings'!$T10=""),1,0),0) | AA10: =IFERROR(IF(AND($N10=1,'Activity Bookings'!$Q10=""),1,0),0) | AB10: =IFERROR(IF(AND($N10=1,COUNTIF('Activity Bookings'!$A$5:$A$154,'Activity Bookings'!$A10)>1),1,0),0) | AC10: =IFERROR(IF(AND($N10=1,('Activity Bookings'!$C10+'Activity Bookings'!$D10)<NOW(),OR('Activity Bookings'!$O10="Inquiry",'Activity Bookings'!$O10="Pending",'Activity Bookings'!$O10="Confirmed")),1,0),0) | AD10: =IFERROR(IF(AND('Activity Bookings'!$A10<>"",'Activity Bookings'!$C10>=TODAY(),'Activity Bookings'!$C10<=TODAY()+7,OR('Activity Bookings'!$O10="Confirmed",'Activity Bookings'!$O10="Pending")),1,0),0) | AF10: =IFERROR('Activity Setup'!B19,"")
B11: =IFERROR($H$7/$E$7,0) | E11: =IFERROR(AVERAGE($T$5:$T$154),0) | H11: =IFERROR(SUM($U$5:$U$154),0) | K11: =IFERROR(SUM($AD$5:$AD$154),0) | N11: =IFERROR(IF(AND('Activity Bookings'!$A11<>"",'Activity Bookings'!$C11>=$B$4,'Activity Bookings'!$C11<=$D$4,IF($F$4="All Activities",1,'Activity Bookings'!$F11=$F$4),IF($H$4="All Statuses",'Activity Bookings'!$O11<>"Canceled",'Activity Bookings'!$O11=$H$4)),1,0),0) | O11: =IFERROR(IF($N11=1,'Activity Bookings'!$F11,""),"") | P11: =IFERROR(IF($N11=1,'Activity Bookings'!$M11,0),0) | Q11: =IFERROR(IF($N11=1,'Activity Bookings'!$AD11,0),0) | R11: =IFERROR(IF($N11=1,'Activity Bookings'!$AF11,0),0) | S11: =IFERROR(IF(AND($N11=1,COUNTIFS('Activity Bookings'!$F$5:'Activity Bookings'!$F11,'Activity Bookings'!$F11,'Activity Bookings'!$C$5:'Activity Bookings'!$C11,'Activity Bookings'!$C11,'Activity Bookings'!$D$5:'Activity Bookings'!$D11,'Activity Bookings'!$D11)=1),'Activity Bookings'!$AL11,0),0) | T11: =IFERROR(IF($N11=1,'Activity Bookings'!$AO11,""),"") | U11: =IFERROR(IF(AND($N11=1,'Activity Bookings'!$AS11<>"Ready"),1,0),0) | V11: =IFERROR(IF(AND($N11=1,'Activity Bookings'!$AO11>1),1,0),0) | W11: =IFERROR(IF(AND($N11=1,'Activity Bookings'!$AF11>0,'Activity Bookings'!$O11<>"Canceled"),1,0),0) | X11: =IFERROR(IF(AND($N11=1,'Activity Bookings'!$AI11="Yes",'Activity Bookings'!$AJ11<>"Received",'Activity Bookings'!$AJ11<>"Verify On Arrival"),1,0),0) | Y11: =IFERROR(IF(AND($N11=1,'Activity Bookings'!$N11<>"",'Activity Bookings'!$AK11<>"",'Activity Bookings'!$N11<'Activity Bookings'!$AK11),1,0),0) | Z11: =IFERROR(IF(AND($N11=1,'Activity Bookings'!$T11=""),1,0),0) | AA11: =IFERROR(IF(AND($N11=1,'Activity Bookings'!$Q11=""),1,0),0) | AB11: =IFERROR(IF(AND($N11=1,COUNTIF('Activity Bookings'!$A$5:$A$154,'Activity Bookings'!$A11)>1),1,0),0) | AC11: =IFERROR(IF(AND($N11=1,('Activity Bookings'!$C11+'Activity Bookings'!$D11)<NOW(),OR('Activity Bookings'!$O11="Inquiry",'Activity Bookings'!$O11="Pending",'Activity Bookings'!$O11="Confirmed")),1,0),0) | AD11: =IFERROR(IF(AND('Activity Bookings'!$A11<>"",'Activity Bookings'!$C11>=TODAY(),'Activity Bookings'!$C11<=TODAY()+7,OR('Activity Bookings'!$O11="Confirmed",'Activity Bookings'!$O11="Pending")),1,0),0) | AF11: =IFERROR('Activity Setup'!B20,"")
N12: =IFERROR(IF(AND('Activity Bookings'!$A12<>"",'Activity Bookings'!$C12>=$B$4,'Activity Bookings'!$C12<=$D$4,IF($F$4="All Activities",1,'Activity Bookings'!$F12=$F$4),IF($H$4="All Statuses",'Activity Bookings'!$O12<>"Canceled",'Activity Bookings'!$O12=$H$4)),1,0),0) | O12: =IFERROR(IF($N12=1,'Activity Bookings'!$F12,""),"") | P12: =IFERROR(IF($N12=1,'Activity Bookings'!$M12,0),0) | Q12: =IFERROR(IF($N12=1,'Activity Bookings'!$AD12,0),0) | R12: =IFERROR(IF($N12=1,'Activity Bookings'!$AF12,0),0) | S12: =IFERROR(IF(AND($N12=1,COUNTIFS('Activity Bookings'!$F$5:'Activity Bookings'!$F12,'Activity Bookings'!$F12,'Activity Bookings'!$C$5:'Activity Bookings'!$C12,'Activity Bookings'!$C12,'Activity Bookings'!$D$5:'Activity Bookings'!$D12,'Activity Bookings'!$D12)=1),'Activity Bookings'!$AL12,0),0) | T12: =IFERROR(IF($N12=1,'Activity Bookings'!$AO12,""),"") | U12: =IFERROR(IF(AND($N12=1,'Activity Bookings'!$AS12<>"Ready"),1,0),0) | V12: =IFERROR(IF(AND($N12=1,'Activity Bookings'!$AO12>1),1,0),0) | W12: =IFERROR(IF(AND($N12=1,'Activity Bookings'!$AF12>0,'Activity Bookings'!$O12<>"Canceled"),1,0),0) | X12: =IFERROR(IF(AND($N12=1,'Activity Bookings'!$AI12="Yes",'Activity Bookings'!$AJ12<>"Received",'Activity Bookings'!$AJ12<>"Verify On Arrival"),1,0),0) | Y12: =IFERROR(IF(AND($N12=1,'Activity Bookings'!$N12<>"",'Activity Bookings'!$AK12<>"",'Activity Bookings'!$N12<'Activity Bookings'!$AK12),1,0),0) | Z12: =IFERROR(IF(AND($N12=1,'Activity Bookings'!$T12=""),1,0),0) | AA12: =IFERROR(IF(AND($N12=1,'Activity Bookings'!$Q12=""),1,0),0) | AB12: =IFERROR(IF(AND($N12=1,COUNTIF('Activity Bookings'!$A$5:$A$154,'Activity Bookings'!$A12)>1),1,0),0) | AC12: =IFERROR(IF(AND($N12=1,('Activity Bookings'!$C12+'Activity Bookings'!$D12)<NOW(),OR('Activity Bookings'!$O12="Inquiry",'Activity Bookings'!$O12="Pending",'Activity Bookings'!$O12="Confirmed")),1,0),0) | AD12: =IFERROR(IF(AND('Activity Bookings'!$A12<>"",'Activity Bookings'!$C12>=TODAY(),'Activity Bookings'!$C12<=TODAY()+7,OR('Activity Bookings'!$O12="Confirmed",'Activity Bookings'!$O12="Pending")),1,0),0) | AF12: =IFERROR('Activity Setup'!B21,"")
N13: =IFERROR(IF(AND('Activity Bookings'!$A13<>"",'Activity Bookings'!$C13>=$B$4,'Activity Bookings'!$C13<=$D$4,IF($F$4="All Activities",1,'Activity Bookings'!$F13=$F$4),IF($H$4="All Statuses",'Activity Bookings'!$O13<>"Canceled",'Activity Bookings'!$O13=$H$4)),1,0),0) | O13: =IFERROR(IF($N13=1,'Activity Bookings'!$F13,""),"") | P13: =IFERROR(IF($N13=1,'Activity Bookings'!$M13,0),0) | Q13: =IFERROR(IF($N13=1,'Activity Bookings'!$AD13,0),0) | R13: =IFERROR(IF($N13=1,'Activity Bookings'!$AF13,0),0) | S13: =IFERROR(IF(AND($N13=1,COUNTIFS('Activity Bookings'!$F$5:'Activity Bookings'!$F13,'Activity Bookings'!$F13,'Activity Bookings'!$C$5:'Activity Bookings'!$C13,'Activity Bookings'!$C13,'Activity Bookings'!$D$5:'Activity Bookings'!$D13,'Activity Bookings'!$D13)=1),'Activity Bookings'!$AL13,0),0) | T13: =IFERROR(IF($N13=1,'Activity Bookings'!$AO13,""),"") | U13: =IFERROR(IF(AND($N13=1,'Activity Bookings'!$AS13<>"Ready"),1,0),0) | V13: =IFERROR(IF(AND($N13=1,'Activity Bookings'!$AO13>1),1,0),0) | W13: =IFERROR(IF(AND($N13=1,'Activity Bookings'!$AF13>0,'Activity Bookings'!$O13<>"Canceled"),1,0),0) | X13: =IFERROR(IF(AND($N13=1,'Activity Bookings'!$AI13="Yes",'Activity Bookings'!$AJ13<>"Received",'Activity Bookings'!$AJ13<>"Verify On Arrival"),1,0),0) | Y13: =IFERROR(IF(AND($N13=1,'Activity Bookings'!$N13<>"",'Activity Bookings'!$AK13<>"",'Activity Bookings'!$N13<'Activity Bookings'!$AK13),1,0),0) | Z13: =IFERROR(IF(AND($N13=1,'Activity Bookings'!$T13=""),1,0),0) | AA13: =IFERROR(IF(AND($N13=1,'Activity Bookings'!$Q13=""),1,0),0) | AB13: =IFERROR(IF(AND($N13=1,COUNTIF('Activity Bookings'!$A$5:$A$154,'Activity Bookings'!$A13)>1),1,0),0) | AC13: =IFERROR(IF(AND($N13=1,('Activity Bookings'!$C13+'Activity Bookings'!$D13)<NOW(),OR('Activity Bookings'!$O13="Inquiry",'Activity Bookings'!$O13="Pending",'Activity Bookings'!$O13="Confirmed")),1,0),0) | AD13: =IFERROR(IF(AND('Activity Bookings'!$A13<>"",'Activity Bookings'!$C13>=TODAY(),'Activity Bookings'!$C13<=TODAY()+7,OR('Activity Bookings'!$O13="Confirmed",'Activity Bookings'!$O13="Pending")),1,0),0) | AF13: =IFERROR('Activity Setup'!B22,"")
A14: Activity Summary | N14: =IFERROR(IF(AND('Activity Bookings'!$A14<>"",'Activity Bookings'!$C14>=$B$4,'Activity Bookings'!$C14<=$D$4,IF($F$4="All Activities",1,'Activity Bookings'!$F14=$F$4),IF($H$4="All Statuses",'Activity Bookings'!$O14<>"Canceled",'Activity Bookings'!$O14=$H$4)),1,0),0) | O14: =IFERROR(IF($N14=1,'Activity Bookings'!$F14,""),"") | P14: =IFERROR(IF($N14=1,'Activity Bookings'!$M14,0),0) | Q14: =IFERROR(IF($N14=1,'Activity Bookings'!$AD14,0),0) | R14: =IFERROR(IF($N14=1,'Activity Bookings'!$AF14,0),0) | S14: =IFERROR(IF(AND($N14=1,COUNTIFS('Activity Bookings'!$F$5:'Activity Bookings'!$F14,'Activity Bookings'!$F14,'Activity Bookings'!$C$5:'Activity Bookings'!$C14,'Activity Bookings'!$C14,'Activity Bookings'!$D$5:'Activity Bookings'!$D14,'Activity Bookings'!$D14)=1),'Activity Bookings'!$AL14,0),0) | T14: =IFERROR(IF($N14=1,'Activity Bookings'!$AO14,""),"") | U14: =IFERROR(IF(AND($N14=1,'Activity Bookings'!$AS14<>"Ready"),1,0),0) | V14: =IFERROR(IF(AND($N14=1,'Activity Bookings'!$AO14>1),1,0),0) | W14: =IFERROR(IF(AND($N14=1,'Activity Bookings'!$AF14>0,'Activity Bookings'!$O14<>"Canceled"),1,0),0) | X14: =IFERROR(IF(AND($N14=1,'Activity Bookings'!$AI14="Yes",'Activity Bookings'!$AJ14<>"Received",'Activity Bookings'!$AJ14<>"Verify On Arrival"),1,0),0) | Y14: =IFERROR(IF(AND($N14=1,'Activity Bookings'!$N14<>"",'Activity Bookings'!$AK14<>"",'Activity Bookings'!$N14<'Activity Bookings'!$AK14),1,0),0) | Z14: =IFERROR(IF(AND($N14=1,'Activity Bookings'!$T14=""),1,0),0) | AA14: =IFERROR(IF(AND($N14=1,'Activity Bookings'!$Q14=""),1,0),0) | AB14: =IFERROR(IF(AND($N14=1,COUNTIF('Activity Bookings'!$A$5:$A$154,'Activity Bookings'!$A14)>1),1,0),0) | AC14: =IFERROR(IF(AND($N14=1,('Activity Bookings'!$C14+'Activity Bookings'!$D14)<NOW(),OR('Activity Bookings'!$O14="Inquiry",'Activity Bookings'!$O14="Pending",'Activity Bookings'!$O14="Confirmed")),1,0),0) | AD14: =IFERROR(IF(AND('Activity Bookings'!$A14<>"",'Activity Bookings'!$C14>=TODAY(),'Activity Bookings'!$C14<=TODAY()+7,OR('Activity Bookings'!$O14="Confirmed",'Activity Bookings'!$O14="Pending")),1,0),0) | AF14: =IFERROR('Activity Setup'!B23,"")
N15: =IFERROR(IF(AND('Activity Bookings'!$A15<>"",'Activity Bookings'!$C15>=$B$4,'Activity Bookings'!$C15<=$D$4,IF($F$4="All Activities",1,'Activity Bookings'!$F15=$F$4),IF($H$4="All Statuses",'Activity Bookings'!$O15<>"Canceled",'Activity Bookings'!$O15=$H$4)),1,0),0) | O15: =IFERROR(IF($N15=1,'Activity Bookings'!$F15,""),"") | P15: =IFERROR(IF($N15=1,'Activity Bookings'!$M15,0),0) | Q15: =IFERROR(IF($N15=1,'Activity Bookings'!$AD15,0),0) | R15: =IFERROR(IF($N15=1,'Activity Bookings'!$AF15,0),0) | S15: =IFERROR(IF(AND($N15=1,COUNTIFS('Activity Bookings'!$F$5:'Activity Bookings'!$F15,'Activity Bookings'!$F15,'Activity Bookings'!$C$5:'Activity Bookings'!$C15,'Activity Bookings'!$C15,'Activity Bookings'!$D$5:'Activity Bookings'!$D15,'Activity Bookings'!$D15)=1),'Activity Bookings'!$AL15,0),0) | T15: =IFERROR(IF($N15=1,'Activity Bookings'!$AO15,""),"") | U15: =IFERROR(IF(AND($N15=1,'Activity Bookings'!$AS15<>"Ready"),1,0),0) | V15: =IFERROR(IF(AND($N15=1,'Activity Bookings'!$AO15>1),1,0),0) | W15: =IFERROR(IF(AND($N15=1,'Activity Bookings'!$AF15>0,'Activity Bookings'!$O15<>"Canceled"),1,0),0) | X15: =IFERROR(IF(AND($N15=1,'Activity Bookings'!$AI15="Yes",'Activity Bookings'!$AJ15<>"Received",'Activity Bookings'!$AJ15<>"Verify On Arrival"),1,0),0) | Y15: =IFERROR(IF(AND($N15=1,'Activity Bookings'!$N15<>"",'Activity Bookings'!$AK15<>"",'Activity Bookings'!$N15<'Activity Bookings'!$AK15),1,0),0) | Z15: =IFERROR(IF(AND($N15=1,'Activity Bookings'!$T15=""),1,0),0) | AA15: =IFERROR(IF(AND($N15=1,'Activity Bookings'!$Q15=""),1,0),0) | AB15: =IFERROR(IF(AND($N15=1,COUNTIF('Activity Bookings'!$A$5:$A$154,'Activity Bookings'!$A15)>1),1,0),0) | AC15: =IFERROR(IF(AND($N15=1,('Activity Bookings'!$C15+'Activity Bookings'!$D15)<NOW(),OR('Activity Bookings'!$O15="Inquiry",'Activity Bookings'!$O15="Pending",'Activity Bookings'!$O15="Confirmed")),1,0),0) | AD15: =IFERROR(IF(AND('Activity Bookings'!$A15<>"",'Activity Bookings'!$C15>=TODAY(),'Activity Bookings'!$C15<=TODAY()+7,OR('Activity Bookings'!$O15="Confirmed",'Activity Bookings'!$O15="Pending")),1,0),0) | AF15: =IFERROR('Activity Setup'!B24,"")
A16: Activity | B16: Active Bookings | C16: Participants | D16: Scheduled Capacity | E16: Capacity Utilization | F16: Projected Revenue | G16: Outstanding Balance | N16: =IFERROR(IF(AND('Activity Bookings'!$A16<>"",'Activity Bookings'!$C16>=$B$4,'Activity Bookings'!$C16<=$D$4,IF($F$4="All Activities",1,'Activity Bookings'!$F16=$F$4),IF($H$4="All Statuses",'Activity Bookings'!$O16<>"Canceled",'Activity Bookings'!$O16=$H$4)),1,0),0) | O16: =IFERROR(IF($N16=1,'Activity Bookings'!$F16,""),"") | P16: =IFERROR(IF($N16=1,'Activity Bookings'!$M16,0),0) | Q16: =IFERROR(IF($N16=1,'Activity Bookings'!$AD16,0),0) | R16: =IFERROR(IF($N16=1,'Activity Bookings'!$AF16,0),0) | S16: =IFERROR(IF(AND($N16=1,COUNTIFS('Activity Bookings'!$F$5:'Activity Bookings'!$F16,'Activity Bookings'!$F16,'Activity Bookings'!$C$5:'Activity Bookings'!$C16,'Activity Bookings'!$C16,'Activity Bookings'!$D$5:'Activity Bookings'!$D16,'Activity Bookings'!$D16)=1),'Activity Bookings'!$AL16,0),0) | T16: =IFERROR(IF($N16=1,'Activity Bookings'!$AO16,""),"") | U16: =IFERROR(IF(AND($N16=1,'Activity Bookings'!$AS16<>"Ready"),1,0),0) | V16: =IFERROR(IF(AND($N16=1,'Activity Bookings'!$AO16>1),1,0),0) | W16: =IFERROR(IF(AND($N16=1,'Activity Bookings'!$AF16>0,'Activity Bookings'!$O16<>"Canceled"),1,0),0) | X16: =IFERROR(IF(AND($N16=1,'Activity Bookings'!$AI16="Yes",'Activity Bookings'!$AJ16<>"Received",'Activity Bookings'!$AJ16<>"Verify On Arrival"),1,0),0) | Y16: =IFERROR(IF(AND($N16=1,'Activity Bookings'!$N16<>"",'Activity Bookings'!$AK16<>"",'Activity Bookings'!$N16<'Activity Bookings'!$AK16),1,0),0) | Z16: =IFERROR(IF(AND($N16=1,'Activity Bookings'!$T16=""),1,0),0) | AA16: =IFERROR(IF(AND($N16=1,'Activity Bookings'!$Q16=""),1,0),0) | AB16: =IFERROR(IF(AND($N16=1,COUNTIF('Activity Bookings'!$A$5:$A$154,'Activity Bookings'!$A16)>1),1,0),0) | AC16: =IFERROR(IF(AND($N16=1,('Activity Bookings'!$C16+'Activity Bookings'!$D16)<NOW(),OR('Activity Bookings'!$O16="Inquiry",'Activity Bookings'!$O16="Pending",'Activity Bookings'!$O16="Confirmed")),1,0),0) | AD16: =IFERROR(IF(AND('Activity Bookings'!$A16<>"",'Activity Bookings'!$C16>=TODAY(),'Activity Bookings'!$C16<=TODAY()+7,OR('Activity Bookings'!$O16="Confirmed",'Activity Bookings'!$O16="Pending")),1,0),0) | AF16: =IFERROR('Activity Setup'!B25,"")
A17: =IFERROR('Activity Setup'!$B$12,"") | B17: =IFERROR(COUNTIF($O$5:$O$154,$A17),0) | C17: =IFERROR(SUMIF($O$5:$O$154,$A17,$P$5:$P$154),0) | D17: =IFERROR(SUMIF($O$5:$O$154,$A17,$S$5:$S$154),0) | E17: =IFERROR($C17/$D17,0) | F17: =IFERROR(SUMIF($O$5:$O$154,$A17,$Q$5:$Q$154),0) | G17: =IFERROR(SUMIF($O$5:$O$154,$A17,$R$5:$R$154),0) | N17: =IFERROR(IF(AND('Activity Bookings'!$A17<>"",'Activity Bookings'!$C17>=$B$4,'Activity Bookings'!$C17<=$D$4,IF($F$4="All Activities",1,'Activity Bookings'!$F17=$F$4),IF($H$4="All Statuses",'Activity Bookings'!$O17<>"Canceled",'Activity Bookings'!$O17=$H$4)),1,0),0) | O17: =IFERROR(IF($N17=1,'Activity Bookings'!$F17,""),"") | P17: =IFERROR(IF($N17=1,'Activity Bookings'!$M17,0),0) | Q17: =IFERROR(IF($N17=1,'Activity Bookings'!$AD17,0),0) | R17: =IFERROR(IF($N17=1,'Activity Bookings'!$AF17,0),0) | S17: =IFERROR(IF(AND($N17=1,COUNTIFS('Activity Bookings'!$F$5:'Activity Bookings'!$F17,'Activity Bookings'!$F17,'Activity Bookings'!$C$5:'Activity Bookings'!$C17,'Activity Bookings'!$C17,'Activity Bookings'!$D$5:'Activity Bookings'!$D17,'Activity Bookings'!$D17)=1),'Activity Bookings'!$AL17,0),0) | T17: =IFERROR(IF($N17=1,'Activity Bookings'!$AO17,""),"") | U17: =IFERROR(IF(AND($N17=1,'Activity Bookings'!$AS17<>"Ready"),1,0),0) | V17: =IFERROR(IF(AND($N17=1,'Activity Bookings'!$AO17>1),1,0),0) | W17: =IFERROR(IF(AND($N17=1,'Activity Bookings'!$AF17>0,'Activity Bookings'!$O17<>"Canceled"),1,0),0) | X17: =IFERROR(IF(AND($N17=1,'Activity Bookings'!$AI17="Yes",'Activity Bookings'!$AJ17<>"Received",'Activity Bookings'!$AJ17<>"Verify On Arrival"),1,0),0) | Y17: =IFERROR(IF(AND($N17=1,'Activity Bookings'!$N17<>"",'Activity Bookings'!$AK17<>"",'Activity Bookings'!$N17<'Activity Bookings'!$AK17),1,0),0) | Z17: =IFERROR(IF(AND($N17=1,'Activity Bookings'!$T17=""),1,0),0) | AA17: =IFERROR(IF(AND($N17=1,'Activity Bookings'!$Q17=""),1,0),0) | AB17: =IFERROR(IF(AND($N17=1,COUNTIF('Activity Bookings'!$A$5:$A$154,'Activity Bookings'!$A17)>1),1,0),0) | AC17: =IFERROR(IF(AND($N17=1,('Activity Bookings'!$C17+'Activity Bookings'!$D17)<NOW(),OR('Activity Bookings'!$O17="Inquiry",'Activity Bookings'!$O17="Pending",'Activity Bookings'!$O17="Confirmed")),1,0),0) | AD17: =IFERROR(IF(AND('Activity Bookings'!$A17<>"",'Activity Bookings'!$C17>=TODAY(),'Activity Bookings'!$C17<=TODAY()+7,OR('Activity Bookings'!$O17="Confirmed",'Activity Bookings'!$O17="Pending")),1,0),0) | AF17: =IFERROR('Activity Setup'!B26,"")
A18: =IFERROR('Activity Setup'!$B$13,"") | B18: =IFERROR(COUNTIF($O$5:$O$154,$A18),0) | C18: =IFERROR(SUMIF($O$5:$O$154,$A18,$P$5:$P$154),0) | D18: =IFERROR(SUMIF($O$5:$O$154,$A18,$S$5:$S$154),0) | E18: =IFERROR($C18/$D18,0) | F18: =IFERROR(SUMIF($O$5:$O$154,$A18,$Q$5:$Q$154),0) | G18: =IFERROR(SUMIF($O$5:$O$154,$A18,$R$5:$R$154),0) | N18: =IFERROR(IF(AND('Activity Bookings'!$A18<>"",'Activity Bookings'!$C18>=$B$4,'Activity Bookings'!$C18<=$D$4,IF($F$4="All Activities",1,'Activity Bookings'!$F18=$F$4),IF($H$4="All Statuses",'Activity Bookings'!$O18<>"Canceled",'Activity Bookings'!$O18=$H$4)),1,0),0) | O18: =IFERROR(IF($N18=1,'Activity Bookings'!$F18,""),"") | P18: =IFERROR(IF($N18=1,'Activity Bookings'!$M18,0),0) | Q18: =IFERROR(IF($N18=1,'Activity Bookings'!$AD18,0),0) | R18: =IFERROR(IF($N18=1,'Activity Bookings'!$AF18,0),0) | S18: =IFERROR(IF(AND($N18=1,COUNTIFS('Activity Bookings'!$F$5:'Activity Bookings'!$F18,'Activity Bookings'!$F18,'Activity Bookings'!$C$5:'Activity Bookings'!$C18,'Activity Bookings'!$C18,'Activity Bookings'!$D$5:'Activity Bookings'!$D18,'Activity Bookings'!$D18)=1),'Activity Bookings'!$AL18,0),0) | T18: =IFERROR(IF($N18=1,'Activity Bookings'!$AO18,""),"") | U18: =IFERROR(IF(AND($N18=1,'Activity Bookings'!$AS18<>"Ready"),1,0),0) | V18: =IFERROR(IF(AND($N18=1,'Activity Bookings'!$AO18>1),1,0),0) | W18: =IFERROR(IF(AND($N18=1,'Activity Bookings'!$AF18>0,'Activity Bookings'!$O18<>"Canceled"),1,0),0) | X18: =IFERROR(IF(AND($N18=1,'Activity Bookings'!$AI18="Yes",'Activity Bookings'!$AJ18<>"Received",'Activity Bookings'!$AJ18<>"Verify On Arrival"),1,0),0) | Y18: =IFERROR(IF(AND($N18=1,'Activity Bookings'!$N18<>"",'Activity Bookings'!$AK18<>"",'Activity Bookings'!$N18<'Activity Bookings'!$AK18),1,0),0) | Z18: =IFERROR(IF(AND($N18=1,'Activity Bookings'!$T18=""),1,0),0) | AA18: =IFERROR(IF(AND($N18=1,'Activity Bookings'!$Q18=""),1,0),0) | AB18: =IFERROR(IF(AND($N18=1,COUNTIF('Activity Bookings'!$A$5:$A$154,'Activity Bookings'!$A18)>1),1,0),0) | AC18: =IFERROR(IF(AND($N18=1,('Activity Bookings'!$C18+'Activity Bookings'!$D18)<NOW(),OR('Activity Bookings'!$O18="Inquiry",'Activity Bookings'!$O18="Pending",'Activity Bookings'!$O18="Confirmed")),1,0),0) | AD18: =IFERROR(IF(AND('Activity Bookings'!$A18<>"",'Activity Bookings'!$C18>=TODAY(),'Activity Bookings'!$C18<=TODAY()+7,OR('Activity Bookings'!$O18="Confirmed",'Activity Bookings'!$O18="Pending")),1,0),0) | AF18: =IFERROR('Activity Setup'!B27,"")
A19: =IFERROR('Activity Setup'!$B$14,"") | B19: =IFERROR(COUNTIF($O$5:$O$154,$A19),0) | C19: =IFERROR(SUMIF($O$5:$O$154,$A19,$P$5:$P$154),0) | D19: =IFERROR(SUMIF($O$5:$O$154,$A19,$S$5:$S$154),0) | E19: =IFERROR($C19/$D19,0) | F19: =IFERROR(SUMIF($O$5:$O$154,$A19,$Q$5:$Q$154),0) | G19: =IFERROR(SUMIF($O$5:$O$154,$A19,$R$5:$R$154),0) | N19: =IFERROR(IF(AND('Activity Bookings'!$A19<>"",'Activity Bookings'!$C19>=$B$4,'Activity Bookings'!$C19<=$D$4,IF($F$4="All Activities",1,'Activity Bookings'!$F19=$F$4),IF($H$4="All Statuses",'Activity Bookings'!$O19<>"Canceled",'Activity Bookings'!$O19=$H$4)),1,0),0) | O19: =IFERROR(IF($N19=1,'Activity Bookings'!$F19,""),"") | P19: =IFERROR(IF($N19=1,'Activity Bookings'!$M19,0),0) | Q19: =IFERROR(IF($N19=1,'Activity Bookings'!$AD19,0),0) | R19: =IFERROR(IF($N19=1,'Activity Bookings'!$AF19,0),0) | S19: =IFERROR(IF(AND($N19=1,COUNTIFS('Activity Bookings'!$F$5:'Activity Bookings'!$F19,'Activity Bookings'!$F19,'Activity Bookings'!$C$5:'Activity Bookings'!$C19,'Activity Bookings'!$C19,'Activity Bookings'!$D$5:'Activity Bookings'!$D19,'Activity Bookings'!$D19)=1),'Activity Bookings'!$AL19,0),0) | T19: =IFERROR(IF($N19=1,'Activity Bookings'!$AO19,""),"") | U19: =IFERROR(IF(AND($N19=1,'Activity Bookings'!$AS19<>"Ready"),1,0),0) | V19: =IFERROR(IF(AND($N19=1,'Activity Bookings'!$AO19>1),1,0),0) | W19: =IFERROR(IF(AND($N19=1,'Activity Bookings'!$AF19>0,'Activity Bookings'!$O19<>"Canceled"),1,0),0) | X19: =IFERROR(IF(AND($N19=1,'Activity Bookings'!$AI19="Yes",'Activity Bookings'!$AJ19<>"Received",'Activity Bookings'!$AJ19<>"Verify On Arrival"),1,0),0) | Y19: =IFERROR(IF(AND($N19=1,'Activity Bookings'!$N19<>"",'Activity Bookings'!$AK19<>"",'Activity Bookings'!$N19<'Activity Bookings'!$AK19),1,0),0) | Z19: =IFERROR(IF(AND($N19=1,'Activity Bookings'!$T19=""),1,0),0) | AA19: =IFERROR(IF(AND($N19=1,'Activity Bookings'!$Q19=""),1,0),0) | AB19: =IFERROR(IF(AND($N19=1,COUNTIF('Activity Bookings'!$A$5:$A$154,'Activity Bookings'!$A19)>1),1,0),0) | AC19: =IFERROR(IF(AND($N19=1,('Activity Bookings'!$C19+'Activity Bookings'!$D19)<NOW(),OR('Activity Bookings'!$O19="Inquiry",'Activity Bookings'!$O19="Pending",'Activity Bookings'!$O19="Confirmed")),1,0),0) | AD19: =IFERROR(IF(AND('Activity Bookings'!$A19<>"",'Activity Bookings'!$C19>=TODAY(),'Activity Bookings'!$C19<=TODAY()+7,OR('Activity Bookings'!$O19="Confirmed",'Activity Bookings'!$O19="Pending")),1,0),0) | AF19: =IFERROR('Activity Setup'!B28,"")
A20: =IFERROR('Activity Setup'!$B$15,"") | B20: =IFERROR(COUNTIF($O$5:$O$154,$A20),0) | C20: =IFERROR(SUMIF($O$5:$O$154,$A20,$P$5:$P$154),0) | D20: =IFERROR(SUMIF($O$5:$O$154,$A20,$S$5:$S$154),0) | E20: =IFERROR($C20/$D20,0) | F20: =IFERROR(SUMIF($O$5:$O$154,$A20,$Q$5:$Q$154),0) | G20: =IFERROR(SUMIF($O$5:$O$154,$A20,$R$5:$R$154),0) | N20: =IFERROR(IF(AND('Activity Bookings'!$A20<>"",'Activity Bookings'!$C20>=$B$4,'Activity Bookings'!$C20<=$D$4,IF($F$4="All Activities",1,'Activity Bookings'!$F20=$F$4),IF($H$4="All Statuses",'Activity Bookings'!$O20<>"Canceled",'Activity Bookings'!$O20=$H$4)),1,0),0) | O20: =IFERROR(IF($N20=1,'Activity Bookings'!$F20,""),"") | P20: =IFERROR(IF($N20=1,'Activity Bookings'!$M20,0),0) | Q20: =IFERROR(IF($N20=1,'Activity Bookings'!$AD20,0),0) | R20: =IFERROR(IF($N20=1,'Activity Bookings'!$AF20,0),0) | S20: =IFERROR(IF(AND($N20=1,COUNTIFS('Activity Bookings'!$F$5:'Activity Bookings'!$F20,'Activity Bookings'!$F20,'Activity Bookings'!$C$5:'Activity Bookings'!$C20,'Activity Bookings'!$C20,'Activity Bookings'!$D$5:'Activity Bookings'!$D20,'Activity Bookings'!$D20)=1),'Activity Bookings'!$AL20,0),0) | T20: =IFERROR(IF($N20=1,'Activity Bookings'!$AO20,""),"") | U20: =IFERROR(IF(AND($N20=1,'Activity Bookings'!$AS20<>"Ready"),1,0),0) | V20: =IFERROR(IF(AND($N20=1,'Activity Bookings'!$AO20>1),1,0),0) | W20: =IFERROR(IF(AND($N20=1,'Activity Bookings'!$AF20>0,'Activity Bookings'!$O20<>"Canceled"),1,0),0) | X20: =IFERROR(IF(AND($N20=1,'Activity Bookings'!$AI20="Yes",'Activity Bookings'!$AJ20<>"Received",'Activity Bookings'!$AJ20<>"Verify On Arrival"),1,0),0) | Y20: =IFERROR(IF(AND($N20=1,'Activity Bookings'!$N20<>"",'Activity Bookings'!$AK20<>"",'Activity Bookings'!$N20<'Activity Bookings'!$AK20),1,0),0) | Z20: =IFERROR(IF(AND($N20=1,'Activity Bookings'!$T20=""),1,0),0) | AA20: =IFERROR(IF(AND($N20=1,'Activity Bookings'!$Q20=""),1,0),0) | AB20: =IFERROR(IF(AND($N20=1,COUNTIF('Activity Bookings'!$A$5:$A$154,'Activity Bookings'!$A20)>1),1,0),0) | AC20: =IFERROR(IF(AND($N20=1,('Activity Bookings'!$C20+'Activity Bookings'!$D20)<NOW(),OR('Activity Bookings'!$O20="Inquiry",'Activity Bookings'!$O20="Pending",'Activity Bookings'!$O20="Confirmed")),1,0),0) | AD20: =IFERROR(IF(AND('Activity Bookings'!$A20<>"",'Activity Bookings'!$C20>=TODAY(),'Activity Bookings'!$C20<=TODAY()+7,OR('Activity Bookings'!$O20="Confirmed",'Activity Bookings'!$O20="Pending")),1,0),0) | AF20: =IFERROR('Activity Setup'!B29,"")
A21: =IFERROR('Activity Setup'!$B$16,"") | B21: =IFERROR(COUNTIF($O$5:$O$154,$A21),0) | C21: =IFERROR(SUMIF($O$5:$O$154,$A21,$P$5:$P$154),0) | D21: =IFERROR(SUMIF($O$5:$O$154,$A21,$S$5:$S$154),0) | E21: =IFERROR($C21/$D21,0) | F21: =IFERROR(SUMIF($O$5:$O$154,$A21,$Q$5:$Q$154),0) | G21: =IFERROR(SUMIF($O$5:$O$154,$A21,$R$5:$R$154),0) | N21: =IFERROR(IF(AND('Activity Bookings'!$A21<>"",'Activity Bookings'!$C21>=$B$4,'Activity Bookings'!$C21<=$D$4,IF($F$4="All Activities",1,'Activity Bookings'!$F21=$F$4),IF($H$4="All Statuses",'Activity Bookings'!$O21<>"Canceled",'Activity Bookings'!$O21=$H$4)),1,0),0) | O21: =IFERROR(IF($N21=1,'Activity Bookings'!$F21,""),"") | P21: =IFERROR(IF($N21=1,'Activity Bookings'!$M21,0),0) | Q21: =IFERROR(IF($N21=1,'Activity Bookings'!$AD21,0),0) | R21: =IFERROR(IF($N21=1,'Activity Bookings'!$AF21,0),0) | S21: =IFERROR(IF(AND($N21=1,COUNTIFS('Activity Bookings'!$F$5:'Activity Bookings'!$F21,'Activity Bookings'!$F21,'Activity Bookings'!$C$5:'Activity Bookings'!$C21,'Activity Bookings'!$C21,'Activity Bookings'!$D$5:'Activity Bookings'!$D21,'Activity Bookings'!$D21)=1),'Activity Bookings'!$AL21,0),0) | T21: =IFERROR(IF($N21=1,'Activity Bookings'!$AO21,""),"") | U21: =IFERROR(IF(AND($N21=1,'Activity Bookings'!$AS21<>"Ready"),1,0),0) | V21: =IFERROR(IF(AND($N21=1,'Activity Bookings'!$AO21>1),1,0),0) | W21: =IFERROR(IF(AND($N21=1,'Activity Bookings'!$AF21>0,'Activity Bookings'!$O21<>"Canceled"),1,0),0) | X21: =IFERROR(IF(AND($N21=1,'Activity Bookings'!$AI21="Yes",'Activity Bookings'!$AJ21<>"Received",'Activity Bookings'!$AJ21<>"Verify On Arrival"),1,0),0) | Y21: =IFERROR(IF(AND($N21=1,'Activity Bookings'!$N21<>"",'Activity Bookings'!$AK21<>"",'Activity Bookings'!$N21<'Activity Bookings'!$AK21),1,0),0) | Z21: =IFERROR(IF(AND($N21=1,'Activity Bookings'!$T21=""),1,0),0) | AA21: =IFERROR(IF(AND($N21=1,'Activity Bookings'!$Q21=""),1,0),0) | AB21: =IFERROR(IF(AND($N21=1,COUNTIF('Activity Bookings'!$A$5:$A$154,'Activity Bookings'!$A21)>1),1,0),0) | AC21: =IFERROR(IF(AND($N21=1,('Activity Bookings'!$C21+'Activity Bookings'!$D21)<NOW(),OR('Activity Bookings'!$O21="Inquiry",'Activity Bookings'!$O21="Pending",'Activity Bookings'!$O21="Confirmed")),1,0),0) | AD21: =IFERROR(IF(AND('Activity Bookings'!$A21<>"",'Activity Bookings'!$C21>=TODAY(),'Activity Bookings'!$C21<=TODAY()+7,OR('Activity Bookings'!$O21="Confirmed",'Activity Bookings'!$O21="Pending")),1,0),0) | AF21: =IFERROR('Activity Setup'!B30,"")
A22: =IFERROR('Activity Setup'!$B$17,"") | B22: =IFERROR(COUNTIF($O$5:$O$154,$A22),0) | C22: =IFERROR(SUMIF($O$5:$O$154,$A22,$P$5:$P$154),0) | D22: =IFERROR(SUMIF($O$5:$O$154,$A22,$S$5:$S$154),0) | E22: =IFERROR($C22/$D22,0) | F22: =IFERROR(SUMIF($O$5:$O$154,$A22,$Q$5:$Q$154),0) | G22: =IFERROR(SUMIF($O$5:$O$154,$A22,$R$5:$R$154),0) | N22: =IFERROR(IF(AND('Activity Bookings'!$A22<>"",'Activity Bookings'!$C22>=$B$4,'Activity Bookings'!$C22<=$D$4,IF($F$4="All Activities",1,'Activity Bookings'!$F22=$F$4),IF($H$4="All Statuses",'Activity Bookings'!$O22<>"Canceled",'Activity Bookings'!$O22=$H$4)),1,0),0) | O22: =IFERROR(IF($N22=1,'Activity Bookings'!$F22,""),"") | P22: =IFERROR(IF($N22=1,'Activity Bookings'!$M22,0),0) | Q22: =IFERROR(IF($N22=1,'Activity Bookings'!$AD22,0),0) | R22: =IFERROR(IF($N22=1,'Activity Bookings'!$AF22,0),0) | S22: =IFERROR(IF(AND($N22=1,COUNTIFS('Activity Bookings'!$F$5:'Activity Bookings'!$F22,'Activity Bookings'!$F22,'Activity Bookings'!$C$5:'Activity Bookings'!$C22,'Activity Bookings'!$C22,'Activity Bookings'!$D$5:'Activity Bookings'!$D22,'Activity Bookings'!$D22)=1),'Activity Bookings'!$AL22,0),0) | T22: =IFERROR(IF($N22=1,'Activity Bookings'!$AO22,""),"") | U22: =IFERROR(IF(AND($N22=1,'Activity Bookings'!$AS22<>"Ready"),1,0),0) | V22: =IFERROR(IF(AND($N22=1,'Activity Bookings'!$AO22>1),1,0),0) | W22: =IFERROR(IF(AND($N22=1,'Activity Bookings'!$AF22>0,'Activity Bookings'!$O22<>"Canceled"),1,0),0) | X22: =IFERROR(IF(AND($N22=1,'Activity Bookings'!$AI22="Yes",'Activity Bookings'!$AJ22<>"Received",'Activity Bookings'!$AJ22<>"Verify On Arrival"),1,0),0) | Y22: =IFERROR(IF(AND($N22=1,'Activity Bookings'!$N22<>"",'Activity Bookings'!$AK22<>"",'Activity Bookings'!$N22<'Activity Bookings'!$AK22),1,0),0) | Z22: =IFERROR(IF(AND($N22=1,'Activity Bookings'!$T22=""),1,0),0) | AA22: =IFERROR(IF(AND($N22=1,'Activity Bookings'!$Q22=""),1,0),0) | AB22: =IFERROR(IF(AND($N22=1,COUNTIF('Activity Bookings'!$A$5:$A$154,'Activity Bookings'!$A22)>1),1,0),0) | AC22: =IFERROR(IF(AND($N22=1,('Activity Bookings'!$C22+'Activity Bookings'!$D22)<NOW(),OR('Activity Bookings'!$O22="Inquiry",'Activity Bookings'!$O22="Pending",'Activity Bookings'!$O22="Confirmed")),1,0),0) | AD22: =IFERROR(IF(AND('Activity Bookings'!$A22<>"",'Activity Bookings'!$C22>=TODAY(),'Activity Bookings'!$C22<=TODAY()+7,OR('Activity Bookings'!$O22="Confirmed",'Activity Bookings'!$O22="Pending")),1,0),0) | AF22: =IFERROR('Activity Setup'!B31,"")
A23: =IFERROR('Activity Setup'!$B$18,"") | B23: =IFERROR(COUNTIF($O$5:$O$154,$A23),0) | C23: =IFERROR(SUMIF($O$5:$O$154,$A23,$P$5:$P$154),0) | D23: =IFERROR(SUMIF($O$5:$O$154,$A23,$S$5:$S$154),0) | E23: =IFERROR($C23/$D23,0) | F23: =IFERROR(SUMIF($O$5:$O$154,$A23,$Q$5:$Q$154),0) | G23: =IFERROR(SUMIF($O$5:$O$154,$A23,$R$5:$R$154),0) | N23: =IFERROR(IF(AND('Activity Bookings'!$A23<>"",'Activity Bookings'!$C23>=$B$4,'Activity Bookings'!$C23<=$D$4,IF($F$4="All Activities",1,'Activity Bookings'!$F23=$F$4),IF($H$4="All Statuses",'Activity Bookings'!$O23<>"Canceled",'Activity Bookings'!$O23=$H$4)),1,0),0) | O23: =IFERROR(IF($N23=1,'Activity Bookings'!$F23,""),"") | P23: =IFERROR(IF($N23=1,'Activity Bookings'!$M23,0),0) | Q23: =IFERROR(IF($N23=1,'Activity Bookings'!$AD23,0),0) | R23: =IFERROR(IF($N23=1,'Activity Bookings'!$AF23,0),0) | S23: =IFERROR(IF(AND($N23=1,COUNTIFS('Activity Bookings'!$F$5:'Activity Bookings'!$F23,'Activity Bookings'!$F23,'Activity Bookings'!$C$5:'Activity Bookings'!$C23,'Activity Bookings'!$C23,'Activity Bookings'!$D$5:'Activity Bookings'!$D23,'Activity Bookings'!$D23)=1),'Activity Bookings'!$AL23,0),0) | T23: =IFERROR(IF($N23=1,'Activity Bookings'!$AO23,""),"") | U23: =IFERROR(IF(AND($N23=1,'Activity Bookings'!$AS23<>"Ready"),1,0),0) | V23: =IFERROR(IF(AND($N23=1,'Activity Bookings'!$AO23>1),1,0),0) | W23: =IFERROR(IF(AND($N23=1,'Activity Bookings'!$AF23>0,'Activity Bookings'!$O23<>"Canceled"),1,0),0) | X23: =IFERROR(IF(AND($N23=1,'Activity Bookings'!$AI23="Yes",'Activity Bookings'!$AJ23<>"Received",'Activity Bookings'!$AJ23<>"Verify On Arrival"),1,0),0) | Y23: =IFERROR(IF(AND($N23=1,'Activity Bookings'!$N23<>"",'Activity Bookings'!$AK23<>"",'Activity Bookings'!$N23<'Activity Bookings'!$AK23),1,0),0) | Z23: =IFERROR(IF(AND($N23=1,'Activity Bookings'!$T23=""),1,0),0) | AA23: =IFERROR(IF(AND($N23=1,'Activity Bookings'!$Q23=""),1,0),0) | AB23: =IFERROR(IF(AND($N23=1,COUNTIF('Activity Bookings'!$A$5:$A$154,'Activity Bookings'!$A23)>1),1,0),0) | AC23: =IFERROR(IF(AND($N23=1,('Activity Bookings'!$C23+'Activity Bookings'!$D23)<NOW(),OR('Activity Bookings'!$O23="Inquiry",'Activity Bookings'!$O23="Pending",'Activity Bookings'!$O23="Confirmed")),1,0),0) | AD23: =IFERROR(IF(AND('Activity Bookings'!$A23<>"",'Activity Bookings'!$C23>=TODAY(),'Activity Bookings'!$C23<=TODAY()+7,OR('Activity Bookings'!$O23="Confirmed",'Activity Bookings'!$O23="Pending")),1,0),0) | AF23: =IFERROR('Activity Setup'!B32,"")
A24: =IFERROR('Activity Setup'!$B$19,"") | B24: =IFERROR(COUNTIF($O$5:$O$154,$A24),0) | C24: =IFERROR(SUMIF($O$5:$O$154,$A24,$P$5:$P$154),0) | D24: =IFERROR(SUMIF($O$5:$O$154,$A24,$S$5:$S$154),0) | E24: =IFERROR($C24/$D24,0) | F24: =IFERROR(SUMIF($O$5:$O$154,$A24,$Q$5:$Q$154),0) | G24: =IFERROR(SUMIF($O$5:$O$154,$A24,$R$5:$R$154),0) | N24: =IFERROR(IF(AND('Activity Bookings'!$A24<>"",'Activity Bookings'!$C24>=$B$4,'Activity Bookings'!$C24<=$D$4,IF($F$4="All Activities",1,'Activity Bookings'!$F24=$F$4),IF($H$4="All Statuses",'Activity Bookings'!$O24<>"Canceled",'Activity Bookings'!$O24=$H$4)),1,0),0) | O24: =IFERROR(IF($N24=1,'Activity Bookings'!$F24,""),"") | P24: =IFERROR(IF($N24=1,'Activity Bookings'!$M24,0),0) | Q24: =IFERROR(IF($N24=1,'Activity Bookings'!$AD24,0),0) | R24: =IFERROR(IF($N24=1,'Activity Bookings'!$AF24,0),0) | S24: =IFERROR(IF(AND($N24=1,COUNTIFS('Activity Bookings'!$F$5:'Activity Bookings'!$F24,'Activity Bookings'!$F24,'Activity Bookings'!$C$5:'Activity Bookings'!$C24,'Activity Bookings'!$C24,'Activity Bookings'!$D$5:'Activity Bookings'!$D24,'Activity Bookings'!$D24)=1),'Activity Bookings'!$AL24,0),0) | T24: =IFERROR(IF($N24=1,'Activity Bookings'!$AO24,""),"") | U24: =IFERROR(IF(AND($N24=1,'Activity Bookings'!$AS24<>"Ready"),1,0),0) | V24: =IFERROR(IF(AND($N24=1,'Activity Bookings'!$AO24>1),1,0),0) | W24: =IFERROR(IF(AND($N24=1,'Activity Bookings'!$AF24>0,'Activity Bookings'!$O24<>"Canceled"),1,0),0) | X24: =IFERROR(IF(AND($N24=1,'Activity Bookings'!$AI24="Yes",'Activity Bookings'!$AJ24<>"Received",'Activity Bookings'!$AJ24<>"Verify On Arrival"),1,0),0) | Y24: =IFERROR(IF(AND($N24=1,'Activity Bookings'!$N24<>"",'Activity Bookings'!$AK24<>"",'Activity Bookings'!$N24<'Activity Bookings'!$AK24),1,0),0) | Z24: =IFERROR(IF(AND($N24=1,'Activity Bookings'!$T24=""),1,0),0) | AA24: =IFERROR(IF(AND($N24=1,'Activity Bookings'!$Q24=""),1,0),0) | AB24: =IFERROR(IF(AND($N24=1,COUNTIF('Activity Bookings'!$A$5:$A$154,'Activity Bookings'!$A24)>1),1,0),0) | AC24: =IFERROR(IF(AND($N24=1,('Activity Bookings'!$C24+'Activity Bookings'!$D24)<NOW(),OR('Activity Bookings'!$O24="Inquiry",'Activity Bookings'!$O24="Pending",'Activity Bookings'!$O24="Confirmed")),1,0),0) | AD24: =IFERROR(IF(AND('Activity Bookings'!$A24<>"",'Activity Bookings'!$C24>=TODAY(),'Activity Bookings'!$C24<=TODAY()+7,OR('Activity Bookings'!$O24="Confirmed",'Activity Bookings'!$O24="Pending")),1,0),0) | AF24: =IFERROR('Activity Setup'!B33,"")
A25: ="" | C25: ="" | D25: ="" | E25: ="" | F25: ="" | G25: ="" | N25: =IFERROR(IF(AND('Activity Bookings'!$A25<>"",'Activity Bookings'!$C25>=$B$4,'Activity Bookings'!$C25<=$D$4,IF($F$4="All Activities",1,'Activity Bookings'!$F25=$F$4),IF($H$4="All Statuses",'Activity Bookings'!$O25<>"Canceled",'Activity Bookings'!$O25=$H$4)),1,0),0) | O25: =IFERROR(IF($N25=1,'Activity Bookings'!$F25,""),"") | P25: =IFERROR(IF($N25=1,'Activity Bookings'!$M25,0),0) | Q25: =IFERROR(IF($N25=1,'Activity Bookings'!$AD25,0),0) | R25: =IFERROR(IF($N25=1,'Activity Bookings'!$AF25,0),0) | S25: =IFERROR(IF(AND($N25=1,COUNTIFS('Activity Bookings'!$F$5:'Activity Bookings'!$F25,'Activity Bookings'!$F25,'Activity Bookings'!$C$5:'Activity Bookings'!$C25,'Activity Bookings'!$C25,'Activity Bookings'!$D$5:'Activity Bookings'!$D25,'Activity Bookings'!$D25)=1),'Activity Bookings'!$AL25,0),0) | T25: =IFERROR(IF($N25=1,'Activity Bookings'!$AO25,""),"") | U25: =IFERROR(IF(AND($N25=1,'Activity Bookings'!$AS25<>"Ready"),1,0),0) | V25: =IFERROR(IF(AND($N25=1,'Activity Bookings'!$AO25>1),1,0),0) | W25: =IFERROR(IF(AND($N25=1,'Activity Bookings'!$AF25>0,'Activity Bookings'!$O25<>"Canceled"),1,0),0) | X25: =IFERROR(IF(AND($N25=1,'Activity Bookings'!$AI25="Yes",'Activity Bookings'!$AJ25<>"Received",'Activity Bookings'!$AJ25<>"Verify On Arrival"),1,0),0) | Y25: =IFERROR(IF(AND($N25=1,'Activity Bookings'!$N25<>"",'Activity Bookings'!$AK25<>"",'Activity Bookings'!$N25<'Activity Bookings'!$AK25),1,0),0) | Z25: =IFERROR(IF(AND($N25=1,'Activity Bookings'!$T25=""),1,0),0) | AA25: =IFERROR(IF(AND($N25=1,'Activity Bookings'!$Q25=""),1,0),0) | AB25: =IFERROR(IF(AND($N25=1,COUNTIF('Activity Bookings'!$A$5:$A$154,'Activity Bookings'!$A25)>1),1,0),0) | AC25: =IFERROR(IF(AND($N25=1,('Activity Bookings'!$C25+'Activity Bookings'!$D25)<NOW(),OR('Activity Bookings'!$O25="Inquiry",'Activity Bookings'!$O25="Pending",'Activity Bookings'!$O25="Confirmed")),1,0),0) | AD25: =IFERROR(IF(AND('Activity Bookings'!$A25<>"",'Activity Bookings'!$C25>=TODAY(),'Activity Bookings'!$C25<=TODAY()+7,OR('Activity Bookings'!$O25="Confirmed",'Activity Bookings'!$O25="Pending")),1,0),0) | AF25: =IFERROR('Activity Setup'!B34,"")
A26: ="" | C26: ="" | D26: ="" | E26: ="" | F26: ="" | G26: ="" | N26: =IFERROR(IF(AND('Activity Bookings'!$A26<>"",'Activity Bookings'!$C26>=$B$4,'Activity Bookings'!$C26<=$D$4,IF($F$4="All Activities",1,'Activity Bookings'!$F26=$F$4),IF($H$4="All Statuses",'Activity Bookings'!$O26<>"Canceled",'Activity Bookings'!$O26=$H$4)),1,0),0) | O26: =IFERROR(IF($N26=1,'Activity Bookings'!$F26,""),"") | P26: =IFERROR(IF($N26=1,'Activity Bookings'!$M26,0),0) | Q26: =IFERROR(IF($N26=1,'Activity Bookings'!$AD26,0),0) | R26: =IFERROR(IF($N26=1,'Activity Bookings'!$AF26,0),0) | S26: =IFERROR(IF(AND($N26=1,COUNTIFS('Activity Bookings'!$F$5:'Activity Bookings'!$F26,'Activity Bookings'!$F26,'Activity Bookings'!$C$5:'Activity Bookings'!$C26,'Activity Bookings'!$C26,'Activity Bookings'!$D$5:'Activity Bookings'!$D26,'Activity Bookings'!$D26)=1),'Activity Bookings'!$AL26,0),0) | T26: =IFERROR(IF($N26=1,'Activity Bookings'!$AO26,""),"") | U26: =IFERROR(IF(AND($N26=1,'Activity Bookings'!$AS26<>"Ready"),1,0),0) | V26: =IFERROR(IF(AND($N26=1,'Activity Bookings'!$AO26>1),1,0),0) | W26: =IFERROR(IF(AND($N26=1,'Activity Bookings'!$AF26>0,'Activity Bookings'!$O26<>"Canceled"),1,0),0) | X26: =IFERROR(IF(AND($N26=1,'Activity Bookings'!$AI26="Yes",'Activity Bookings'!$AJ26<>"Received",'Activity Bookings'!$AJ26<>"Verify On Arrival"),1,0),0) | Y26: =IFERROR(IF(AND($N26=1,'Activity Bookings'!$N26<>"",'Activity Bookings'!$AK26<>"",'Activity Bookings'!$N26<'Activity Bookings'!$AK26),1,0),0) | Z26: =IFERROR(IF(AND($N26=1,'Activity Bookings'!$T26=""),1,0),0) | AA26: =IFERROR(IF(AND($N26=1,'Activity Bookings'!$Q26=""),1,0),0) | AB26: =IFERROR(IF(AND($N26=1,COUNTIF('Activity Bookings'!$A$5:$A$154,'Activity Bookings'!$A26)>1),1,0),0) | AC26: =IFERROR(IF(AND($N26=1,('Activity Bookings'!$C26+'Activity Bookings'!$D26)<NOW(),OR('Activity Bookings'!$O26="Inquiry",'Activity Bookings'!$O26="Pending",'Activity Bookings'!$O26="Confirmed")),1,0),0) | AD26: =IFERROR(IF(AND('Activity Bookings'!$A26<>"",'Activity Bookings'!$C26>=TODAY(),'Activity Bookings'!$C26<=TODAY()+7,OR('Activity Bookings'!$O26="Confirmed",'Activity Bookings'!$O26="Pending")),1,0),0) | AF26: =IFERROR('Activity Setup'!B35,"")
A27: Operational Attention | C27: ="" | D27: ="" | E27: ="" | F27: ="" | G27: ="" | N27: =IFERROR(IF(AND('Activity Bookings'!$A27<>"",'Activity Bookings'!$C27>=$B$4,'Activity Bookings'!$C27<=$D$4,IF($F$4="All Activities",1,'Activity Bookings'!$F27=$F$4),IF($H$4="All Statuses",'Activity Bookings'!$O27<>"Canceled",'Activity Bookings'!$O27=$H$4)),1,0),0) | O27: =IFERROR(IF($N27=1,'Activity Bookings'!$F27,""),"") | P27: =IFERROR(IF($N27=1,'Activity Bookings'!$M27,0),0) | Q27: =IFERROR(IF($N27=1,'Activity Bookings'!$AD27,0),0) | R27: =IFERROR(IF($N27=1,'Activity Bookings'!$AF27,0),0) | S27: =IFERROR(IF(AND($N27=1,COUNTIFS('Activity Bookings'!$F$5:'Activity Bookings'!$F27,'Activity Bookings'!$F27,'Activity Bookings'!$C$5:'Activity Bookings'!$C27,'Activity Bookings'!$C27,'Activity Bookings'!$D$5:'Activity Bookings'!$D27,'Activity Bookings'!$D27)=1),'Activity Bookings'!$AL27,0),0) | T27: =IFERROR(IF($N27=1,'Activity Bookings'!$AO27,""),"") | U27: =IFERROR(IF(AND($N27=1,'Activity Bookings'!$AS27<>"Ready"),1,0),0) | V27: =IFERROR(IF(AND($N27=1,'Activity Bookings'!$AO27>1),1,0),0) | W27: =IFERROR(IF(AND($N27=1,'Activity Bookings'!$AF27>0,'Activity Bookings'!$O27<>"Canceled"),1,0),0) | X27: =IFERROR(IF(AND($N27=1,'Activity Bookings'!$AI27="Yes",'Activity Bookings'!$AJ27<>"Received",'Activity Bookings'!$AJ27<>"Verify On Arrival"),1,0),0) | Y27: =IFERROR(IF(AND($N27=1,'Activity Bookings'!$N27<>"",'Activity Bookings'!$AK27<>"",'Activity Bookings'!$N27<'Activity Bookings'!$AK27),1,0),0) | Z27: =IFERROR(IF(AND($N27=1,'Activity Bookings'!$T27=""),1,0),0) | AA27: =IFERROR(IF(AND($N27=1,'Activity Bookings'!$Q27=""),1,0),0) | AB27: =IFERROR(IF(AND($N27=1,COUNTIF('Activity Bookings'!$A$5:$A$154,'Activity Bookings'!$A27)>1),1,0),0) | AC27: =IFERROR(IF(AND($N27=1,('Activity Bookings'!$C27+'Activity Bookings'!$D27)<NOW(),OR('Activity Bookings'!$O27="Inquiry",'Activity Bookings'!$O27="Pending",'Activity Bookings'!$O27="Confirmed")),1,0),0) | AD27: =IFERROR(IF(AND('Activity Bookings'!$A27<>"",'Activity Bookings'!$C27>=TODAY(),'Activity Bookings'!$C27<=TODAY()+7,OR('Activity Bookings'!$O27="Confirmed",'Activity Bookings'!$O27="Pending")),1,0),0) | AF27: =IFERROR('Activity Setup'!B36,"")
A28: Issue | B28: Count | C28: ="" | D28: ="" | E28: ="" | F28: ="" | G28: ="" | N28: =IFERROR(IF(AND('Activity Bookings'!$A28<>"",'Activity Bookings'!$C28>=$B$4,'Activity Bookings'!$C28<=$D$4,IF($F$4="All Activities",1,'Activity Bookings'!$F28=$F$4),IF($H$4="All Statuses",'Activity Bookings'!$O28<>"Canceled",'Activity Bookings'!$O28=$H$4)),1,0),0) | O28: =IFERROR(IF($N28=1,'Activity Bookings'!$F28,""),"") | P28: =IFERROR(IF($N28=1,'Activity Bookings'!$M28,0),0) | Q28: =IFERROR(IF($N28=1,'Activity Bookings'!$AD28,0),0) | R28: =IFERROR(IF($N28=1,'Activity Bookings'!$AF28,0),0) | S28: =IFERROR(IF(AND($N28=1,COUNTIFS('Activity Bookings'!$F$5:'Activity Bookings'!$F28,'Activity Bookings'!$F28,'Activity Bookings'!$C$5:'Activity Bookings'!$C28,'Activity Bookings'!$C28,'Activity Bookings'!$D$5:'Activity Bookings'!$D28,'Activity Bookings'!$D28)=1),'Activity Bookings'!$AL28,0),0) | T28: =IFERROR(IF($N28=1,'Activity Bookings'!$AO28,""),"") | U28: =IFERROR(IF(AND($N28=1,'Activity Bookings'!$AS28<>"Ready"),1,0),0) | V28: =IFERROR(IF(AND($N28=1,'Activity Bookings'!$AO28>1),1,0),0) | W28: =IFERROR(IF(AND($N28=1,'Activity Bookings'!$AF28>0,'Activity Bookings'!$O28<>"Canceled"),1,0),0) | X28: =IFERROR(IF(AND($N28=1,'Activity Bookings'!$AI28="Yes",'Activity Bookings'!$AJ28<>"Received",'Activity Bookings'!$AJ28<>"Verify On Arrival"),1,0),0) | Y28: =IFERROR(IF(AND($N28=1,'Activity Bookings'!$N28<>"",'Activity Bookings'!$AK28<>"",'Activity Bookings'!$N28<'Activity Bookings'!$AK28),1,0),0) | Z28: =IFERROR(IF(AND($N28=1,'Activity Bookings'!$T28=""),1,0),0) | AA28: =IFERROR(IF(AND($N28=1,'Activity Bookings'!$Q28=""),1,0),0) | AB28: =IFERROR(IF(AND($N28=1,COUNTIF('Activity Bookings'!$A$5:$A$154,'Activity Bookings'!$A28)>1),1,0),0) | AC28: =IFERROR(IF(AND($N28=1,('Activity Bookings'!$C28+'Activity Bookings'!$D28)<NOW(),OR('Activity Bookings'!$O28="Inquiry",'Activity Bookings'!$O28="Pending",'Activity Bookings'!$O28="Confirmed")),1,0),0) | AD28: =IFERROR(IF(AND('Activity Bookings'!$A28<>"",'Activity Bookings'!$C28>=TODAY(),'Activity Bookings'!$C28<=TODAY()+7,OR('Activity Bookings'!$O28="Confirmed",'Activity Bookings'!$O28="Pending")),1,0),0) | AF28: =IFERROR('Activity Setup'!B37,"")
A29: Over Capacity | B29: =IFERROR(SUM($V$5:$V$154),0) | C29: ="" | D29: ="" | E29: ="" | F29: ="" | G29: ="" | N29: =IFERROR(IF(AND('Activity Bookings'!$A29<>"",'Activity Bookings'!$C29>=$B$4,'Activity Bookings'!$C29<=$D$4,IF($F$4="All Activities",1,'Activity Bookings'!$F29=$F$4),IF($H$4="All Statuses",'Activity Bookings'!$O29<>"Canceled",'Activity Bookings'!$O29=$H$4)),1,0),0) | O29: =IFERROR(IF($N29=1,'Activity Bookings'!$F29,""),"") | P29: =IFERROR(IF($N29=1,'Activity Bookings'!$M29,0),0) | Q29: =IFERROR(IF($N29=1,'Activity Bookings'!$AD29,0),0) | R29: =IFERROR(IF($N29=1,'Activity Bookings'!$AF29,0),0) | S29: =IFERROR(IF(AND($N29=1,COUNTIFS('Activity Bookings'!$F$5:'Activity Bookings'!$F29,'Activity Bookings'!$F29,'Activity Bookings'!$C$5:'Activity Bookings'!$C29,'Activity Bookings'!$C29,'Activity Bookings'!$D$5:'Activity Bookings'!$D29,'Activity Bookings'!$D29)=1),'Activity Bookings'!$AL29,0),0) | T29: =IFERROR(IF($N29=1,'Activity Bookings'!$AO29,""),"") | U29: =IFERROR(IF(AND($N29=1,'Activity Bookings'!$AS29<>"Ready"),1,0),0) | V29: =IFERROR(IF(AND($N29=1,'Activity Bookings'!$AO29>1),1,0),0) | W29: =IFERROR(IF(AND($N29=1,'Activity Bookings'!$AF29>0,'Activity Bookings'!$O29<>"Canceled"),1,0),0) | X29: =IFERROR(IF(AND($N29=1,'Activity Bookings'!$AI29="Yes",'Activity Bookings'!$AJ29<>"Received",'Activity Bookings'!$AJ29<>"Verify On Arrival"),1,0),0) | Y29: =IFERROR(IF(AND($N29=1,'Activity Bookings'!$N29<>"",'Activity Bookings'!$AK29<>"",'Activity Bookings'!$N29<'Activity Bookings'!$AK29),1,0),0) | Z29: =IFERROR(IF(AND($N29=1,'Activity Bookings'!$T29=""),1,0),0) | AA29: =IFERROR(IF(AND($N29=1,'Activity Bookings'!$Q29=""),1,0),0) | AB29: =IFERROR(IF(AND($N29=1,COUNTIF('Activity Bookings'!$A$5:$A$154,'Activity Bookings'!$A29)>1),1,0),0) | AC29: =IFERROR(IF(AND($N29=1,('Activity Bookings'!$C29+'Activity Bookings'!$D29)<NOW(),OR('Activity Bookings'!$O29="Inquiry",'Activity Bookings'!$O29="Pending",'Activity Bookings'!$O29="Confirmed")),1,0),0) | AD29: =IFERROR(IF(AND('Activity Bookings'!$A29<>"",'Activity Bookings'!$C29>=TODAY(),'Activity Bookings'!$C29<=TODAY()+7,OR('Activity Bookings'!$O29="Confirmed",'Activity Bookings'!$O29="Pending")),1,0),0) | AF29: =IFERROR('Activity Setup'!B38,"")
A30: Payment Due | B30: =IFERROR(SUM($W$5:$W$154),0) | C30: ="" | D30: ="" | E30: ="" | F30: ="" | G30: ="" | N30: =IFERROR(IF(AND('Activity Bookings'!$A30<>"",'Activity Bookings'!$C30>=$B$4,'Activity Bookings'!$C30<=$D$4,IF($F$4="All Activities",1,'Activity Bookings'!$F30=$F$4),IF($H$4="All Statuses",'Activity Bookings'!$O30<>"Canceled",'Activity Bookings'!$O30=$H$4)),1,0),0) | O30: =IFERROR(IF($N30=1,'Activity Bookings'!$F30,""),"") | P30: =IFERROR(IF($N30=1,'Activity Bookings'!$M30,0),0) | Q30: =IFERROR(IF($N30=1,'Activity Bookings'!$AD30,0),0) | R30: =IFERROR(IF($N30=1,'Activity Bookings'!$AF30,0),0) | S30: =IFERROR(IF(AND($N30=1,COUNTIFS('Activity Bookings'!$F$5:'Activity Bookings'!$F30,'Activity Bookings'!$F30,'Activity Bookings'!$C$5:'Activity Bookings'!$C30,'Activity Bookings'!$C30,'Activity Bookings'!$D$5:'Activity Bookings'!$D30,'Activity Bookings'!$D30)=1),'Activity Bookings'!$AL30,0),0) | T30: =IFERROR(IF($N30=1,'Activity Bookings'!$AO30,""),"") | U30: =IFERROR(IF(AND($N30=1,'Activity Bookings'!$AS30<>"Ready"),1,0),0) | V30: =IFERROR(IF(AND($N30=1,'Activity Bookings'!$AO30>1),1,0),0) | W30: =IFERROR(IF(AND($N30=1,'Activity Bookings'!$AF30>0,'Activity Bookings'!$O30<>"Canceled"),1,0),0) | X30: =IFERROR(IF(AND($N30=1,'Activity Bookings'!$AI30="Yes",'Activity Bookings'!$AJ30<>"Received",'Activity Bookings'!$AJ30<>"Verify On Arrival"),1,0),0) | Y30: =IFERROR(IF(AND($N30=1,'Activity Bookings'!$N30<>"",'Activity Bookings'!$AK30<>"",'Activity Bookings'!$N30<'Activity Bookings'!$AK30),1,0),0) | Z30: =IFERROR(IF(AND($N30=1,'Activity Bookings'!$T30=""),1,0),0) | AA30: =IFERROR(IF(AND($N30=1,'Activity Bookings'!$Q30=""),1,0),0) | AB30: =IFERROR(IF(AND($N30=1,COUNTIF('Activity Bookings'!$A$5:$A$154,'Activity Bookings'!$A30)>1),1,0),0) | AC30: =IFERROR(IF(AND($N30=1,('Activity Bookings'!$C30+'Activity Bookings'!$D30)<NOW(),OR('Activity Bookings'!$O30="Inquiry",'Activity Bookings'!$O30="Pending",'Activity Bookings'!$O30="Confirmed")),1,0),0) | AD30: =IFERROR(IF(AND('Activity Bookings'!$A30<>"",'Activity Bookings'!$C30>=TODAY(),'Activity Bookings'!$C30<=TODAY()+7,OR('Activity Bookings'!$O30="Confirmed",'Activity Bookings'!$O30="Pending")),1,0),0) | AF30: =IFERROR('Activity Setup'!B39,"")
