Workbook

Sheet Dashboard
A1: Inn Reservation Calendar
A2: Reservation, occupancy, and guest arrival overview
T3: Booking Source | U3: Active Reservations
A4: Selected Month | B4: =IFERROR('Setup & Instructions'!$B$4,0) | D4: Change the Selected Month and As-of Date on the Setup & Instructions worksheet. | T4: Direct Phone | U4: =IFERROR(COUNTIFS(Reservations!$M$2:$M$251,T4,Reservations!$L$2:$L$251,"<>Canceled"),0)
A5: As-of Date | B5: =IFERROR('Setup & Instructions'!$B$5,0) | T5: Direct Website | U5: =IFERROR(COUNTIFS(Reservations!$M$2:$M$251,T5,Reservations!$L$2:$L$251,"<>Canceled"),0)
A6: Last Refreshed | B6: =IFERROR(TODAY(),0) | T6: Walk-In | U6: =IFERROR(COUNTIFS(Reservations!$M$2:$M$251,T6,Reservations!$L$2:$L$251,"<>Canceled"),0)
T7: Online Travel Agency | U7: =IFERROR(COUNTIFS(Reservations!$M$2:$M$251,T7,Reservations!$L$2:$L$251,"<>Canceled"),0)
A8: Active Reservations | D8: Occupied Room Nights | G8: Available Room Nights | J8: Monthly Occupancy | T8: Returning Guest | U8: =IFERROR(COUNTIFS(Reservations!$M$2:$M$251,T8,Reservations!$L$2:$L$251,"<>Canceled"),0)
A9: =IFERROR(SUMPRODUCT((Reservations!$I$2:$I$251<($B$4-DAY($B$4)+32-DAY($B$4-DAY($B$4)+32)+1))*(Reservations!$J$2:$J$251>($B$4-DAY($B$4)+1))*(Reservations!$L$2:$L$251<>"Canceled")*(Reservations!$A$2:$A$251<>"")),0) | D9: =IFERROR(SUM(Calendar!$F$17:$F$47),0) | G9: =IFERROR('Setup & Instructions'!$B$7*DAY($B$4-DAY($B$4)+32-DAY($B$4-DAY($B$4)+32)),0) | J9: =IFERROR(D9/G9,0) | T9: Group or Event | U9: =IFERROR(COUNTIFS(Reservations!$M$2:$M$251,T9,Reservations!$L$2:$L$251,"<>Canceled"),0)
T10: Other | U10: =IFERROR(COUNTIFS(Reservations!$M$2:$M$251,T10,Reservations!$L$2:$L$251,"<>Canceled"),0)
A12: Arrivals Today | D12: Departures Today | G12: Outstanding Balance | J12: Open Alerts
A13: =IFERROR(COUNTIFS(Reservations!$I$2:$I$251,$B$5,Reservations!$L$2:$L$251,"<>Canceled"),0) | D13: =IFERROR(COUNTIFS(Reservations!$J$2:$J$251,$B$5,Reservations!$L$2:$L$251,"<>Canceled"),0) | G13: =IFERROR(SUMIFS(Reservations!$T$2:$T$251,Reservations!$L$2:$L$251,"<>Canceled",Reservations!$J$2:$J$251,">="&$B$5),0) | J13: =IFERROR(COUNTIFS(Reservations!$Z$2:$Z$251,"<>",Reservations!$Z$2:$Z$251,"<>OK"),0) | T13: Date | U13: Occupancy
T14: =IFERROR(IF(Calendar!$C17="Yes",Calendar!$A17,""),"") | U14: =IFERROR(IF(T14="","",Calendar!$H17),"")
T15: =IFERROR(IF(Calendar!$C18="Yes",Calendar!$A18,""),"") | U15: =IFERROR(IF(T15="","",Calendar!$H18),"")
T16: =IFERROR(IF(Calendar!$C19="Yes",Calendar!$A19,""),"") | U16: =IFERROR(IF(T16="","",Calendar!$H19),"")
A17: Arrivals Today | T17: =IFERROR(IF(Calendar!$C20="Yes",Calendar!$A20,""),"") | U17: =IFERROR(IF(T17="","",Calendar!$H20),"")
A18: Guest Name | B18: Room | C18: Arrival Date | D18: Nights | E18: Balance Due | F18: Assigned Team Member | G18: Operational Check | T18: =IFERROR(IF(Calendar!$C21="Yes",Calendar!$A21,""),"") | U18: =IFERROR(IF(T18="","",Calendar!$H21),"")
A19: =IFERROR(IF(AND(Reservations!$I2=$B$5,Reservations!$L2<>"Canceled"),Reservations!$C2,""),"") | B19: =IFERROR(IF(AND(Reservations!$I2=$B$5,Reservations!$L2<>"Canceled"),Reservations!$F2,""),"") | C19: =IFERROR(IF(AND(Reservations!$I2=$B$5,Reservations!$L2<>"Canceled"),Reservations!$I2,""),"") | D19: =IFERROR(IF(AND(Reservations!$I2=$B$5,Reservations!$L2<>"Canceled"),Reservations!$K2,""),"") | E19: =IFERROR(IF(AND(Reservations!$I2=$B$5,Reservations!$L2<>"Canceled"),Reservations!$T2,""),"") | F19: =IFERROR(IF(AND(Reservations!$I2=$B$5,Reservations!$L2<>"Canceled"),Reservations!$W2,""),"") | G19: =IFERROR(IF(AND(Reservations!$I2=$B$5,Reservations!$L2<>"Canceled"),Reservations!$Z2,""),"") | T19: =IFERROR(IF(Calendar!$C22="Yes",Calendar!$A22,""),"") | U19: =IFERROR(IF(T19="","",Calendar!$H22),"")
A20: =IFERROR(IF(AND(Reservations!$I3=$B$5,Reservations!$L3<>"Canceled"),Reservations!$C3,""),"") | B20: =IFERROR(IF(AND(Reservations!$I3=$B$5,Reservations!$L3<>"Canceled"),Reservations!$F3,""),"") | C20: =IFERROR(IF(AND(Reservations!$I3=$B$5,Reservations!$L3<>"Canceled"),Reservations!$I3,""),"") | D20: =IFERROR(IF(AND(Reservations!$I3=$B$5,Reservations!$L3<>"Canceled"),Reservations!$K3,""),"") | E20: =IFERROR(IF(AND(Reservations!$I3=$B$5,Reservations!$L3<>"Canceled"),Reservations!$T3,""),"") | F20: =IFERROR(IF(AND(Reservations!$I3=$B$5,Reservations!$L3<>"Canceled"),Reservations!$W3,""),"") | G20: =IFERROR(IF(AND(Reservations!$I3=$B$5,Reservations!$L3<>"Canceled"),Reservations!$Z3,""),"") | T20: =IFERROR(IF(Calendar!$C23="Yes",Calendar!$A23,""),"") | U20: =IFERROR(IF(T20="","",Calendar!$H23),"")
A21: =IFERROR(IF(AND(Reservations!$I4=$B$5,Reservations!$L4<>"Canceled"),Reservations!$C4,""),"") | B21: =IFERROR(IF(AND(Reservations!$I4=$B$5,Reservations!$L4<>"Canceled"),Reservations!$F4,""),"") | C21: =IFERROR(IF(AND(Reservations!$I4=$B$5,Reservations!$L4<>"Canceled"),Reservations!$I4,""),"") | D21: =IFERROR(IF(AND(Reservations!$I4=$B$5,Reservations!$L4<>"Canceled"),Reservations!$K4,""),"") | E21: =IFERROR(IF(AND(Reservations!$I4=$B$5,Reservations!$L4<>"Canceled"),Reservations!$T4,""),"") | F21: =IFERROR(IF(AND(Reservations!$I4=$B$5,Reservations!$L4<>"Canceled"),Reservations!$W4,""),"") | G21: =IFERROR(IF(AND(Reservations!$I4=$B$5,Reservations!$L4<>"Canceled"),Reservations!$Z4,""),"") | T21: =IFERROR(IF(Calendar!$C24="Yes",Calendar!$A24,""),"") | U21: =IFERROR(IF(T21="","",Calendar!$H24),"")
A22: =IFERROR(IF(AND(Reservations!$I5=$B$5,Reservations!$L5<>"Canceled"),Reservations!$C5,""),"") | B22: =IFERROR(IF(AND(Reservations!$I5=$B$5,Reservations!$L5<>"Canceled"),Reservations!$F5,""),"") | C22: =IFERROR(IF(AND(Reservations!$I5=$B$5,Reservations!$L5<>"Canceled"),Reservations!$I5,""),"") | D22: =IFERROR(IF(AND(Reservations!$I5=$B$5,Reservations!$L5<>"Canceled"),Reservations!$K5,""),"") | E22: =IFERROR(IF(AND(Reservations!$I5=$B$5,Reservations!$L5<>"Canceled"),Reservations!$T5,""),"") | F22: =IFERROR(IF(AND(Reservations!$I5=$B$5,Reservations!$L5<>"Canceled"),Reservations!$W5,""),"") | G22: =IFERROR(IF(AND(Reservations!$I5=$B$5,Reservations!$L5<>"Canceled"),Reservations!$Z5,""),"") | T22: =IFERROR(IF(Calendar!$C25="Yes",Calendar!$A25,""),"") | U22: =IFERROR(IF(T22="","",Calendar!$H25),"")
A23: =IFERROR(IF(AND(Reservations!$I6=$B$5,Reservations!$L6<>"Canceled"),Reservations!$C6,""),"") | B23: =IFERROR(IF(AND(Reservations!$I6=$B$5,Reservations!$L6<>"Canceled"),Reservations!$F6,""),"") | C23: =IFERROR(IF(AND(Reservations!$I6=$B$5,Reservations!$L6<>"Canceled"),Reservations!$I6,""),"") | D23: =IFERROR(IF(AND(Reservations!$I6=$B$5,Reservations!$L6<>"Canceled"),Reservations!$K6,""),"") | E23: =IFERROR(IF(AND(Reservations!$I6=$B$5,Reservations!$L6<>"Canceled"),Reservations!$T6,""),"") | F23: =IFERROR(IF(AND(Reservations!$I6=$B$5,Reservations!$L6<>"Canceled"),Reservations!$W6,""),"") | G23: =IFERROR(IF(AND(Reservations!$I6=$B$5,Reservations!$L6<>"Canceled"),Reservations!$Z6,""),"") | T23: =IFERROR(IF(Calendar!$C26="Yes",Calendar!$A26,""),"") | U23: =IFERROR(IF(T23="","",Calendar!$H26),"")
A24: =IFERROR(IF(AND(Reservations!$I7=$B$5,Reservations!$L7<>"Canceled"),Reservations!$C7,""),"") | B24: =IFERROR(IF(AND(Reservations!$I7=$B$5,Reservations!$L7<>"Canceled"),Reservations!$F7,""),"") | C24: =IFERROR(IF(AND(Reservations!$I7=$B$5,Reservations!$L7<>"Canceled"),Reservations!$I7,""),"") | D24: =IFERROR(IF(AND(Reservations!$I7=$B$5,Reservations!$L7<>"Canceled"),Reservations!$K7,""),"") | E24: =IFERROR(IF(AND(Reservations!$I7=$B$5,Reservations!$L7<>"Canceled"),Reservations!$T7,""),"") | F24: =IFERROR(IF(AND(Reservations!$I7=$B$5,Reservations!$L7<>"Canceled"),Reservations!$W7,""),"") | G24: =IFERROR(IF(AND(Reservations!$I7=$B$5,Reservations!$L7<>"Canceled"),Reservations!$Z7,""),"") | T24: =IFERROR(IF(Calendar!$C27="Yes",Calendar!$A27,""),"") | U24: =IFERROR(IF(T24="","",Calendar!$H27),"")
A25: =IFERROR(IF(AND(Reservations!$I8=$B$5,Reservations!$L8<>"Canceled"),Reservations!$C8,""),"") | B25: =IFERROR(IF(AND(Reservations!$I8=$B$5,Reservations!$L8<>"Canceled"),Reservations!$F8,""),"") | C25: =IFERROR(IF(AND(Reservations!$I8=$B$5,Reservations!$L8<>"Canceled"),Reservations!$I8,""),"") | D25: =IFERROR(IF(AND(Reservations!$I8=$B$5,Reservations!$L8<>"Canceled"),Reservations!$K8,""),"") | E25: =IFERROR(IF(AND(Reservations!$I8=$B$5,Reservations!$L8<>"Canceled"),Reservations!$T8,""),"") | F25: =IFERROR(IF(AND(Reservations!$I8=$B$5,Reservations!$L8<>"Canceled"),Reservations!$W8,""),"") | G25: =IFERROR(IF(AND(Reservations!$I8=$B$5,Reservations!$L8<>"Canceled"),Reservations!$Z8,""),"") | T25: =IFERROR(IF(Calendar!$C28="Yes",Calendar!$A28,""),"") | U25: =IFERROR(IF(T25="","",Calendar!$H28),"")
A26: =IFERROR(IF(AND(Reservations!$I9=$B$5,Reservations!$L9<>"Canceled"),Reservations!$C9,""),"") | B26: =IFERROR(IF(AND(Reservations!$I9=$B$5,Reservations!$L9<>"Canceled"),Reservations!$F9,""),"") | C26: =IFERROR(IF(AND(Reservations!$I9=$B$5,Reservations!$L9<>"Canceled"),Reservations!$I9,""),"") | D26: =IFERROR(IF(AND(Reservations!$I9=$B$5,Reservations!$L9<>"Canceled"),Reservations!$K9,""),"") | E26: =IFERROR(IF(AND(Reservations!$I9=$B$5,Reservations!$L9<>"Canceled"),Reservations!$T9,""),"") | F26: =IFERROR(IF(AND(Reservations!$I9=$B$5,Reservations!$L9<>"Canceled"),Reservations!$W9,""),"") | G26: =IFERROR(IF(AND(Reservations!$I9=$B$5,Reservations!$L9<>"Canceled"),Reservations!$Z9,""),"") | T26: =IFERROR(IF(Calendar!$C29="Yes",Calendar!$A29,""),"") | U26: =IFERROR(IF(T26="","",Calendar!$H29),"")
A27: =IFERROR(IF(AND(Reservations!$I10=$B$5,Reservations!$L10<>"Canceled"),Reservations!$C10,""),"") | B27: =IFERROR(IF(AND(Reservations!$I10=$B$5,Reservations!$L10<>"Canceled"),Reservations!$F10,""),"") | C27: =IFERROR(IF(AND(Reservations!$I10=$B$5,Reservations!$L10<>"Canceled"),Reservations!$I10,""),"") | D27: =IFERROR(IF(AND(Reservations!$I10=$B$5,Reservations!$L10<>"Canceled"),Reservations!$K10,""),"") | E27: =IFERROR(IF(AND(Reservations!$I10=$B$5,Reservations!$L10<>"Canceled"),Reservations!$T10,""),"") | F27: =IFERROR(IF(AND(Reservations!$I10=$B$5,Reservations!$L10<>"Canceled"),Reservations!$W10,""),"") | G27: =IFERROR(IF(AND(Reservations!$I10=$B$5,Reservations!$L10<>"Canceled"),Reservations!$Z10,""),"") | T27: =IFERROR(IF(Calendar!$C30="Yes",Calendar!$A30,""),"") | U27: =IFERROR(IF(T27="","",Calendar!$H30),"")
A28: =IFERROR(IF(AND(Reservations!$I11=$B$5,Reservations!$L11<>"Canceled"),Reservations!$C11,""),"") | B28: =IFERROR(IF(AND(Reservations!$I11=$B$5,Reservations!$L11<>"Canceled"),Reservations!$F11,""),"") | C28: =IFERROR(IF(AND(Reservations!$I11=$B$5,Reservations!$L11<>"Canceled"),Reservations!$I11,""),"") | D28: =IFERROR(IF(AND(Reservations!$I11=$B$5,Reservations!$L11<>"Canceled"),Reservations!$K11,""),"") | E28: =IFERROR(IF(AND(Reservations!$I11=$B$5,Reservations!$L11<>"Canceled"),Reservations!$T11,""),"") | F28: =IFERROR(IF(AND(Reservations!$I11=$B$5,Reservations!$L11<>"Canceled"),Reservations!$W11,""),"") | G28: =IFERROR(IF(AND(Reservations!$I11=$B$5,Reservations!$L11<>"Canceled"),Reservations!$Z11,""),"") | T28: =IFERROR(IF(Calendar!$C31="Yes",Calendar!$A31,""),"") | U28: =IFERROR(IF(T28="","",Calendar!$H31),"")
T29: =IFERROR(IF(Calendar!$C32="Yes",Calendar!$A32,""),"") | U29: =IFERROR(IF(T29="","",Calendar!$H32),"")
A30: Departures Today | T30: =IFERROR(IF(Calendar!$C33="Yes",Calendar!$A33,""),"") | U30: =IFERROR(IF(T30="","",Calendar!$H33),"")
A31: Guest Name | B31: Room | C31: Departure Date | D31: Balance Due | E31: Payment Status | F31: Special Requests | T31: =IFERROR(IF(Calendar!$C34="Yes",Calendar!$A34,""),"") | U31: =IFERROR(IF(T31="","",Calendar!$H34),"")
A32: =IFERROR(IF(AND(Reservations!$J2=$B$5,Reservations!$L2<>"Canceled"),Reservations!$C2,""),"") | B32: =IFERROR(IF(AND(Reservations!$J2=$B$5,Reservations!$L2<>"Canceled"),Reservations!$F2,""),"") | C32: =IFERROR(IF(AND(Reservations!$J2=$B$5,Reservations!$L2<>"Canceled"),Reservations!$J2,""),"") | D32: =IFERROR(IF(AND(Reservations!$J2=$B$5,Reservations!$L2<>"Canceled"),Reservations!$T2,""),"") | E32: =IFERROR(IF(AND(Reservations!$J2=$B$5,Reservations!$L2<>"Canceled"),Reservations!$U2,""),"") | F32: =IFERROR(IF(AND(Reservations!$J2=$B$5,Reservations!$L2<>"Canceled"),Reservations!$V2,""),"") | T32: =IFERROR(IF(Calendar!$C35="Yes",Calendar!$A35,""),"") | U32: =IFERROR(IF(T32="","",Calendar!$H35),"")
A33: =IFERROR(IF(AND(Reservations!$J3=$B$5,Reservations!$L3<>"Canceled"),Reservations!$C3,""),"") | B33: =IFERROR(IF(AND(Reservations!$J3=$B$5,Reservations!$L3<>"Canceled"),Reservations!$F3,""),"") | C33: =IFERROR(IF(AND(Reservations!$J3=$B$5,Reservations!$L3<>"Canceled"),Reservations!$J3,""),"") | D33: =IFERROR(IF(AND(Reservations!$J3=$B$5,Reservations!$L3<>"Canceled"),Reservations!$T3,""),"") | E33: =IFERROR(IF(AND(Reservations!$J3=$B$5,Reservations!$L3<>"Canceled"),Reservations!$U3,""),"") | F33: =IFERROR(IF(AND(Reservations!$J3=$B$5,Reservations!$L3<>"Canceled"),Reservations!$V3,""),"") | T33: =IFERROR(IF(Calendar!$C36="Yes",Calendar!$A36,""),"") | U33: =IFERROR(IF(T33="","",Calendar!$H36),"")
A34: =IFERROR(IF(AND(Reservations!$J4=$B$5,Reservations!$L4<>"Canceled"),Reservations!$C4,""),"") | B34: =IFERROR(IF(AND(Reservations!$J4=$B$5,Reservations!$L4<>"Canceled"),Reservations!$F4,""),"") | C34: =IFERROR(IF(AND(Reservations!$J4=$B$5,Reservations!$L4<>"Canceled"),Reservations!$J4,""),"") | D34: =IFERROR(IF(AND(Reservations!$J4=$B$5,Reservations!$L4<>"Canceled"),Reservations!$T4,""),"") | E34: =IFERROR(IF(AND(Reservations!$J4=$B$5,Reservations!$L4<>"Canceled"),Reservations!$U4,""),"") | F34: =IFERROR(IF(AND(Reservations!$J4=$B$5,Reservations!$L4<>"Canceled"),Reservations!$V4,""),"") | T34: =IFERROR(IF(Calendar!$C37="Yes",Calendar!$A37,""),"") | U34: =IFERROR(IF(T34="","",Calendar!$H37),"")
A35: =IFERROR(IF(AND(Reservations!$J5=$B$5,Reservations!$L5<>"Canceled"),Reservations!$C5,""),"") | B35: =IFERROR(IF(AND(Reservations!$J5=$B$5,Reservations!$L5<>"Canceled"),Reservations!$F5,""),"") | C35: =IFERROR(IF(AND(Reservations!$J5=$B$5,Reservations!$L5<>"Canceled"),Reservations!$J5,""),"") | D35: =IFERROR(IF(AND(Reservations!$J5=$B$5,Reservations!$L5<>"Canceled"),Reservations!$T5,""),"") | E35: =IFERROR(IF(AND(Reservations!$J5=$B$5,Reservations!$L5<>"Canceled"),Reservations!$U5,""),"") | F35: =IFERROR(IF(AND(Reservations!$J5=$B$5,Reservations!$L5<>"Canceled"),Reservations!$V5,""),"") | T35: =IFERROR(IF(Calendar!$C38="Yes",Calendar!$A38,""),"") | U35: =IFERROR(IF(T35="","",Calendar!$H38),"")
A36: =IFERROR(IF(AND(Reservations!$J6=$B$5,Reservations!$L6<>"Canceled"),Reservations!$C6,""),"") | B36: =IFERROR(IF(AND(Reservations!$J6=$B$5,Reservations!$L6<>"Canceled"),Reservations!$F6,""),"") | C36: =IFERROR(IF(AND(Reservations!$J6=$B$5,Reservations!$L6<>"Canceled"),Reservations!$J6,""),"") | D36: =IFERROR(IF(AND(Reservations!$J6=$B$5,Reservations!$L6<>"Canceled"),Reservations!$T6,""),"") | E36: =IFERROR(IF(AND(Reservations!$J6=$B$5,Reservations!$L6<>"Canceled"),Reservations!$U6,""),"") | F36: =IFERROR(IF(AND(Reservations!$J6=$B$5,Reservations!$L6<>"Canceled"),Reservations!$V6,""),"") | T36: =IFERROR(IF(Calendar!$C39="Yes",Calendar!$A39,""),"") | U36: =IFERROR(IF(T36="","",Calendar!$H39),"")
A37: =IFERROR(IF(AND(Reservations!$J7=$B$5,Reservations!$L7<>"Canceled"),Reservations!$C7,""),"") | B37: =IFERROR(IF(AND(Reservations!$J7=$B$5,Reservations!$L7<>"Canceled"),Reservations!$F7,""),"") | C37: =IFERROR(IF(AND(Reservations!$J7=$B$5,Reservations!$L7<>"Canceled"),Reservations!$J7,""),"") | D37: =IFERROR(IF(AND(Reservations!$J7=$B$5,Reservations!$L7<>"Canceled"),Reservations!$T7,""),"") | E37: =IFERROR(IF(AND(Reservations!$J7=$B$5,Reservations!$L7<>"Canceled"),Reservations!$U7,""),"") | F37: =IFERROR(IF(AND(Reservations!$J7=$B$5,Reservations!$L7<>"Canceled"),Reservations!$V7,""),"") | T37: =IFERROR(IF(Calendar!$C40="Yes",Calendar!$A40,""),"") | U37: =IFERROR(IF(T37="","",Calendar!$H40),"")
A38: =IFERROR(IF(AND(Reservations!$J8=$B$5,Reservations!$L8<>"Canceled"),Reservations!$C8,""),"") | B38: =IFERROR(IF(AND(Reservations!$J8=$B$5,Reservations!$L8<>"Canceled"),Reservations!$F8,""),"") | C38: =IFERROR(IF(AND(Reservations!$J8=$B$5,Reservations!$L8<>"Canceled"),Reservations!$J8,""),"") | D38: =IFERROR(IF(AND(Reservations!$J8=$B$5,Reservations!$L8<>"Canceled"),Reservations!$T8,""),"") | E38: =IFERROR(IF(AND(Reservations!$J8=$B$5,Reservations!$L8<>"Canceled"),Reservations!$U8,""),"") | F38: =IFERROR(IF(AND(Reservations!$J8=$B$5,Reservations!$L8<>"Canceled"),Reservations!$V8,""),"") | T38: =IFERROR(IF(Calendar!$C41="Yes",Calendar!$A41,""),"") | U38: =IFERROR(IF(T38="","",Calendar!$H41),"")
A39: =IFERROR(IF(AND(Reservations!$J9=$B$5,Reservations!$L9<>"Canceled"),Reservations!$C9,""),"") | B39: =IFERROR(IF(AND(Reservations!$J9=$B$5,Reservations!$L9<>"Canceled"),Reservations!$F9,""),"") | C39: =IFERROR(IF(AND(Reservations!$J9=$B$5,Reservations!$L9<>"Canceled"),Reservations!$J9,""),"") | D39: =IFERROR(IF(AND(Reservations!$J9=$B$5,Reservations!$L9<>"Canceled"),Reservations!$T9,""),"") | E39: =IFERROR(IF(AND(Reservations!$J9=$B$5,Reservations!$L9<>"Canceled"),Reservations!$U9,""),"") | F39: =IFERROR(IF(AND(Reservations!$J9=$B$5,Reservations!$L9<>"Canceled"),Reservations!$V9,""),"") | T39: =IFERROR(IF(Calendar!$C42="Yes",Calendar!$A42,""),"") | U39: =IFERROR(IF(T39="","",Calendar!$H42),"")
A40: =IFERROR(IF(AND(Reservations!$J10=$B$5,Reservations!$L10<>"Canceled"),Reservations!$C10,""),"") | B40: =IFERROR(IF(AND(Reservations!$J10=$B$5,Reservations!$L10<>"Canceled"),Reservations!$F10,""),"") | C40: =IFERROR(IF(AND(Reservations!$J10=$B$5,Reservations!$L10<>"Canceled"),Reservations!$J10,""),"") | D40: =IFERROR(IF(AND(Reservations!$J10=$B$5,Reservations!$L10<>"Canceled"),Reservations!$T10,""),"") | E40: =IFERROR(IF(AND(Reservations!$J10=$B$5,Reservations!$L10<>"Canceled"),Reservations!$U10,""),"") | F40: =IFERROR(IF(AND(Reservations!$J10=$B$5,Reservations!$L10<>"Canceled"),Reservations!$V10,""),"") | T40: =IFERROR(IF(Calendar!$C43="Yes",Calendar!$A43,""),"") | U40: =IFERROR(IF(T40="","",Calendar!$H43),"")
A41: =IFERROR(IF(AND(Reservations!$J11=$B$5,Reservations!$L11<>"Canceled"),Reservations!$C11,""),"") | B41: =IFERROR(IF(AND(Reservations!$J11=$B$5,Reservations!$L11<>"Canceled"),Reservations!$F11,""),"") | C41: =IFERROR(IF(AND(Reservations!$J11=$B$5,Reservations!$L11<>"Canceled"),Reservations!$J11,""),"") | D41: =IFERROR(IF(AND(Reservations!$J11=$B$5,Reservations!$L11<>"Canceled"),Reservations!$T11,""),"") | E41: =IFERROR(IF(AND(Reservations!$J11=$B$5,Reservations!$L11<>"Canceled"),Reservations!$U11,""),"") | F41: =IFERROR(IF(AND(Reservations!$J11=$B$5,Reservations!$L11<>"Canceled"),Reservations!$V11,""),"") | T41: =IFERROR(IF(Calendar!$C44="Yes",Calendar!$A44,""),"") | U41: =IFERROR(IF(T41="","",Calendar!$H44),"")
...

Sheet Reservations
A1: Reservation ID | B1: Confirmation Number | C1: Guest Name | D1: Guest Email | E1: Guest Phone | F1: Room | G1: Adults | H1: Children | I1: Arrival Date | J1: Departure Date | K1: Nights | L1: Status | M1: Booking Source | N1: Nightly Rate | O1: Lodging Amount | P1: Service Charge | Q1: Estimated Tax | R1: Estimated Total | S1: Deposit Paid | T1: Balance Due | U1: Payment Status | V1: Special Requests | W1: Assigned Team Member | X1: Last Updated | Y1: Overlap Count | Z1: Operational Check
A2: RSV-26001 | B2: DIR-71401 | C2: Emma Carter | D2: emma.carter@example.com | E2: 202-555-0101 | F2: Garden Room | G2: 2 | H2: 0 | I2: 46217 | J2: 46220 | K2: =IFERROR(IF(OR(I2="",J2=""),"",J2-I2),"") | L2: Checked In | M2: Direct Website | N2: 189 | O2: =IFERROR(IF(OR(K2="",N2=""),"",K2*N2),"") | P2: =IFERROR(IF(O2="","",O2*'Setup & Instructions'!$B$9),"") | Q2: =IFERROR(IF(O2="","",(O2+P2)*'Setup & Instructions'!$B$8),"") | R2: =IFERROR(IF(O2="","",O2+P2+Q2),"") | S2: 300 | T2: =IFERROR(IF(R2="","",IF(L2="Canceled",0,R2-S2)),"") | U2: =IFERROR(IF(A2="","",IF(L2="Canceled","Canceled",IF(T2<0,"Credit Balance",IF(T2=0,"Paid in Full",IF(S2>0,"Deposit Paid","No Payment Recorded"))))),"") | V2: Anniversary stay | W2: Mia | X2: 46218 | Y2: =IFERROR(IF(OR(F2="",I2="",J2="",L2="Canceled"),"",SUMPRODUCT(($F$2:$F$251=F2)*($I$2:$I$251<J2)*($J$2:$J$251>I2)*($L$2:$L$251<>"Canceled")*($A$2:$A$251<>A2)*($A$2:$A$251<>""))),"") | Z2: =IFERROR(IF(COUNTA(B2:X2)=0,"",IF(A2="","Missing reservation ID",IF(C2="","Missing guest name",IF(OR(I2="",J2="",J2<=I2),"Review stay dates",IF(Y2>0,"Room overlap",IF(AND(I2<'Setup & Instructions'!$B$5,OR(L2="Confirmed",L2="Hold")),"Arrival status overdue",IF(AND(L2="Confirmed",I2>='Setup & Instructions'!$B$5,IFERROR(S2/R2,0)<'Setup & Instructions'!$B$10),"Deposit below target",IF(AND(J2<'Setup & Instructions'!$B$5,T2>0),"Balance due after departure","OK")))))))),"")
A3: RSV-26002 | B3: OTA-77192 | C3: Daniel Brooks | D3: daniel.brooks@example.com | E3: 202-555-0102 | F3: Harbor Room | G3: 2 | H3: 1 | I3: 46220 | J3: 46223 | K3: =IFERROR(IF(OR(I3="",J3=""),"",J3-I3),"") | L3: Confirmed | M3: Online Travel Agency | N3: 219 | O3: =IFERROR(IF(OR(K3="",N3=""),"",K3*N3),"") | P3: =IFERROR(IF(O3="","",O3*'Setup & Instructions'!$B$9),"") | Q3: =IFERROR(IF(O3="","",(O3+P3)*'Setup & Instructions'!$B$8),"") | R3: =IFERROR(IF(O3="","",O3+P3+Q3),"") | S3: 250 | T3: =IFERROR(IF(R3="","",IF(L3="Canceled",0,R3-S3)),"") | U3: =IFERROR(IF(A3="","",IF(L3="Canceled","Canceled",IF(T3<0,"Credit Balance",IF(T3=0,"Paid in Full",IF(S3>0,"Deposit Paid","No Payment Recorded"))))),"") | V3: Crib requested | W3: Noah | X3: 46217 | Y3: =IFERROR(IF(OR(F3="",I3="",J3="",L3="Canceled"),"",SUMPRODUCT(($F$2:$F$251=F3)*($I$2:$I$251<J3)*($J$2:$J$251>I3)*($L$2:$L$251<>"Canceled")*($A$2:$A$251<>A3)*($A$2:$A$251<>""))),"") | Z3: =IFERROR(IF(COUNTA(B3:X3)=0,"",IF(A3="","Missing reservation ID",IF(C3="","Missing guest name",IF(OR(I3="",J3="",J3<=I3),"Review stay dates",IF(Y3>0,"Room overlap",IF(AND(I3<'Setup & Instructions'!$B$5,OR(L3="Confirmed",L3="Hold")),"Arrival status overdue",IF(AND(L3="Confirmed",I3>='Setup & Instructions'!$B$5,IFERROR(S3/R3,0)<'Setup & Instructions'!$B$10),"Deposit below target",IF(AND(J3<'Setup & Instructions'!$B$5,T3>0),"Balance due after departure","OK")))))))),"")
A4: RSV-26003 | B4: PHN-55310 | C4: Linda Nguyen | D4: linda.nguyen@example.com | E4: 202-555-0103 | F4: Maple Room | G4: 1 | H4: 0 | I4: 46216 | J4: 46219 | K4: =IFERROR(IF(OR(I4="",J4=""),"",J4-I4),"") | L4: Confirmed | M4: Direct Phone | N4: 165 | O4: =IFERROR(IF(OR(K4="",N4=""),"",K4*N4),"") | P4: =IFERROR(IF(O4="","",O4*'Setup & Instructions'!$B$9),"") | Q4: =IFERROR(IF(O4="","",(O4+P4)*'Setup & Instructions'!$B$8),"") | R4: =IFERROR(IF(O4="","",O4+P4+Q4),"") | S4: 0 | T4: =IFERROR(IF(R4="","",IF(L4="Canceled",0,R4-S4)),"") | U4: =IFERROR(IF(A4="","",IF(L4="Canceled","Canceled",IF(T4<0,"Credit Balance",IF(T4=0,"Paid in Full",IF(S4>0,"Deposit Paid","No Payment Recorded"))))),"") | V4: Late arrival after 9 PM | W4: Ava | X4: 46216 | Y4: =IFERROR(IF(OR(F4="",I4="",J4="",L4="Canceled"),"",SUMPRODUCT(($F$2:$F$251=F4)*($I$2:$I$251<J4)*($J$2:$J$251>I4)*($L$2:$L$251<>"Canceled")*($A$2:$A$251<>A4)*($A$2:$A$251<>""))),"") | Z4: =IFERROR(IF(COUNTA(B4:X4)=0,"",IF(A4="","Missing reservation ID",IF(C4="","Missing guest name",IF(OR(I4="",J4="",J4<=I4),"Review stay dates",IF(Y4>0,"Room overlap",IF(AND(I4<'Setup & Instructions'!$B$5,OR(L4="Confirmed",L4="Hold")),"Arrival status overdue",IF(AND(L4="Confirmed",I4>='Setup & Instructions'!$B$5,IFERROR(S4/R4,0)<'Setup & Instructions'!$B$10),"Deposit below target",IF(AND(J4<'Setup & Instructions'!$B$5,T4>0),"Balance due after departure","OK")))))))),"")
A5: RSV-26004 | B5: RET-22018 | C5: Marcus Green | D5: marcus.green@example.com | E5: 202-555-0104 | F5: Sunrise Suite | G5: 2 | H5: 0 | I5: 46213 | J5: 46217 | K5: =IFERROR(IF(OR(I5="",J5=""),"",J5-I5),"") | L5: Checked Out | M5: Returning Guest | N5: 289 | O5: =IFERROR(IF(OR(K5="",N5=""),"",K5*N5),"") | P5: =IFERROR(IF(O5="","",O5*'Setup & Instructions'!$B$9),"") | Q5: =IFERROR(IF(O5="","",(O5+P5)*'Setup & Instructions'!$B$8),"") | R5: =IFERROR(IF(O5="","",O5+P5+Q5),"") | S5: 1200 | T5: =IFERROR(IF(R5="","",IF(L5="Canceled",0,R5-S5)),"") | U5: =IFERROR(IF(A5="","",IF(L5="Canceled","Canceled",IF(T5<0,"Credit Balance",IF(T5=0,"Paid in Full",IF(S5>0,"Deposit Paid","No Payment Recorded"))))),"") | W5: Liam | X5: 46217 | Y5: =IFERROR(IF(OR(F5="",I5="",J5="",L5="Canceled"),"",SUMPRODUCT(($F$2:$F$251=F5)*($I$2:$I$251<J5)*($J$2:$J$251>I5)*($L$2:$L$251<>"Canceled")*($A$2:$A$251<>A5)*($A$2:$A$251<>""))),"") | Z5: =IFERROR(IF(COUNTA(B5:X5)=0,"",IF(A5="","Missing reservation ID",IF(C5="","Missing guest name",IF(OR(I5="",J5="",J5<=I5),"Review stay dates",IF(Y5>0,"Room overlap",IF(AND(I5<'Setup & Instructions'!$B$5,OR(L5="Confirmed",L5="Hold")),"Arrival status overdue",IF(AND(L5="Confirmed",I5>='Setup & Instructions'!$B$5,IFERROR(S5/R5,0)<'Setup & Instructions'!$B$10),"Deposit below target",IF(AND(J5<'Setup & Instructions'!$B$5,T5>0),"Balance due after departure","OK")))))))),"")
A6: RSV-26005 | B6: WEB-81820 | C6: Sophia Patel | D6: sophia.patel@example.com | E6: 202-555-0105 | F6: Rose Room | G6: 2 | H6: 0 | I6: 46224 | J6: 46227 | K6: =IFERROR(IF(OR(I6="",J6=""),"",J6-I6),"") | L6: Confirmed | M6: Direct Website | N6: 179 | O6: =IFERROR(IF(OR(K6="",N6=""),"",K6*N6),"") | P6: =IFERROR(IF(O6="","",O6*'Setup & Instructions'!$B$9),"") | Q6: =IFERROR(IF(O6="","",(O6+P6)*'Setup & Instructions'!$B$8),"") | R6: =IFERROR(IF(O6="","",O6+P6+Q6),"") | S6: 200 | T6: =IFERROR(IF(R6="","",IF(L6="Canceled",0,R6-S6)),"") | U6: =IFERROR(IF(A6="","",IF(L6="Canceled","Canceled",IF(T6<0,"Credit Balance",IF(T6=0,"Paid in Full",IF(S6>0,"Deposit Paid","No Payment Recorded"))))),"") | V6: Gluten-free breakfast | W6: Mia | X6: 46218 | Y6: =IFERROR(IF(OR(F6="",I6="",J6="",L6="Canceled"),"",SUMPRODUCT(($F$2:$F$251=F6)*($I$2:$I$251<J6)*($J$2:$J$251>I6)*($L$2:$L$251<>"Canceled")*($A$2:$A$251<>A6)*($A$2:$A$251<>""))),"") | Z6: =IFERROR(IF(COUNTA(B6:X6)=0,"",IF(A6="","Missing reservation ID",IF(C6="","Missing guest name",IF(OR(I6="",J6="",J6<=I6),"Review stay dates",IF(Y6>0,"Room overlap",IF(AND(I6<'Setup & Instructions'!$B$5,OR(L6="Confirmed",L6="Hold")),"Arrival status overdue",IF(AND(L6="Confirmed",I6>='Setup & Instructions'!$B$5,IFERROR(S6/R6,0)<'Setup & Instructions'!$B$10),"Deposit below target",IF(AND(J6<'Setup & Instructions'!$B$5,T6>0),"Balance due after departure","OK")))))))),"")
A7: RSV-26006 | B7: WALK-7201 | C7: James Wilson | D7: james.wilson@example.com | E7: 202-555-0106 | F7: Pine Room | G7: 1 | H7: 0 | I7: 46218 | J7: 46219 | K7: =IFERROR(IF(OR(I7="",J7=""),"",J7-I7),"") | L7: Checked In | M7: Walk-In | N7: 149 | O7: =IFERROR(IF(OR(K7="",N7=""),"",K7*N7),"") | P7: =IFERROR(IF(O7="","",O7*'Setup & Instructions'!$B$9),"") | Q7: =IFERROR(IF(O7="","",(O7+P7)*'Setup & Instructions'!$B$8),"") | R7: =IFERROR(IF(O7="","",O7+P7+Q7),"") | S7: 162.41 | T7: =IFERROR(IF(R7="","",IF(L7="Canceled",0,R7-S7)),"") | U7: =IFERROR(IF(A7="","",IF(L7="Canceled","Canceled",IF(T7<0,"Credit Balance",IF(T7=0,"Paid in Full",IF(S7>0,"Deposit Paid","No Payment Recorded"))))),"") | W7: Noah | X7: 46218 | Y7: =IFERROR(IF(OR(F7="",I7="",J7="",L7="Canceled"),"",SUMPRODUCT(($F$2:$F$251=F7)*($I$2:$I$251<J7)*($J$2:$J$251>I7)*($L$2:$L$251<>"Canceled")*($A$2:$A$251<>A7)*($A$2:$A$251<>""))),"") | Z7: =IFERROR(IF(COUNTA(B7:X7)=0,"",IF(A7="","Missing reservation ID",IF(C7="","Missing guest name",IF(OR(I7="",J7="",J7<=I7),"Review stay dates",IF(Y7>0,"Room overlap",IF(AND(I7<'Setup & Instructions'!$B$5,OR(L7="Confirmed",L7="Hold")),"Arrival status overdue",IF(AND(L7="Confirmed",I7>='Setup & Instructions'!$B$5,IFERROR(S7/R7,0)<'Setup & Instructions'!$B$10),"Deposit below target",IF(AND(J7<'Setup & Instructions'!$B$5,T7>0),"Balance due after departure","OK")))))))),"")
A8: RSV-26007 | B8: GRP-0914 | C8: Olivia Martinez | D8: olivia.martinez@example.com | E8: 202-555-0107 | F8: Carriage House | G8: 4 | H8: 2 | I8: 46228 | J8: 46231 | K8: =IFERROR(IF(OR(I8="",J8=""),"",J8-I8),"") | L8: Hold | M8: Group or Event | N8: 375 | O8: =IFERROR(IF(OR(K8="",N8=""),"",K8*N8),"") | P8: =IFERROR(IF(O8="","",O8*'Setup & Instructions'!$B$9),"") | Q8: =IFERROR(IF(O8="","",(O8+P8)*'Setup & Instructions'!$B$8),"") | R8: =IFERROR(IF(O8="","",O8+P8+Q8),"") | S8: 0 | T8: =IFERROR(IF(R8="","",IF(L8="Canceled",0,R8-S8)),"") | U8: =IFERROR(IF(A8="","",IF(L8="Canceled","Canceled",IF(T8<0,"Credit Balance",IF(T8=0,"Paid in Full",IF(S8>0,"Deposit Paid","No Payment Recorded"))))),"") | V8: Family reunion | W8: Ava | X8: 46217 | Y8: =IFERROR(IF(OR(F8="",I8="",J8="",L8="Canceled"),"",SUMPRODUCT(($F$2:$F$251=F8)*($I$2:$I$251<J8)*($J$2:$J$251>I8)*($L$2:$L$251<>"Canceled")*($A$2:$A$251<>A8)*($A$2:$A$251<>""))),"") | Z8: =IFERROR(IF(COUNTA(B8:X8)=0,"",IF(A8="","Missing reservation ID",IF(C8="","Missing guest name",IF(OR(I8="",J8="",J8<=I8),"Review stay dates",IF(Y8>0,"Room overlap",IF(AND(I8<'Setup & Instructions'!$B$5,OR(L8="Confirmed",L8="Hold")),"Arrival status overdue",IF(AND(L8="Confirmed",I8>='Setup & Instructions'!$B$5,IFERROR(S8/R8,0)<'Setup & Instructions'!$B$10),"Deposit below target",IF(AND(J8<'Setup & Instructions'!$B$5,T8>0),"Balance due after departure","OK")))))))),"")
A9: RSV-26008 | B9: OTA-88241 | C9: Robert King | D9: robert.king@example.com | E9: 202-555-0108 | F9: Library Suite | G9: 2 | H9: 0 | I9: 46208 | J9: 46211 | K9: =IFERROR(IF(OR(I9="",J9=""),"",J9-I9),"") | L9: Canceled | M9: Online Travel Agency | N9: 245 | O9: =IFERROR(IF(OR(K9="",N9=""),"",K9*N9),"") | P9: =IFERROR(IF(O9="","",O9*'Setup & Instructions'!$B$9),"") | Q9: =IFERROR(IF(O9="","",(O9+P9)*'Setup & Instructions'!$B$8),"") | R9: =IFERROR(IF(O9="","",O9+P9+Q9),"") | S9: 0 | T9: =IFERROR(IF(R9="","",IF(L9="Canceled",0,R9-S9)),"") | U9: =IFERROR(IF(A9="","",IF(L9="Canceled","Canceled",IF(T9<0,"Credit Balance",IF(T9=0,"Paid in Full",IF(S9>0,"Deposit Paid","No Payment Recorded"))))),"") | W9: Liam | X9: 46209 | Y9: =IFERROR(IF(OR(F9="",I9="",J9="",L9="Canceled"),"",SUMPRODUCT(($F$2:$F$251=F9)*($I$2:$I$251<J9)*($J$2:$J$251>I9)*($L$2:$L$251<>"Canceled")*($A$2:$A$251<>A9)*($A$2:$A$251<>""))),"") | Z9: =IFERROR(IF(COUNTA(B9:X9)=0,"",IF(A9="","Missing reservation ID",IF(C9="","Missing guest name",IF(OR(I9="",J9="",J9<=I9),"Review stay dates",IF(Y9>0,"Room overlap",IF(AND(I9<'Setup & Instructions'!$B$5,OR(L9="Confirmed",L9="Hold")),"Arrival status overdue",IF(AND(L9="Confirmed",I9>='Setup & Instructions'!$B$5,IFERROR(S9/R9,0)<'Setup & Instructions'!$B$10),"Deposit below target",IF(AND(J9<'Setup & Instructions'!$B$5,T9>0),"Balance due after departure","OK")))))))),"")
A10: RSV-26009 | B10: PHN-44007 | C10: Hannah Reed | D10: hannah.reed@example.com | E10: 202-555-0109 | F10: Harbor Room | G10: 2 | H10: 0 | I10: 46221 | J10: 46223 | K10: =IFERROR(IF(OR(I10="",J10=""),"",J10-I10),"") | L10: Hold | M10: Direct Phone | N10: 225 | O10: =IFERROR(IF(OR(K10="",N10=""),"",K10*N10),"") | P10: =IFERROR(IF(O10="","",O10*'Setup & Instructions'!$B$9),"") | Q10: =IFERROR(IF(O10="","",(O10+P10)*'Setup & Instructions'!$B$8),"") | R10: =IFERROR(IF(O10="","",O10+P10+Q10),"") | S10: 0 | T10: =IFERROR(IF(R10="","",IF(L10="Canceled",0,R10-S10)),"") | U10: =IFERROR(IF(A10="","",IF(L10="Canceled","Canceled",IF(T10<0,"Credit Balance",IF(T10=0,"Paid in Full",IF(S10>0,"Deposit Paid","No Payment Recorded"))))),"") | V10: Quiet room requested | W10: Mia | X10: 46218 | Y10: =IFERROR(IF(OR(F10="",I10="",J10="",L10="Canceled"),"",SUMPRODUCT(($F$2:$F$251=F10)*($I$2:$I$251<J10)*($J$2:$J$251>I10)*($L$2:$L$251<>"Canceled")*($A$2:$A$251<>A10)*($A$2:$A$251<>""))),"") | Z10: =IFERROR(IF(COUNTA(B10:X10)=0,"",IF(A10="","Missing reservation ID",IF(C10="","Missing guest name",IF(OR(I10="",J10="",J10<=I10),"Review stay dates",IF(Y10>0,"Room overlap",IF(AND(I10<'Setup & Instructions'!$B$5,OR(L10="Confirmed",L10="Hold")),"Arrival status overdue",IF(AND(L10="Confirmed",I10>='Setup & Instructions'!$B$5,IFERROR(S10/R10,0)<'Setup & Instructions'!$B$10),"Deposit below target",IF(AND(J10<'Setup & Instructions'!$B$5,T10>0),"Balance due after departure","OK")))))))),"")
A11: RSV-26010 | B11: WEB-93752 | C11: Andrew Scott | D11: andrew.scott@example.com | E11: 202-555-0110 | F11: Orchard Room | G11: 2 | H11: 0 | I11: 46236 | J11: 46239 | K11: =IFERROR(IF(OR(I11="",J11=""),"",J11-I11),"") | L11: Confirmed | M11: Direct Website | N11: 199 | O11: =IFERROR(IF(OR(K11="",N11=""),"",K11*N11),"") | P11: =IFERROR(IF(O11="","",O11*'Setup & Instructions'!$B$9),"") | Q11: =IFERROR(IF(O11="","",(O11+P11)*'Setup & Instructions'!$B$8),"") | R11: =IFERROR(IF(O11="","",O11+P11+Q11),"") | S11: 0 | T11: =IFERROR(IF(R11="","",IF(L11="Canceled",0,R11-S11)),"") | U11: =IFERROR(IF(A11="","",IF(L11="Canceled","Canceled",IF(T11<0,"Credit Balance",IF(T11=0,"Paid in Full",IF(S11>0,"Deposit Paid","No Payment Recorded"))))),"") | W11: Noah | X11: 46218 | Y11: =IFERROR(IF(OR(F11="",I11="",J11="",L11="Canceled"),"",SUMPRODUCT(($F$2:$F$251=F11)*($I$2:$I$251<J11)*($J$2:$J$251>I11)*($L$2:$L$251<>"Canceled")*($A$2:$A$251<>A11)*($A$2:$A$251<>""))),"") | Z11: =IFERROR(IF(COUNTA(B11:X11)=0,"",IF(A11="","Missing reservation ID",IF(C11="","Missing guest name",IF(OR(I11="",J11="",J11<=I11),"Review stay dates",IF(Y11>0,"Room overlap",IF(AND(I11<'Setup & Instructions'!$B$5,OR(L11="Confirmed",L11="Hold")),"Arrival status overdue",IF(AND(L11="Confirmed",I11>='Setup & Instructions'!$B$5,IFERROR(S11/R11,0)<'Setup & Instructions'!$B$10),"Deposit below target",IF(AND(J11<'Setup & Instructions'!$B$5,T11>0),"Balance due after departure","OK")))))))),"")
K12: =IFERROR(IF(OR(I12="",J12=""),"",J12-I12),"") | O12: =IFERROR(IF(OR(K12="",N12=""),"",K12*N12),"") | P12: =IFERROR(IF(O12="","",O12*'Setup & Instructions'!$B$9),"") | Q12: =IFERROR(IF(O12="","",(O12+P12)*'Setup & Instructions'!$B$8),"") | R12: =IFERROR(IF(O12="","",O12+P12+Q12),"") | T12: =IFERROR(IF(R12="","",IF(L12="Canceled",0,R12-S12)),"") | U12: =IFERROR(IF(A12="","",IF(L12="Canceled","Canceled",IF(T12<0,"Credit Balance",IF(T12=0,"Paid in Full",IF(S12>0,"Deposit Paid","No Payment Recorded"))))),"") | Y12: =IFERROR(IF(OR(F12="",I12="",J12="",L12="Canceled"),"",SUMPRODUCT(($F$2:$F$251=F12)*($I$2:$I$251<J12)*($J$2:$J$251>I12)*($L$2:$L$251<>"Canceled")*($A$2:$A$251<>A12)*($A$2:$A$251<>""))),"") | Z12: =IFERROR(IF(COUNTA(B12:X12)=0,"",IF(A12="","Missing reservation ID",IF(C12="","Missing guest name",IF(OR(I12="",J12="",J12<=I12),"Review stay dates",IF(Y12>0,"Room overlap",IF(AND(I12<'Setup & Instructions'!$B$5,OR(L12="Confirmed",L12="Hold")),"Arrival status overdue",IF(AND(L12="Confirmed",I12>='Setup & Instructions'!$B$5,IFERROR(S12/R12,0)<'Setup & Instructions'!$B$10),"Deposit below target",IF(AND(J12<'Setup & Instructions'!$B$5,T12>0),"Balance due after departure","OK")))))))),"")
K13: =IFERROR(IF(OR(I13="",J13=""),"",J13-I13),"") | O13: =IFERROR(IF(OR(K13="",N13=""),"",K13*N13),"") | P13: =IFERROR(IF(O13="","",O13*'Setup & Instructions'!$B$9),"") | Q13: =IFERROR(IF(O13="","",(O13+P13)*'Setup & Instructions'!$B$8),"") | R13: =IFERROR(IF(O13="","",O13+P13+Q13),"") | T13: =IFERROR(IF(R13="","",IF(L13="Canceled",0,R13-S13)),"") | U13: =IFERROR(IF(A13="","",IF(L13="Canceled","Canceled",IF(T13<0,"Credit Balance",IF(T13=0,"Paid in Full",IF(S13>0,"Deposit Paid","No Payment Recorded"))))),"") | Y13: =IFERROR(IF(OR(F13="",I13="",J13="",L13="Canceled"),"",SUMPRODUCT(($F$2:$F$251=F13)*($I$2:$I$251<J13)*($J$2:$J$251>I13)*($L$2:$L$251<>"Canceled")*($A$2:$A$251<>A13)*($A$2:$A$251<>""))),"") | Z13: =IFERROR(IF(COUNTA(B13:X13)=0,"",IF(A13="","Missing reservation ID",IF(C13="","Missing guest name",IF(OR(I13="",J13="",J13<=I13),"Review stay dates",IF(Y13>0,"Room overlap",IF(AND(I13<'Setup & Instructions'!$B$5,OR(L13="Confirmed",L13="Hold")),"Arrival status overdue",IF(AND(L13="Confirmed",I13>='Setup & Instructions'!$B$5,IFERROR(S13/R13,0)<'Setup & Instructions'!$B$10),"Deposit below target",IF(AND(J13<'Setup & Instructions'!$B$5,T13>0),"Balance due after departure","OK")))))))),"")
K14: =IFERROR(IF(OR(I14="",J14=""),"",J14-I14),"") | O14: =IFERROR(IF(OR(K14="",N14=""),"",K14*N14),"") | P14: =IFERROR(IF(O14="","",O14*'Setup & Instructions'!$B$9),"") | Q14: =IFERROR(IF(O14="","",(O14+P14)*'Setup & Instructions'!$B$8),"") | R14: =IFERROR(IF(O14="","",O14+P14+Q14),"") | T14: =IFERROR(IF(R14="","",IF(L14="Canceled",0,R14-S14)),"") | U14: =IFERROR(IF(A14="","",IF(L14="Canceled","Canceled",IF(T14<0,"Credit Balance",IF(T14=0,"Paid in Full",IF(S14>0,"Deposit Paid","No Payment Recorded"))))),"") | Y14: =IFERROR(IF(OR(F14="",I14="",J14="",L14="Canceled"),"",SUMPRODUCT(($F$2:$F$251=F14)*($I$2:$I$251<J14)*($J$2:$J$251>I14)*($L$2:$L$251<>"Canceled")*($A$2:$A$251<>A14)*($A$2:$A$251<>""))),"") | Z14: =IFERROR(IF(COUNTA(B14:X14)=0,"",IF(A14="","Missing reservation ID",IF(C14="","Missing guest name",IF(OR(I14="",J14="",J14<=I14),"Review stay dates",IF(Y14>0,"Room overlap",IF(AND(I14<'Setup & Instructions'!$B$5,OR(L14="Confirmed",L14="Hold")),"Arrival status overdue",IF(AND(L14="Confirmed",I14>='Setup & Instructions'!$B$5,IFERROR(S14/R14,0)<'Setup & Instructions'!$B$10),"Deposit below target",IF(AND(J14<'Setup & Instructions'!$B$5,T14>0),"Balance due after departure","OK")))))))),"")
K15: =IFERROR(IF(OR(I15="",J15=""),"",J15-I15),"") | O15: =IFERROR(IF(OR(K15="",N15=""),"",K15*N15),"") | P15: =IFERROR(IF(O15="","",O15*'Setup & Instructions'!$B$9),"") | Q15: =IFERROR(IF(O15="","",(O15+P15)*'Setup & Instructions'!$B$8),"") | R15: =IFERROR(IF(O15="","",O15+P15+Q15),"") | T15: =IFERROR(IF(R15="","",IF(L15="Canceled",0,R15-S15)),"") | U15: =IFERROR(IF(A15="","",IF(L15="Canceled","Canceled",IF(T15<0,"Credit Balance",IF(T15=0,"Paid in Full",IF(S15>0,"Deposit Paid","No Payment Recorded"))))),"") | Y15: =IFERROR(IF(OR(F15="",I15="",J15="",L15="Canceled"),"",SUMPRODUCT(($F$2:$F$251=F15)*($I$2:$I$251<J15)*($J$2:$J$251>I15)*($L$2:$L$251<>"Canceled")*($A$2:$A$251<>A15)*($A$2:$A$251<>""))),"") | Z15: =IFERROR(IF(COUNTA(B15:X15)=0,"",IF(A15="","Missing reservation ID",IF(C15="","Missing guest name",IF(OR(I15="",J15="",J15<=I15),"Review stay dates",IF(Y15>0,"Room overlap",IF(AND(I15<'Setup & Instructions'!$B$5,OR(L15="Confirmed",L15="Hold")),"Arrival status overdue",IF(AND(L15="Confirmed",I15>='Setup & Instructions'!$B$5,IFERROR(S15/R15,0)<'Setup & Instructions'!$B$10),"Deposit below target",IF(AND(J15<'Setup & Instructions'!$B$5,T15>0),"Balance due after departure","OK")))))))),"")
K16: =IFERROR(IF(OR(I16="",J16=""),"",J16-I16),"") | O16: =IFERROR(IF(OR(K16="",N16=""),"",K16*N16),"") | P16: =IFERROR(IF(O16="","",O16*'Setup & Instructions'!$B$9),"") | Q16: =IFERROR(IF(O16="","",(O16+P16)*'Setup & Instructions'!$B$8),"") | R16: =IFERROR(IF(O16="","",O16+P16+Q16),"") | T16: =IFERROR(IF(R16="","",IF(L16="Canceled",0,R16-S16)),"") | U16: =IFERROR(IF(A16="","",IF(L16="Canceled","Canceled",IF(T16<0,"Credit Balance",IF(T16=0,"Paid in Full",IF(S16>0,"Deposit Paid","No Payment Recorded"))))),"") | Y16: =IFERROR(IF(OR(F16="",I16="",J16="",L16="Canceled"),"",SUMPRODUCT(($F$2:$F$251=F16)*($I$2:$I$251<J16)*($J$2:$J$251>I16)*($L$2:$L$251<>"Canceled")*($A$2:$A$251<>A16)*($A$2:$A$251<>""))),"") | Z16: =IFERROR(IF(COUNTA(B16:X16)=0,"",IF(A16="","Missing reservation ID",IF(C16="","Missing guest name",IF(OR(I16="",J16="",J16<=I16),"Review stay dates",IF(Y16>0,"Room overlap",IF(AND(I16<'Setup & Instructions'!$B$5,OR(L16="Confirmed",L16="Hold")),"Arrival status overdue",IF(AND(L16="Confirmed",I16>='Setup & Instructions'!$B$5,IFERROR(S16/R16,0)<'Setup & Instructions'!$B$10),"Deposit below target",IF(AND(J16<'Setup & Instructions'!$B$5,T16>0),"Balance due after departure","OK")))))))),"")
K17: =IFERROR(IF(OR(I17="",J17=""),"",J17-I17),"") | O17: =IFERROR(IF(OR(K17="",N17=""),"",K17*N17),"") | P17: =IFERROR(IF(O17="","",O17*'Setup & Instructions'!$B$9),"") | Q17: =IFERROR(IF(O17="","",(O17+P17)*'Setup & Instructions'!$B$8),"") | R17: =IFERROR(IF(O17="","",O17+P17+Q17),"") | T17: =IFERROR(IF(R17="","",IF(L17="Canceled",0,R17-S17)),"") | U17: =IFERROR(IF(A17="","",IF(L17="Canceled","Canceled",IF(T17<0,"Credit Balance",IF(T17=0,"Paid in Full",IF(S17>0,"Deposit Paid","No Payment Recorded"))))),"") | Y17: =IFERROR(IF(OR(F17="",I17="",J17="",L17="Canceled"),"",SUMPRODUCT(($F$2:$F$251=F17)*($I$2:$I$251<J17)*($J$2:$J$251>I17)*($L$2:$L$251<>"Canceled")*($A$2:$A$251<>A17)*($A$2:$A$251<>""))),"") | Z17: =IFERROR(IF(COUNTA(B17:X17)=0,"",IF(A17="","Missing reservation ID",IF(C17="","Missing guest name",IF(OR(I17="",J17="",J17<=I17),"Review stay dates",IF(Y17>0,"Room overlap",IF(AND(I17<'Setup & Instructions'!$B$5,OR(L17="Confirmed",L17="Hold")),"Arrival status overdue",IF(AND(L17="Confirmed",I17>='Setup & Instructions'!$B$5,IFERROR(S17/R17,0)<'Setup & Instructions'!$B$10),"Deposit below target",IF(AND(J17<'Setup & Instructions'!$B$5,T17>0),"Balance due after departure","OK")))))))),"")
K18: =IFERROR(IF(OR(I18="",J18=""),"",J18-I18),"") | O18: =IFERROR(IF(OR(K18="",N18=""),"",K18*N18),"") | P18: =IFERROR(IF(O18="","",O18*'Setup & Instructions'!$B$9),"") | Q18: =IFERROR(IF(O18="","",(O18+P18)*'Setup & Instructions'!$B$8),"") | R18: =IFERROR(IF(O18="","",O18+P18+Q18),"") | T18: =IFERROR(IF(R18="","",IF(L18="Canceled",0,R18-S18)),"") | U18: =IFERROR(IF(A18="","",IF(L18="Canceled","Canceled",IF(T18<0,"Credit Balance",IF(T18=0,"Paid in Full",IF(S18>0,"Deposit Paid","No Payment Recorded"))))),"") | Y18: =IFERROR(IF(OR(F18="",I18="",J18="",L18="Canceled"),"",SUMPRODUCT(($F$2:$F$251=F18)*($I$2:$I$251<J18)*($J$2:$J$251>I18)*($L$2:$L$251<>"Canceled")*($A$2:$A$251<>A18)*($A$2:$A$251<>""))),"") | Z18: =IFERROR(IF(COUNTA(B18:X18)=0,"",IF(A18="","Missing reservation ID",IF(C18="","Missing guest name",IF(OR(I18="",J18="",J18<=I18),"Review stay dates",IF(Y18>0,"Room overlap",IF(AND(I18<'Setup & Instructions'!$B$5,OR(L18="Confirmed",L18="Hold")),"Arrival status overdue",IF(AND(L18="Confirmed",I18>='Setup & Instructions'!$B$5,IFERROR(S18/R18,0)<'Setup & Instructions'!$B$10),"Deposit below target",IF(AND(J18<'Setup & Instructions'!$B$5,T18>0),"Balance due after departure","OK")))))))),"")
K19: =IFERROR(IF(OR(I19="",J19=""),"",J19-I19),"") | O19: =IFERROR(IF(OR(K19="",N19=""),"",K19*N19),"") | P19: =IFERROR(IF(O19="","",O19*'Setup & Instructions'!$B$9),"") | Q19: =IFERROR(IF(O19="","",(O19+P19)*'Setup & Instructions'!$B$8),"") | R19: =IFERROR(IF(O19="","",O19+P19+Q19),"") | T19: =IFERROR(IF(R19="","",IF(L19="Canceled",0,R19-S19)),"") | U19: =IFERROR(IF(A19="","",IF(L19="Canceled","Canceled",IF(T19<0,"Credit Balance",IF(T19=0,"Paid in Full",IF(S19>0,"Deposit Paid","No Payment Recorded"))))),"") | Y19: =IFERROR(IF(OR(F19="",I19="",J19="",L19="Canceled"),"",SUMPRODUCT(($F$2:$F$251=F19)*($I$2:$I$251<J19)*($J$2:$J$251>I19)*($L$2:$L$251<>"Canceled")*($A$2:$A$251<>A19)*($A$2:$A$251<>""))),"") | Z19: =IFERROR(IF(COUNTA(B19:X19)=0,"",IF(A19="","Missing reservation ID",IF(C19="","Missing guest name",IF(OR(I19="",J19="",J19<=I19),"Review stay dates",IF(Y19>0,"Room overlap",IF(AND(I19<'Setup & Instructions'!$B$5,OR(L19="Confirmed",L19="Hold")),"Arrival status overdue",IF(AND(L19="Confirmed",I19>='Setup & Instructions'!$B$5,IFERROR(S19/R19,0)<'Setup & Instructions'!$B$10),"Deposit below target",IF(AND(J19<'Setup & Instructions'!$B$5,T19>0),"Balance due after departure","OK")))))))),"")
K20: =IFERROR(IF(OR(I20="",J20=""),"",J20-I20),"") | O20: =IFERROR(IF(OR(K20="",N20=""),"",K20*N20),"") | P20: =IFERROR(IF(O20="","",O20*'Setup & Instructions'!$B$9),"") | Q20: =IFERROR(IF(O20="","",(O20+P20)*'Setup & Instructions'!$B$8),"") | R20: =IFERROR(IF(O20="","",O20+P20+Q20),"") | T20: =IFERROR(IF(R20="","",IF(L20="Canceled",0,R20-S20)),"") | U20: =IFERROR(IF(A20="","",IF(L20="Canceled","Canceled",IF(T20<0,"Credit Balance",IF(T20=0,"Paid in Full",IF(S20>0,"Deposit Paid","No Payment Recorded"))))),"") | Y20: =IFERROR(IF(OR(F20="",I20="",J20="",L20="Canceled"),"",SUMPRODUCT(($F$2:$F$251=F20)*($I$2:$I$251<J20)*($J$2:$J$251>I20)*($L$2:$L$251<>"Canceled")*($A$2:$A$251<>A20)*($A$2:$A$251<>""))),"") | Z20: =IFERROR(IF(COUNTA(B20:X20)=0,"",IF(A20="","Missing reservation ID",IF(C20="","Missing guest name",IF(OR(I20="",J20="",J20<=I20),"Review stay dates",IF(Y20>0,"Room overlap",IF(AND(I20<'Setup & Instructions'!$B$5,OR(L20="Confirmed",L20="Hold")),"Arrival status overdue",IF(AND(L20="Confirmed",I20>='Setup & Instructions'!$B$5,IFERROR(S20/R20,0)<'Setup & Instructions'!$B$10),"Deposit below target",IF(AND(J20<'Setup & Instructions'!$B$5,T20>0),"Balance due after departure","OK")))))))),"")
K21: =IFERROR(IF(OR(I21="",J21=""),"",J21-I21),"") | O21: =IFERROR(IF(OR(K21="",N21=""),"",K21*N21),"") | P21: =IFERROR(IF(O21="","",O21*'Setup & Instructions'!$B$9),"") | Q21: =IFERROR(IF(O21="","",(O21+P21)*'Setup & Instructions'!$B$8),"") | R21: =IFERROR(IF(O21="","",O21+P21+Q21),"") | T21: =IFERROR(IF(R21="","",IF(L21="Canceled",0,R21-S21)),"") | U21: =IFERROR(IF(A21="","",IF(L21="Canceled","Canceled",IF(T21<0,"Credit Balance",IF(T21=0,"Paid in Full",IF(S21>0,"Deposit Paid","No Payment Recorded"))))),"") | Y21: =IFERROR(IF(OR(F21="",I21="",J21="",L21="Canceled"),"",SUMPRODUCT(($F$2:$F$251=F21)*($I$2:$I$251<J21)*($J$2:$J$251>I21)*($L$2:$L$251<>"Canceled")*($A$2:$A$251<>A21)*($A$2:$A$251<>""))),"") | Z21: =IFERROR(IF(COUNTA(B21:X21)=0,"",IF(A21="","Missing reservation ID",IF(C21="","Missing guest name",IF(OR(I21="",J21="",J21<=I21),"Review stay dates",IF(Y21>0,"Room overlap",IF(AND(I21<'Setup & Instructions'!$B$5,OR(L21="Confirmed",L21="Hold")),"Arrival status overdue",IF(AND(L21="Confirmed",I21>='Setup & Instructions'!$B$5,IFERROR(S21/R21,0)<'Setup & Instructions'!$B$10),"Deposit below target",IF(AND(J21<'Setup & Instructions'!$B$5,T21>0),"Balance due after departure","OK")))))))),"")
K22: =IFERROR(IF(OR(I22="",J22=""),"",J22-I22),"") | O22: =IFERROR(IF(OR(K22="",N22=""),"",K22*N22),"") | P22: =IFERROR(IF(O22="","",O22*'Setup & Instructions'!$B$9),"") | Q22: =IFERROR(IF(O22="","",(O22+P22)*'Setup & Instructions'!$B$8),"") | R22: =IFERROR(IF(O22="","",O22+P22+Q22),"") | T22: =IFERROR(IF(R22="","",IF(L22="Canceled",0,R22-S22)),"") | U22: =IFERROR(IF(A22="","",IF(L22="Canceled","Canceled",IF(T22<0,"Credit Balance",IF(T22=0,"Paid in Full",IF(S22>0,"Deposit Paid","No Payment Recorded"))))),"") | Y22: =IFERROR(IF(OR(F22="",I22="",J22="",L22="Canceled"),"",SUMPRODUCT(($F$2:$F$251=F22)*($I$2:$I$251<J22)*($J$2:$J$251>I22)*($L$2:$L$251<>"Canceled")*($A$2:$A$251<>A22)*($A$2:$A$251<>""))),"") | Z22: =IFERROR(IF(COUNTA(B22:X22)=0,"",IF(A22="","Missing reservation ID",IF(C22="","Missing guest name",IF(OR(I22="",J22="",J22<=I22),"Review stay dates",IF(Y22>0,"Room overlap",IF(AND(I22<'Setup & Instructions'!$B$5,OR(L22="Confirmed",L22="Hold")),"Arrival status overdue",IF(AND(L22="Confirmed",I22>='Setup & Instructions'!$B$5,IFERROR(S22/R22,0)<'Setup & Instructions'!$B$10),"Deposit below target",IF(AND(J22<'Setup & Instructions'!$B$5,T22>0),"Balance due after departure","OK")))))))),"")
K23: =IFERROR(IF(OR(I23="",J23=""),"",J23-I23),"") | O23: =IFERROR(IF(OR(K23="",N23=""),"",K23*N23),"") | P23: =IFERROR(IF(O23="","",O23*'Setup & Instructions'!$B$9),"") | Q23: =IFERROR(IF(O23="","",(O23+P23)*'Setup & Instructions'!$B$8),"") | R23: =IFERROR(IF(O23="","",O23+P23+Q23),"") | T23: =IFERROR(IF(R23="","",IF(L23="Canceled",0,R23-S23)),"") | U23: =IFERROR(IF(A23="","",IF(L23="Canceled","Canceled",IF(T23<0,"Credit Balance",IF(T23=0,"Paid in Full",IF(S23>0,"Deposit Paid","No Payment Recorded"))))),"") | Y23: =IFERROR(IF(OR(F23="",I23="",J23="",L23="Canceled"),"",SUMPRODUCT(($F$2:$F$251=F23)*($I$2:$I$251<J23)*($J$2:$J$251>I23)*($L$2:$L$251<>"Canceled")*($A$2:$A$251<>A23)*($A$2:$A$251<>""))),"") | Z23: =IFERROR(IF(COUNTA(B23:X23)=0,"",IF(A23="","Missing reservation ID",IF(C23="","Missing guest name",IF(OR(I23="",J23="",J23<=I23),"Review stay dates",IF(Y23>0,"Room overlap",IF(AND(I23<'Setup & Instructions'!$B$5,OR(L23="Confirmed",L23="Hold")),"Arrival status overdue",IF(AND(L23="Confirmed",I23>='Setup & Instructions'!$B$5,IFERROR(S23/R23,0)<'Setup & Instructions'!$B$10),"Deposit below target",IF(AND(J23<'Setup & Instructions'!$B$5,T23>0),"Balance due after departure","OK")))))))),"")
... K251: =IFERROR(IF(OR(I251="",J251=""),"",J251-I251),"") | O251: =IFERROR(IF(OR(K251="",N251=""),"",K251*N251),"") | P251: =IFERROR(IF(O251="","",O251*'Setup & Instructions'!$B$9),"") | Q251: =IFERROR(IF(O251="","",(O251+P251)*'Setup & Instructions'!$B$8),"") | R251: =IFERROR(IF(O251="","",O251+P251+Q251),"") | T251: =IFERROR(IF(R251="","",IF(L251="Canceled",0,R251-S251)),"") | U251: =IFERROR(IF(A251="","",IF(L251="Canceled","Canceled",IF(T251<0,"Credit Balance",IF(T251=0,"Paid in Full",IF(S251>0,"Deposit Paid","No Payment Recorded"))))),"") | Y251: =IFERROR(IF(OR(F251="",I251="",J251="",L251="Canceled"),"",SUMPRODUCT(($F$2:$F$251=F251)*($I$2:$I$251<J251)*($J$2:$J$251>I251)*($L$2:$L$251<>"Canceled")*($A$2:$A$251<>A251)*($A$2:$A$251<>""))),"") | Z251: =IFERROR(IF(COUNTA(B251:X251)=0,"",IF(A251="","Missing reservation ID",IF(C251="","Missing guest name",IF(OR(I251="",J251="",J251<=I251),"Review stay dates",IF(Y251>0,"Room overlap",IF(AND(I251<'Setup & Instructions'!$B$5,OR(L251="Confirmed",L251="Hold")),"Arrival status overdue",IF(AND(L251="Confirmed",I251>='Setup & Instructions'!$B$5,IFERROR(S251/R251,0)<'Setup & Instructions'!$B$10),"Deposit below target",IF(AND(J251<'Setup & Instructions'!$B$5,T251>0),"Balance due after departure","OK")))))))),"")

Sheet Calendar
A1: Monthly Reservation Calendar
A3: Selected Month | B3: =IFERROR('Setup & Instructions'!$B$4,0) | D3: As-of Date | E3: =IFERROR('Setup & Instructions'!$B$5,0) | G3: Room Count | H3: =IFERROR('Setup & Instructions'!$B$7,0) | N3: Roster Date | O3: =IFERROR('Setup & Instructions'!$B$5,0)
A4: Change the month on the Setup & Instructions worksheet. The calendar updates automatically.
N5: Guest Name | O5: Room | P5: Status | Q5: Arrival Date | R5: Departure Date | S5: Adults | T5: Children | U5: Balance Due | V5: Special Requests | W5: Assigned Team Member
A6: Sunday | B6: Monday | C6: Tuesday | D6: Wednesday | E6: Thursday | F6: Friday | G6: Saturday | N6: =IFERROR(IF(AND(Reservations!$I2<=$O$3,Reservations!$J2>$O$3,Reservations!$L2<>"Canceled",Reservations!$A2<>""),Reservations!$C2,""),"") | O6: =IFERROR(IF(AND(Reservations!$I2<=$O$3,Reservations!$J2>$O$3,Reservations!$L2<>"Canceled",Reservations!$A2<>""),Reservations!$F2,""),"") | P6: =IFERROR(IF(AND(Reservations!$I2<=$O$3,Reservations!$J2>$O$3,Reservations!$L2<>"Canceled",Reservations!$A2<>""),Reservations!$L2,""),"") | Q6: =IFERROR(IF(AND(Reservations!$I2<=$O$3,Reservations!$J2>$O$3,Reservations!$L2<>"Canceled",Reservations!$A2<>""),Reservations!$I2,""),"") | R6: =IFERROR(IF(AND(Reservations!$I2<=$O$3,Reservations!$J2>$O$3,Reservations!$L2<>"Canceled",Reservations!$A2<>""),Reservations!$J2,""),"") | S6: =IFERROR(IF(AND(Reservations!$I2<=$O$3,Reservations!$J2>$O$3,Reservations!$L2<>"Canceled",Reservations!$A2<>""),Reservations!$G2,""),"") | T6: =IFERROR(IF(AND(Reservations!$I2<=$O$3,Reservations!$J2>$O$3,Reservations!$L2<>"Canceled",Reservations!$A2<>""),Reservations!$H2,""),"") | U6: =IFERROR(IF(AND(Reservations!$I2<=$O$3,Reservations!$J2>$O$3,Reservations!$L2<>"Canceled",Reservations!$A2<>""),Reservations!$T2,""),"") | V6: =IFERROR(IF(AND(Reservations!$I2<=$O$3,Reservations!$J2>$O$3,Reservations!$L2<>"Canceled",Reservations!$A2<>""),Reservations!$V2,""),"") | W6: =IFERROR(IF(AND(Reservations!$I2<=$O$3,Reservations!$J2>$O$3,Reservations!$L2<>"Canceled",Reservations!$A2<>""),Reservations!$W2,""),"")
A7: =IFERROR(DAY(A17)&CHAR(10)&"Arrivals: "&D17&CHAR(10)&"Departures: "&E17&CHAR(10)&"Occupied: "&F17&CHAR(10)&ROUND(H17*100,0)&"%","") | B7: =IFERROR(DAY(A18)&CHAR(10)&"Arrivals: "&D18&CHAR(10)&"Departures: "&E18&CHAR(10)&"Occupied: "&F18&CHAR(10)&ROUND(H18*100,0)&"%","") | C7: =IFERROR(DAY(A19)&CHAR(10)&"Arrivals: "&D19&CHAR(10)&"Departures: "&E19&CHAR(10)&"Occupied: "&F19&CHAR(10)&ROUND(H19*100,0)&"%","") | D7: =IFERROR(DAY(A20)&CHAR(10)&"Arrivals: "&D20&CHAR(10)&"Departures: "&E20&CHAR(10)&"Occupied: "&F20&CHAR(10)&ROUND(H20*100,0)&"%","") | E7: =IFERROR(DAY(A21)&CHAR(10)&"Arrivals: "&D21&CHAR(10)&"Departures: "&E21&CHAR(10)&"Occupied: "&F21&CHAR(10)&ROUND(H21*100,0)&"%","") | F7: =IFERROR(DAY(A22)&CHAR(10)&"Arrivals: "&D22&CHAR(10)&"Departures: "&E22&CHAR(10)&"Occupied: "&F22&CHAR(10)&ROUND(H22*100,0)&"%","") | G7: =IFERROR(DAY(A23)&CHAR(10)&"Arrivals: "&D23&CHAR(10)&"Departures: "&E23&CHAR(10)&"Occupied: "&F23&CHAR(10)&ROUND(H23*100,0)&"%","") | N7: =IFERROR(IF(AND(Reservations!$I3<=$O$3,Reservations!$J3>$O$3,Reservations!$L3<>"Canceled",Reservations!$A3<>""),Reservations!$C3,""),"") | O7: =IFERROR(IF(AND(Reservations!$I3<=$O$3,Reservations!$J3>$O$3,Reservations!$L3<>"Canceled",Reservations!$A3<>""),Reservations!$F3,""),"") | P7: =IFERROR(IF(AND(Reservations!$I3<=$O$3,Reservations!$J3>$O$3,Reservations!$L3<>"Canceled",Reservations!$A3<>""),Reservations!$L3,""),"") | Q7: =IFERROR(IF(AND(Reservations!$I3<=$O$3,Reservations!$J3>$O$3,Reservations!$L3<>"Canceled",Reservations!$A3<>""),Reservations!$I3,""),"") | R7: =IFERROR(IF(AND(Reservations!$I3<=$O$3,Reservations!$J3>$O$3,Reservations!$L3<>"Canceled",Reservations!$A3<>""),Reservations!$J3,""),"") | S7: =IFERROR(IF(AND(Reservations!$I3<=$O$3,Reservations!$J3>$O$3,Reservations!$L3<>"Canceled",Reservations!$A3<>""),Reservations!$G3,""),"") | T7: =IFERROR(IF(AND(Reservations!$I3<=$O$3,Reservations!$J3>$O$3,Reservations!$L3<>"Canceled",Reservations!$A3<>""),Reservations!$H3,""),"") | U7: =IFERROR(IF(AND(Reservations!$I3<=$O$3,Reservations!$J3>$O$3,Reservations!$L3<>"Canceled",Reservations!$A3<>""),Reservations!$T3,""),"") | V7: =IFERROR(IF(AND(Reservations!$I3<=$O$3,Reservations!$J3>$O$3,Reservations!$L3<>"Canceled",Reservations!$A3<>""),Reservations!$V3,""),"") | W7: =IFERROR(IF(AND(Reservations!$I3<=$O$3,Reservations!$J3>$O$3,Reservations!$L3<>"Canceled",Reservations!$A3<>""),Reservations!$W3,""),"")
A8: =IFERROR(DAY(A24)&CHAR(10)&"Arrivals: "&D24&CHAR(10)&"Departures: "&E24&CHAR(10)&"Occupied: "&F24&CHAR(10)&ROUND(H24*100,0)&"%","") | B8: =IFERROR(DAY(A25)&CHAR(10)&"Arrivals: "&D25&CHAR(10)&"Departures: "&E25&CHAR(10)&"Occupied: "&F25&CHAR(10)&ROUND(H25*100,0)&"%","") | C8: =IFERROR(DAY(A26)&CHAR(10)&"Arrivals: "&D26&CHAR(10)&"Departures: "&E26&CHAR(10)&"Occupied: "&F26&CHAR(10)&ROUND(H26*100,0)&"%","") | D8: =IFERROR(DAY(A27)&CHAR(10)&"Arrivals: "&D27&CHAR(10)&"Departures: "&E27&CHAR(10)&"Occupied: "&F27&CHAR(10)&ROUND(H27*100,0)&"%","") | E8: =IFERROR(DAY(A28)&CHAR(10)&"Arrivals: "&D28&CHAR(10)&"Departures: "&E28&CHAR(10)&"Occupied: "&F28&CHAR(10)&ROUND(H28*100,0)&"%","") | F8: =IFERROR(DAY(A29)&CHAR(10)&"Arrivals: "&D29&CHAR(10)&"Departures: "&E29&CHAR(10)&"Occupied: "&F29&CHAR(10)&ROUND(H29*100,0)&"%","") | G8: =IFERROR(DAY(A30)&CHAR(10)&"Arrivals: "&D30&CHAR(10)&"Departures: "&E30&CHAR(10)&"Occupied: "&F30&CHAR(10)&ROUND(H30*100,0)&"%","") | N8: =IFERROR(IF(AND(Reservations!$I4<=$O$3,Reservations!$J4>$O$3,Reservations!$L4<>"Canceled",Reservations!$A4<>""),Reservations!$C4,""),"") | O8: =IFERROR(IF(AND(Reservations!$I4<=$O$3,Reservations!$J4>$O$3,Reservations!$L4<>"Canceled",Reservations!$A4<>""),Reservations!$F4,""),"") | P8: =IFERROR(IF(AND(Reservations!$I4<=$O$3,Reservations!$J4>$O$3,Reservations!$L4<>"Canceled",Reservations!$A4<>""),Reservations!$L4,""),"") | Q8: =IFERROR(IF(AND(Reservations!$I4<=$O$3,Reservations!$J4>$O$3,Reservations!$L4<>"Canceled",Reservations!$A4<>""),Reservations!$I4,""),"") | R8: =IFERROR(IF(AND(Reservations!$I4<=$O$3,Reservations!$J4>$O$3,Reservations!$L4<>"Canceled",Reservations!$A4<>""),Reservations!$J4,""),"") | S8: =IFERROR(IF(AND(Reservations!$I4<=$O$3,Reservations!$J4>$O$3,Reservations!$L4<>"Canceled",Reservations!$A4<>""),Reservations!$G4,""),"") | T8: =IFERROR(IF(AND(Reservations!$I4<=$O$3,Reservations!$J4>$O$3,Reservations!$L4<>"Canceled",Reservations!$A4<>""),Reservations!$H4,""),"") | U8: =IFERROR(IF(AND(Reservations!$I4<=$O$3,Reservations!$J4>$O$3,Reservations!$L4<>"Canceled",Reservations!$A4<>""),Reservations!$T4,""),"") | V8: =IFERROR(IF(AND(Reservations!$I4<=$O$3,Reservations!$J4>$O$3,Reservations!$L4<>"Canceled",Reservations!$A4<>""),Reservations!$V4,""),"") | W8: =IFERROR(IF(AND(Reservations!$I4<=$O$3,Reservations!$J4>$O$3,Reservations!$L4<>"Canceled",Reservations!$A4<>""),Reservations!$W4,""),"")
A9: =IFERROR(DAY(A31)&CHAR(10)&"Arrivals: "&D31&CHAR(10)&"Departures: "&E31&CHAR(10)&"Occupied: "&F31&CHAR(10)&ROUND(H31*100,0)&"%","") | B9: =IFERROR(DAY(A32)&CHAR(10)&"Arrivals: "&D32&CHAR(10)&"Departures: "&E32&CHAR(10)&"Occupied: "&F32&CHAR(10)&ROUND(H32*100,0)&"%","") | C9: =IFERROR(DAY(A33)&CHAR(10)&"Arrivals: "&D33&CHAR(10)&"Departures: "&E33&CHAR(10)&"Occupied: "&F33&CHAR(10)&ROUND(H33*100,0)&"%","") | D9: =IFERROR(DAY(A34)&CHAR(10)&"Arrivals: "&D34&CHAR(10)&"Departures: "&E34&CHAR(10)&"Occupied: "&F34&CHAR(10)&ROUND(H34*100,0)&"%","") | E9: =IFERROR(DAY(A35)&CHAR(10)&"Arrivals: "&D35&CHAR(10)&"Departures: "&E35&CHAR(10)&"Occupied: "&F35&CHAR(10)&ROUND(H35*100,0)&"%","") | F9: =IFERROR(DAY(A36)&CHAR(10)&"Arrivals: "&D36&CHAR(10)&"Departures: "&E36&CHAR(10)&"Occupied: "&F36&CHAR(10)&ROUND(H36*100,0)&"%","") | G9: =IFERROR(DAY(A37)&CHAR(10)&"Arrivals: "&D37&CHAR(10)&"Departures: "&E37&CHAR(10)&"Occupied: "&F37&CHAR(10)&ROUND(H37*100,0)&"%","") | N9: =IFERROR(IF(AND(Reservations!$I5<=$O$3,Reservations!$J5>$O$3,Reservations!$L5<>"Canceled",Reservations!$A5<>""),Reservations!$C5,""),"") | O9: =IFERROR(IF(AND(Reservations!$I5<=$O$3,Reservations!$J5>$O$3,Reservations!$L5<>"Canceled",Reservations!$A5<>""),Reservations!$F5,""),"") | P9: =IFERROR(IF(AND(Reservations!$I5<=$O$3,Reservations!$J5>$O$3,Reservations!$L5<>"Canceled",Reservations!$A5<>""),Reservations!$L5,""),"") | Q9: =IFERROR(IF(AND(Reservations!$I5<=$O$3,Reservations!$J5>$O$3,Reservations!$L5<>"Canceled",Reservations!$A5<>""),Reservations!$I5,""),"") | R9: =IFERROR(IF(AND(Reservations!$I5<=$O$3,Reservations!$J5>$O$3,Reservations!$L5<>"Canceled",Reservations!$A5<>""),Reservations!$J5,""),"") | S9: =IFERROR(IF(AND(Reservations!$I5<=$O$3,Reservations!$J5>$O$3,Reservations!$L5<>"Canceled",Reservations!$A5<>""),Reservations!$G5,""),"") | T9: =IFERROR(IF(AND(Reservations!$I5<=$O$3,Reservations!$J5>$O$3,Reservations!$L5<>"Canceled",Reservations!$A5<>""),Reservations!$H5,""),"") | U9: =IFERROR(IF(AND(Reservations!$I5<=$O$3,Reservations!$J5>$O$3,Reservations!$L5<>"Canceled",Reservations!$A5<>""),Reservations!$T5,""),"") | V9: =IFERROR(IF(AND(Reservations!$I5<=$O$3,Reservations!$J5>$O$3,Reservations!$L5<>"Canceled",Reservations!$A5<>""),Reservations!$V5,""),"") | W9: =IFERROR(IF(AND(Reservations!$I5<=$O$3,Reservations!$J5>$O$3,Reservations!$L5<>"Canceled",Reservations!$A5<>""),Reservations!$W5,""),"")
