Workbook

Sheet Dashboard
A1: Hotel Vendor Contact Dashboard
A2: Vendor coverage, follow-up activity, and upcoming renewal dates | H2: Vendor Directory | I2: Contact Log | J2: Instructions
A3: Dashboard as of | B3: =IFERROR(TODAY(),"")
A5: Insurance expiration warning days | B5: 30 | D5: Active Vendors | F5: Preferred Vendors | H5: Emergency-Capable Vendors
A6: Contract renewal warning days | B6: 60 | D6: =IFERROR(COUNTIF('Vendor Directory'!$F$2:$F$151,"Active"),0) | F6: =IFERROR(COUNTIFS('Vendor Directory'!$F$2:$F$151,"Active",'Vendor Directory'!$G$2:$G$151,"Yes"),0) | H6: =IFERROR(COUNTIFS('Vendor Directory'!$F$2:$F$151,"Active",'Vendor Directory'!$H$2:$H$151,"Yes"),0)
A7: Stale vendor record days | B7: 180
A8: Follow-up due soon days | B8: 7 | D8: Open Follow-Ups | F8: Overdue Follow-Ups | H8: Insurance Expiring Soon
D9: =IFERROR(COUNTIF('Contact Log'!$O$2:$O$301,"Open")+COUNTIF('Contact Log'!$O$2:$O$301,"Due Soon"),0) | F9: =IFERROR(COUNTIF('Contact Log'!$O$2:$O$301,"Overdue"),0) | H9: =IFERROR(COUNTIF('Vendor Directory'!$Z$2:$Z$151,"Expiring Soon"),0)
A10: These are internal monitoring thresholds only. Adjust them to match property policy and vendor-management practices.
D11: Contracts Renewing Soon | F11: Vendor Records Needing Review
D12: =IFERROR(COUNTIF('Vendor Directory'!$AB$2:$AB$151,"Renewing Soon"),0) | F12: =IFERROR(COUNTIF('Vendor Directory'!$AD$2:$AD$151,"Review Needed"),0)
D13: =""
A14: Vendor Count by Category | D14: ="" | E14: Follow-Up Summary
A15: Vendor Category | B15: Active Vendors | C15: Preferred Vendors | D15: ="" | E15: Follow-Up Status | F15: Entries
A16: Food and Beverage | B16: =IFERROR(COUNTIFS('Vendor Directory'!$C$2:$C$151,A16,'Vendor Directory'!$F$2:$F$151,"Active"),0) | C16: =IFERROR(COUNTIFS('Vendor Directory'!$C$2:$C$151,A16,'Vendor Directory'!$F$2:$F$151,"Active",'Vendor Directory'!$G$2:$G$151,"Yes"),0) | D16: ="" | E16: Overdue | F16: =IFERROR(COUNTIF('Contact Log'!$O$2:$O$301,E16),0)
A17: Housekeeping Supplies | B17: =IFERROR(COUNTIFS('Vendor Directory'!$C$2:$C$151,A17,'Vendor Directory'!$F$2:$F$151,"Active"),0) | C17: =IFERROR(COUNTIFS('Vendor Directory'!$C$2:$C$151,A17,'Vendor Directory'!$F$2:$F$151,"Active",'Vendor Directory'!$G$2:$G$151,"Yes"),0) | D17: ="" | E17: Due Soon | F17: =IFERROR(COUNTIF('Contact Log'!$O$2:$O$301,E17),0)
A18: Linen and Laundry | B18: =IFERROR(COUNTIFS('Vendor Directory'!$C$2:$C$151,A18,'Vendor Directory'!$F$2:$F$151,"Active"),0) | C18: =IFERROR(COUNTIFS('Vendor Directory'!$C$2:$C$151,A18,'Vendor Directory'!$F$2:$F$151,"Active",'Vendor Directory'!$G$2:$G$151,"Yes"),0) | D18: ="" | E18: Open | F18: =IFERROR(COUNTIF('Contact Log'!$O$2:$O$301,E18),0)
A19: Maintenance | B19: =IFERROR(COUNTIFS('Vendor Directory'!$C$2:$C$151,A19,'Vendor Directory'!$F$2:$F$151,"Active"),0) | C19: =IFERROR(COUNTIFS('Vendor Directory'!$C$2:$C$151,A19,'Vendor Directory'!$F$2:$F$151,"Active",'Vendor Directory'!$G$2:$G$151,"Yes"),0) | D19: ="" | E19: Completed | F19: =IFERROR(COUNTIF('Contact Log'!$O$2:$O$301,E19),0)
A20: HVAC | B20: =IFERROR(COUNTIFS('Vendor Directory'!$C$2:$C$151,A20,'Vendor Directory'!$F$2:$F$151,"Active"),0) | C20: =IFERROR(COUNTIFS('Vendor Directory'!$C$2:$C$151,A20,'Vendor Directory'!$F$2:$F$151,"Active",'Vendor Directory'!$G$2:$G$151,"Yes"),0) | D20: ="" | E20: No Follow-Up | F20: =IFERROR(COUNTIF('Contact Log'!$O$2:$O$301,E20),0)
A21: Plumbing | B21: =IFERROR(COUNTIFS('Vendor Directory'!$C$2:$C$151,A21,'Vendor Directory'!$F$2:$F$151,"Active"),0) | C21: =IFERROR(COUNTIFS('Vendor Directory'!$C$2:$C$151,A21,'Vendor Directory'!$F$2:$F$151,"Active",'Vendor Directory'!$G$2:$G$151,"Yes"),0) | D21: ="" | F21: =""
A22: Electrical | B22: =IFERROR(COUNTIFS('Vendor Directory'!$C$2:$C$151,A22,'Vendor Directory'!$F$2:$F$151,"Active"),0) | C22: =IFERROR(COUNTIFS('Vendor Directory'!$C$2:$C$151,A22,'Vendor Directory'!$F$2:$F$151,"Active",'Vendor Directory'!$G$2:$G$151,"Yes"),0) | D22: ="" | F22: =""
A23: Landscaping | B23: =IFERROR(COUNTIFS('Vendor Directory'!$C$2:$C$151,A23,'Vendor Directory'!$F$2:$F$151,"Active"),0) | C23: =IFERROR(COUNTIFS('Vendor Directory'!$C$2:$C$151,A23,'Vendor Directory'!$F$2:$F$151,"Active",'Vendor Directory'!$G$2:$G$151,"Yes"),0) | D23: ="" | F23: =""
A24: Pest Control | B24: =IFERROR(COUNTIFS('Vendor Directory'!$C$2:$C$151,A24,'Vendor Directory'!$F$2:$F$151,"Active"),0) | C24: =IFERROR(COUNTIFS('Vendor Directory'!$C$2:$C$151,A24,'Vendor Directory'!$F$2:$F$151,"Active",'Vendor Directory'!$G$2:$G$151,"Yes"),0) | D24: ="" | F24: =""
A25: Security | B25: =IFERROR(COUNTIFS('Vendor Directory'!$C$2:$C$151,A25,'Vendor Directory'!$F$2:$F$151,"Active"),0) | C25: =IFERROR(COUNTIFS('Vendor Directory'!$C$2:$C$151,A25,'Vendor Directory'!$F$2:$F$151,"Active",'Vendor Directory'!$G$2:$G$151,"Yes"),0) | D25: ="" | F25: =""
A26: Technology | B26: =IFERROR(COUNTIFS('Vendor Directory'!$C$2:$C$151,A26,'Vendor Directory'!$F$2:$F$151,"Active"),0) | C26: =IFERROR(COUNTIFS('Vendor Directory'!$C$2:$C$151,A26,'Vendor Directory'!$F$2:$F$151,"Active",'Vendor Directory'!$G$2:$G$151,"Yes"),0) | D26: ="" | F26: =""
A27: Waste and Recycling | B27: =IFERROR(COUNTIFS('Vendor Directory'!$C$2:$C$151,A27,'Vendor Directory'!$F$2:$F$151,"Active"),0) | C27: =IFERROR(COUNTIFS('Vendor Directory'!$C$2:$C$151,A27,'Vendor Directory'!$F$2:$F$151,"Active",'Vendor Directory'!$G$2:$G$151,"Yes"),0) | D27: ="" | F27: =""
A28: Event Services | B28: =IFERROR(COUNTIFS('Vendor Directory'!$C$2:$C$151,A28,'Vendor Directory'!$F$2:$F$151,"Active"),0) | C28: =IFERROR(COUNTIFS('Vendor Directory'!$C$2:$C$151,A28,'Vendor Directory'!$F$2:$F$151,"Active",'Vendor Directory'!$G$2:$G$151,"Yes"),0) | D28: ="" | F28: =""
A29: Transportation | B29: =IFERROR(COUNTIFS('Vendor Directory'!$C$2:$C$151,A29,'Vendor Directory'!$F$2:$F$151,"Active"),0) | C29: =IFERROR(COUNTIFS('Vendor Directory'!$C$2:$C$151,A29,'Vendor Directory'!$F$2:$F$151,"Active",'Vendor Directory'!$G$2:$G$151,"Yes"),0) | D29: ="" | F29: =""
A30: Other | B30: =IFERROR(COUNTIFS('Vendor Directory'!$C$2:$C$151,A30,'Vendor Directory'!$F$2:$F$151,"Active"),0) | C30: =IFERROR(COUNTIFS('Vendor Directory'!$C$2:$C$151,A30,'Vendor Directory'!$F$2:$F$151,"Active",'Vendor Directory'!$G$2:$G$151,"Yes"),0) | D30: ="" | F30: =""
A31: Total | B31: =IFERROR(SUM(B16:B30),0) | C31: =IFERROR(SUM(C16:C30),0) | D31: ="" | F31: =""
B32: ="" | C32: ="" | D32: ="" | F32: =""
B33: ="" | C33: ="" | D33: ="" | F33: =""
B34: ="" | C34: ="" | D34: ="" | F34: =""
B35: ="" | C35: ="" | D35: ="" | F35: =""
B36: ="" | C36: ="" | D36: ="" | F36: =""
B37: ="" | C37: ="" | D37: ="" | F37: =""
B38: ="" | C38: ="" | D38: ="" | F38: =""
B39: ="" | C39: ="" | D39: ="" | F39: =""
B40: ="" | C40: ="" | D40: ="" | F40: =""
B41: ="" | C41: ="" | D41: ="" | F41: =""
...

Sheet Vendor Directory
A1: Vendor ID | B1: Vendor Name | C1: Vendor Category | D1: Primary Service | E1: Property Department | F1: Vendor Status | G1: Preferred Vendor | H1: Emergency Service | I1: Primary Contact | J1: Contact Title | K1: Business Phone | L1: Mobile Phone | M1: Email | N1: Website | O1: Street Address | P1: City | Q1: State | R1: ZIP Code | S1: Service Area | T1: Account Number | U1: Ordering Method | V1: Payment Terms | W1: Minimum Order | X1: Standard Lead Time Days | Y1: Insurance Expiration Date | Z1: Insurance Status | AA1: Contract Renewal Date | AB1: Contract Status | AC1: Last Verified Date | AD1: Record Review Status | AE1: Last Contact Date | AF1: Contact Activity Status | AG1: Internal Owner | AH1: Notes
A2: V-1001 | B2: Desert Peak Linen Services | C2: Linen and Laundry | D2: Guest room linen pickup and delivery | E2: Housekeeping | F2: Active | G2: Yes | H2: No | I2: Maria Lopez | J2: Account Manager | K2: (602) 555-0148 | L2: (602) 555-0182 | M2: maria.lopez@example.com | N2: https://example.com/desertpeak | O2: 2400 West Sample Road | P2: Phoenix | Q2: AZ | R2: 85009 | S2: Phoenix metro | T2: ACCT-LIN-104 | U2: Email | V2: Net 30 | W2: 350 | X2: 2 | Y2: 46289 | Z2: =IFERROR(IF(A2="","",IF(Y2="","Not Tracked",IF(Y2<TODAY(),"Expired",IF(Y2<=TODAY()+Dashboard!$B$5,"Expiring Soon","Current")))),"Check Date") | AA2: 46366 | AB2: =IFERROR(IF(A2="","",IF(AA2="","Not Tracked",IF(AA2<TODAY(),"Past Renewal Date",IF(AA2<=TODAY()+Dashboard!$B$6,"Renewing Soon","Current")))),"Check Date") | AC2: 46226 | AD2: =IFERROR(IF(A2="","",IF(AC2="","Review Needed",IF(TODAY()-AC2>Dashboard!$B$7,"Review Needed","Current"))),"Review Needed") | AE2: =IFERROR(IF(A2="","",MAXIFS('Contact Log'!$D$2:$D$301,'Contact Log'!$B$2:$B$301,A2)),"") | AF2: =IFERROR(IF(A2="","",IF(AE2="","No Activity Logged",IF(TODAY()-AE2>Dashboard!$B$7,"Stale","Recent"))),"No Activity Logged") | AG2: Taylor Morgan | AH2: Monday and Thursday service schedule.
A3: V-1002 | B3: Copper State Produce Supply | C3: Food and Beverage | D3: Fresh produce delivery | E3: Food and Beverage | F3: Active | G3: Yes | H3: Yes | I3: Jordan Ellis | J3: Hospitality Sales Representative | K3: (480) 555-0112 | L3: (480) 555-0179 | M3: jordan.ellis@example.com | N3: https://example.com/copperproduce | O3: 1450 Market Way | P3: Tempe | Q3: AZ | R3: 85281 | S3: Central Arizona | T3: ACCT-FB-221 | U3: Vendor Portal | V3: Net 15 | W3: 200 | X3: 1 | Y3: 46387 | Z3: =IFERROR(IF(A3="","",IF(Y3="","Not Tracked",IF(Y3<TODAY(),"Expired",IF(Y3<=TODAY()+Dashboard!$B$5,"Expiring Soon","Current")))),"Check Date") | AA3: 46311 | AB3: =IFERROR(IF(A3="","",IF(AA3="","Not Tracked",IF(AA3<TODAY(),"Past Renewal Date",IF(AA3<=TODAY()+Dashboard!$B$6,"Renewing Soon","Current")))),"Check Date") | AC3: 46246 | AD3: =IFERROR(IF(A3="","",IF(AC3="","Review Needed",IF(TODAY()-AC3>Dashboard!$B$7,"Review Needed","Current"))),"Review Needed") | AE3: =IFERROR(IF(A3="","",MAXIFS('Contact Log'!$D$2:$D$301,'Contact Log'!$B$2:$B$301,A3)),"") | AF3: =IFERROR(IF(A3="","",IF(AE3="","No Activity Logged",IF(TODAY()-AE3>Dashboard!$B$7,"Stale","Recent"))),"No Activity Logged") | AG3: Alex Carter | AH3: Cutoff time is noon for next-day delivery.
A4: V-1003 | B4: Summit Mechanical Response | C4: HVAC | D4: HVAC preventive maintenance and emergency repair | E4: Engineering | F4: Active | G4: Yes | H4: Yes | I4: Anthony Reed | J4: Service Manager | K4: (480) 555-0190 | L4: (480) 555-0128 | M4: anthony.reed@example.com | N4: https://example.com/summitmechanical | O4: 900 Service Loop | P4: Mesa | Q4: AZ | R4: 85201 | S4: Maricopa County | T4: ACCT-HVAC-309 | U4: Phone | V4: Net 30 | W4: 0 | X4: 1 | Y4: 46259 | Z4: =IFERROR(IF(A4="","",IF(Y4="","Not Tracked",IF(Y4<TODAY(),"Expired",IF(Y4<=TODAY()+Dashboard!$B$5,"Expiring Soon","Current")))),"Check Date") | AA4: 46291 | AB4: =IFERROR(IF(A4="","",IF(AA4="","Not Tracked",IF(AA4<TODAY(),"Past Renewal Date",IF(AA4<=TODAY()+Dashboard!$B$6,"Renewing Soon","Current")))),"Check Date") | AC4: 46061 | AD4: =IFERROR(IF(A4="","",IF(AC4="","Review Needed",IF(TODAY()-AC4>Dashboard!$B$7,"Review Needed","Current"))),"Review Needed") | AE4: =IFERROR(IF(A4="","",MAXIFS('Contact Log'!$D$2:$D$301,'Contact Log'!$B$2:$B$301,A4)),"") | AF4: =IFERROR(IF(A4="","",IF(AE4="","No Activity Logged",IF(TODAY()-AE4>Dashboard!$B$7,"Stale","Recent"))),"No Activity Logged") | AG4: Morgan Lee | AH4: 24-hour emergency dispatch available.
Z5: =IFERROR(IF(A5="","",IF(Y5="","Not Tracked",IF(Y5<TODAY(),"Expired",IF(Y5<=TODAY()+Dashboard!$B$5,"Expiring Soon","Current")))),"Check Date") | AB5: =IFERROR(IF(A5="","",IF(AA5="","Not Tracked",IF(AA5<TODAY(),"Past Renewal Date",IF(AA5<=TODAY()+Dashboard!$B$6,"Renewing Soon","Current")))),"Check Date") | AD5: =IFERROR(IF(A5="","",IF(AC5="","Review Needed",IF(TODAY()-AC5>Dashboard!$B$7,"Review Needed","Current"))),"Review Needed") | AE5: =IFERROR(IF(A5="","",MAXIFS('Contact Log'!$D$2:$D$301,'Contact Log'!$B$2:$B$301,A5)),"") | AF5: =IFERROR(IF(A5="","",IF(AE5="","No Activity Logged",IF(TODAY()-AE5>Dashboard!$B$7,"Stale","Recent"))),"No Activity Logged")
Z6: =IFERROR(IF(A6="","",IF(Y6="","Not Tracked",IF(Y6<TODAY(),"Expired",IF(Y6<=TODAY()+Dashboard!$B$5,"Expiring Soon","Current")))),"Check Date") | AB6: =IFERROR(IF(A6="","",IF(AA6="","Not Tracked",IF(AA6<TODAY(),"Past Renewal Date",IF(AA6<=TODAY()+Dashboard!$B$6,"Renewing Soon","Current")))),"Check Date") | AD6: =IFERROR(IF(A6="","",IF(AC6="","Review Needed",IF(TODAY()-AC6>Dashboard!$B$7,"Review Needed","Current"))),"Review Needed") | AE6: =IFERROR(IF(A6="","",MAXIFS('Contact Log'!$D$2:$D$301,'Contact Log'!$B$2:$B$301,A6)),"") | AF6: =IFERROR(IF(A6="","",IF(AE6="","No Activity Logged",IF(TODAY()-AE6>Dashboard!$B$7,"Stale","Recent"))),"No Activity Logged")
Z7: =IFERROR(IF(A7="","",IF(Y7="","Not Tracked",IF(Y7<TODAY(),"Expired",IF(Y7<=TODAY()+Dashboard!$B$5,"Expiring Soon","Current")))),"Check Date") | AB7: =IFERROR(IF(A7="","",IF(AA7="","Not Tracked",IF(AA7<TODAY(),"Past Renewal Date",IF(AA7<=TODAY()+Dashboard!$B$6,"Renewing Soon","Current")))),"Check Date") | AD7: =IFERROR(IF(A7="","",IF(AC7="","Review Needed",IF(TODAY()-AC7>Dashboard!$B$7,"Review Needed","Current"))),"Review Needed") | AE7: =IFERROR(IF(A7="","",MAXIFS('Contact Log'!$D$2:$D$301,'Contact Log'!$B$2:$B$301,A7)),"") | AF7: =IFERROR(IF(A7="","",IF(AE7="","No Activity Logged",IF(TODAY()-AE7>Dashboard!$B$7,"Stale","Recent"))),"No Activity Logged")
Z8: =IFERROR(IF(A8="","",IF(Y8="","Not Tracked",IF(Y8<TODAY(),"Expired",IF(Y8<=TODAY()+Dashboard!$B$5,"Expiring Soon","Current")))),"Check Date") | AB8: =IFERROR(IF(A8="","",IF(AA8="","Not Tracked",IF(AA8<TODAY(),"Past Renewal Date",IF(AA8<=TODAY()+Dashboard!$B$6,"Renewing Soon","Current")))),"Check Date") | AD8: =IFERROR(IF(A8="","",IF(AC8="","Review Needed",IF(TODAY()-AC8>Dashboard!$B$7,"Review Needed","Current"))),"Review Needed") | AE8: =IFERROR(IF(A8="","",MAXIFS('Contact Log'!$D$2:$D$301,'Contact Log'!$B$2:$B$301,A8)),"") | AF8: =IFERROR(IF(A8="","",IF(AE8="","No Activity Logged",IF(TODAY()-AE8>Dashboard!$B$7,"Stale","Recent"))),"No Activity Logged")
Z9: =IFERROR(IF(A9="","",IF(Y9="","Not Tracked",IF(Y9<TODAY(),"Expired",IF(Y9<=TODAY()+Dashboard!$B$5,"Expiring Soon","Current")))),"Check Date") | AB9: =IFERROR(IF(A9="","",IF(AA9="","Not Tracked",IF(AA9<TODAY(),"Past Renewal Date",IF(AA9<=TODAY()+Dashboard!$B$6,"Renewing Soon","Current")))),"Check Date") | AD9: =IFERROR(IF(A9="","",IF(AC9="","Review Needed",IF(TODAY()-AC9>Dashboard!$B$7,"Review Needed","Current"))),"Review Needed") | AE9: =IFERROR(IF(A9="","",MAXIFS('Contact Log'!$D$2:$D$301,'Contact Log'!$B$2:$B$301,A9)),"") | AF9: =IFERROR(IF(A9="","",IF(AE9="","No Activity Logged",IF(TODAY()-AE9>Dashboard!$B$7,"Stale","Recent"))),"No Activity Logged")
Z10: =IFERROR(IF(A10="","",IF(Y10="","Not Tracked",IF(Y10<TODAY(),"Expired",IF(Y10<=TODAY()+Dashboard!$B$5,"Expiring Soon","Current")))),"Check Date") | AB10: =IFERROR(IF(A10="","",IF(AA10="","Not Tracked",IF(AA10<TODAY(),"Past Renewal Date",IF(AA10<=TODAY()+Dashboard!$B$6,"Renewing Soon","Current")))),"Check Date") | AD10: =IFERROR(IF(A10="","",IF(AC10="","Review Needed",IF(TODAY()-AC10>Dashboard!$B$7,"Review Needed","Current"))),"Review Needed") | AE10: =IFERROR(IF(A10="","",MAXIFS('Contact Log'!$D$2:$D$301,'Contact Log'!$B$2:$B$301,A10)),"") | AF10: =IFERROR(IF(A10="","",IF(AE10="","No Activity Logged",IF(TODAY()-AE10>Dashboard!$B$7,"Stale","Recent"))),"No Activity Logged")
Z11: =IFERROR(IF(A11="","",IF(Y11="","Not Tracked",IF(Y11<TODAY(),"Expired",IF(Y11<=TODAY()+Dashboard!$B$5,"Expiring Soon","Current")))),"Check Date") | AB11: =IFERROR(IF(A11="","",IF(AA11="","Not Tracked",IF(AA11<TODAY(),"Past Renewal Date",IF(AA11<=TODAY()+Dashboard!$B$6,"Renewing Soon","Current")))),"Check Date") | AD11: =IFERROR(IF(A11="","",IF(AC11="","Review Needed",IF(TODAY()-AC11>Dashboard!$B$7,"Review Needed","Current"))),"Review Needed") | AE11: =IFERROR(IF(A11="","",MAXIFS('Contact Log'!$D$2:$D$301,'Contact Log'!$B$2:$B$301,A11)),"") | AF11: =IFERROR(IF(A11="","",IF(AE11="","No Activity Logged",IF(TODAY()-AE11>Dashboard!$B$7,"Stale","Recent"))),"No Activity Logged")
Z12: =IFERROR(IF(A12="","",IF(Y12="","Not Tracked",IF(Y12<TODAY(),"Expired",IF(Y12<=TODAY()+Dashboard!$B$5,"Expiring Soon","Current")))),"Check Date") | AB12: =IFERROR(IF(A12="","",IF(AA12="","Not Tracked",IF(AA12<TODAY(),"Past Renewal Date",IF(AA12<=TODAY()+Dashboard!$B$6,"Renewing Soon","Current")))),"Check Date") | AD12: =IFERROR(IF(A12="","",IF(AC12="","Review Needed",IF(TODAY()-AC12>Dashboard!$B$7,"Review Needed","Current"))),"Review Needed") | AE12: =IFERROR(IF(A12="","",MAXIFS('Contact Log'!$D$2:$D$301,'Contact Log'!$B$2:$B$301,A12)),"") | AF12: =IFERROR(IF(A12="","",IF(AE12="","No Activity Logged",IF(TODAY()-AE12>Dashboard!$B$7,"Stale","Recent"))),"No Activity Logged")
Z13: =IFERROR(IF(A13="","",IF(Y13="","Not Tracked",IF(Y13<TODAY(),"Expired",IF(Y13<=TODAY()+Dashboard!$B$5,"Expiring Soon","Current")))),"Check Date") | AB13: =IFERROR(IF(A13="","",IF(AA13="","Not Tracked",IF(AA13<TODAY(),"Past Renewal Date",IF(AA13<=TODAY()+Dashboard!$B$6,"Renewing Soon","Current")))),"Check Date") | AD13: =IFERROR(IF(A13="","",IF(AC13="","Review Needed",IF(TODAY()-AC13>Dashboard!$B$7,"Review Needed","Current"))),"Review Needed") | AE13: =IFERROR(IF(A13="","",MAXIFS('Contact Log'!$D$2:$D$301,'Contact Log'!$B$2:$B$301,A13)),"") | AF13: =IFERROR(IF(A13="","",IF(AE13="","No Activity Logged",IF(TODAY()-AE13>Dashboard!$B$7,"Stale","Recent"))),"No Activity Logged")
Z14: =IFERROR(IF(A14="","",IF(Y14="","Not Tracked",IF(Y14<TODAY(),"Expired",IF(Y14<=TODAY()+Dashboard!$B$5,"Expiring Soon","Current")))),"Check Date") | AB14: =IFERROR(IF(A14="","",IF(AA14="","Not Tracked",IF(AA14<TODAY(),"Past Renewal Date",IF(AA14<=TODAY()+Dashboard!$B$6,"Renewing Soon","Current")))),"Check Date") | AD14: =IFERROR(IF(A14="","",IF(AC14="","Review Needed",IF(TODAY()-AC14>Dashboard!$B$7,"Review Needed","Current"))),"Review Needed") | AE14: =IFERROR(IF(A14="","",MAXIFS('Contact Log'!$D$2:$D$301,'Contact Log'!$B$2:$B$301,A14)),"") | AF14: =IFERROR(IF(A14="","",IF(AE14="","No Activity Logged",IF(TODAY()-AE14>Dashboard!$B$7,"Stale","Recent"))),"No Activity Logged")
Z15: =IFERROR(IF(A15="","",IF(Y15="","Not Tracked",IF(Y15<TODAY(),"Expired",IF(Y15<=TODAY()+Dashboard!$B$5,"Expiring Soon","Current")))),"Check Date") | AB15: =IFERROR(IF(A15="","",IF(AA15="","Not Tracked",IF(AA15<TODAY(),"Past Renewal Date",IF(AA15<=TODAY()+Dashboard!$B$6,"Renewing Soon","Current")))),"Check Date") | AD15: =IFERROR(IF(A15="","",IF(AC15="","Review Needed",IF(TODAY()-AC15>Dashboard!$B$7,"Review Needed","Current"))),"Review Needed") | AE15: =IFERROR(IF(A15="","",MAXIFS('Contact Log'!$D$2:$D$301,'Contact Log'!$B$2:$B$301,A15)),"") | AF15: =IFERROR(IF(A15="","",IF(AE15="","No Activity Logged",IF(TODAY()-AE15>Dashboard!$B$7,"Stale","Recent"))),"No Activity Logged")
Z16: =IFERROR(IF(A16="","",IF(Y16="","Not Tracked",IF(Y16<TODAY(),"Expired",IF(Y16<=TODAY()+Dashboard!$B$5,"Expiring Soon","Current")))),"Check Date") | AB16: =IFERROR(IF(A16="","",IF(AA16="","Not Tracked",IF(AA16<TODAY(),"Past Renewal Date",IF(AA16<=TODAY()+Dashboard!$B$6,"Renewing Soon","Current")))),"Check Date") | AD16: =IFERROR(IF(A16="","",IF(AC16="","Review Needed",IF(TODAY()-AC16>Dashboard!$B$7,"Review Needed","Current"))),"Review Needed") | AE16: =IFERROR(IF(A16="","",MAXIFS('Contact Log'!$D$2:$D$301,'Contact Log'!$B$2:$B$301,A16)),"") | AF16: =IFERROR(IF(A16="","",IF(AE16="","No Activity Logged",IF(TODAY()-AE16>Dashboard!$B$7,"Stale","Recent"))),"No Activity Logged")
... Z151: =IFERROR(IF(A151="","",IF(Y151="","Not Tracked",IF(Y151<TODAY(),"Expired",IF(Y151<=TODAY()+Dashboard!$B$5,"Expiring Soon","Current")))),"Check Date") | AB151: =IFERROR(IF(A151="","",IF(AA151="","Not Tracked",IF(AA151<TODAY(),"Past Renewal Date",IF(AA151<=TODAY()+Dashboard!$B$6,"Renewing Soon","Current")))),"Check Date") | AD151: =IFERROR(IF(A151="","",IF(AC151="","Review Needed",IF(TODAY()-AC151>Dashboard!$B$7,"Review Needed","Current"))),"Review Needed") | AE151: =IFERROR(IF(A151="","",MAXIFS('Contact Log'!$D$2:$D$301,'Contact Log'!$B$2:$B$301,A151)),"") | AF151: =IFERROR(IF(A151="","",IF(AE151="","No Activity Logged",IF(TODAY()-AE151>Dashboard!$B$7,"Stale","Recent"))),"No Activity Logged")

Sheet Contact Log
A1: Log ID | B1: Vendor ID | C1: Vendor Name | D1: Contact Date | E1: Contact Time | F1: Contact Method | G1: Property Department | H1: Property Team Member | I1: Vendor Contact | J1: Reason | K1: Summary | L1: Follow-Up Required | M1: Follow-Up Date | N1: Follow-Up Owner | O1: Follow-Up Status | P1: Resolution Date | Q1: Outcome | R1: Reference Number | S1: Next Step
A2: CL-2026-001 | B2: V-1001 | C2: =IFERROR(IF(B2="","",VLOOKUP(B2,'Vendor Directory'!$A$2:$B$151,2,FALSE)),"") | D2: 46247 | E2: 0.38541667 | F2: Email | G2: Housekeeping | H2: Taylor Morgan | I2: Maria Lopez | J2: Routine Check-In | K2: Confirmed revised linen delivery schedule. | L2: No | O2: =IFERROR(IF(A2="","",IF(L2="No","No Follow-Up",IF(P2<>"","Completed",IF(M2="","Open",IF(M2<TODAY(),"Overdue",IF(M2<=TODAY()+Dashboard!$B$8,"Due Soon","Open")))))),"Check Entry") | P2: 46248 | Q2: Completed | R2: REF-LIN-001 | S2: Monitor the first revised delivery.
A3: CL-2026-002 | B3: V-1002 | C3: =IFERROR(IF(B3="","",VLOOKUP(B3,'Vendor Directory'!$A$2:$B$151,2,FALSE)),"") | D3: 46253 | E3: 0.4375 | F3: Phone | G3: Food and Beverage | H3: Alex Carter | I3: Jordan Ellis | J3: Product Availability | K3: Discussed produce substitutions. | L3: Yes | M3: 46259 | N3: Alex Carter | O3: =IFERROR(IF(A3="","",IF(L3="No","No Follow-Up",IF(P3<>"","Completed",IF(M3="","Open",IF(M3<TODAY(),"Overdue",IF(M3<=TODAY()+Dashboard!$B$8,"Due Soon","Open")))))),"Check Entry") | P3: 46260 | Q3: Order Confirmed | R3: ORD-FB-2206 | S3: Confirm quality at receiving.
A4: CL-2026-003 | B4: V-1003 | C4: =IFERROR(IF(B4="","",VLOOKUP(B4,'Vendor Directory'!$A$2:$B$151,2,FALSE)),"") | D4: 46265 | E4: 0.92361111 | F4: Phone | G4: Engineering | H4: Morgan Lee | I4: Anthony Reed | J4: Emergency Service | K4: Requested emergency response for an HVAC outage. | L4: Yes | M4: 46268 | N4: Morgan Lee | O4: =IFERROR(IF(A4="","",IF(L4="No","No Follow-Up",IF(P4<>"","Completed",IF(M4="","Open",IF(M4<TODAY(),"Overdue",IF(M4<=TODAY()+Dashboard!$B$8,"Due Soon","Open")))))),"Check Entry") | Q4: Pending Vendor | R4: SR-HVAC-631 | S4: Obtain the final repair report.
C5: =IFERROR(IF(B5="","",VLOOKUP(B5,'Vendor Directory'!$A$2:$B$151,2,FALSE)),"") | O5: =IFERROR(IF(A5="","",IF(L5="No","No Follow-Up",IF(P5<>"","Completed",IF(M5="","Open",IF(M5<TODAY(),"Overdue",IF(M5<=TODAY()+Dashboard!$B$8,"Due Soon","Open")))))),"Check Entry")
C6: =IFERROR(IF(B6="","",VLOOKUP(B6,'Vendor Directory'!$A$2:$B$151,2,FALSE)),"") | O6: =IFERROR(IF(A6="","",IF(L6="No","No Follow-Up",IF(P6<>"","Completed",IF(M6="","Open",IF(M6<TODAY(),"Overdue",IF(M6<=TODAY()+Dashboard!$B$8,"Due Soon","Open")))))),"Check Entry")
C7: =IFERROR(IF(B7="","",VLOOKUP(B7,'Vendor Directory'!$A$2:$B$151,2,FALSE)),"") | O7: =IFERROR(IF(A7="","",IF(L7="No","No Follow-Up",IF(P7<>"","Completed",IF(M7="","Open",IF(M7<TODAY(),"Overdue",IF(M7<=TODAY()+Dashboard!$B$8,"Due Soon","Open")))))),"Check Entry")
C8: =IFERROR(IF(B8="","",VLOOKUP(B8,'Vendor Directory'!$A$2:$B$151,2,FALSE)),"") | O8: =IFERROR(IF(A8="","",IF(L8="No","No Follow-Up",IF(P8<>"","Completed",IF(M8="","Open",IF(M8<TODAY(),"Overdue",IF(M8<=TODAY()+Dashboard!$B$8,"Due Soon","Open")))))),"Check Entry")
C9: =IFERROR(IF(B9="","",VLOOKUP(B9,'Vendor Directory'!$A$2:$B$151,2,FALSE)),"") | O9: =IFERROR(IF(A9="","",IF(L9="No","No Follow-Up",IF(P9<>"","Completed",IF(M9="","Open",IF(M9<TODAY(),"Overdue",IF(M9<=TODAY()+Dashboard!$B$8,"Due Soon","Open")))))),"Check Entry")
C10: =IFERROR(IF(B10="","",VLOOKUP(B10,'Vendor Directory'!$A$2:$B$151,2,FALSE)),"") | O10: =IFERROR(IF(A10="","",IF(L10="No","No Follow-Up",IF(P10<>"","Completed",IF(M10="","Open",IF(M10<TODAY(),"Overdue",IF(M10<=TODAY()+Dashboard!$B$8,"Due Soon","Open")))))),"Check Entry")
C11: =IFERROR(IF(B11="","",VLOOKUP(B11,'Vendor Directory'!$A$2:$B$151,2,FALSE)),"") | O11: =IFERROR(IF(A11="","",IF(L11="No","No Follow-Up",IF(P11<>"","Completed",IF(M11="","Open",IF(M11<TODAY(),"Overdue",IF(M11<=TODAY()+Dashboard!$B$8,"Due Soon","Open")))))),"Check Entry")
C12: =IFERROR(IF(B12="","",VLOOKUP(B12,'Vendor Directory'!$A$2:$B$151,2,FALSE)),"") | O12: =IFERROR(IF(A12="","",IF(L12="No","No Follow-Up",IF(P12<>"","Completed",IF(M12="","Open",IF(M12<TODAY(),"Overdue",IF(M12<=TODAY()+Dashboard!$B$8,"Due Soon","Open")))))),"Check Entry")
C13: =IFERROR(IF(B13="","",VLOOKUP(B13,'Vendor Directory'!$A$2:$B$151,2,FALSE)),"") | O13: =IFERROR(IF(A13="","",IF(L13="No","No Follow-Up",IF(P13<>"","Completed",IF(M13="","Open",IF(M13<TODAY(),"Overdue",IF(M13<=TODAY()+Dashboard!$B$8,"Due Soon","Open")))))),"Check Entry")
C14: =IFERROR(IF(B14="","",VLOOKUP(B14,'Vendor Directory'!$A$2:$B$151,2,FALSE)),"") | O14: =IFERROR(IF(A14="","",IF(L14="No","No Follow-Up",IF(P14<>"","Completed",IF(M14="","Open",IF(M14<TODAY(),"Overdue",IF(M14<=TODAY()+Dashboard!$B$8,"Due Soon","Open")))))),"Check Entry")
C15: =IFERROR(IF(B15="","",VLOOKUP(B15,'Vendor Directory'!$A$2:$B$151,2,FALSE)),"") | O15: =IFERROR(IF(A15="","",IF(L15="No","No Follow-Up",IF(P15<>"","Completed",IF(M15="","Open",IF(M15<TODAY(),"Overdue",IF(M15<=TODAY()+Dashboard!$B$8,"Due Soon","Open")))))),"Check Entry")
C16: =IFERROR(IF(B16="","",VLOOKUP(B16,'Vendor Directory'!$A$2:$B$151,2,FALSE)),"") | O16: =IFERROR(IF(A16="","",IF(L16="No","No Follow-Up",IF(P16<>"","Completed",IF(M16="","Open",IF(M16<TODAY(),"Overdue",IF(M16<=TODAY()+Dashboard!$B$8,"Due Soon","Open")))))),"Check Entry")
... C301: =IFERROR(IF(B301="","",VLOOKUP(B301,'Vendor Directory'!$A$2:$B$151,2,FALSE)),"") | O301: =IFERROR(IF(A301="","",IF(L301="No","No Follow-Up",IF(P301<>"","Completed",IF(M301="","Open",IF(M301<TODAY(),"Overdue",IF(M301<=TODAY()+Dashboard!$B$8,"Due Soon","Open")))))),"Check Entry")

Sheet Instructions
A1: Hotel Vendor Contact Workbook Instructions
A2: Navigation | B2: Dashboard | C2: Vendor Directory | D2: Contact Log
A3: Getting Started
A4: Review the editable monitoring settings on the Dashboard.
A5: Replace the fictional sample records with the property's actual vendor information.
A6: Keep Vendor IDs unique and add each meaningful interaction to the Contact Log.
A8: Using the Vendor Directory
A9: Use one row per vendor account or service location.
A10: Update the Last Verified Date whenever vendor details are reviewed.
A11: Do not store passwords, payment card numbers, bank account numbers, or other sensitive credentials.
A13: Using the Contact Log
A14: Select the Vendor ID so the Vendor Name fills automatically.
A15: Enter a follow-up date when action is required and a resolution date when completed.
A17: Important Note
A18: This workbook is an internal vendor-contact and follow-up tool. Adjust monitoring thresholds to match the property's policies and agreements.
