Workbook

Sheet Dashboard
A1: Hotel Room Cleaning Dashboard
T2: =IFERROR(IF(AND('Cleaning Log'!$A2=$B$3,OR($B$4="All Shifts",'Cleaning Log'!$F2=$B$4),OR($B$5="All Attendants",'Cleaning Log'!$E2=$B$5),OR('Cleaning Log'!$AC2="Hold",'Cleaning Log'!$AC2="Reclean",'Cleaning Log'!$AC2="Incomplete Checklist",'Cleaning Log'!$AC2="Awaiting Inspection",AND('Cleaning Log'!$AK2<>"",'Cleaning Log'!$AK2<>"OK"))),1,0),0) | U2: =IF(T2=1,COUNTIF($T$2:T2,1),"") | W2: =IFERROR(IF(AND('Cleaning Log'!$A2=$B$3,'Cleaning Log'!$B2<>"",OR($B$4="All Shifts",'Cleaning Log'!$F2=$B$4),OR($B$5="All Attendants",'Cleaning Log'!$E2=$B$5)),1,0),0) | X2: =IF(AND(W2=1,'Cleaning Log'!$AC2="Released"),1,0) | Y2: =IF(AND(W2=1,ISNUMBER('Cleaning Log'!$M2)),'Cleaning Log'!$M2,"") | Z2: =IF(AND(W2=1,ISNUMBER('Cleaning Log'!$M2),ISNUMBER('Cleaning Log'!$J2),'Cleaning Log'!$M2<='Cleaning Log'!$J2),1,0) | AA2: =IF(AND(W2=1,'Cleaning Log'!$L2<>""),1,0) | AB2: =IF(AND(W2=1,'Cleaning Log'!$AB2="Pass"),1,0) | AC2: =IF(AND(W2=1,OR('Cleaning Log'!$AB2="Pass",'Cleaning Log'!$AB2="Fail")),1,0) | AD2: =IF(AND(W2=1,OR(COUNTIF('Cleaning Log'!$N2:$X2,"Needs Attention")>0,AND('Cleaning Log'!$L2<>"",COUNTBLANK('Cleaning Log'!$N2:$X2)>0))),1,0) | AE2: =IF(AND(W2=1,'Cleaning Log'!$AD2="Maintenance",'Cleaning Log'!$AF2=""),1,0)
A3: Service Date | B3: 46096 | D3: =IFERROR(SUM($W$2:$W$251),0) | F3: =IFERROR(SUM($X$2:$X$251),0) | H3: =IFERROR(COUNTIFS('Cleaning Log'!$A$2:$A$251,$B$3,'Cleaning Log'!$AC$2:$AC$251,"In Progress",'Cleaning Log'!$F$2:$F$251,IF($B$4="All Shifts","<>",$B$4),'Cleaning Log'!$E$2:$E$251,IF($B$5="All Attendants","<>",$B$5)),0) | T3: =IFERROR(IF(AND('Cleaning Log'!$A3=$B$3,OR($B$4="All Shifts",'Cleaning Log'!$F3=$B$4),OR($B$5="All Attendants",'Cleaning Log'!$E3=$B$5),OR('Cleaning Log'!$AC3="Hold",'Cleaning Log'!$AC3="Reclean",'Cleaning Log'!$AC3="Incomplete Checklist",'Cleaning Log'!$AC3="Awaiting Inspection",AND('Cleaning Log'!$AK3<>"",'Cleaning Log'!$AK3<>"OK"))),1,0),0) | U3: =IF(T3=1,COUNTIF($T$2:T3,1),"") | W3: =IFERROR(IF(AND('Cleaning Log'!$A3=$B$3,'Cleaning Log'!$B3<>"",OR($B$4="All Shifts",'Cleaning Log'!$F3=$B$4),OR($B$5="All Attendants",'Cleaning Log'!$E3=$B$5)),1,0),0) | X3: =IF(AND(W3=1,'Cleaning Log'!$AC3="Released"),1,0) | Y3: =IF(AND(W3=1,ISNUMBER('Cleaning Log'!$M3)),'Cleaning Log'!$M3,"") | Z3: =IF(AND(W3=1,ISNUMBER('Cleaning Log'!$M3),ISNUMBER('Cleaning Log'!$J3),'Cleaning Log'!$M3<='Cleaning Log'!$J3),1,0) | AA3: =IF(AND(W3=1,'Cleaning Log'!$L3<>""),1,0) | AB3: =IF(AND(W3=1,'Cleaning Log'!$AB3="Pass"),1,0) | AC3: =IF(AND(W3=1,OR('Cleaning Log'!$AB3="Pass",'Cleaning Log'!$AB3="Fail")),1,0) | AD3: =IF(AND(W3=1,OR(COUNTIF('Cleaning Log'!$N3:$X3,"Needs Attention")>0,AND('Cleaning Log'!$L3<>"",COUNTBLANK('Cleaning Log'!$N3:$X3)>0))),1,0) | AE3: =IF(AND(W3=1,'Cleaning Log'!$AD3="Maintenance",'Cleaning Log'!$AF3=""),1,0)
A4: Shift | B4: All Shifts | D4: Rooms Logged | F4: Rooms Released | H4: In Progress | T4: =IFERROR(IF(AND('Cleaning Log'!$A4=$B$3,OR($B$4="All Shifts",'Cleaning Log'!$F4=$B$4),OR($B$5="All Attendants",'Cleaning Log'!$E4=$B$5),OR('Cleaning Log'!$AC4="Hold",'Cleaning Log'!$AC4="Reclean",'Cleaning Log'!$AC4="Incomplete Checklist",'Cleaning Log'!$AC4="Awaiting Inspection",AND('Cleaning Log'!$AK4<>"",'Cleaning Log'!$AK4<>"OK"))),1,0),0) | U4: =IF(T4=1,COUNTIF($T$2:T4,1),"") | W4: =IFERROR(IF(AND('Cleaning Log'!$A4=$B$3,'Cleaning Log'!$B4<>"",OR($B$4="All Shifts",'Cleaning Log'!$F4=$B$4),OR($B$5="All Attendants",'Cleaning Log'!$E4=$B$5)),1,0),0) | X4: =IF(AND(W4=1,'Cleaning Log'!$AC4="Released"),1,0) | Y4: =IF(AND(W4=1,ISNUMBER('Cleaning Log'!$M4)),'Cleaning Log'!$M4,"") | Z4: =IF(AND(W4=1,ISNUMBER('Cleaning Log'!$M4),ISNUMBER('Cleaning Log'!$J4),'Cleaning Log'!$M4<='Cleaning Log'!$J4),1,0) | AA4: =IF(AND(W4=1,'Cleaning Log'!$L4<>""),1,0) | AB4: =IF(AND(W4=1,'Cleaning Log'!$AB4="Pass"),1,0) | AC4: =IF(AND(W4=1,OR('Cleaning Log'!$AB4="Pass",'Cleaning Log'!$AB4="Fail")),1,0) | AD4: =IF(AND(W4=1,OR(COUNTIF('Cleaning Log'!$N4:$X4,"Needs Attention")>0,AND('Cleaning Log'!$L4<>"",COUNTBLANK('Cleaning Log'!$N4:$X4)>0))),1,0) | AE4: =IF(AND(W4=1,'Cleaning Log'!$AD4="Maintenance",'Cleaning Log'!$AF4=""),1,0)
A5: Attendant | B5: All Attendants | T5: =IFERROR(IF(AND('Cleaning Log'!$A5=$B$3,OR($B$4="All Shifts",'Cleaning Log'!$F5=$B$4),OR($B$5="All Attendants",'Cleaning Log'!$E5=$B$5),OR('Cleaning Log'!$AC5="Hold",'Cleaning Log'!$AC5="Reclean",'Cleaning Log'!$AC5="Incomplete Checklist",'Cleaning Log'!$AC5="Awaiting Inspection",AND('Cleaning Log'!$AK5<>"",'Cleaning Log'!$AK5<>"OK"))),1,0),0) | U5: =IF(T5=1,COUNTIF($T$2:T5,1),"") | W5: =IFERROR(IF(AND('Cleaning Log'!$A5=$B$3,'Cleaning Log'!$B5<>"",OR($B$4="All Shifts",'Cleaning Log'!$F5=$B$4),OR($B$5="All Attendants",'Cleaning Log'!$E5=$B$5)),1,0),0) | X5: =IF(AND(W5=1,'Cleaning Log'!$AC5="Released"),1,0) | Y5: =IF(AND(W5=1,ISNUMBER('Cleaning Log'!$M5)),'Cleaning Log'!$M5,"") | Z5: =IF(AND(W5=1,ISNUMBER('Cleaning Log'!$M5),ISNUMBER('Cleaning Log'!$J5),'Cleaning Log'!$M5<='Cleaning Log'!$J5),1,0) | AA5: =IF(AND(W5=1,'Cleaning Log'!$L5<>""),1,0) | AB5: =IF(AND(W5=1,'Cleaning Log'!$AB5="Pass"),1,0) | AC5: =IF(AND(W5=1,OR('Cleaning Log'!$AB5="Pass",'Cleaning Log'!$AB5="Fail")),1,0) | AD5: =IF(AND(W5=1,OR(COUNTIF('Cleaning Log'!$N5:$X5,"Needs Attention")>0,AND('Cleaning Log'!$L5<>"",COUNTBLANK('Cleaning Log'!$N5:$X5)>0))),1,0) | AE5: =IF(AND(W5=1,'Cleaning Log'!$AD5="Maintenance",'Cleaning Log'!$AF5=""),1,0)
D6: =IFERROR(COUNTIFS('Cleaning Log'!$A$2:$A$251,$B$3,'Cleaning Log'!$AC$2:$AC$251,"Awaiting Inspection"),0) | F6: =IFERROR(COUNTIFS('Cleaning Log'!$A$2:$A$251,$B$3,'Cleaning Log'!$AC$2:$AC$251,"Hold")+COUNTIFS('Cleaning Log'!$A$2:$A$251,$B$3,'Cleaning Log'!$AC$2:$AC$251,"Reclean"),0) | H6: =IFERROR(AVERAGE($Y$2:$Y$251),0) | T6: =IFERROR(IF(AND('Cleaning Log'!$A6=$B$3,OR($B$4="All Shifts",'Cleaning Log'!$F6=$B$4),OR($B$5="All Attendants",'Cleaning Log'!$E6=$B$5),OR('Cleaning Log'!$AC6="Hold",'Cleaning Log'!$AC6="Reclean",'Cleaning Log'!$AC6="Incomplete Checklist",'Cleaning Log'!$AC6="Awaiting Inspection",AND('Cleaning Log'!$AK6<>"",'Cleaning Log'!$AK6<>"OK"))),1,0),0) | U6: =IF(T6=1,COUNTIF($T$2:T6,1),"") | W6: =IFERROR(IF(AND('Cleaning Log'!$A6=$B$3,'Cleaning Log'!$B6<>"",OR($B$4="All Shifts",'Cleaning Log'!$F6=$B$4),OR($B$5="All Attendants",'Cleaning Log'!$E6=$B$5)),1,0),0) | X6: =IF(AND(W6=1,'Cleaning Log'!$AC6="Released"),1,0) | Y6: =IF(AND(W6=1,ISNUMBER('Cleaning Log'!$M6)),'Cleaning Log'!$M6,"") | Z6: =IF(AND(W6=1,ISNUMBER('Cleaning Log'!$M6),ISNUMBER('Cleaning Log'!$J6),'Cleaning Log'!$M6<='Cleaning Log'!$J6),1,0) | AA6: =IF(AND(W6=1,'Cleaning Log'!$L6<>""),1,0) | AB6: =IF(AND(W6=1,'Cleaning Log'!$AB6="Pass"),1,0) | AC6: =IF(AND(W6=1,OR('Cleaning Log'!$AB6="Pass",'Cleaning Log'!$AB6="Fail")),1,0) | AD6: =IF(AND(W6=1,OR(COUNTIF('Cleaning Log'!$N6:$X6,"Needs Attention")>0,AND('Cleaning Log'!$L6<>"",COUNTBLANK('Cleaning Log'!$N6:$X6)>0))),1,0) | AE6: =IF(AND(W6=1,'Cleaning Log'!$AD6="Maintenance",'Cleaning Log'!$AF6=""),1,0)
D7: Awaiting Inspection | F7: On Hold or Reclean | H7: Average Cleaning Minutes | T7: =IFERROR(IF(AND('Cleaning Log'!$A7=$B$3,OR($B$4="All Shifts",'Cleaning Log'!$F7=$B$4),OR($B$5="All Attendants",'Cleaning Log'!$E7=$B$5),OR('Cleaning Log'!$AC7="Hold",'Cleaning Log'!$AC7="Reclean",'Cleaning Log'!$AC7="Incomplete Checklist",'Cleaning Log'!$AC7="Awaiting Inspection",AND('Cleaning Log'!$AK7<>"",'Cleaning Log'!$AK7<>"OK"))),1,0),0) | U7: =IF(T7=1,COUNTIF($T$2:T7,1),"") | W7: =IFERROR(IF(AND('Cleaning Log'!$A7=$B$3,'Cleaning Log'!$B7<>"",OR($B$4="All Shifts",'Cleaning Log'!$F7=$B$4),OR($B$5="All Attendants",'Cleaning Log'!$E7=$B$5)),1,0),0) | X7: =IF(AND(W7=1,'Cleaning Log'!$AC7="Released"),1,0) | Y7: =IF(AND(W7=1,ISNUMBER('Cleaning Log'!$M7)),'Cleaning Log'!$M7,"") | Z7: =IF(AND(W7=1,ISNUMBER('Cleaning Log'!$M7),ISNUMBER('Cleaning Log'!$J7),'Cleaning Log'!$M7<='Cleaning Log'!$J7),1,0) | AA7: =IF(AND(W7=1,'Cleaning Log'!$L7<>""),1,0) | AB7: =IF(AND(W7=1,'Cleaning Log'!$AB7="Pass"),1,0) | AC7: =IF(AND(W7=1,OR('Cleaning Log'!$AB7="Pass",'Cleaning Log'!$AB7="Fail")),1,0) | AD7: =IF(AND(W7=1,OR(COUNTIF('Cleaning Log'!$N7:$X7,"Needs Attention")>0,AND('Cleaning Log'!$L7<>"",COUNTBLANK('Cleaning Log'!$N7:$X7)>0))),1,0) | AE7: =IF(AND(W7=1,'Cleaning Log'!$AD7="Maintenance",'Cleaning Log'!$AF7=""),1,0)
A8: Selected Filters | T8: =IFERROR(IF(AND('Cleaning Log'!$A8=$B$3,OR($B$4="All Shifts",'Cleaning Log'!$F8=$B$4),OR($B$5="All Attendants",'Cleaning Log'!$E8=$B$5),OR('Cleaning Log'!$AC8="Hold",'Cleaning Log'!$AC8="Reclean",'Cleaning Log'!$AC8="Incomplete Checklist",'Cleaning Log'!$AC8="Awaiting Inspection",AND('Cleaning Log'!$AK8<>"",'Cleaning Log'!$AK8<>"OK"))),1,0),0) | U8: =IF(T8=1,COUNTIF($T$2:T8,1),"") | W8: =IFERROR(IF(AND('Cleaning Log'!$A8=$B$3,'Cleaning Log'!$B8<>"",OR($B$4="All Shifts",'Cleaning Log'!$F8=$B$4),OR($B$5="All Attendants",'Cleaning Log'!$E8=$B$5)),1,0),0) | X8: =IF(AND(W8=1,'Cleaning Log'!$AC8="Released"),1,0) | Y8: =IF(AND(W8=1,ISNUMBER('Cleaning Log'!$M8)),'Cleaning Log'!$M8,"") | Z8: =IF(AND(W8=1,ISNUMBER('Cleaning Log'!$M8),ISNUMBER('Cleaning Log'!$J8),'Cleaning Log'!$M8<='Cleaning Log'!$J8),1,0) | AA8: =IF(AND(W8=1,'Cleaning Log'!$L8<>""),1,0) | AB8: =IF(AND(W8=1,'Cleaning Log'!$AB8="Pass"),1,0) | AC8: =IF(AND(W8=1,OR('Cleaning Log'!$AB8="Pass",'Cleaning Log'!$AB8="Fail")),1,0) | AD8: =IF(AND(W8=1,OR(COUNTIF('Cleaning Log'!$N8:$X8,"Needs Attention")>0,AND('Cleaning Log'!$L8<>"",COUNTBLANK('Cleaning Log'!$N8:$X8)>0))),1,0) | AE8: =IF(AND(W8=1,'Cleaning Log'!$AD8="Maintenance",'Cleaning Log'!$AF8=""),1,0)
A9: Metrics include the selected service date, shift, and attendant. | D9: =IFERROR(SUM($Z$2:$Z$251)/SUM($AA$2:$AA$251),0) | F9: =IFERROR(SUM($AB$2:$AB$251)/SUM($AC$2:$AC$251),0) | H9: =IFERROR(SUM($AD$2:$AD$251),0) | T9: =IFERROR(IF(AND('Cleaning Log'!$A9=$B$3,OR($B$4="All Shifts",'Cleaning Log'!$F9=$B$4),OR($B$5="All Attendants",'Cleaning Log'!$E9=$B$5),OR('Cleaning Log'!$AC9="Hold",'Cleaning Log'!$AC9="Reclean",'Cleaning Log'!$AC9="Incomplete Checklist",'Cleaning Log'!$AC9="Awaiting Inspection",AND('Cleaning Log'!$AK9<>"",'Cleaning Log'!$AK9<>"OK"))),1,0),0) | U9: =IF(T9=1,COUNTIF($T$2:T9,1),"") | W9: =IFERROR(IF(AND('Cleaning Log'!$A9=$B$3,'Cleaning Log'!$B9<>"",OR($B$4="All Shifts",'Cleaning Log'!$F9=$B$4),OR($B$5="All Attendants",'Cleaning Log'!$E9=$B$5)),1,0),0) | X9: =IF(AND(W9=1,'Cleaning Log'!$AC9="Released"),1,0) | Y9: =IF(AND(W9=1,ISNUMBER('Cleaning Log'!$M9)),'Cleaning Log'!$M9,"") | Z9: =IF(AND(W9=1,ISNUMBER('Cleaning Log'!$M9),ISNUMBER('Cleaning Log'!$J9),'Cleaning Log'!$M9<='Cleaning Log'!$J9),1,0) | AA9: =IF(AND(W9=1,'Cleaning Log'!$L9<>""),1,0) | AB9: =IF(AND(W9=1,'Cleaning Log'!$AB9="Pass"),1,0) | AC9: =IF(AND(W9=1,OR('Cleaning Log'!$AB9="Pass",'Cleaning Log'!$AB9="Fail")),1,0) | AD9: =IF(AND(W9=1,OR(COUNTIF('Cleaning Log'!$N9:$X9,"Needs Attention")>0,AND('Cleaning Log'!$L9<>"",COUNTBLANK('Cleaning Log'!$N9:$X9)>0))),1,0) | AE9: =IF(AND(W9=1,'Cleaning Log'!$AD9="Maintenance",'Cleaning Log'!$AF9=""),1,0)
D10: Completed Within Target | F10: Inspection Pass Rate | H10: Checklist Exceptions | T10: =IFERROR(IF(AND('Cleaning Log'!$A10=$B$3,OR($B$4="All Shifts",'Cleaning Log'!$F10=$B$4),OR($B$5="All Attendants",'Cleaning Log'!$E10=$B$5),OR('Cleaning Log'!$AC10="Hold",'Cleaning Log'!$AC10="Reclean",'Cleaning Log'!$AC10="Incomplete Checklist",'Cleaning Log'!$AC10="Awaiting Inspection",AND('Cleaning Log'!$AK10<>"",'Cleaning Log'!$AK10<>"OK"))),1,0),0) | U10: =IF(T10=1,COUNTIF($T$2:T10,1),"") | W10: =IFERROR(IF(AND('Cleaning Log'!$A10=$B$3,'Cleaning Log'!$B10<>"",OR($B$4="All Shifts",'Cleaning Log'!$F10=$B$4),OR($B$5="All Attendants",'Cleaning Log'!$E10=$B$5)),1,0),0) | X10: =IF(AND(W10=1,'Cleaning Log'!$AC10="Released"),1,0) | Y10: =IF(AND(W10=1,ISNUMBER('Cleaning Log'!$M10)),'Cleaning Log'!$M10,"") | Z10: =IF(AND(W10=1,ISNUMBER('Cleaning Log'!$M10),ISNUMBER('Cleaning Log'!$J10),'Cleaning Log'!$M10<='Cleaning Log'!$J10),1,0) | AA10: =IF(AND(W10=1,'Cleaning Log'!$L10<>""),1,0) | AB10: =IF(AND(W10=1,'Cleaning Log'!$AB10="Pass"),1,0) | AC10: =IF(AND(W10=1,OR('Cleaning Log'!$AB10="Pass",'Cleaning Log'!$AB10="Fail")),1,0) | AD10: =IF(AND(W10=1,OR(COUNTIF('Cleaning Log'!$N10:$X10,"Needs Attention")>0,AND('Cleaning Log'!$L10<>"",COUNTBLANK('Cleaning Log'!$N10:$X10)>0))),1,0) | AE10: =IF(AND(W10=1,'Cleaning Log'!$AD10="Maintenance",'Cleaning Log'!$AF10=""),1,0)
T11: =IFERROR(IF(AND('Cleaning Log'!$A11=$B$3,OR($B$4="All Shifts",'Cleaning Log'!$F11=$B$4),OR($B$5="All Attendants",'Cleaning Log'!$E11=$B$5),OR('Cleaning Log'!$AC11="Hold",'Cleaning Log'!$AC11="Reclean",'Cleaning Log'!$AC11="Incomplete Checklist",'Cleaning Log'!$AC11="Awaiting Inspection",AND('Cleaning Log'!$AK11<>"",'Cleaning Log'!$AK11<>"OK"))),1,0),0) | U11: =IF(T11=1,COUNTIF($T$2:T11,1),"") | W11: =IFERROR(IF(AND('Cleaning Log'!$A11=$B$3,'Cleaning Log'!$B11<>"",OR($B$4="All Shifts",'Cleaning Log'!$F11=$B$4),OR($B$5="All Attendants",'Cleaning Log'!$E11=$B$5)),1,0),0) | X11: =IF(AND(W11=1,'Cleaning Log'!$AC11="Released"),1,0) | Y11: =IF(AND(W11=1,ISNUMBER('Cleaning Log'!$M11)),'Cleaning Log'!$M11,"") | Z11: =IF(AND(W11=1,ISNUMBER('Cleaning Log'!$M11),ISNUMBER('Cleaning Log'!$J11),'Cleaning Log'!$M11<='Cleaning Log'!$J11),1,0) | AA11: =IF(AND(W11=1,'Cleaning Log'!$L11<>""),1,0) | AB11: =IF(AND(W11=1,'Cleaning Log'!$AB11="Pass"),1,0) | AC11: =IF(AND(W11=1,OR('Cleaning Log'!$AB11="Pass",'Cleaning Log'!$AB11="Fail")),1,0) | AD11: =IF(AND(W11=1,OR(COUNTIF('Cleaning Log'!$N11:$X11,"Needs Attention")>0,AND('Cleaning Log'!$L11<>"",COUNTBLANK('Cleaning Log'!$N11:$X11)>0))),1,0) | AE11: =IF(AND(W11=1,'Cleaning Log'!$AD11="Maintenance",'Cleaning Log'!$AF11=""),1,0)
D12: =IFERROR(SUM($AE$2:$AE$251),0) | T12: =IFERROR(IF(AND('Cleaning Log'!$A12=$B$3,OR($B$4="All Shifts",'Cleaning Log'!$F12=$B$4),OR($B$5="All Attendants",'Cleaning Log'!$E12=$B$5),OR('Cleaning Log'!$AC12="Hold",'Cleaning Log'!$AC12="Reclean",'Cleaning Log'!$AC12="Incomplete Checklist",'Cleaning Log'!$AC12="Awaiting Inspection",AND('Cleaning Log'!$AK12<>"",'Cleaning Log'!$AK12<>"OK"))),1,0),0) | U12: =IF(T12=1,COUNTIF($T$2:T12,1),"") | W12: =IFERROR(IF(AND('Cleaning Log'!$A12=$B$3,'Cleaning Log'!$B12<>"",OR($B$4="All Shifts",'Cleaning Log'!$F12=$B$4),OR($B$5="All Attendants",'Cleaning Log'!$E12=$B$5)),1,0),0) | X12: =IF(AND(W12=1,'Cleaning Log'!$AC12="Released"),1,0) | Y12: =IF(AND(W12=1,ISNUMBER('Cleaning Log'!$M12)),'Cleaning Log'!$M12,"") | Z12: =IF(AND(W12=1,ISNUMBER('Cleaning Log'!$M12),ISNUMBER('Cleaning Log'!$J12),'Cleaning Log'!$M12<='Cleaning Log'!$J12),1,0) | AA12: =IF(AND(W12=1,'Cleaning Log'!$L12<>""),1,0) | AB12: =IF(AND(W12=1,'Cleaning Log'!$AB12="Pass"),1,0) | AC12: =IF(AND(W12=1,OR('Cleaning Log'!$AB12="Pass",'Cleaning Log'!$AB12="Fail")),1,0) | AD12: =IF(AND(W12=1,OR(COUNTIF('Cleaning Log'!$N12:$X12,"Needs Attention")>0,AND('Cleaning Log'!$L12<>"",COUNTBLANK('Cleaning Log'!$N12:$X12)>0))),1,0) | AE12: =IF(AND(W12=1,'Cleaning Log'!$AD12="Maintenance",'Cleaning Log'!$AF12=""),1,0)
D13: Open Maintenance Issues | T13: =IFERROR(IF(AND('Cleaning Log'!$A13=$B$3,OR($B$4="All Shifts",'Cleaning Log'!$F13=$B$4),OR($B$5="All Attendants",'Cleaning Log'!$E13=$B$5),OR('Cleaning Log'!$AC13="Hold",'Cleaning Log'!$AC13="Reclean",'Cleaning Log'!$AC13="Incomplete Checklist",'Cleaning Log'!$AC13="Awaiting Inspection",AND('Cleaning Log'!$AK13<>"",'Cleaning Log'!$AK13<>"OK"))),1,0),0) | U13: =IF(T13=1,COUNTIF($T$2:T13,1),"") | W13: =IFERROR(IF(AND('Cleaning Log'!$A13=$B$3,'Cleaning Log'!$B13<>"",OR($B$4="All Shifts",'Cleaning Log'!$F13=$B$4),OR($B$5="All Attendants",'Cleaning Log'!$E13=$B$5)),1,0),0) | X13: =IF(AND(W13=1,'Cleaning Log'!$AC13="Released"),1,0) | Y13: =IF(AND(W13=1,ISNUMBER('Cleaning Log'!$M13)),'Cleaning Log'!$M13,"") | Z13: =IF(AND(W13=1,ISNUMBER('Cleaning Log'!$M13),ISNUMBER('Cleaning Log'!$J13),'Cleaning Log'!$M13<='Cleaning Log'!$J13),1,0) | AA13: =IF(AND(W13=1,'Cleaning Log'!$L13<>""),1,0) | AB13: =IF(AND(W13=1,'Cleaning Log'!$AB13="Pass"),1,0) | AC13: =IF(AND(W13=1,OR('Cleaning Log'!$AB13="Pass",'Cleaning Log'!$AB13="Fail")),1,0) | AD13: =IF(AND(W13=1,OR(COUNTIF('Cleaning Log'!$N13:$X13,"Needs Attention")>0,AND('Cleaning Log'!$L13<>"",COUNTBLANK('Cleaning Log'!$N13:$X13)>0))),1,0) | AE13: =IF(AND(W13=1,'Cleaning Log'!$AD13="Maintenance",'Cleaning Log'!$AF13=""),1,0)
T14: =IFERROR(IF(AND('Cleaning Log'!$A14=$B$3,OR($B$4="All Shifts",'Cleaning Log'!$F14=$B$4),OR($B$5="All Attendants",'Cleaning Log'!$E14=$B$5),OR('Cleaning Log'!$AC14="Hold",'Cleaning Log'!$AC14="Reclean",'Cleaning Log'!$AC14="Incomplete Checklist",'Cleaning Log'!$AC14="Awaiting Inspection",AND('Cleaning Log'!$AK14<>"",'Cleaning Log'!$AK14<>"OK"))),1,0),0) | U14: =IF(T14=1,COUNTIF($T$2:T14,1),"") | W14: =IFERROR(IF(AND('Cleaning Log'!$A14=$B$3,'Cleaning Log'!$B14<>"",OR($B$4="All Shifts",'Cleaning Log'!$F14=$B$4),OR($B$5="All Attendants",'Cleaning Log'!$E14=$B$5)),1,0),0) | X14: =IF(AND(W14=1,'Cleaning Log'!$AC14="Released"),1,0) | Y14: =IF(AND(W14=1,ISNUMBER('Cleaning Log'!$M14)),'Cleaning Log'!$M14,"") | Z14: =IF(AND(W14=1,ISNUMBER('Cleaning Log'!$M14),ISNUMBER('Cleaning Log'!$J14),'Cleaning Log'!$M14<='Cleaning Log'!$J14),1,0) | AA14: =IF(AND(W14=1,'Cleaning Log'!$L14<>""),1,0) | AB14: =IF(AND(W14=1,'Cleaning Log'!$AB14="Pass"),1,0) | AC14: =IF(AND(W14=1,OR('Cleaning Log'!$AB14="Pass",'Cleaning Log'!$AB14="Fail")),1,0) | AD14: =IF(AND(W14=1,OR(COUNTIF('Cleaning Log'!$N14:$X14,"Needs Attention")>0,AND('Cleaning Log'!$L14<>"",COUNTBLANK('Cleaning Log'!$N14:$X14)>0))),1,0) | AE14: =IF(AND(W14=1,'Cleaning Log'!$AD14="Maintenance",'Cleaning Log'!$AF14=""),1,0)
A15: Operational Status Summary | E15: Attendant Productivity Summary | T15: =IFERROR(IF(AND('Cleaning Log'!$A15=$B$3,OR($B$4="All Shifts",'Cleaning Log'!$F15=$B$4),OR($B$5="All Attendants",'Cleaning Log'!$E15=$B$5),OR('Cleaning Log'!$AC15="Hold",'Cleaning Log'!$AC15="Reclean",'Cleaning Log'!$AC15="Incomplete Checklist",'Cleaning Log'!$AC15="Awaiting Inspection",AND('Cleaning Log'!$AK15<>"",'Cleaning Log'!$AK15<>"OK"))),1,0),0) | U15: =IF(T15=1,COUNTIF($T$2:T15,1),"") | W15: =IFERROR(IF(AND('Cleaning Log'!$A15=$B$3,'Cleaning Log'!$B15<>"",OR($B$4="All Shifts",'Cleaning Log'!$F15=$B$4),OR($B$5="All Attendants",'Cleaning Log'!$E15=$B$5)),1,0),0) | X15: =IF(AND(W15=1,'Cleaning Log'!$AC15="Released"),1,0) | Y15: =IF(AND(W15=1,ISNUMBER('Cleaning Log'!$M15)),'Cleaning Log'!$M15,"") | Z15: =IF(AND(W15=1,ISNUMBER('Cleaning Log'!$M15),ISNUMBER('Cleaning Log'!$J15),'Cleaning Log'!$M15<='Cleaning Log'!$J15),1,0) | AA15: =IF(AND(W15=1,'Cleaning Log'!$L15<>""),1,0) | AB15: =IF(AND(W15=1,'Cleaning Log'!$AB15="Pass"),1,0) | AC15: =IF(AND(W15=1,OR('Cleaning Log'!$AB15="Pass",'Cleaning Log'!$AB15="Fail")),1,0) | AD15: =IF(AND(W15=1,OR(COUNTIF('Cleaning Log'!$N15:$X15,"Needs Attention")>0,AND('Cleaning Log'!$L15<>"",COUNTBLANK('Cleaning Log'!$N15:$X15)>0))),1,0) | AE15: =IF(AND(W15=1,'Cleaning Log'!$AD15="Maintenance",'Cleaning Log'!$AF15=""),1,0)
A16: Status | B16: Room Count | C16: Percent of Logged Rooms | E16: Attendant | F16: Rooms Logged | G16: Rooms Released | H16: Average Minutes | I16: Within Target | J16: Failed Inspections | T16: =IFERROR(IF(AND('Cleaning Log'!$A16=$B$3,OR($B$4="All Shifts",'Cleaning Log'!$F16=$B$4),OR($B$5="All Attendants",'Cleaning Log'!$E16=$B$5),OR('Cleaning Log'!$AC16="Hold",'Cleaning Log'!$AC16="Reclean",'Cleaning Log'!$AC16="Incomplete Checklist",'Cleaning Log'!$AC16="Awaiting Inspection",AND('Cleaning Log'!$AK16<>"",'Cleaning Log'!$AK16<>"OK"))),1,0),0) | U16: =IF(T16=1,COUNTIF($T$2:T16,1),"") | W16: =IFERROR(IF(AND('Cleaning Log'!$A16=$B$3,'Cleaning Log'!$B16<>"",OR($B$4="All Shifts",'Cleaning Log'!$F16=$B$4),OR($B$5="All Attendants",'Cleaning Log'!$E16=$B$5)),1,0),0) | X16: =IF(AND(W16=1,'Cleaning Log'!$AC16="Released"),1,0) | Y16: =IF(AND(W16=1,ISNUMBER('Cleaning Log'!$M16)),'Cleaning Log'!$M16,"") | Z16: =IF(AND(W16=1,ISNUMBER('Cleaning Log'!$M16),ISNUMBER('Cleaning Log'!$J16),'Cleaning Log'!$M16<='Cleaning Log'!$J16),1,0) | AA16: =IF(AND(W16=1,'Cleaning Log'!$L16<>""),1,0) | AB16: =IF(AND(W16=1,'Cleaning Log'!$AB16="Pass"),1,0) | AC16: =IF(AND(W16=1,OR('Cleaning Log'!$AB16="Pass",'Cleaning Log'!$AB16="Fail")),1,0) | AD16: =IF(AND(W16=1,OR(COUNTIF('Cleaning Log'!$N16:$X16,"Needs Attention")>0,AND('Cleaning Log'!$L16<>"",COUNTBLANK('Cleaning Log'!$N16:$X16)>0))),1,0) | AE16: =IF(AND(W16=1,'Cleaning Log'!$AD16="Maintenance",'Cleaning Log'!$AF16=""),1,0)
A17: Not Started | B17: =IFERROR(COUNTIFS('Cleaning Log'!$A$2:$A$251,$B$3,'Cleaning Log'!$AC$2:$AC$251,$A17,'Cleaning Log'!$F$2:$F$251,IF($B$4="All Shifts","<>",$B$4),'Cleaning Log'!$E$2:$E$251,IF($B$5="All Attendants","<>",$B$5)),0) | C17: =IFERROR(B17/SUM($B$17:$B$23),0) | E17: Maria Lopez | F17: =IFERROR(COUNTIFS('Cleaning Log'!$A$2:$A$251,$B$3,'Cleaning Log'!$E$2:$E$251,$E17),0) | G17: =IFERROR(COUNTIFS('Cleaning Log'!$A$2:$A$251,$B$3,'Cleaning Log'!$E$2:$E$251,$E17,'Cleaning Log'!$AC$2:$AC$251,"Released"),0) | H17: =IFERROR(AVERAGEIFS('Cleaning Log'!$M$2:$M$251,'Cleaning Log'!$A$2:$A$251,$B$3,'Cleaning Log'!$E$2:$E$251,$E17),0) | I17: =IFERROR(SUMIFS($Z$2:$Z$251,'Cleaning Log'!$E$2:$E$251,$E17)/SUMIFS($AA$2:$AA$251,'Cleaning Log'!$E$2:$E$251,$E17),0) | J17: =IFERROR(COUNTIFS('Cleaning Log'!$A$2:$A$251,$B$3,'Cleaning Log'!$E$2:$E$251,$E17,'Cleaning Log'!$AB$2:$AB$251,"Fail"),0) | T17: =IFERROR(IF(AND('Cleaning Log'!$A17=$B$3,OR($B$4="All Shifts",'Cleaning Log'!$F17=$B$4),OR($B$5="All Attendants",'Cleaning Log'!$E17=$B$5),OR('Cleaning Log'!$AC17="Hold",'Cleaning Log'!$AC17="Reclean",'Cleaning Log'!$AC17="Incomplete Checklist",'Cleaning Log'!$AC17="Awaiting Inspection",AND('Cleaning Log'!$AK17<>"",'Cleaning Log'!$AK17<>"OK"))),1,0),0) | U17: =IF(T17=1,COUNTIF($T$2:T17,1),"") | W17: =IFERROR(IF(AND('Cleaning Log'!$A17=$B$3,'Cleaning Log'!$B17<>"",OR($B$4="All Shifts",'Cleaning Log'!$F17=$B$4),OR($B$5="All Attendants",'Cleaning Log'!$E17=$B$5)),1,0),0) | X17: =IF(AND(W17=1,'Cleaning Log'!$AC17="Released"),1,0) | Y17: =IF(AND(W17=1,ISNUMBER('Cleaning Log'!$M17)),'Cleaning Log'!$M17,"") | Z17: =IF(AND(W17=1,ISNUMBER('Cleaning Log'!$M17),ISNUMBER('Cleaning Log'!$J17),'Cleaning Log'!$M17<='Cleaning Log'!$J17),1,0) | AA17: =IF(AND(W17=1,'Cleaning Log'!$L17<>""),1,0) | AB17: =IF(AND(W17=1,'Cleaning Log'!$AB17="Pass"),1,0) | AC17: =IF(AND(W17=1,OR('Cleaning Log'!$AB17="Pass",'Cleaning Log'!$AB17="Fail")),1,0) | AD17: =IF(AND(W17=1,OR(COUNTIF('Cleaning Log'!$N17:$X17,"Needs Attention")>0,AND('Cleaning Log'!$L17<>"",COUNTBLANK('Cleaning Log'!$N17:$X17)>0))),1,0) | AE17: =IF(AND(W17=1,'Cleaning Log'!$AD17="Maintenance",'Cleaning Log'!$AF17=""),1,0)
A18: In Progress | B18: =IFERROR(COUNTIFS('Cleaning Log'!$A$2:$A$251,$B$3,'Cleaning Log'!$AC$2:$AC$251,$A18,'Cleaning Log'!$F$2:$F$251,IF($B$4="All Shifts","<>",$B$4),'Cleaning Log'!$E$2:$E$251,IF($B$5="All Attendants","<>",$B$5)),0) | C18: =IFERROR(B18/SUM($B$17:$B$23),0) | E18: James Carter | F18: =IFERROR(COUNTIFS('Cleaning Log'!$A$2:$A$251,$B$3,'Cleaning Log'!$E$2:$E$251,$E18),0) | G18: =IFERROR(COUNTIFS('Cleaning Log'!$A$2:$A$251,$B$3,'Cleaning Log'!$E$2:$E$251,$E18,'Cleaning Log'!$AC$2:$AC$251,"Released"),0) | H18: =IFERROR(AVERAGEIFS('Cleaning Log'!$M$2:$M$251,'Cleaning Log'!$A$2:$A$251,$B$3,'Cleaning Log'!$E$2:$E$251,$E18),0) | I18: =IFERROR(SUMIFS($Z$2:$Z$251,'Cleaning Log'!$E$2:$E$251,$E18)/SUMIFS($AA$2:$AA$251,'Cleaning Log'!$E$2:$E$251,$E18),0) | J18: =IFERROR(COUNTIFS('Cleaning Log'!$A$2:$A$251,$B$3,'Cleaning Log'!$E$2:$E$251,$E18,'Cleaning Log'!$AB$2:$AB$251,"Fail"),0) | T18: =IFERROR(IF(AND('Cleaning Log'!$A18=$B$3,OR($B$4="All Shifts",'Cleaning Log'!$F18=$B$4),OR($B$5="All Attendants",'Cleaning Log'!$E18=$B$5),OR('Cleaning Log'!$AC18="Hold",'Cleaning Log'!$AC18="Reclean",'Cleaning Log'!$AC18="Incomplete Checklist",'Cleaning Log'!$AC18="Awaiting Inspection",AND('Cleaning Log'!$AK18<>"",'Cleaning Log'!$AK18<>"OK"))),1,0),0) | U18: =IF(T18=1,COUNTIF($T$2:T18,1),"") | W18: =IFERROR(IF(AND('Cleaning Log'!$A18=$B$3,'Cleaning Log'!$B18<>"",OR($B$4="All Shifts",'Cleaning Log'!$F18=$B$4),OR($B$5="All Attendants",'Cleaning Log'!$E18=$B$5)),1,0),0) | X18: =IF(AND(W18=1,'Cleaning Log'!$AC18="Released"),1,0) | Y18: =IF(AND(W18=1,ISNUMBER('Cleaning Log'!$M18)),'Cleaning Log'!$M18,"") | Z18: =IF(AND(W18=1,ISNUMBER('Cleaning Log'!$M18),ISNUMBER('Cleaning Log'!$J18),'Cleaning Log'!$M18<='Cleaning Log'!$J18),1,0) | AA18: =IF(AND(W18=1,'Cleaning Log'!$L18<>""),1,0) | AB18: =IF(AND(W18=1,'Cleaning Log'!$AB18="Pass"),1,0) | AC18: =IF(AND(W18=1,OR('Cleaning Log'!$AB18="Pass",'Cleaning Log'!$AB18="Fail")),1,0) | AD18: =IF(AND(W18=1,OR(COUNTIF('Cleaning Log'!$N18:$X18,"Needs Attention")>0,AND('Cleaning Log'!$L18<>"",COUNTBLANK('Cleaning Log'!$N18:$X18)>0))),1,0) | AE18: =IF(AND(W18=1,'Cleaning Log'!$AD18="Maintenance",'Cleaning Log'!$AF18=""),1,0)
A19: Incomplete Checklist | B19: =IFERROR(COUNTIFS('Cleaning Log'!$A$2:$A$251,$B$3,'Cleaning Log'!$AC$2:$AC$251,$A19,'Cleaning Log'!$F$2:$F$251,IF($B$4="All Shifts","<>",$B$4),'Cleaning Log'!$E$2:$E$251,IF($B$5="All Attendants","<>",$B$5)),0) | C19: =IFERROR(B19/SUM($B$17:$B$23),0) | E19: Priya Shah | F19: =IFERROR(COUNTIFS('Cleaning Log'!$A$2:$A$251,$B$3,'Cleaning Log'!$E$2:$E$251,$E19),0) | G19: =IFERROR(COUNTIFS('Cleaning Log'!$A$2:$A$251,$B$3,'Cleaning Log'!$E$2:$E$251,$E19,'Cleaning Log'!$AC$2:$AC$251,"Released"),0) | H19: =IFERROR(AVERAGEIFS('Cleaning Log'!$M$2:$M$251,'Cleaning Log'!$A$2:$A$251,$B$3,'Cleaning Log'!$E$2:$E$251,$E19),0) | I19: =IFERROR(SUMIFS($Z$2:$Z$251,'Cleaning Log'!$E$2:$E$251,$E19)/SUMIFS($AA$2:$AA$251,'Cleaning Log'!$E$2:$E$251,$E19),0) | J19: =IFERROR(COUNTIFS('Cleaning Log'!$A$2:$A$251,$B$3,'Cleaning Log'!$E$2:$E$251,$E19,'Cleaning Log'!$AB$2:$AB$251,"Fail"),0) | T19: =IFERROR(IF(AND('Cleaning Log'!$A19=$B$3,OR($B$4="All Shifts",'Cleaning Log'!$F19=$B$4),OR($B$5="All Attendants",'Cleaning Log'!$E19=$B$5),OR('Cleaning Log'!$AC19="Hold",'Cleaning Log'!$AC19="Reclean",'Cleaning Log'!$AC19="Incomplete Checklist",'Cleaning Log'!$AC19="Awaiting Inspection",AND('Cleaning Log'!$AK19<>"",'Cleaning Log'!$AK19<>"OK"))),1,0),0) | U19: =IF(T19=1,COUNTIF($T$2:T19,1),"") | W19: =IFERROR(IF(AND('Cleaning Log'!$A19=$B$3,'Cleaning Log'!$B19<>"",OR($B$4="All Shifts",'Cleaning Log'!$F19=$B$4),OR($B$5="All Attendants",'Cleaning Log'!$E19=$B$5)),1,0),0) | X19: =IF(AND(W19=1,'Cleaning Log'!$AC19="Released"),1,0) | Y19: =IF(AND(W19=1,ISNUMBER('Cleaning Log'!$M19)),'Cleaning Log'!$M19,"") | Z19: =IF(AND(W19=1,ISNUMBER('Cleaning Log'!$M19),ISNUMBER('Cleaning Log'!$J19),'Cleaning Log'!$M19<='Cleaning Log'!$J19),1,0) | AA19: =IF(AND(W19=1,'Cleaning Log'!$L19<>""),1,0) | AB19: =IF(AND(W19=1,'Cleaning Log'!$AB19="Pass"),1,0) | AC19: =IF(AND(W19=1,OR('Cleaning Log'!$AB19="Pass",'Cleaning Log'!$AB19="Fail")),1,0) | AD19: =IF(AND(W19=1,OR(COUNTIF('Cleaning Log'!$N19:$X19,"Needs Attention")>0,AND('Cleaning Log'!$L19<>"",COUNTBLANK('Cleaning Log'!$N19:$X19)>0))),1,0) | AE19: =IF(AND(W19=1,'Cleaning Log'!$AD19="Maintenance",'Cleaning Log'!$AF19=""),1,0)
A20: Awaiting Inspection | B20: =IFERROR(COUNTIFS('Cleaning Log'!$A$2:$A$251,$B$3,'Cleaning Log'!$AC$2:$AC$251,$A20,'Cleaning Log'!$F$2:$F$251,IF($B$4="All Shifts","<>",$B$4),'Cleaning Log'!$E$2:$E$251,IF($B$5="All Attendants","<>",$B$5)),0) | C20: =IFERROR(B20/SUM($B$17:$B$23),0) | E20: Elena Torres | F20: =IFERROR(COUNTIFS('Cleaning Log'!$A$2:$A$251,$B$3,'Cleaning Log'!$E$2:$E$251,$E20),0) | G20: =IFERROR(COUNTIFS('Cleaning Log'!$A$2:$A$251,$B$3,'Cleaning Log'!$E$2:$E$251,$E20,'Cleaning Log'!$AC$2:$AC$251,"Released"),0) | H20: =IFERROR(AVERAGEIFS('Cleaning Log'!$M$2:$M$251,'Cleaning Log'!$A$2:$A$251,$B$3,'Cleaning Log'!$E$2:$E$251,$E20),0) | I20: =IFERROR(SUMIFS($Z$2:$Z$251,'Cleaning Log'!$E$2:$E$251,$E20)/SUMIFS($AA$2:$AA$251,'Cleaning Log'!$E$2:$E$251,$E20),0) | J20: =IFERROR(COUNTIFS('Cleaning Log'!$A$2:$A$251,$B$3,'Cleaning Log'!$E$2:$E$251,$E20,'Cleaning Log'!$AB$2:$AB$251,"Fail"),0) | T20: =IFERROR(IF(AND('Cleaning Log'!$A20=$B$3,OR($B$4="All Shifts",'Cleaning Log'!$F20=$B$4),OR($B$5="All Attendants",'Cleaning Log'!$E20=$B$5),OR('Cleaning Log'!$AC20="Hold",'Cleaning Log'!$AC20="Reclean",'Cleaning Log'!$AC20="Incomplete Checklist",'Cleaning Log'!$AC20="Awaiting Inspection",AND('Cleaning Log'!$AK20<>"",'Cleaning Log'!$AK20<>"OK"))),1,0),0) | U20: =IF(T20=1,COUNTIF($T$2:T20,1),"") | W20: =IFERROR(IF(AND('Cleaning Log'!$A20=$B$3,'Cleaning Log'!$B20<>"",OR($B$4="All Shifts",'Cleaning Log'!$F20=$B$4),OR($B$5="All Attendants",'Cleaning Log'!$E20=$B$5)),1,0),0) | X20: =IF(AND(W20=1,'Cleaning Log'!$AC20="Released"),1,0) | Y20: =IF(AND(W20=1,ISNUMBER('Cleaning Log'!$M20)),'Cleaning Log'!$M20,"") | Z20: =IF(AND(W20=1,ISNUMBER('Cleaning Log'!$M20),ISNUMBER('Cleaning Log'!$J20),'Cleaning Log'!$M20<='Cleaning Log'!$J20),1,0) | AA20: =IF(AND(W20=1,'Cleaning Log'!$L20<>""),1,0) | AB20: =IF(AND(W20=1,'Cleaning Log'!$AB20="Pass"),1,0) | AC20: =IF(AND(W20=1,OR('Cleaning Log'!$AB20="Pass",'Cleaning Log'!$AB20="Fail")),1,0) | AD20: =IF(AND(W20=1,OR(COUNTIF('Cleaning Log'!$N20:$X20,"Needs Attention")>0,AND('Cleaning Log'!$L20<>"",COUNTBLANK('Cleaning Log'!$N20:$X20)>0))),1,0) | AE20: =IF(AND(W20=1,'Cleaning Log'!$AD20="Maintenance",'Cleaning Log'!$AF20=""),1,0)
A21: Reclean | B21: =IFERROR(COUNTIFS('Cleaning Log'!$A$2:$A$251,$B$3,'Cleaning Log'!$AC$2:$AC$251,$A21,'Cleaning Log'!$F$2:$F$251,IF($B$4="All Shifts","<>",$B$4),'Cleaning Log'!$E$2:$E$251,IF($B$5="All Attendants","<>",$B$5)),0) | C21: =IFERROR(B21/SUM($B$17:$B$23),0) | G21: ="" | H21: ="" | I21: ="" | J21: ="" | T21: =IFERROR(IF(AND('Cleaning Log'!$A21=$B$3,OR($B$4="All Shifts",'Cleaning Log'!$F21=$B$4),OR($B$5="All Attendants",'Cleaning Log'!$E21=$B$5),OR('Cleaning Log'!$AC21="Hold",'Cleaning Log'!$AC21="Reclean",'Cleaning Log'!$AC21="Incomplete Checklist",'Cleaning Log'!$AC21="Awaiting Inspection",AND('Cleaning Log'!$AK21<>"",'Cleaning Log'!$AK21<>"OK"))),1,0),0) | U21: =IF(T21=1,COUNTIF($T$2:T21,1),"") | W21: =IFERROR(IF(AND('Cleaning Log'!$A21=$B$3,'Cleaning Log'!$B21<>"",OR($B$4="All Shifts",'Cleaning Log'!$F21=$B$4),OR($B$5="All Attendants",'Cleaning Log'!$E21=$B$5)),1,0),0) | X21: =IF(AND(W21=1,'Cleaning Log'!$AC21="Released"),1,0) | Y21: =IF(AND(W21=1,ISNUMBER('Cleaning Log'!$M21)),'Cleaning Log'!$M21,"") | Z21: =IF(AND(W21=1,ISNUMBER('Cleaning Log'!$M21),ISNUMBER('Cleaning Log'!$J21),'Cleaning Log'!$M21<='Cleaning Log'!$J21),1,0) | AA21: =IF(AND(W21=1,'Cleaning Log'!$L21<>""),1,0) | AB21: =IF(AND(W21=1,'Cleaning Log'!$AB21="Pass"),1,0) | AC21: =IF(AND(W21=1,OR('Cleaning Log'!$AB21="Pass",'Cleaning Log'!$AB21="Fail")),1,0) | AD21: =IF(AND(W21=1,OR(COUNTIF('Cleaning Log'!$N21:$X21,"Needs Attention")>0,AND('Cleaning Log'!$L21<>"",COUNTBLANK('Cleaning Log'!$N21:$X21)>0))),1,0) | AE21: =IF(AND(W21=1,'Cleaning Log'!$AD21="Maintenance",'Cleaning Log'!$AF21=""),1,0)
A22: Hold | B22: =IFERROR(COUNTIFS('Cleaning Log'!$A$2:$A$251,$B$3,'Cleaning Log'!$AC$2:$AC$251,$A22,'Cleaning Log'!$F$2:$F$251,IF($B$4="All Shifts","<>",$B$4),'Cleaning Log'!$E$2:$E$251,IF($B$5="All Attendants","<>",$B$5)),0) | C22: =IFERROR(B22/SUM($B$17:$B$23),0) | G22: ="" | H22: ="" | I22: ="" | J22: ="" | T22: =IFERROR(IF(AND('Cleaning Log'!$A22=$B$3,OR($B$4="All Shifts",'Cleaning Log'!$F22=$B$4),OR($B$5="All Attendants",'Cleaning Log'!$E22=$B$5),OR('Cleaning Log'!$AC22="Hold",'Cleaning Log'!$AC22="Reclean",'Cleaning Log'!$AC22="Incomplete Checklist",'Cleaning Log'!$AC22="Awaiting Inspection",AND('Cleaning Log'!$AK22<>"",'Cleaning Log'!$AK22<>"OK"))),1,0),0) | U22: =IF(T22=1,COUNTIF($T$2:T22,1),"") | W22: =IFERROR(IF(AND('Cleaning Log'!$A22=$B$3,'Cleaning Log'!$B22<>"",OR($B$4="All Shifts",'Cleaning Log'!$F22=$B$4),OR($B$5="All Attendants",'Cleaning Log'!$E22=$B$5)),1,0),0) | X22: =IF(AND(W22=1,'Cleaning Log'!$AC22="Released"),1,0) | Y22: =IF(AND(W22=1,ISNUMBER('Cleaning Log'!$M22)),'Cleaning Log'!$M22,"") | Z22: =IF(AND(W22=1,ISNUMBER('Cleaning Log'!$M22),ISNUMBER('Cleaning Log'!$J22),'Cleaning Log'!$M22<='Cleaning Log'!$J22),1,0) | AA22: =IF(AND(W22=1,'Cleaning Log'!$L22<>""),1,0) | AB22: =IF(AND(W22=1,'Cleaning Log'!$AB22="Pass"),1,0) | AC22: =IF(AND(W22=1,OR('Cleaning Log'!$AB22="Pass",'Cleaning Log'!$AB22="Fail")),1,0) | AD22: =IF(AND(W22=1,OR(COUNTIF('Cleaning Log'!$N22:$X22,"Needs Attention")>0,AND('Cleaning Log'!$L22<>"",COUNTBLANK('Cleaning Log'!$N22:$X22)>0))),1,0) | AE22: =IF(AND(W22=1,'Cleaning Log'!$AD22="Maintenance",'Cleaning Log'!$AF22=""),1,0)
A23: Released | B23: =IFERROR(COUNTIFS('Cleaning Log'!$A$2:$A$251,$B$3,'Cleaning Log'!$AC$2:$AC$251,$A23,'Cleaning Log'!$F$2:$F$251,IF($B$4="All Shifts","<>",$B$4),'Cleaning Log'!$E$2:$E$251,IF($B$5="All Attendants","<>",$B$5)),0) | C23: =IFERROR(B23/SUM($B$17:$B$23),0) | G23: ="" | H23: ="" | I23: ="" | J23: ="" | T23: =IFERROR(IF(AND('Cleaning Log'!$A23=$B$3,OR($B$4="All Shifts",'Cleaning Log'!$F23=$B$4),OR($B$5="All Attendants",'Cleaning Log'!$E23=$B$5),OR('Cleaning Log'!$AC23="Hold",'Cleaning Log'!$AC23="Reclean",'Cleaning Log'!$AC23="Incomplete Checklist",'Cleaning Log'!$AC23="Awaiting Inspection",AND('Cleaning Log'!$AK23<>"",'Cleaning Log'!$AK23<>"OK"))),1,0),0) | U23: =IF(T23=1,COUNTIF($T$2:T23,1),"") | W23: =IFERROR(IF(AND('Cleaning Log'!$A23=$B$3,'Cleaning Log'!$B23<>"",OR($B$4="All Shifts",'Cleaning Log'!$F23=$B$4),OR($B$5="All Attendants",'Cleaning Log'!$E23=$B$5)),1,0),0) | X23: =IF(AND(W23=1,'Cleaning Log'!$AC23="Released"),1,0) | Y23: =IF(AND(W23=1,ISNUMBER('Cleaning Log'!$M23)),'Cleaning Log'!$M23,"") | Z23: =IF(AND(W23=1,ISNUMBER('Cleaning Log'!$M23),ISNUMBER('Cleaning Log'!$J23),'Cleaning Log'!$M23<='Cleaning Log'!$J23),1,0) | AA23: =IF(AND(W23=1,'Cleaning Log'!$L23<>""),1,0) | AB23: =IF(AND(W23=1,'Cleaning Log'!$AB23="Pass"),1,0) | AC23: =IF(AND(W23=1,OR('Cleaning Log'!$AB23="Pass",'Cleaning Log'!$AB23="Fail")),1,0) | AD23: =IF(AND(W23=1,OR(COUNTIF('Cleaning Log'!$N23:$X23,"Needs Attention")>0,AND('Cleaning Log'!$L23<>"",COUNTBLANK('Cleaning Log'!$N23:$X23)>0))),1,0) | AE23: =IF(AND(W23=1,'Cleaning Log'!$AD23="Maintenance",'Cleaning Log'!$AF23=""),1,0)
G24: ="" | H24: ="" | I24: ="" | J24: ="" | T24: =IFERROR(IF(AND('Cleaning Log'!$A24=$B$3,OR($B$4="All Shifts",'Cleaning Log'!$F24=$B$4),OR($B$5="All Attendants",'Cleaning Log'!$E24=$B$5),OR('Cleaning Log'!$AC24="Hold",'Cleaning Log'!$AC24="Reclean",'Cleaning Log'!$AC24="Incomplete Checklist",'Cleaning Log'!$AC24="Awaiting Inspection",AND('Cleaning Log'!$AK24<>"",'Cleaning Log'!$AK24<>"OK"))),1,0),0) | U24: =IF(T24=1,COUNTIF($T$2:T24,1),"") | W24: =IFERROR(IF(AND('Cleaning Log'!$A24=$B$3,'Cleaning Log'!$B24<>"",OR($B$4="All Shifts",'Cleaning Log'!$F24=$B$4),OR($B$5="All Attendants",'Cleaning Log'!$E24=$B$5)),1,0),0) | X24: =IF(AND(W24=1,'Cleaning Log'!$AC24="Released"),1,0) | Y24: =IF(AND(W24=1,ISNUMBER('Cleaning Log'!$M24)),'Cleaning Log'!$M24,"") | Z24: =IF(AND(W24=1,ISNUMBER('Cleaning Log'!$M24),ISNUMBER('Cleaning Log'!$J24),'Cleaning Log'!$M24<='Cleaning Log'!$J24),1,0) | AA24: =IF(AND(W24=1,'Cleaning Log'!$L24<>""),1,0) | AB24: =IF(AND(W24=1,'Cleaning Log'!$AB24="Pass"),1,0) | AC24: =IF(AND(W24=1,OR('Cleaning Log'!$AB24="Pass",'Cleaning Log'!$AB24="Fail")),1,0) | AD24: =IF(AND(W24=1,OR(COUNTIF('Cleaning Log'!$N24:$X24,"Needs Attention")>0,AND('Cleaning Log'!$L24<>"",COUNTBLANK('Cleaning Log'!$N24:$X24)>0))),1,0) | AE24: =IF(AND(W24=1,'Cleaning Log'!$AD24="Maintenance",'Cleaning Log'!$AF24=""),1,0)
G25: ="" | H25: ="" | I25: ="" | J25: ="" | T25: =IFERROR(IF(AND('Cleaning Log'!$A25=$B$3,OR($B$4="All Shifts",'Cleaning Log'!$F25=$B$4),OR($B$5="All Attendants",'Cleaning Log'!$E25=$B$5),OR('Cleaning Log'!$AC25="Hold",'Cleaning Log'!$AC25="Reclean",'Cleaning Log'!$AC25="Incomplete Checklist",'Cleaning Log'!$AC25="Awaiting Inspection",AND('Cleaning Log'!$AK25<>"",'Cleaning Log'!$AK25<>"OK"))),1,0),0) | U25: =IF(T25=1,COUNTIF($T$2:T25,1),"") | W25: =IFERROR(IF(AND('Cleaning Log'!$A25=$B$3,'Cleaning Log'!$B25<>"",OR($B$4="All Shifts",'Cleaning Log'!$F25=$B$4),OR($B$5="All Attendants",'Cleaning Log'!$E25=$B$5)),1,0),0) | X25: =IF(AND(W25=1,'Cleaning Log'!$AC25="Released"),1,0) | Y25: =IF(AND(W25=1,ISNUMBER('Cleaning Log'!$M25)),'Cleaning Log'!$M25,"") | Z25: =IF(AND(W25=1,ISNUMBER('Cleaning Log'!$M25),ISNUMBER('Cleaning Log'!$J25),'Cleaning Log'!$M25<='Cleaning Log'!$J25),1,0) | AA25: =IF(AND(W25=1,'Cleaning Log'!$L25<>""),1,0) | AB25: =IF(AND(W25=1,'Cleaning Log'!$AB25="Pass"),1,0) | AC25: =IF(AND(W25=1,OR('Cleaning Log'!$AB25="Pass",'Cleaning Log'!$AB25="Fail")),1,0) | AD25: =IF(AND(W25=1,OR(COUNTIF('Cleaning Log'!$N25:$X25,"Needs Attention")>0,AND('Cleaning Log'!$L25<>"",COUNTBLANK('Cleaning Log'!$N25:$X25)>0))),1,0) | AE25: =IF(AND(W25=1,'Cleaning Log'!$AD25="Maintenance",'Cleaning Log'!$AF25=""),1,0)
A26: Rooms Requiring Attention | G26: ="" | H26: ="" | I26: ="" | J26: ="" | T26: =IFERROR(IF(AND('Cleaning Log'!$A26=$B$3,OR($B$4="All Shifts",'Cleaning Log'!$F26=$B$4),OR($B$5="All Attendants",'Cleaning Log'!$E26=$B$5),OR('Cleaning Log'!$AC26="Hold",'Cleaning Log'!$AC26="Reclean",'Cleaning Log'!$AC26="Incomplete Checklist",'Cleaning Log'!$AC26="Awaiting Inspection",AND('Cleaning Log'!$AK26<>"",'Cleaning Log'!$AK26<>"OK"))),1,0),0) | U26: =IF(T26=1,COUNTIF($T$2:T26,1),"") | W26: =IFERROR(IF(AND('Cleaning Log'!$A26=$B$3,'Cleaning Log'!$B26<>"",OR($B$4="All Shifts",'Cleaning Log'!$F26=$B$4),OR($B$5="All Attendants",'Cleaning Log'!$E26=$B$5)),1,0),0) | X26: =IF(AND(W26=1,'Cleaning Log'!$AC26="Released"),1,0) | Y26: =IF(AND(W26=1,ISNUMBER('Cleaning Log'!$M26)),'Cleaning Log'!$M26,"") | Z26: =IF(AND(W26=1,ISNUMBER('Cleaning Log'!$M26),ISNUMBER('Cleaning Log'!$J26),'Cleaning Log'!$M26<='Cleaning Log'!$J26),1,0) | AA26: =IF(AND(W26=1,'Cleaning Log'!$L26<>""),1,0) | AB26: =IF(AND(W26=1,'Cleaning Log'!$AB26="Pass"),1,0) | AC26: =IF(AND(W26=1,OR('Cleaning Log'!$AB26="Pass",'Cleaning Log'!$AB26="Fail")),1,0) | AD26: =IF(AND(W26=1,OR(COUNTIF('Cleaning Log'!$N26:$X26,"Needs Attention")>0,AND('Cleaning Log'!$L26<>"",COUNTBLANK('Cleaning Log'!$N26:$X26)>0))),1,0) | AE26: =IF(AND(W26=1,'Cleaning Log'!$AD26="Maintenance",'Cleaning Log'!$AF26=""),1,0)
A27: Room Number | B27: Attendant | C27: Operational Status | D27: Issue Category | E27: Issue Description | F27: Maintenance Ticket | G27: ="" | H27: ="" | I27: ="" | J27: ="" | T27: =IFERROR(IF(AND('Cleaning Log'!$A27=$B$3,OR($B$4="All Shifts",'Cleaning Log'!$F27=$B$4),OR($B$5="All Attendants",'Cleaning Log'!$E27=$B$5),OR('Cleaning Log'!$AC27="Hold",'Cleaning Log'!$AC27="Reclean",'Cleaning Log'!$AC27="Incomplete Checklist",'Cleaning Log'!$AC27="Awaiting Inspection",AND('Cleaning Log'!$AK27<>"",'Cleaning Log'!$AK27<>"OK"))),1,0),0) | U27: =IF(T27=1,COUNTIF($T$2:T27,1),"") | W27: =IFERROR(IF(AND('Cleaning Log'!$A27=$B$3,'Cleaning Log'!$B27<>"",OR($B$4="All Shifts",'Cleaning Log'!$F27=$B$4),OR($B$5="All Attendants",'Cleaning Log'!$E27=$B$5)),1,0),0) | X27: =IF(AND(W27=1,'Cleaning Log'!$AC27="Released"),1,0) | Y27: =IF(AND(W27=1,ISNUMBER('Cleaning Log'!$M27)),'Cleaning Log'!$M27,"") | Z27: =IF(AND(W27=1,ISNUMBER('Cleaning Log'!$M27),ISNUMBER('Cleaning Log'!$J27),'Cleaning Log'!$M27<='Cleaning Log'!$J27),1,0) | AA27: =IF(AND(W27=1,'Cleaning Log'!$L27<>""),1,0) | AB27: =IF(AND(W27=1,'Cleaning Log'!$AB27="Pass"),1,0) | AC27: =IF(AND(W27=1,OR('Cleaning Log'!$AB27="Pass",'Cleaning Log'!$AB27="Fail")),1,0) | AD27: =IF(AND(W27=1,OR(COUNTIF('Cleaning Log'!$N27:$X27,"Needs Attention")>0,AND('Cleaning Log'!$L27<>"",COUNTBLANK('Cleaning Log'!$N27:$X27)>0))),1,0) | AE27: =IF(AND(W27=1,'Cleaning Log'!$AD27="Maintenance",'Cleaning Log'!$AF27=""),1,0)
A28: =IFERROR(INDEX('Cleaning Log'!$B$2:$B$251,MATCH(1,$U$2:$U$251,0)),"") | B28: =IFERROR(INDEX('Cleaning Log'!$E$2:$E$251,MATCH(1,$U$2:$U$251,0)),"") | C28: =IFERROR(INDEX('Cleaning Log'!$AC$2:$AC$251,MATCH(1,$U$2:$U$251,0)),"") | D28: =IFERROR(INDEX('Cleaning Log'!$AD$2:$AD$251,MATCH(1,$U$2:$U$251,0)),"") | E28: =IFERROR(INDEX('Cleaning Log'!$AE$2:$AE$251,MATCH(1,$U$2:$U$251,0)),"") | F28: =IFERROR(INDEX('Cleaning Log'!$AF$2:$AF$251,MATCH(1,$U$2:$U$251,0)),"") | G28: ="" | H28: ="" | I28: ="" | J28: ="" | T28: =IFERROR(IF(AND('Cleaning Log'!$A28=$B$3,OR($B$4="All Shifts",'Cleaning Log'!$F28=$B$4),OR($B$5="All Attendants",'Cleaning Log'!$E28=$B$5),OR('Cleaning Log'!$AC28="Hold",'Cleaning Log'!$AC28="Reclean",'Cleaning Log'!$AC28="Incomplete Checklist",'Cleaning Log'!$AC28="Awaiting Inspection",AND('Cleaning Log'!$AK28<>"",'Cleaning Log'!$AK28<>"OK"))),1,0),0) | U28: =IF(T28=1,COUNTIF($T$2:T28,1),"") | W28: =IFERROR(IF(AND('Cleaning Log'!$A28=$B$3,'Cleaning Log'!$B28<>"",OR($B$4="All Shifts",'Cleaning Log'!$F28=$B$4),OR($B$5="All Attendants",'Cleaning Log'!$E28=$B$5)),1,0),0) | X28: =IF(AND(W28=1,'Cleaning Log'!$AC28="Released"),1,0) | Y28: =IF(AND(W28=1,ISNUMBER('Cleaning Log'!$M28)),'Cleaning Log'!$M28,"") | Z28: =IF(AND(W28=1,ISNUMBER('Cleaning Log'!$M28),ISNUMBER('Cleaning Log'!$J28),'Cleaning Log'!$M28<='Cleaning Log'!$J28),1,0) | AA28: =IF(AND(W28=1,'Cleaning Log'!$L28<>""),1,0) | AB28: =IF(AND(W28=1,'Cleaning Log'!$AB28="Pass"),1,0) | AC28: =IF(AND(W28=1,OR('Cleaning Log'!$AB28="Pass",'Cleaning Log'!$AB28="Fail")),1,0) | AD28: =IF(AND(W28=1,OR(COUNTIF('Cleaning Log'!$N28:$X28,"Needs Attention")>0,AND('Cleaning Log'!$L28<>"",COUNTBLANK('Cleaning Log'!$N28:$X28)>0))),1,0) | AE28: =IF(AND(W28=1,'Cleaning Log'!$AD28="Maintenance",'Cleaning Log'!$AF28=""),1,0)
A29: =IFERROR(INDEX('Cleaning Log'!$B$2:$B$251,MATCH(2,$U$2:$U$251,0)),"") | B29: =IFERROR(INDEX('Cleaning Log'!$E$2:$E$251,MATCH(2,$U$2:$U$251,0)),"") | C29: =IFERROR(INDEX('Cleaning Log'!$AC$2:$AC$251,MATCH(2,$U$2:$U$251,0)),"") | D29: =IFERROR(INDEX('Cleaning Log'!$AD$2:$AD$251,MATCH(2,$U$2:$U$251,0)),"") | E29: =IFERROR(INDEX('Cleaning Log'!$AE$2:$AE$251,MATCH(2,$U$2:$U$251,0)),"") | F29: =IFERROR(INDEX('Cleaning Log'!$AF$2:$AF$251,MATCH(2,$U$2:$U$251,0)),"") | G29: ="" | H29: ="" | I29: ="" | J29: ="" | T29: =IFERROR(IF(AND('Cleaning Log'!$A29=$B$3,OR($B$4="All Shifts",'Cleaning Log'!$F29=$B$4),OR($B$5="All Attendants",'Cleaning Log'!$E29=$B$5),OR('Cleaning Log'!$AC29="Hold",'Cleaning Log'!$AC29="Reclean",'Cleaning Log'!$AC29="Incomplete Checklist",'Cleaning Log'!$AC29="Awaiting Inspection",AND('Cleaning Log'!$AK29<>"",'Cleaning Log'!$AK29<>"OK"))),1,0),0) | U29: =IF(T29=1,COUNTIF($T$2:T29,1),"") | W29: =IFERROR(IF(AND('Cleaning Log'!$A29=$B$3,'Cleaning Log'!$B29<>"",OR($B$4="All Shifts",'Cleaning Log'!$F29=$B$4),OR($B$5="All Attendants",'Cleaning Log'!$E29=$B$5)),1,0),0) | X29: =IF(AND(W29=1,'Cleaning Log'!$AC29="Released"),1,0) | Y29: =IF(AND(W29=1,ISNUMBER('Cleaning Log'!$M29)),'Cleaning Log'!$M29,"") | Z29: =IF(AND(W29=1,ISNUMBER('Cleaning Log'!$M29),ISNUMBER('Cleaning Log'!$J29),'Cleaning Log'!$M29<='Cleaning Log'!$J29),1,0) | AA29: =IF(AND(W29=1,'Cleaning Log'!$L29<>""),1,0) | AB29: =IF(AND(W29=1,'Cleaning Log'!$AB29="Pass"),1,0) | AC29: =IF(AND(W29=1,OR('Cleaning Log'!$AB29="Pass",'Cleaning Log'!$AB29="Fail")),1,0) | AD29: =IF(AND(W29=1,OR(COUNTIF('Cleaning Log'!$N29:$X29,"Needs Attention")>0,AND('Cleaning Log'!$L29<>"",COUNTBLANK('Cleaning Log'!$N29:$X29)>0))),1,0) | AE29: =IF(AND(W29=1,'Cleaning Log'!$AD29="Maintenance",'Cleaning Log'!$AF29=""),1,0)
A30: =IFERROR(INDEX('Cleaning Log'!$B$2:$B$251,MATCH(3,$U$2:$U$251,0)),"") | B30: =IFERROR(INDEX('Cleaning Log'!$E$2:$E$251,MATCH(3,$U$2:$U$251,0)),"") | C30: =IFERROR(INDEX('Cleaning Log'!$AC$2:$AC$251,MATCH(3,$U$2:$U$251,0)),"") | D30: =IFERROR(INDEX('Cleaning Log'!$AD$2:$AD$251,MATCH(3,$U$2:$U$251,0)),"") | E30: =IFERROR(INDEX('Cleaning Log'!$AE$2:$AE$251,MATCH(3,$U$2:$U$251,0)),"") | F30: =IFERROR(INDEX('Cleaning Log'!$AF$2:$AF$251,MATCH(3,$U$2:$U$251,0)),"") | G30: ="" | H30: ="" | I30: ="" | J30: ="" | T30: =IFERROR(IF(AND('Cleaning Log'!$A30=$B$3,OR($B$4="All Shifts",'Cleaning Log'!$F30=$B$4),OR($B$5="All Attendants",'Cleaning Log'!$E30=$B$5),OR('Cleaning Log'!$AC30="Hold",'Cleaning Log'!$AC30="Reclean",'Cleaning Log'!$AC30="Incomplete Checklist",'Cleaning Log'!$AC30="Awaiting Inspection",AND('Cleaning Log'!$AK30<>"",'Cleaning Log'!$AK30<>"OK"))),1,0),0) | U30: =IF(T30=1,COUNTIF($T$2:T30,1),"") | W30: =IFERROR(IF(AND('Cleaning Log'!$A30=$B$3,'Cleaning Log'!$B30<>"",OR($B$4="All Shifts",'Cleaning Log'!$F30=$B$4),OR($B$5="All Attendants",'Cleaning Log'!$E30=$B$5)),1,0),0) | X30: =IF(AND(W30=1,'Cleaning Log'!$AC30="Released"),1,0) | Y30: =IF(AND(W30=1,ISNUMBER('Cleaning Log'!$M30)),'Cleaning Log'!$M30,"") | Z30: =IF(AND(W30=1,ISNUMBER('Cleaning Log'!$M30),ISNUMBER('Cleaning Log'!$J30),'Cleaning Log'!$M30<='Cleaning Log'!$J30),1,0) | AA30: =IF(AND(W30=1,'Cleaning Log'!$L30<>""),1,0) | AB30: =IF(AND(W30=1,'Cleaning Log'!$AB30="Pass"),1,0) | AC30: =IF(AND(W30=1,OR('Cleaning Log'!$AB30="Pass",'Cleaning Log'!$AB30="Fail")),1,0) | AD30: =IF(AND(W30=1,OR(COUNTIF('Cleaning Log'!$N30:$X30,"Needs Attention")>0,AND('Cleaning Log'!$L30<>"",COUNTBLANK('Cleaning Log'!$N30:$X30)>0))),1,0) | AE30: =IF(AND(W30=1,'Cleaning Log'!$AD30="Maintenance",'Cleaning Log'!$AF30=""),1,0)
A31: =IFERROR(INDEX('Cleaning Log'!$B$2:$B$251,MATCH(4,$U$2:$U$251,0)),"") | B31: =IFERROR(INDEX('Cleaning Log'!$E$2:$E$251,MATCH(4,$U$2:$U$251,0)),"") | C31: =IFERROR(INDEX('Cleaning Log'!$AC$2:$AC$251,MATCH(4,$U$2:$U$251,0)),"") | D31: =IFERROR(INDEX('Cleaning Log'!$AD$2:$AD$251,MATCH(4,$U$2:$U$251,0)),"") | E31: =IFERROR(INDEX('Cleaning Log'!$AE$2:$AE$251,MATCH(4,$U$2:$U$251,0)),"") | F31: =IFERROR(INDEX('Cleaning Log'!$AF$2:$AF$251,MATCH(4,$U$2:$U$251,0)),"") | G31: ="" | H31: ="" | I31: ="" | J31: ="" | T31: =IFERROR(IF(AND('Cleaning Log'!$A31=$B$3,OR($B$4="All Shifts",'Cleaning Log'!$F31=$B$4),OR($B$5="All Attendants",'Cleaning Log'!$E31=$B$5),OR('Cleaning Log'!$AC31="Hold",'Cleaning Log'!$AC31="Reclean",'Cleaning Log'!$AC31="Incomplete Checklist",'Cleaning Log'!$AC31="Awaiting Inspection",AND('Cleaning Log'!$AK31<>"",'Cleaning Log'!$AK31<>"OK"))),1,0),0) | U31: =IF(T31=1,COUNTIF($T$2:T31,1),"") | W31: =IFERROR(IF(AND('Cleaning Log'!$A31=$B$3,'Cleaning Log'!$B31<>"",OR($B$4="All Shifts",'Cleaning Log'!$F31=$B$4),OR($B$5="All Attendants",'Cleaning Log'!$E31=$B$5)),1,0),0) | X31: =IF(AND(W31=1,'Cleaning Log'!$AC31="Released"),1,0) | Y31: =IF(AND(W31=1,ISNUMBER('Cleaning Log'!$M31)),'Cleaning Log'!$M31,"") | Z31: =IF(AND(W31=1,ISNUMBER('Cleaning Log'!$M31),ISNUMBER('Cleaning Log'!$J31),'Cleaning Log'!$M31<='Cleaning Log'!$J31),1,0) | AA31: =IF(AND(W31=1,'Cleaning Log'!$L31<>""),1,0) | AB31: =IF(AND(W31=1,'Cleaning Log'!$AB31="Pass"),1,0) | AC31: =IF(AND(W31=1,OR('Cleaning Log'!$AB31="Pass",'Cleaning Log'!$AB31="Fail")),1,0) | AD31: =IF(AND(W31=1,OR(COUNTIF('Cleaning Log'!$N31:$X31,"Needs Attention")>0,AND('Cleaning Log'!$L31<>"",COUNTBLANK('Cleaning Log'!$N31:$X31)>0))),1,0) | AE31: =IF(AND(W31=1,'Cleaning Log'!$AD31="Maintenance",'Cleaning Log'!$AF31=""),1,0)
A32: =IFERROR(INDEX('Cleaning Log'!$B$2:$B$251,MATCH(5,$U$2:$U$251,0)),"") | B32: =IFERROR(INDEX('Cleaning Log'!$E$2:$E$251,MATCH(5,$U$2:$U$251,0)),"") | C32: =IFERROR(INDEX('Cleaning Log'!$AC$2:$AC$251,MATCH(5,$U$2:$U$251,0)),"") | D32: =IFERROR(INDEX('Cleaning Log'!$AD$2:$AD$251,MATCH(5,$U$2:$U$251,0)),"") | E32: =IFERROR(INDEX('Cleaning Log'!$AE$2:$AE$251,MATCH(5,$U$2:$U$251,0)),"") | F32: =IFERROR(INDEX('Cleaning Log'!$AF$2:$AF$251,MATCH(5,$U$2:$U$251,0)),"") | G32: ="" | H32: ="" | I32: ="" | J32: ="" | T32: =IFERROR(IF(AND('Cleaning Log'!$A32=$B$3,OR($B$4="All Shifts",'Cleaning Log'!$F32=$B$4),OR($B$5="All Attendants",'Cleaning Log'!$E32=$B$5),OR('Cleaning Log'!$AC32="Hold",'Cleaning Log'!$AC32="Reclean",'Cleaning Log'!$AC32="Incomplete Checklist",'Cleaning Log'!$AC32="Awaiting Inspection",AND('Cleaning Log'!$AK32<>"",'Cleaning Log'!$AK32<>"OK"))),1,0),0) | U32: =IF(T32=1,COUNTIF($T$2:T32,1),"") | W32: =IFERROR(IF(AND('Cleaning Log'!$A32=$B$3,'Cleaning Log'!$B32<>"",OR($B$4="All Shifts",'Cleaning Log'!$F32=$B$4),OR($B$5="All Attendants",'Cleaning Log'!$E32=$B$5)),1,0),0) | X32: =IF(AND(W32=1,'Cleaning Log'!$AC32="Released"),1,0) | Y32: =IF(AND(W32=1,ISNUMBER('Cleaning Log'!$M32)),'Cleaning Log'!$M32,"") | Z32: =IF(AND(W32=1,ISNUMBER('Cleaning Log'!$M32),ISNUMBER('Cleaning Log'!$J32),'Cleaning Log'!$M32<='Cleaning Log'!$J32),1,0) | AA32: =IF(AND(W32=1,'Cleaning Log'!$L32<>""),1,0) | AB32: =IF(AND(W32=1,'Cleaning Log'!$AB32="Pass"),1,0) | AC32: =IF(AND(W32=1,OR('Cleaning Log'!$AB32="Pass",'Cleaning Log'!$AB32="Fail")),1,0) | AD32: =IF(AND(W32=1,OR(COUNTIF('Cleaning Log'!$N32:$X32,"Needs Attention")>0,AND('Cleaning Log'!$L32<>"",COUNTBLANK('Cleaning Log'!$N32:$X32)>0))),1,0) | AE32: =IF(AND(W32=1,'Cleaning Log'!$AD32="Maintenance",'Cleaning Log'!$AF32=""),1,0)
A33: =IFERROR(INDEX('Cleaning Log'!$B$2:$B$251,MATCH(6,$U$2:$U$251,0)),"") | B33: =IFERROR(INDEX('Cleaning Log'!$E$2:$E$251,MATCH(6,$U$2:$U$251,0)),"") | C33: =IFERROR(INDEX('Cleaning Log'!$AC$2:$AC$251,MATCH(6,$U$2:$U$251,0)),"") | D33: =IFERROR(INDEX('Cleaning Log'!$AD$2:$AD$251,MATCH(6,$U$2:$U$251,0)),"") | E33: =IFERROR(INDEX('Cleaning Log'!$AE$2:$AE$251,MATCH(6,$U$2:$U$251,0)),"") | F33: =IFERROR(INDEX('Cleaning Log'!$AF$2:$AF$251,MATCH(6,$U$2:$U$251,0)),"") | G33: ="" | H33: ="" | I33: ="" | J33: ="" | T33: =IFERROR(IF(AND('Cleaning Log'!$A33=$B$3,OR($B$4="All Shifts",'Cleaning Log'!$F33=$B$4),OR($B$5="All Attendants",'Cleaning Log'!$E33=$B$5),OR('Cleaning Log'!$AC33="Hold",'Cleaning Log'!$AC33="Reclean",'Cleaning Log'!$AC33="Incomplete Checklist",'Cleaning Log'!$AC33="Awaiting Inspection",AND('Cleaning Log'!$AK33<>"",'Cleaning Log'!$AK33<>"OK"))),1,0),0) | U33: =IF(T33=1,COUNTIF($T$2:T33,1),"") | W33: =IFERROR(IF(AND('Cleaning Log'!$A33=$B$3,'Cleaning Log'!$B33<>"",OR($B$4="All Shifts",'Cleaning Log'!$F33=$B$4),OR($B$5="All Attendants",'Cleaning Log'!$E33=$B$5)),1,0),0) | X33: =IF(AND(W33=1,'Cleaning Log'!$AC33="Released"),1,0) | Y33: =IF(AND(W33=1,ISNUMBER('Cleaning Log'!$M33)),'Cleaning Log'!$M33,"") | Z33: =IF(AND(W33=1,ISNUMBER('Cleaning Log'!$M33),ISNUMBER('Cleaning Log'!$J33),'Cleaning Log'!$M33<='Cleaning Log'!$J33),1,0) | AA33: =IF(AND(W33=1,'Cleaning Log'!$L33<>""),1,0) | AB33: =IF(AND(W33=1,'Cleaning Log'!$AB33="Pass"),1,0) | AC33: =IF(AND(W33=1,OR('Cleaning Log'!$AB33="Pass",'Cleaning Log'!$AB33="Fail")),1,0) | AD33: =IF(AND(W33=1,OR(COUNTIF('Cleaning Log'!$N33:$X33,"Needs Attention")>0,AND('Cleaning Log'!$L33<>"",COUNTBLANK('Cleaning Log'!$N33:$X33)>0))),1,0) | AE33: =IF(AND(W33=1,'Cleaning Log'!$AD33="Maintenance",'Cleaning Log'!$AF33=""),1,0)
A34: =IFERROR(INDEX('Cleaning Log'!$B$2:$B$251,MATCH(7,$U$2:$U$251,0)),"") | B34: =IFERROR(INDEX('Cleaning Log'!$E$2:$E$251,MATCH(7,$U$2:$U$251,0)),"") | C34: =IFERROR(INDEX('Cleaning Log'!$AC$2:$AC$251,MATCH(7,$U$2:$U$251,0)),"") | D34: =IFERROR(INDEX('Cleaning Log'!$AD$2:$AD$251,MATCH(7,$U$2:$U$251,0)),"") | E34: =IFERROR(INDEX('Cleaning Log'!$AE$2:$AE$251,MATCH(7,$U$2:$U$251,0)),"") | F34: =IFERROR(INDEX('Cleaning Log'!$AF$2:$AF$251,MATCH(7,$U$2:$U$251,0)),"") | G34: ="" | H34: ="" | I34: ="" | J34: ="" | T34: =IFERROR(IF(AND('Cleaning Log'!$A34=$B$3,OR($B$4="All Shifts",'Cleaning Log'!$F34=$B$4),OR($B$5="All Attendants",'Cleaning Log'!$E34=$B$5),OR('Cleaning Log'!$AC34="Hold",'Cleaning Log'!$AC34="Reclean",'Cleaning Log'!$AC34="Incomplete Checklist",'Cleaning Log'!$AC34="Awaiting Inspection",AND('Cleaning Log'!$AK34<>"",'Cleaning Log'!$AK34<>"OK"))),1,0),0) | U34: =IF(T34=1,COUNTIF($T$2:T34,1),"") | W34: =IFERROR(IF(AND('Cleaning Log'!$A34=$B$3,'Cleaning Log'!$B34<>"",OR($B$4="All Shifts",'Cleaning Log'!$F34=$B$4),OR($B$5="All Attendants",'Cleaning Log'!$E34=$B$5)),1,0),0) | X34: =IF(AND(W34=1,'Cleaning Log'!$AC34="Released"),1,0) | Y34: =IF(AND(W34=1,ISNUMBER('Cleaning Log'!$M34)),'Cleaning Log'!$M34,"") | Z34: =IF(AND(W34=1,ISNUMBER('Cleaning Log'!$M34),ISNUMBER('Cleaning Log'!$J34),'Cleaning Log'!$M34<='Cleaning Log'!$J34),1,0) | AA34: =IF(AND(W34=1,'Cleaning Log'!$L34<>""),1,0) | AB34: =IF(AND(W34=1,'Cleaning Log'!$AB34="Pass"),1,0) | AC34: =IF(AND(W34=1,OR('Cleaning Log'!$AB34="Pass",'Cleaning Log'!$AB34="Fail")),1,0) | AD34: =IF(AND(W34=1,OR(COUNTIF('Cleaning Log'!$N34:$X34,"Needs Attention")>0,AND('Cleaning Log'!$L34<>"",COUNTBLANK('Cleaning Log'!$N34:$X34)>0))),1,0) | AE34: =IF(AND(W34=1,'Cleaning Log'!$AD34="Maintenance",'Cleaning Log'!$AF34=""),1,0)
A35: =IFERROR(INDEX('Cleaning Log'!$B$2:$B$251,MATCH(8,$U$2:$U$251,0)),"") | B35: =IFERROR(INDEX('Cleaning Log'!$E$2:$E$251,MATCH(8,$U$2:$U$251,0)),"") | C35: =IFERROR(INDEX('Cleaning Log'!$AC$2:$AC$251,MATCH(8,$U$2:$U$251,0)),"") | D35: =IFERROR(INDEX('Cleaning Log'!$AD$2:$AD$251,MATCH(8,$U$2:$U$251,0)),"") | E35: =IFERROR(INDEX('Cleaning Log'!$AE$2:$AE$251,MATCH(8,$U$2:$U$251,0)),"") | F35: =IFERROR(INDEX('Cleaning Log'!$AF$2:$AF$251,MATCH(8,$U$2:$U$251,0)),"") | G35: ="" | H35: ="" | I35: ="" | J35: ="" | T35: =IFERROR(IF(AND('Cleaning Log'!$A35=$B$3,OR($B$4="All Shifts",'Cleaning Log'!$F35=$B$4),OR($B$5="All Attendants",'Cleaning Log'!$E35=$B$5),OR('Cleaning Log'!$AC35="Hold",'Cleaning Log'!$AC35="Reclean",'Cleaning Log'!$AC35="Incomplete Checklist",'Cleaning Log'!$AC35="Awaiting Inspection",AND('Cleaning Log'!$AK35<>"",'Cleaning Log'!$AK35<>"OK"))),1,0),0) | U35: =IF(T35=1,COUNTIF($T$2:T35,1),"") | W35: =IFERROR(IF(AND('Cleaning Log'!$A35=$B$3,'Cleaning Log'!$B35<>"",OR($B$4="All Shifts",'Cleaning Log'!$F35=$B$4),OR($B$5="All Attendants",'Cleaning Log'!$E35=$B$5)),1,0),0) | X35: =IF(AND(W35=1,'Cleaning Log'!$AC35="Released"),1,0) | Y35: =IF(AND(W35=1,ISNUMBER('Cleaning Log'!$M35)),'Cleaning Log'!$M35,"") | Z35: =IF(AND(W35=1,ISNUMBER('Cleaning Log'!$M35),ISNUMBER('Cleaning Log'!$J35),'Cleaning Log'!$M35<='Cleaning Log'!$J35),1,0) | AA35: =IF(AND(W35=1,'Cleaning Log'!$L35<>""),1,0) | AB35: =IF(AND(W35=1,'Cleaning Log'!$AB35="Pass"),1,0) | AC35: =IF(AND(W35=1,OR('Cleaning Log'!$AB35="Pass",'Cleaning Log'!$AB35="Fail")),1,0) | AD35: =IF(AND(W35=1,OR(COUNTIF('Cleaning Log'!$N35:$X35,"Needs Attention")>0,AND('Cleaning Log'!$L35<>"",COUNTBLANK('Cleaning Log'!$N35:$X35)>0))),1,0) | AE35: =IF(AND(W35=1,'Cleaning Log'!$AD35="Maintenance",'Cleaning Log'!$AF35=""),1,0)
A36: =IFERROR(INDEX('Cleaning Log'!$B$2:$B$251,MATCH(9,$U$2:$U$251,0)),"") | B36: =IFERROR(INDEX('Cleaning Log'!$E$2:$E$251,MATCH(9,$U$2:$U$251,0)),"") | C36: =IFERROR(INDEX('Cleaning Log'!$AC$2:$AC$251,MATCH(9,$U$2:$U$251,0)),"") | D36: =IFERROR(INDEX('Cleaning Log'!$AD$2:$AD$251,MATCH(9,$U$2:$U$251,0)),"") | E36: =IFERROR(INDEX('Cleaning Log'!$AE$2:$AE$251,MATCH(9,$U$2:$U$251,0)),"") | F36: =IFERROR(INDEX('Cleaning Log'!$AF$2:$AF$251,MATCH(9,$U$2:$U$251,0)),"") | G36: ="" | H36: ="" | I36: ="" | J36: ="" | T36: =IFERROR(IF(AND('Cleaning Log'!$A36=$B$3,OR($B$4="All Shifts",'Cleaning Log'!$F36=$B$4),OR($B$5="All Attendants",'Cleaning Log'!$E36=$B$5),OR('Cleaning Log'!$AC36="Hold",'Cleaning Log'!$AC36="Reclean",'Cleaning Log'!$AC36="Incomplete Checklist",'Cleaning Log'!$AC36="Awaiting Inspection",AND('Cleaning Log'!$AK36<>"",'Cleaning Log'!$AK36<>"OK"))),1,0),0) | U36: =IF(T36=1,COUNTIF($T$2:T36,1),"") | W36: =IFERROR(IF(AND('Cleaning Log'!$A36=$B$3,'Cleaning Log'!$B36<>"",OR($B$4="All Shifts",'Cleaning Log'!$F36=$B$4),OR($B$5="All Attendants",'Cleaning Log'!$E36=$B$5)),1,0),0) | X36: =IF(AND(W36=1,'Cleaning Log'!$AC36="Released"),1,0) | Y36: =IF(AND(W36=1,ISNUMBER('Cleaning Log'!$M36)),'Cleaning Log'!$M36,"") | Z36: =IF(AND(W36=1,ISNUMBER('Cleaning Log'!$M36),ISNUMBER('Cleaning Log'!$J36),'Cleaning Log'!$M36<='Cleaning Log'!$J36),1,0) | AA36: =IF(AND(W36=1,'Cleaning Log'!$L36<>""),1,0) | AB36: =IF(AND(W36=1,'Cleaning Log'!$AB36="Pass"),1,0) | AC36: =IF(AND(W36=1,OR('Cleaning Log'!$AB36="Pass",'Cleaning Log'!$AB36="Fail")),1,0) | AD36: =IF(AND(W36=1,OR(COUNTIF('Cleaning Log'!$N36:$X36,"Needs Attention")>0,AND('Cleaning Log'!$L36<>"",COUNTBLANK('Cleaning Log'!$N36:$X36)>0))),1,0) | AE36: =IF(AND(W36=1,'Cleaning Log'!$AD36="Maintenance",'Cleaning Log'!$AF36=""),1,0)
A37: =IFERROR(INDEX('Cleaning Log'!$B$2:$B$251,MATCH(10,$U$2:$U$251,0)),"") | B37: =IFERROR(INDEX('Cleaning Log'!$E$2:$E$251,MATCH(10,$U$2:$U$251,0)),"") | C37: =IFERROR(INDEX('Cleaning Log'!$AC$2:$AC$251,MATCH(10,$U$2:$U$251,0)),"") | D37: =IFERROR(INDEX('Cleaning Log'!$AD$2:$AD$251,MATCH(10,$U$2:$U$251,0)),"") | E37: =IFERROR(INDEX('Cleaning Log'!$AE$2:$AE$251,MATCH(10,$U$2:$U$251,0)),"") | F37: =IFERROR(INDEX('Cleaning Log'!$AF$2:$AF$251,MATCH(10,$U$2:$U$251,0)),"") | G37: ="" | H37: ="" | I37: ="" | J37: ="" | T37: =IFERROR(IF(AND('Cleaning Log'!$A37=$B$3,OR($B$4="All Shifts",'Cleaning Log'!$F37=$B$4),OR($B$5="All Attendants",'Cleaning Log'!$E37=$B$5),OR('Cleaning Log'!$AC37="Hold",'Cleaning Log'!$AC37="Reclean",'Cleaning Log'!$AC37="Incomplete Checklist",'Cleaning Log'!$AC37="Awaiting Inspection",AND('Cleaning Log'!$AK37<>"",'Cleaning Log'!$AK37<>"OK"))),1,0),0) | U37: =IF(T37=1,COUNTIF($T$2:T37,1),"") | W37: =IFERROR(IF(AND('Cleaning Log'!$A37=$B$3,'Cleaning Log'!$B37<>"",OR($B$4="All Shifts",'Cleaning Log'!$F37=$B$4),OR($B$5="All Attendants",'Cleaning Log'!$E37=$B$5)),1,0),0) | X37: =IF(AND(W37=1,'Cleaning Log'!$AC37="Released"),1,0) | Y37: =IF(AND(W37=1,ISNUMBER('Cleaning Log'!$M37)),'Cleaning Log'!$M37,"") | Z37: =IF(AND(W37=1,ISNUMBER('Cleaning Log'!$M37),ISNUMBER('Cleaning Log'!$J37),'Cleaning Log'!$M37<='Cleaning Log'!$J37),1,0) | AA37: =IF(AND(W37=1,'Cleaning Log'!$L37<>""),1,0) | AB37: =IF(AND(W37=1,'Cleaning Log'!$AB37="Pass"),1,0) | AC37: =IF(AND(W37=1,OR('Cleaning Log'!$AB37="Pass",'Cleaning Log'!$AB37="Fail")),1,0) | AD37: =IF(AND(W37=1,OR(COUNTIF('Cleaning Log'!$N37:$X37,"Needs Attention")>0,AND('Cleaning Log'!$L37<>"",COUNTBLANK('Cleaning Log'!$N37:$X37)>0))),1,0) | AE37: =IF(AND(W37=1,'Cleaning Log'!$AD37="Maintenance",'Cleaning Log'!$AF37=""),1,0)
A38: ="" | B38: ="" | C38: ="" | D38: ="" | E38: ="" | F38: ="" | G38: ="" | H38: ="" | ... J38: ="" | T38: =IFERROR(IF(AND('Cleaning Log'!$A38=$B$3,OR($B$4="All Shifts",'Cleaning Log'!$F38=$B$4),OR($B$5="All Attendants",'Cleaning Log'!$E38=$B$5),OR('Cleaning Log'!$AC38="Hold",'Cleaning Log'!$AC38="Reclean",'Cleaning Log'!$AC38="Incomplete Checklist",'Cleaning Log'!$AC38="Awaiting Inspection",AND('Cleaning Log'!$AK38<>"",'Cleaning Log'!$AK38<>"OK"))),1,0),0) | U38: =IF(T38=1,COUNTIF($T$2:T38,1),"") | W38: =IFERROR(IF(AND('Cleaning Log'!$A38=$B$3,'Cleaning Log'!$B38<>"",OR($B$4="All Shifts",'Cleaning Log'!$F38=$B$4),OR($B$5="All Attendants",'Cleaning Log'!$E38=$B$5)),1,0),0) | X38: =IF(AND(W38=1,'Cleaning Log'!$AC38="Released"),1,0) | Y38: =IF(AND(W38=1,ISNUMBER('Cleaning Log'!$M38)),'Cleaning Log'!$M38,"") | Z38: =IF(AND(W38=1,ISNUMBER('Cleaning Log'!$M38),ISNUMBER('Cleaning Log'!$J38),'Cleaning Log'!$M38<='Cleaning Log'!$J38),1,0) | AA38: =IF(AND(W38=1,'Cleaning Log'!$L38<>""),1,0) | AB38: =IF(AND(W38=1,'Cleaning Log'!$AB38="Pass"),1,0) | AC38: =IF(AND(W38=1,OR('Cleaning Log'!$AB38="Pass",'Cleaning Log'!$AB38="Fail")),1,0) | AD38: =IF(AND(W38=1,OR(COUNTIF('Cleaning Log'!$N38:$X38,"Needs Attention")>0,AND('Cleaning Log'!$L38<>"",COUNTBLANK('Cleaning Log'!$N38:$X38)>0))),1,0) | AE38: =IF(AND(W38=1,'Cleaning Log'!$AD38="Maintenance",'Cleaning Log'!$AF38=""),1,0)
