Workbook

Sheet Dashboard
A1: Hotel Purchase Order Dashboard
A2: Monitor approvals, deliveries, invoices, and open purchasing commitments.
A3: As of | B3: =IFERROR(TODAY(),"")
A4: Property Filter | B4: All | C4: Department Filter | D4: All
A6: Total Purchase Orders | B6: =IFERROR(COUNTIFS('Purchase Orders'!$A$6:$A$255,"<>",'Purchase Orders'!$B$6:$B$255,IF($B$4="All","<>",$B$4),'Purchase Orders'!$C$6:$C$255,IF($D$4="All","<>",$D$4)),0) | D6: Open Purchase Orders | E6: =IFERROR(COUNTIFS('Purchase Orders'!$N$6:$N$255,"Open",'Purchase Orders'!$B$6:$B$255,IF($B$4="All","<>",$B$4),'Purchase Orders'!$C$6:$C$255,IF($D$4="All","<>",$D$4)),0) | G6: Pending Approval | H6: =IFERROR(COUNTIFS('Purchase Orders'!$J$6:$J$255,"Pending",'Purchase Orders'!$B$6:$B$255,IF($B$4="All","<>",$B$4),'Purchase Orders'!$C$6:$C$255,IF($D$4="All","<>",$D$4)),0)
A9: Overdue Deliveries | B9: =IFERROR(COUNTIFS('Purchase Orders'!$AN$6:$AN$255,"Delivery Overdue",'Purchase Orders'!$B$6:$B$255,IF($B$4="All","<>",$B$4),'Purchase Orders'!$C$6:$C$255,IF($D$4="All","<>",$D$4)),0) | D9: Expected PO Value | E9: =IFERROR(SUMIFS('Purchase Orders'!$Z$6:$Z$255,'Purchase Orders'!$N$6:$N$255,"<>Canceled",'Purchase Orders'!$B$6:$B$255,IF($B$4="All","<>",$B$4),'Purchase Orders'!$C$6:$C$255,IF($D$4="All","<>",$D$4)),0) | G9: Open Commitment | H9: =IFERROR(SUMIFS('Purchase Orders'!$AL$6:$AL$255,'Purchase Orders'!$A$6:$A$255,"<>",'Purchase Orders'!$B$6:$B$255,IF($B$4="All","<>",$B$4),'Purchase Orders'!$C$6:$C$255,IF($D$4="All","<>",$D$4)),0)
A12: Invoice Variance | B12: =IFERROR(SUMIFS('Purchase Orders'!$AH$6:$AH$255,'Purchase Orders'!$AG$6:$AG$255,"<>",'Purchase Orders'!$B$6:$B$255,IF($B$4="All","<>",$B$4),'Purchase Orders'!$C$6:$C$255,IF($D$4="All","<>",$D$4)),0) | D12: Average Approval Days | E12: =IFERROR(AVERAGEIFS('Purchase Orders'!$M$6:$M$255,'Purchase Orders'!$J$6:$J$255,"Approved",'Purchase Orders'!$B$6:$B$255,IF($B$4="All","<>",$B$4),'Purchase Orders'!$C$6:$C$255,IF($D$4="All","<>",$D$4)),0) | G12: Partial Receipts | H12: =IFERROR(COUNTIFS('Purchase Orders'!$AC$6:$AC$255,"Partially Received",'Purchase Orders'!$B$6:$B$255,IF($B$4="All","<>",$B$4),'Purchase Orders'!$C$6:$C$255,IF($D$4="All","<>",$D$4)),0)
A15: Attention Required | B15: =IFERROR(COUNTIFS('Purchase Orders'!$AN$6:$AN$255,"<>",'Purchase Orders'!$N$6:$N$255,"<>Closed",'Purchase Orders'!$N$6:$N$255,"<>Canceled",'Purchase Orders'!$B$6:$B$255,IF($B$4="All","<>",$B$4),'Purchase Orders'!$C$6:$C$255,IF($D$4="All","<>",$D$4)),0)
A18: Purchase Orders Requiring Attention
A19: PO Number | B19: Property | C19: Department | D19: Vendor | E19: Need-By Date | F19: Expected Total | G19: Receipt Status | H19: Approval Status | I19: Attention Flag
A20: =IFERROR(INDEX('Purchase Orders'!$A$6:$A$255,MATCH(1,'Purchase Orders'!$AP$6:$AP$255,0)),"") | B20: =IFERROR(INDEX('Purchase Orders'!$B$6:$B$255,MATCH(1,'Purchase Orders'!$AP$6:$AP$255,0)),"") | C20: =IFERROR(INDEX('Purchase Orders'!$C$6:$C$255,MATCH(1,'Purchase Orders'!$AP$6:$AP$255,0)),"") | D20: =IFERROR(INDEX('Purchase Orders'!$F$6:$F$255,MATCH(1,'Purchase Orders'!$AP$6:$AP$255,0)),"") | E20: =IFERROR(INDEX('Purchase Orders'!$I$6:$I$255,MATCH(1,'Purchase Orders'!$AP$6:$AP$255,0)),"") | F20: =IFERROR(INDEX('Purchase Orders'!$Z$6:$Z$255,MATCH(1,'Purchase Orders'!$AP$6:$AP$255,0)),"") | G20: =IFERROR(INDEX('Purchase Orders'!$AC$6:$AC$255,MATCH(1,'Purchase Orders'!$AP$6:$AP$255,0)),"") | H20: =IFERROR(INDEX('Purchase Orders'!$J$6:$J$255,MATCH(1,'Purchase Orders'!$AP$6:$AP$255,0)),"") | I20: =IFERROR(INDEX('Purchase Orders'!$AN$6:$AN$255,MATCH(1,'Purchase Orders'!$AP$6:$AP$255,0)),"")
A21: =IFERROR(INDEX('Purchase Orders'!$A$6:$A$255,MATCH(2,'Purchase Orders'!$AP$6:$AP$255,0)),"") | B21: =IFERROR(INDEX('Purchase Orders'!$B$6:$B$255,MATCH(2,'Purchase Orders'!$AP$6:$AP$255,0)),"") | C21: =IFERROR(INDEX('Purchase Orders'!$C$6:$C$255,MATCH(2,'Purchase Orders'!$AP$6:$AP$255,0)),"") | D21: =IFERROR(INDEX('Purchase Orders'!$F$6:$F$255,MATCH(2,'Purchase Orders'!$AP$6:$AP$255,0)),"") | E21: =IFERROR(INDEX('Purchase Orders'!$I$6:$I$255,MATCH(2,'Purchase Orders'!$AP$6:$AP$255,0)),"") | F21: =IFERROR(INDEX('Purchase Orders'!$Z$6:$Z$255,MATCH(2,'Purchase Orders'!$AP$6:$AP$255,0)),"") | G21: =IFERROR(INDEX('Purchase Orders'!$AC$6:$AC$255,MATCH(2,'Purchase Orders'!$AP$6:$AP$255,0)),"") | H21: =IFERROR(INDEX('Purchase Orders'!$J$6:$J$255,MATCH(2,'Purchase Orders'!$AP$6:$AP$255,0)),"") | I21: =IFERROR(INDEX('Purchase Orders'!$AN$6:$AN$255,MATCH(2,'Purchase Orders'!$AP$6:$AP$255,0)),"")
A22: =IFERROR(INDEX('Purchase Orders'!$A$6:$A$255,MATCH(3,'Purchase Orders'!$AP$6:$AP$255,0)),"") | B22: =IFERROR(INDEX('Purchase Orders'!$B$6:$B$255,MATCH(3,'Purchase Orders'!$AP$6:$AP$255,0)),"") | C22: =IFERROR(INDEX('Purchase Orders'!$C$6:$C$255,MATCH(3,'Purchase Orders'!$AP$6:$AP$255,0)),"") | D22: =IFERROR(INDEX('Purchase Orders'!$F$6:$F$255,MATCH(3,'Purchase Orders'!$AP$6:$AP$255,0)),"") | E22: =IFERROR(INDEX('Purchase Orders'!$I$6:$I$255,MATCH(3,'Purchase Orders'!$AP$6:$AP$255,0)),"") | F22: =IFERROR(INDEX('Purchase Orders'!$Z$6:$Z$255,MATCH(3,'Purchase Orders'!$AP$6:$AP$255,0)),"") | G22: =IFERROR(INDEX('Purchase Orders'!$AC$6:$AC$255,MATCH(3,'Purchase Orders'!$AP$6:$AP$255,0)),"") | H22: =IFERROR(INDEX('Purchase Orders'!$J$6:$J$255,MATCH(3,'Purchase Orders'!$AP$6:$AP$255,0)),"") | I22: =IFERROR(INDEX('Purchase Orders'!$AN$6:$AN$255,MATCH(3,'Purchase Orders'!$AP$6:$AP$255,0)),"")
A23: =IFERROR(INDEX('Purchase Orders'!$A$6:$A$255,MATCH(4,'Purchase Orders'!$AP$6:$AP$255,0)),"") | B23: =IFERROR(INDEX('Purchase Orders'!$B$6:$B$255,MATCH(4,'Purchase Orders'!$AP$6:$AP$255,0)),"") | C23: =IFERROR(INDEX('Purchase Orders'!$C$6:$C$255,MATCH(4,'Purchase Orders'!$AP$6:$AP$255,0)),"") | D23: =IFERROR(INDEX('Purchase Orders'!$F$6:$F$255,MATCH(4,'Purchase Orders'!$AP$6:$AP$255,0)),"") | E23: =IFERROR(INDEX('Purchase Orders'!$I$6:$I$255,MATCH(4,'Purchase Orders'!$AP$6:$AP$255,0)),"") | F23: =IFERROR(INDEX('Purchase Orders'!$Z$6:$Z$255,MATCH(4,'Purchase Orders'!$AP$6:$AP$255,0)),"") | G23: =IFERROR(INDEX('Purchase Orders'!$AC$6:$AC$255,MATCH(4,'Purchase Orders'!$AP$6:$AP$255,0)),"") | H23: =IFERROR(INDEX('Purchase Orders'!$J$6:$J$255,MATCH(4,'Purchase Orders'!$AP$6:$AP$255,0)),"") | I23: =IFERROR(INDEX('Purchase Orders'!$AN$6:$AN$255,MATCH(4,'Purchase Orders'!$AP$6:$AP$255,0)),"")
A24: =IFERROR(INDEX('Purchase Orders'!$A$6:$A$255,MATCH(5,'Purchase Orders'!$AP$6:$AP$255,0)),"") | B24: =IFERROR(INDEX('Purchase Orders'!$B$6:$B$255,MATCH(5,'Purchase Orders'!$AP$6:$AP$255,0)),"") | C24: =IFERROR(INDEX('Purchase Orders'!$C$6:$C$255,MATCH(5,'Purchase Orders'!$AP$6:$AP$255,0)),"") | D24: =IFERROR(INDEX('Purchase Orders'!$F$6:$F$255,MATCH(5,'Purchase Orders'!$AP$6:$AP$255,0)),"") | E24: =IFERROR(INDEX('Purchase Orders'!$I$6:$I$255,MATCH(5,'Purchase Orders'!$AP$6:$AP$255,0)),"") | F24: =IFERROR(INDEX('Purchase Orders'!$Z$6:$Z$255,MATCH(5,'Purchase Orders'!$AP$6:$AP$255,0)),"") | G24: =IFERROR(INDEX('Purchase Orders'!$AC$6:$AC$255,MATCH(5,'Purchase Orders'!$AP$6:$AP$255,0)),"") | H24: =IFERROR(INDEX('Purchase Orders'!$J$6:$J$255,MATCH(5,'Purchase Orders'!$AP$6:$AP$255,0)),"") | I24: =IFERROR(INDEX('Purchase Orders'!$AN$6:$AN$255,MATCH(5,'Purchase Orders'!$AP$6:$AP$255,0)),"")
A25: =IFERROR(INDEX('Purchase Orders'!$A$6:$A$255,MATCH(6,'Purchase Orders'!$AP$6:$AP$255,0)),"") | B25: =IFERROR(INDEX('Purchase Orders'!$B$6:$B$255,MATCH(6,'Purchase Orders'!$AP$6:$AP$255,0)),"") | C25: =IFERROR(INDEX('Purchase Orders'!$C$6:$C$255,MATCH(6,'Purchase Orders'!$AP$6:$AP$255,0)),"") | D25: =IFERROR(INDEX('Purchase Orders'!$F$6:$F$255,MATCH(6,'Purchase Orders'!$AP$6:$AP$255,0)),"") | E25: =IFERROR(INDEX('Purchase Orders'!$I$6:$I$255,MATCH(6,'Purchase Orders'!$AP$6:$AP$255,0)),"") | F25: =IFERROR(INDEX('Purchase Orders'!$Z$6:$Z$255,MATCH(6,'Purchase Orders'!$AP$6:$AP$255,0)),"") | G25: =IFERROR(INDEX('Purchase Orders'!$AC$6:$AC$255,MATCH(6,'Purchase Orders'!$AP$6:$AP$255,0)),"") | H25: =IFERROR(INDEX('Purchase Orders'!$J$6:$J$255,MATCH(6,'Purchase Orders'!$AP$6:$AP$255,0)),"") | I25: =IFERROR(INDEX('Purchase Orders'!$AN$6:$AN$255,MATCH(6,'Purchase Orders'!$AP$6:$AP$255,0)),"")
A26: =IFERROR(INDEX('Purchase Orders'!$A$6:$A$255,MATCH(7,'Purchase Orders'!$AP$6:$AP$255,0)),"") | B26: =IFERROR(INDEX('Purchase Orders'!$B$6:$B$255,MATCH(7,'Purchase Orders'!$AP$6:$AP$255,0)),"") | C26: =IFERROR(INDEX('Purchase Orders'!$C$6:$C$255,MATCH(7,'Purchase Orders'!$AP$6:$AP$255,0)),"") | D26: =IFERROR(INDEX('Purchase Orders'!$F$6:$F$255,MATCH(7,'Purchase Orders'!$AP$6:$AP$255,0)),"") | E26: =IFERROR(INDEX('Purchase Orders'!$I$6:$I$255,MATCH(7,'Purchase Orders'!$AP$6:$AP$255,0)),"") | F26: =IFERROR(INDEX('Purchase Orders'!$Z$6:$Z$255,MATCH(7,'Purchase Orders'!$AP$6:$AP$255,0)),"") | G26: =IFERROR(INDEX('Purchase Orders'!$AC$6:$AC$255,MATCH(7,'Purchase Orders'!$AP$6:$AP$255,0)),"") | H26: =IFERROR(INDEX('Purchase Orders'!$J$6:$J$255,MATCH(7,'Purchase Orders'!$AP$6:$AP$255,0)),"") | I26: =IFERROR(INDEX('Purchase Orders'!$AN$6:$AN$255,MATCH(7,'Purchase Orders'!$AP$6:$AP$255,0)),"")
A27: =IFERROR(INDEX('Purchase Orders'!$A$6:$A$255,MATCH(8,'Purchase Orders'!$AP$6:$AP$255,0)),"") | B27: =IFERROR(INDEX('Purchase Orders'!$B$6:$B$255,MATCH(8,'Purchase Orders'!$AP$6:$AP$255,0)),"") | C27: =IFERROR(INDEX('Purchase Orders'!$C$6:$C$255,MATCH(8,'Purchase Orders'!$AP$6:$AP$255,0)),"") | D27: =IFERROR(INDEX('Purchase Orders'!$F$6:$F$255,MATCH(8,'Purchase Orders'!$AP$6:$AP$255,0)),"") | E27: =IFERROR(INDEX('Purchase Orders'!$I$6:$I$255,MATCH(8,'Purchase Orders'!$AP$6:$AP$255,0)),"") | F27: =IFERROR(INDEX('Purchase Orders'!$Z$6:$Z$255,MATCH(8,'Purchase Orders'!$AP$6:$AP$255,0)),"") | G27: =IFERROR(INDEX('Purchase Orders'!$AC$6:$AC$255,MATCH(8,'Purchase Orders'!$AP$6:$AP$255,0)),"") | H27: =IFERROR(INDEX('Purchase Orders'!$J$6:$J$255,MATCH(8,'Purchase Orders'!$AP$6:$AP$255,0)),"") | I27: =IFERROR(INDEX('Purchase Orders'!$AN$6:$AN$255,MATCH(8,'Purchase Orders'!$AP$6:$AP$255,0)),"")
A28: =IFERROR(INDEX('Purchase Orders'!$A$6:$A$255,MATCH(9,'Purchase Orders'!$AP$6:$AP$255,0)),"") | B28: =IFERROR(INDEX('Purchase Orders'!$B$6:$B$255,MATCH(9,'Purchase Orders'!$AP$6:$AP$255,0)),"") | C28: =IFERROR(INDEX('Purchase Orders'!$C$6:$C$255,MATCH(9,'Purchase Orders'!$AP$6:$AP$255,0)),"") | D28: =IFERROR(INDEX('Purchase Orders'!$F$6:$F$255,MATCH(9,'Purchase Orders'!$AP$6:$AP$255,0)),"") | E28: =IFERROR(INDEX('Purchase Orders'!$I$6:$I$255,MATCH(9,'Purchase Orders'!$AP$6:$AP$255,0)),"") | F28: =IFERROR(INDEX('Purchase Orders'!$Z$6:$Z$255,MATCH(9,'Purchase Orders'!$AP$6:$AP$255,0)),"") | G28: =IFERROR(INDEX('Purchase Orders'!$AC$6:$AC$255,MATCH(9,'Purchase Orders'!$AP$6:$AP$255,0)),"") | H28: =IFERROR(INDEX('Purchase Orders'!$J$6:$J$255,MATCH(9,'Purchase Orders'!$AP$6:$AP$255,0)),"") | I28: =IFERROR(INDEX('Purchase Orders'!$AN$6:$AN$255,MATCH(9,'Purchase Orders'!$AP$6:$AP$255,0)),"")
A29: =IFERROR(INDEX('Purchase Orders'!$A$6:$A$255,MATCH(10,'Purchase Orders'!$AP$6:$AP$255,0)),"") | B29: =IFERROR(INDEX('Purchase Orders'!$B$6:$B$255,MATCH(10,'Purchase Orders'!$AP$6:$AP$255,0)),"") | C29: =IFERROR(INDEX('Purchase Orders'!$C$6:$C$255,MATCH(10,'Purchase Orders'!$AP$6:$AP$255,0)),"") | D29: =IFERROR(INDEX('Purchase Orders'!$F$6:$F$255,MATCH(10,'Purchase Orders'!$AP$6:$AP$255,0)),"") | E29: =IFERROR(INDEX('Purchase Orders'!$I$6:$I$255,MATCH(10,'Purchase Orders'!$AP$6:$AP$255,0)),"") | F29: =IFERROR(INDEX('Purchase Orders'!$Z$6:$Z$255,MATCH(10,'Purchase Orders'!$AP$6:$AP$255,0)),"") | G29: =IFERROR(INDEX('Purchase Orders'!$AC$6:$AC$255,MATCH(10,'Purchase Orders'!$AP$6:$AP$255,0)),"") | H29: =IFERROR(INDEX('Purchase Orders'!$J$6:$J$255,MATCH(10,'Purchase Orders'!$AP$6:$AP$255,0)),"") | I29: =IFERROR(INDEX('Purchase Orders'!$AN$6:$AN$255,MATCH(10,'Purchase Orders'!$AP$6:$AP$255,0)),"")
A30: ="" | E30: ="" | F30: ="" | I30: =""
A31: ="" | E31: ="" | F31: ="" | I31: =""
A32: Spend by Department Summary | E32: ="" | F32: PO Status Summary | I32: =""
A33: Department | B33: Expected PO Value | C33: Open Commitment | D33: PO Count | E33: ="" | F33: PO Status | G33: PO Count | H33: Expected Value | I33: =""
A34: Administration | B34: =IFERROR(SUMIFS('Purchase Orders'!$Z$6:$Z$255,'Purchase Orders'!$C$6:$C$255,$A34,'Purchase Orders'!$N$6:$N$255,"<>Canceled",'Purchase Orders'!$B$6:$B$255,IF($B$4="All","<>",$B$4)),0) | C34: =IFERROR(SUMIFS('Purchase Orders'!$AL$6:$AL$255,'Purchase Orders'!$C$6:$C$255,$A34,'Purchase Orders'!$B$6:$B$255,IF($B$4="All","<>",$B$4)),0) | D34: =IFERROR(COUNTIFS('Purchase Orders'!$C$6:$C$255,$A34,'Purchase Orders'!$A$6:$A$255,"<>",'Purchase Orders'!$B$6:$B$255,IF($B$4="All","<>",$B$4)),0) | E34: ="" | F34: Draft | G34: =IFERROR(COUNTIFS('Purchase Orders'!$N$6:$N$255,$F34,'Purchase Orders'!$B$6:$B$255,IF($B$4="All","<>",$B$4),'Purchase Orders'!$C$6:$C$255,IF($D$4="All","<>",$D$4)),0) | H34: =IFERROR(SUMIFS('Purchase Orders'!$Z$6:$Z$255,'Purchase Orders'!$N$6:$N$255,$F34,'Purchase Orders'!$B$6:$B$255,IF($B$4="All","<>",$B$4),'Purchase Orders'!$C$6:$C$255,IF($D$4="All","<>",$D$4)),0) | I34: =""
A35: Engineering | B35: =IFERROR(SUMIFS('Purchase Orders'!$Z$6:$Z$255,'Purchase Orders'!$C$6:$C$255,$A35,'Purchase Orders'!$N$6:$N$255,"<>Canceled",'Purchase Orders'!$B$6:$B$255,IF($B$4="All","<>",$B$4)),0) | C35: =IFERROR(SUMIFS('Purchase Orders'!$AL$6:$AL$255,'Purchase Orders'!$C$6:$C$255,$A35,'Purchase Orders'!$B$6:$B$255,IF($B$4="All","<>",$B$4)),0) | D35: =IFERROR(COUNTIFS('Purchase Orders'!$C$6:$C$255,$A35,'Purchase Orders'!$A$6:$A$255,"<>",'Purchase Orders'!$B$6:$B$255,IF($B$4="All","<>",$B$4)),0) | E35: ="" | F35: Open | G35: =IFERROR(COUNTIFS('Purchase Orders'!$N$6:$N$255,$F35,'Purchase Orders'!$B$6:$B$255,IF($B$4="All","<>",$B$4),'Purchase Orders'!$C$6:$C$255,IF($D$4="All","<>",$D$4)),0) | H35: =IFERROR(SUMIFS('Purchase Orders'!$Z$6:$Z$255,'Purchase Orders'!$N$6:$N$255,$F35,'Purchase Orders'!$B$6:$B$255,IF($B$4="All","<>",$B$4),'Purchase Orders'!$C$6:$C$255,IF($D$4="All","<>",$D$4)),0) | I35: =""
A36: Events | B36: =IFERROR(SUMIFS('Purchase Orders'!$Z$6:$Z$255,'Purchase Orders'!$C$6:$C$255,$A36,'Purchase Orders'!$N$6:$N$255,"<>Canceled",'Purchase Orders'!$B$6:$B$255,IF($B$4="All","<>",$B$4)),0) | C36: =IFERROR(SUMIFS('Purchase Orders'!$AL$6:$AL$255,'Purchase Orders'!$C$6:$C$255,$A36,'Purchase Orders'!$B$6:$B$255,IF($B$4="All","<>",$B$4)),0) | D36: =IFERROR(COUNTIFS('Purchase Orders'!$C$6:$C$255,$A36,'Purchase Orders'!$A$6:$A$255,"<>",'Purchase Orders'!$B$6:$B$255,IF($B$4="All","<>",$B$4)),0) | E36: ="" | F36: Closed | G36: =IFERROR(COUNTIFS('Purchase Orders'!$N$6:$N$255,$F36,'Purchase Orders'!$B$6:$B$255,IF($B$4="All","<>",$B$4),'Purchase Orders'!$C$6:$C$255,IF($D$4="All","<>",$D$4)),0) | H36: =IFERROR(SUMIFS('Purchase Orders'!$Z$6:$Z$255,'Purchase Orders'!$N$6:$N$255,$F36,'Purchase Orders'!$B$6:$B$255,IF($B$4="All","<>",$B$4),'Purchase Orders'!$C$6:$C$255,IF($D$4="All","<>",$D$4)),0) | I36: =""
A37: Food and Beverage | B37: =IFERROR(SUMIFS('Purchase Orders'!$Z$6:$Z$255,'Purchase Orders'!$C$6:$C$255,$A37,'Purchase Orders'!$N$6:$N$255,"<>Canceled",'Purchase Orders'!$B$6:$B$255,IF($B$4="All","<>",$B$4)),0) | C37: =IFERROR(SUMIFS('Purchase Orders'!$AL$6:$AL$255,'Purchase Orders'!$C$6:$C$255,$A37,'Purchase Orders'!$B$6:$B$255,IF($B$4="All","<>",$B$4)),0) | D37: =IFERROR(COUNTIFS('Purchase Orders'!$C$6:$C$255,$A37,'Purchase Orders'!$A$6:$A$255,"<>",'Purchase Orders'!$B$6:$B$255,IF($B$4="All","<>",$B$4)),0) | E37: ="" | F37: Canceled | G37: =IFERROR(COUNTIFS('Purchase Orders'!$N$6:$N$255,$F37,'Purchase Orders'!$B$6:$B$255,IF($B$4="All","<>",$B$4),'Purchase Orders'!$C$6:$C$255,IF($D$4="All","<>",$D$4)),0) | H37: =IFERROR(SUMIFS('Purchase Orders'!$Z$6:$Z$255,'Purchase Orders'!$N$6:$N$255,$F37,'Purchase Orders'!$B$6:$B$255,IF($B$4="All","<>",$B$4),'Purchase Orders'!$C$6:$C$255,IF($D$4="All","<>",$D$4)),0) | I37: =""
A38: Front Office | B38: =IFERROR(SUMIFS('Purchase Orders'!$Z$6:$Z$255,'Purchase Orders'!$C$6:$C$255,$A38,'Purchase Orders'!$N$6:$N$255,"<>Canceled",'Purchase Orders'!$B$6:$B$255,IF($B$4="All","<>",$B$4)),0) | C38: =IFERROR(SUMIFS('Purchase Orders'!$AL$6:$AL$255,'Purchase Orders'!$C$6:$C$255,$A38,'Purchase Orders'!$B$6:$B$255,IF($B$4="All","<>",$B$4)),0) | D38: =IFERROR(COUNTIFS('Purchase Orders'!$C$6:$C$255,$A38,'Purchase Orders'!$A$6:$A$255,"<>",'Purchase Orders'!$B$6:$B$255,IF($B$4="All","<>",$B$4)),0) | E38: ="" | F38: ="" | G38: ="" | H38: ="" | I38: =""
A39: Housekeeping | B39: =IFERROR(SUMIFS('Purchase Orders'!$Z$6:$Z$255,'Purchase Orders'!$C$6:$C$255,$A39,'Purchase Orders'!$N$6:$N$255,"<>Canceled",'Purchase Orders'!$B$6:$B$255,IF($B$4="All","<>",$B$4)),0) | C39: =IFERROR(SUMIFS('Purchase Orders'!$AL$6:$AL$255,'Purchase Orders'!$C$6:$C$255,$A39,'Purchase Orders'!$B$6:$B$255,IF($B$4="All","<>",$B$4)),0) | D39: =IFERROR(COUNTIFS('Purchase Orders'!$C$6:$C$255,$A39,'Purchase Orders'!$A$6:$A$255,"<>",'Purchase Orders'!$B$6:$B$255,IF($B$4="All","<>",$B$4)),0) | E39: ="" | F39: ="" | G39: ="" | H39: ="" | I39: =""
A40: Security | B40: =IFERROR(SUMIFS('Purchase Orders'!$Z$6:$Z$255,'Purchase Orders'!$C$6:$C$255,$A40,'Purchase Orders'!$N$6:$N$255,"<>Canceled",'Purchase Orders'!$B$6:$B$255,IF($B$4="All","<>",$B$4)),0) | C40: =IFERROR(SUMIFS('Purchase Orders'!$AL$6:$AL$255,'Purchase Orders'!$C$6:$C$255,$A40,'Purchase Orders'!$B$6:$B$255,IF($B$4="All","<>",$B$4)),0) | D40: =IFERROR(COUNTIFS('Purchase Orders'!$C$6:$C$255,$A40,'Purchase Orders'!$A$6:$A$255,"<>",'Purchase Orders'!$B$6:$B$255,IF($B$4="All","<>",$B$4)),0) | E40: ="" | F40: ="" | G40: ="" | H40: ="" | I40: =""
A41: ="" | B41: ="" | C41: ="" | D41: ="" | E41: ="" | F41: ="" | G41: ="" | H41: ="" | I41: =""
A42: ="" | B42: ="" | C42: ="" | D42: ="" | E42: ="" | F42: ="" | G42: ="" | H42: ="" | I42: =""
A43: ="" | B43: ="" | C43: ="" | D43: ="" | E43: ="" | F43: ="" | G43: ="" | H43: ="" | I43: =""
A44: ="" | B44: ="" | C44: ="" | D44: ="" | E44: ="" | F44: ="" | G44: ="" | H44: ="" | I44: =""
A45: ="" | B45: ="" | C45: ="" | D45: ="" | E45: ="" | F45: ="" | G45: ="" | H45: ="" | I45: =""
A46: ="" | B46: ="" | C46: ="" | D46: ="" | E46: ="" | F46: ="" | G46: ="" | H46: ="" | I46: =""
A47: ="" | B47: ="" | C47: ="" | D47: ="" | E47: ="" | F47: ="" | G47: ="" | H47: ="" | I47: =""
A48: ="" | B48: ="" | C48: ="" | D48: ="" | E48: ="" | F48: ="" | G48: ="" | H48: ="" | I48: =""
A49: ="" | B49: ="" | C49: ="" | D49: ="" | E49: ="" | F49: ="" | G49: ="" | H49: ="" | I49: =""
...

Sheet Purchase Orders
A1: Purchase Order Register
A2: Enter purchasing, approval, receiving, and invoice details in the gold cells. Calculated fields update automatically.
A3: Do not overwrite gray formula columns. Use the Attention Flag to prioritize follow-up.
A5: PO Number | B5: Property | C5: Department | D5: Requester | E5: Vendor ID | F5: Vendor Name | G5: External System Reference | H5: PO Date | I5: Need-By Date | J5: Approval Status | K5: Approved By | L5: Approval Date | M5: Approval Days | N5: PO Status | O5: Closed Date | P5: Cost Code | Q5: Item or Service Description | R5: Quantity Ordered | S5: Unit Cost | T5: Discount | U5: Taxable | V5: Tax Rate | W5: Freight | X5: Line Subtotal | Y5: Tax Amount | Z5: Expected Total | AA5: Quantity Received | AB5: Last Received Date | AC5: Receipt Status | AD5: Receiving Notes | AE5: Invoice Number | AF5: Invoice Date | AG5: Invoice Amount | AH5: Invoice Variance | AI5: Invoice Variance Percent | AJ5: Payment Status | AK5: Payment Date | AL5: Uninvoiced Commitment | AM5: Days Open | AN5: Attention Flag | AO5: Buyer Notes
A6: PO-2026-0001 | B6: Harbor View Hotel | C6: Housekeeping | D6: Maria Lopez | E6: V001 | F6: =IFERROR(IF($E6="","",VLOOKUP($E6,'Settings'!$G$16:$M$115,2,0)),"") | G6: ACCT-64018 | H6: 46027 | I6: 46034 | J6: Approved | K6: Daniel Reed | L6: 46027 | M6: =IFERROR(IF($A6="","",IF($J6="Approved",MAX(0,$L6-$H6),"")),"") | N6: Closed | O6: 46035 | P6: HK-LINEN | Q6: King sheet sets for guest rooms | R6: 48 | S6: 42.5 | T6: 100 | U6: Yes | V6: 0.0625 | W6: 85 | X6: =IFERROR(IF($A6="","",MAX(0,$R6*$S6-$T6)),"") | Y6: =IFERROR(IF($A6="","",IF($U6="Yes",$X6*$V6,0)),"") | Z6: =IFERROR(IF($A6="","",$X6+$Y6+$W6),"") | AA6: 48 | AB6: 46033 | AC6: =IFERROR(IF($A6="","",IF($N6="Canceled","Canceled",IF($AA6=0,"Not Received",IF($AA6<$R6,"Partially Received",IF($AA6=$R6,"Fully Received","Over Received"))))),"") | AD6: All cartons received in good condition. | AE6: INV-81042 | AF6: 46034 | AG6: 2147.5 | AH6: =IFERROR(IF($A6="","",IF($AG6="","",$AG6-$Z6)),"") | AI6: =IFERROR(IF($A6="","",IF(OR($AG6="",$Z6=0),"",($AG6-$Z6)/$Z6)),"") | AJ6: Paid | AK6: 46042 | AL6: =IFERROR(IF($A6="","",IF(OR($N6="Canceled",$N6="Closed"),0,MAX($Z6-IF($AG6="",0,$AG6),0))),"") | AM6: =IFERROR(IF($A6="","",IF(OR($N6="Closed",$N6="Canceled"),IF($O6="","",MAX(0,$O6-$H6)),MAX(0,TODAY()-$H6))),"") | AN6: =IFERROR(IF($A6="","",IF($AA6>$R6,"Over Received",IF(AND($J6="Approved",OR($K6="",$L6="")),"Approval Missing",IF(AND($J6="Pending",$AM6>'Settings'!$B$7),"Approval Follow-Up",IF(AND($N6="Open",$I6<>"",$I6+'Settings'!$B$8<TODAY(),$AA6<$R6),"Delivery Overdue",IF(AND($AG6<>"",OR(ABS($AH6)>'Settings'!$B$9,ABS($AI6)>'Settings'!$B$10)),"Invoice Variance",IF(AND($N6="Open",$AM6>'Settings'!$B$11),"Aging Open PO",""))))))),"") | AO6: Closed after invoice review. | AP6: =IFERROR(IF(AND($AN6<>"",$N6<>"Closed",$N6<>"Canceled",OR('Dashboard'!$B$4="All",$B6='Dashboard'!$B$4),OR('Dashboard'!$D$4="All",$C6='Dashboard'!$D$4)),COUNTIFS($AN$6:$AN6,"<>",$N$6:$N6,"<>Closed",$N$6:$N6,"<>Canceled",$B$6:$B6,IF('Dashboard'!$B$4="All","<>",'Dashboard'!$B$4),$C$6:$C6,IF('Dashboard'!$D$4="All","<>",'Dashboard'!$D$4)),""),"")
A7: PO-2026-0002 | B7: Harbor View Hotel | C7: Engineering | D7: Kevin Brooks | E7: V002 | F7: =IFERROR(IF($E7="","",VLOOKUP($E7,'Settings'!$G$16:$M$115,2,0)),"") | G7: ENG-WO-2287 | H7: 46040 | I7: 46050 | J7: Approved | K7: Daniel Reed | L7: 46041 | M7: =IFERROR(IF($A7="","",IF($J7="Approved",MAX(0,$L7-$H7),"")),"") | N7: Open | P7: ENG-HVAC | Q7: Guest room fan coil filters | R7: 120 | S7: 8.75 | T7: 0 | U7: Yes | V7: 0.0625 | W7: 40 | X7: =IFERROR(IF($A7="","",MAX(0,$R7*$S7-$T7)),"") | Y7: =IFERROR(IF($A7="","",IF($U7="Yes",$X7*$V7,0)),"") | Z7: =IFERROR(IF($A7="","",$X7+$Y7+$W7),"") | AA7: 80 | AB7: 46049 | AC7: =IFERROR(IF($A7="","",IF($N7="Canceled","Canceled",IF($AA7=0,"Not Received",IF($AA7<$R7,"Partially Received",IF($AA7=$R7,"Fully Received","Over Received"))))),"") | AD7: Forty filters remain on back order. | AH7: =IFERROR(IF($A7="","",IF($AG7="","",$AG7-$Z7)),"") | AI7: =IFERROR(IF($A7="","",IF(OR($AG7="",$Z7=0),"",($AG7-$Z7)/$Z7)),"") | AJ7: Not Invoiced | AL7: =IFERROR(IF($A7="","",IF(OR($N7="Canceled",$N7="Closed"),0,MAX($Z7-IF($AG7="",0,$AG7),0))),"") | AM7: =IFERROR(IF($A7="","",IF(OR($N7="Closed",$N7="Canceled"),IF($O7="","",MAX(0,$O7-$H7)),MAX(0,TODAY()-$H7))),"") | AN7: =IFERROR(IF($A7="","",IF($AA7>$R7,"Over Received",IF(AND($J7="Approved",OR($K7="",$L7="")),"Approval Missing",IF(AND($J7="Pending",$AM7>'Settings'!$B$7),"Approval Follow-Up",IF(AND($N7="Open",$I7<>"",$I7+'Settings'!$B$8<TODAY(),$AA7<$R7),"Delivery Overdue",IF(AND($AG7<>"",OR(ABS($AH7)>'Settings'!$B$9,ABS($AI7)>'Settings'!$B$10)),"Invoice Variance",IF(AND($N7="Open",$AM7>'Settings'!$B$11),"Aging Open PO",""))))))),"") | AO7: Follow up with vendor on back order. | AP7: =IFERROR(IF(AND($AN7<>"",$N7<>"Closed",$N7<>"Canceled",OR('Dashboard'!$B$4="All",$B7='Dashboard'!$B$4),OR('Dashboard'!$D$4="All",$C7='Dashboard'!$D$4)),COUNTIFS($AN$6:$AN7,"<>",$N$6:$N7,"<>Closed",$N$6:$N7,"<>Canceled",$B$6:$B7,IF('Dashboard'!$B$4="All","<>",'Dashboard'!$B$4),$C$6:$C7,IF('Dashboard'!$D$4="All","<>",'Dashboard'!$D$4)),""),"")
A8: PO-2026-0003 | B8: Harbor View Hotel | C8: Food and Beverage | D8: Alicia Grant | E8: V003 | F8: =IFERROR(IF($E8="","",VLOOKUP($E8,'Settings'!$G$16:$M$115,2,0)),"") | G8: BANQ-2048 | H8: 46055 | I8: 46059 | J8: Approved | K8: Priya Shah | L8: 46055 | M8: =IFERROR(IF($A8="","",IF($J8="Approved",MAX(0,$L8-$H8),"")),"") | N8: Closed | O8: 46061 | P8: FB-SMALLWARE | Q8: Banquet glassware replacement | R8: 144 | S8: 6.2 | T8: 50 | U8: Yes | V8: 0.0625 | W8: 60 | X8: =IFERROR(IF($A8="","",MAX(0,$R8*$S8-$T8)),"") | Y8: =IFERROR(IF($A8="","",IF($U8="Yes",$X8*$V8,0)),"") | Z8: =IFERROR(IF($A8="","",$X8+$Y8+$W8),"") | AA8: 144 | AB8: 46058 | AC8: =IFERROR(IF($A8="","",IF($N8="Canceled","Canceled",IF($AA8=0,"Not Received",IF($AA8<$R8,"Partially Received",IF($AA8=$R8,"Fully Received","Over Received"))))),"") | AD8: Two cartons inspected; no damage found. | AE8: BGS-2048 | AF8: 46059 | AG8: 955.88 | AH8: =IFERROR(IF($A8="","",IF($AG8="","",$AG8-$Z8)),"") | AI8: =IFERROR(IF($A8="","",IF(OR($AG8="",$Z8=0),"",($AG8-$Z8)/$Z8)),"") | AJ8: Paid | AK8: 46071 | AL8: =IFERROR(IF($A8="","",IF(OR($N8="Canceled",$N8="Closed"),0,MAX($Z8-IF($AG8="",0,$AG8),0))),"") | AM8: =IFERROR(IF($A8="","",IF(OR($N8="Closed",$N8="Canceled"),IF($O8="","",MAX(0,$O8-$H8)),MAX(0,TODAY()-$H8))),"") | AN8: =IFERROR(IF($A8="","",IF($AA8>$R8,"Over Received",IF(AND($J8="Approved",OR($K8="",$L8="")),"Approval Missing",IF(AND($J8="Pending",$AM8>'Settings'!$B$7),"Approval Follow-Up",IF(AND($N8="Open",$I8<>"",$I8+'Settings'!$B$8<TODAY(),$AA8<$R8),"Delivery Overdue",IF(AND($AG8<>"",OR(ABS($AH8)>'Settings'!$B$9,ABS($AI8)>'Settings'!$B$10)),"Invoice Variance",IF(AND($N8="Open",$AM8>'Settings'!$B$11),"Aging Open PO",""))))))),"") | AO8: Variance accepted after freight review. | AP8: =IFERROR(IF(AND($AN8<>"",$N8<>"Closed",$N8<>"Canceled",OR('Dashboard'!$B$4="All",$B8='Dashboard'!$B$4),OR('Dashboard'!$D$4="All",$C8='Dashboard'!$D$4)),COUNTIFS($AN$6:$AN8,"<>",$N$6:$N8,"<>Closed",$N$6:$N8,"<>Canceled",$B$6:$B8,IF('Dashboard'!$B$4="All","<>",'Dashboard'!$B$4),$C$6:$C8,IF('Dashboard'!$D$4="All","<>",'Dashboard'!$D$4)),""),"")
A9: PO-2026-0004 | B9: Harbor View Hotel | C9: Front Office | D9: Tyler Nguyen | E9: V004 | F9: =IFERROR(IF($E9="","",VLOOKUP($E9,'Settings'!$G$16:$M$115,2,0)),"") | G9: FO-KEY-102 | H9: 46065 | I9: 46073 | J9: Pending | M9: =IFERROR(IF($A9="","",IF($J9="Approved",MAX(0,$L9-$H9),"")),"") | N9: Open | P9: FO-SUPPLIES | Q9: Guest key card stock | R9: 10000 | S9: 0.09 | T9: 0 | U9: Yes | V9: 0.0625 | W9: 35 | X9: =IFERROR(IF($A9="","",MAX(0,$R9*$S9-$T9)),"") | Y9: =IFERROR(IF($A9="","",IF($U9="Yes",$X9*$V9,0)),"") | Z9: =IFERROR(IF($A9="","",$X9+$Y9+$W9),"") | AA9: 0 | AC9: =IFERROR(IF($A9="","",IF($N9="Canceled","Canceled",IF($AA9=0,"Not Received",IF($AA9<$R9,"Partially Received",IF($AA9=$R9,"Fully Received","Over Received"))))),"") | AH9: =IFERROR(IF($A9="","",IF($AG9="","",$AG9-$Z9)),"") | AI9: =IFERROR(IF($A9="","",IF(OR($AG9="",$Z9=0),"",($AG9-$Z9)/$Z9)),"") | AJ9: Not Invoiced | AL9: =IFERROR(IF($A9="","",IF(OR($N9="Canceled",$N9="Closed"),0,MAX($Z9-IF($AG9="",0,$AG9),0))),"") | AM9: =IFERROR(IF($A9="","",IF(OR($N9="Closed",$N9="Canceled"),IF($O9="","",MAX(0,$O9-$H9)),MAX(0,TODAY()-$H9))),"") | AN9: =IFERROR(IF($A9="","",IF($AA9>$R9,"Over Received",IF(AND($J9="Approved",OR($K9="",$L9="")),"Approval Missing",IF(AND($J9="Pending",$AM9>'Settings'!$B$7),"Approval Follow-Up",IF(AND($N9="Open",$I9<>"",$I9+'Settings'!$B$8<TODAY(),$AA9<$R9),"Delivery Overdue",IF(AND($AG9<>"",OR(ABS($AH9)>'Settings'!$B$9,ABS($AI9)>'Settings'!$B$10)),"Invoice Variance",IF(AND($N9="Open",$AM9>'Settings'!$B$11),"Aging Open PO",""))))))),"") | AO9: Awaiting department head approval. | AP9: =IFERROR(IF(AND($AN9<>"",$N9<>"Closed",$N9<>"Canceled",OR('Dashboard'!$B$4="All",$B9='Dashboard'!$B$4),OR('Dashboard'!$D$4="All",$C9='Dashboard'!$D$4)),COUNTIFS($AN$6:$AN9,"<>",$N$6:$N9,"<>Closed",$N$6:$N9,"<>Canceled",$B$6:$B9,IF('Dashboard'!$B$4="All","<>",'Dashboard'!$B$4),$C$6:$C9,IF('Dashboard'!$D$4="All","<>",'Dashboard'!$D$4)),""),"")
A10: PO-2026-0005 | B10: Lakeside Conference Center | C10: Events | D10: Jordan Ellis | E10: V005 | F10: =IFERROR(IF($E10="","",VLOOKUP($E10,'Settings'!$G$16:$M$115,2,0)),"") | G10: EVENT-5531 | H10: 46084 | I10: 46099 | J10: Approved | K10: Monica Price | L10: 46085 | M10: =IFERROR(IF($A10="","",IF($J10="Approved",MAX(0,$L10-$H10),"")),"") | N10: Open | P10: EVT-RENTAL | Q10: Portable staging rental for conference | R10: 1 | S10: 2850 | T10: 0 | U10: No | V10: 0 | W10: 0 | X10: =IFERROR(IF($A10="","",MAX(0,$R10*$S10-$T10)),"") | Y10: =IFERROR(IF($A10="","",IF($U10="Yes",$X10*$V10,0)),"") | Z10: =IFERROR(IF($A10="","",$X10+$Y10+$W10),"") | AA10: 1 | AB10: 46098 | AC10: =IFERROR(IF($A10="","",IF($N10="Canceled","Canceled",IF($AA10=0,"Not Received",IF($AA10<$R10,"Partially Received",IF($AA10=$R10,"Fully Received","Over Received"))))),"") | AD10: Staging returned; final damage waiver under review. | AE10: STG-5531 | AF10: 46100 | AG10: 3100 | AH10: =IFERROR(IF($A10="","",IF($AG10="","",$AG10-$Z10)),"") | AI10: =IFERROR(IF($A10="","",IF(OR($AG10="",$Z10=0),"",($AG10-$Z10)/$Z10)),"") | AJ10: On Hold | AL10: =IFERROR(IF($A10="","",IF(OR($N10="Canceled",$N10="Closed"),0,MAX($Z10-IF($AG10="",0,$AG10),0))),"") | AM10: =IFERROR(IF($A10="","",IF(OR($N10="Closed",$N10="Canceled"),IF($O10="","",MAX(0,$O10-$H10)),MAX(0,TODAY()-$H10))),"") | AN10: =IFERROR(IF($A10="","",IF($AA10>$R10,"Over Received",IF(AND($J10="Approved",OR($K10="",$L10="")),"Approval Missing",IF(AND($J10="Pending",$AM10>'Settings'!$B$7),"Approval Follow-Up",IF(AND($N10="Open",$I10<>"",$I10+'Settings'!$B$8<TODAY(),$AA10<$R10),"Delivery Overdue",IF(AND($AG10<>"",OR(ABS($AH10)>'Settings'!$B$9,ABS($AI10)>'Settings'!$B$10)),"Invoice Variance",IF(AND($N10="Open",$AM10>'Settings'!$B$11),"Aging Open PO",""))))))),"") | AO10: Disputed invoice exceeds quoted rental amount. | AP10: =IFERROR(IF(AND($AN10<>"",$N10<>"Closed",$N10<>"Canceled",OR('Dashboard'!$B$4="All",$B10='Dashboard'!$B$4),OR('Dashboard'!$D$4="All",$C10='Dashboard'!$D$4)),COUNTIFS($AN$6:$AN10,"<>",$N$6:$N10,"<>Closed",$N$6:$N10,"<>Canceled",$B$6:$B10,IF('Dashboard'!$B$4="All","<>",'Dashboard'!$B$4),$C$6:$C10,IF('Dashboard'!$D$4="All","<>",'Dashboard'!$D$4)),""),"")
A11: PO-2026-0006 | B11: Lakeside Conference Center | C11: Engineering | D11: Samuel Ortiz | E11: V006 | F11: =IFERROR(IF($E11="","",VLOOKUP($E11,'Settings'!$G$16:$M$115,2,0)),"") | G11: WO-6621 | H11: 46096 | I11: 46110 | J11: Approved | K11: Monica Price | L11: 46097 | M11: =IFERROR(IF($A11="","",IF($J11="Approved",MAX(0,$L11-$H11),"")),"") | N11: Open | P11: ENG-REPAIR | Q11: Ballroom air handler motor | R11: 1 | S11: 1675 | T11: 75 | U11: Yes | V11: 0.07 | W11: 125 | X11: =IFERROR(IF($A11="","",MAX(0,$R11*$S11-$T11)),"") | Y11: =IFERROR(IF($A11="","",IF($U11="Yes",$X11*$V11,0)),"") | Z11: =IFERROR(IF($A11="","",$X11+$Y11+$W11),"") | AA11: 0 | AC11: =IFERROR(IF($A11="","",IF($N11="Canceled","Canceled",IF($AA11=0,"Not Received",IF($AA11<$R11,"Partially Received",IF($AA11=$R11,"Fully Received","Over Received"))))),"") | AD11: Vendor advised revised ship date. | AH11: =IFERROR(IF($A11="","",IF($AG11="","",$AG11-$Z11)),"") | AI11: =IFERROR(IF($A11="","",IF(OR($AG11="",$Z11=0),"",($AG11-$Z11)/$Z11)),"") | AJ11: Not Invoiced | AL11: =IFERROR(IF($A11="","",IF(OR($N11="Canceled",$N11="Closed"),0,MAX($Z11-IF($AG11="",0,$AG11),0))),"") | AM11: =IFERROR(IF($A11="","",IF(OR($N11="Closed",$N11="Canceled"),IF($O11="","",MAX(0,$O11-$H11)),MAX(0,TODAY()-$H11))),"") | AN11: =IFERROR(IF($A11="","",IF($AA11>$R11,"Over Received",IF(AND($J11="Approved",OR($K11="",$L11="")),"Approval Missing",IF(AND($J11="Pending",$AM11>'Settings'!$B$7),"Approval Follow-Up",IF(AND($N11="Open",$I11<>"",$I11+'Settings'!$B$8<TODAY(),$AA11<$R11),"Delivery Overdue",IF(AND($AG11<>"",OR(ABS($AH11)>'Settings'!$B$9,ABS($AI11)>'Settings'!$B$10)),"Invoice Variance",IF(AND($N11="Open",$AM11>'Settings'!$B$11),"Aging Open PO",""))))))),"") | AO11: Request updated delivery confirmation. | AP11: =IFERROR(IF(AND($AN11<>"",$N11<>"Closed",$N11<>"Canceled",OR('Dashboard'!$B$4="All",$B11='Dashboard'!$B$4),OR('Dashboard'!$D$4="All",$C11='Dashboard'!$D$4)),COUNTIFS($AN$6:$AN11,"<>",$N$6:$N11,"<>Closed",$N$6:$N11,"<>Canceled",$B$6:$B11,IF('Dashboard'!$B$4="All","<>",'Dashboard'!$B$4),$C$6:$C11,IF('Dashboard'!$D$4="All","<>",'Dashboard'!$D$4)),""),"")
A12: PO-2026-0007 | B12: Lakeside Conference Center | C12: Food and Beverage | D12: Renee Carter | E12: V007 | F12: =IFERROR(IF($E12="","",VLOOKUP($E12,'Settings'!$G$16:$M$115,2,0)),"") | G12: FNB-7740 | H12: 46119 | I12: 46122 | J12: Not Required | M12: =IFERROR(IF($A12="","",IF($J12="Approved",MAX(0,$L12-$H12),"")),"") | N12: Closed | O12: 46124 | P12: FB-FOOD | Q12: Shelf-stable banquet beverage supplies | R12: 24 | S12: 38 | T12: 0 | U12: No | V12: 0 | W12: 45 | X12: =IFERROR(IF($A12="","",MAX(0,$R12*$S12-$T12)),"") | Y12: =IFERROR(IF($A12="","",IF($U12="Yes",$X12*$V12,0)),"") | Z12: =IFERROR(IF($A12="","",$X12+$Y12+$W12),"") | AA12: 24 | AB12: 46121 | AC12: =IFERROR(IF($A12="","",IF($N12="Canceled","Canceled",IF($AA12=0,"Not Received",IF($AA12<$R12,"Partially Received",IF($AA12=$R12,"Fully Received","Over Received"))))),"") | AD12: Full delivery received. | AE12: GFS-7740 | AF12: 46122 | AG12: 957 | AH12: =IFERROR(IF($A12="","",IF($AG12="","",$AG12-$Z12)),"") | AI12: =IFERROR(IF($A12="","",IF(OR($AG12="",$Z12=0),"",($AG12-$Z12)/$Z12)),"") | AJ12: Paid | AK12: 46133 | AL12: =IFERROR(IF($A12="","",IF(OR($N12="Canceled",$N12="Closed"),0,MAX($Z12-IF($AG12="",0,$AG12),0))),"") | AM12: =IFERROR(IF($A12="","",IF(OR($N12="Closed",$N12="Canceled"),IF($O12="","",MAX(0,$O12-$H12)),MAX(0,TODAY()-$H12))),"") | AN12: =IFERROR(IF($A12="","",IF($AA12>$R12,"Over Received",IF(AND($J12="Approved",OR($K12="",$L12="")),"Approval Missing",IF(AND($J12="Pending",$AM12>'Settings'!$B$7),"Approval Follow-Up",IF(AND($N12="Open",$I12<>"",$I12+'Settings'!$B$8<TODAY(),$AA12<$R12),"Delivery Overdue",IF(AND($AG12<>"",OR(ABS($AH12)>'Settings'!$B$9,ABS($AI12)>'Settings'!$B$10)),"Invoice Variance",IF(AND($N12="Open",$AM12>'Settings'!$B$11),"Aging Open PO",""))))))),"") | AO12: Routine replenishment completed. | AP12: =IFERROR(IF(AND($AN12<>"",$N12<>"Closed",$N12<>"Canceled",OR('Dashboard'!$B$4="All",$B12='Dashboard'!$B$4),OR('Dashboard'!$D$4="All",$C12='Dashboard'!$D$4)),COUNTIFS($AN$6:$AN12,"<>",$N$6:$N12,"<>Closed",$N$6:$N12,"<>Canceled",$B$6:$B12,IF('Dashboard'!$B$4="All","<>",'Dashboard'!$B$4),$C$6:$C12,IF('Dashboard'!$D$4="All","<>",'Dashboard'!$D$4)),""),"")
A13: PO-2026-0008 | B13: Harbor View Hotel | C13: Administration | D13: Ethan Moore | E13: V008 | F13: =IFERROR(IF($E13="","",VLOOKUP($E13,'Settings'!$G$16:$M$115,2,0)),"") | G13: CAPEX-2026-04 | H13: 46143 | I13: 46157 | J13: Rejected | M13: =IFERROR(IF($A13="","",IF($J13="Approved",MAX(0,$L13-$H13),"")),"") | N13: Canceled | O13: 46145 | P13: ADM-TECH | Q13: Replacement office tablets | R13: 4 | S13: 525 | T13: 0 | U13: Yes | V13: 0.0625 | W13: 25 | X13: =IFERROR(IF($A13="","",MAX(0,$R13*$S13-$T13)),"") | Y13: =IFERROR(IF($A13="","",IF($U13="Yes",$X13*$V13,0)),"") | Z13: =IFERROR(IF($A13="","",$X13+$Y13+$W13),"") | AA13: 0 | AC13: =IFERROR(IF($A13="","",IF($N13="Canceled","Canceled",IF($AA13=0,"Not Received",IF($AA13<$R13,"Partially Received",IF($AA13=$R13,"Fully Received","Over Received"))))),"") | AH13: =IFERROR(IF($A13="","",IF($AG13="","",$AG13-$Z13)),"") | AI13: =IFERROR(IF($A13="","",IF(OR($AG13="",$Z13=0),"",($AG13-$Z13)/$Z13)),"") | AJ13: Not Invoiced | AL13: =IFERROR(IF($A13="","",IF(OR($N13="Canceled",$N13="Closed"),0,MAX($Z13-IF($AG13="",0,$AG13),0))),"") | AM13: =IFERROR(IF($A13="","",IF(OR($N13="Closed",$N13="Canceled"),IF($O13="","",MAX(0,$O13-$H13)),MAX(0,TODAY()-$H13))),"") | AN13: =IFERROR(IF($A13="","",IF($AA13>$R13,"Over Received",IF(AND($J13="Approved",OR($K13="",$L13="")),"Approval Missing",IF(AND($J13="Pending",$AM13>'Settings'!$B$7),"Approval Follow-Up",IF(AND($N13="Open",$I13<>"",$I13+'Settings'!$B$8<TODAY(),$AA13<$R13),"Delivery Overdue",IF(AND($AG13<>"",OR(ABS($AH13)>'Settings'!$B$9,ABS($AI13)>'Settings'!$B$10)),"Invoice Variance",IF(AND($N13="Open",$AM13>'Settings'!$B$11),"Aging Open PO",""))))))),"") | AO13: Canceled after budget review. | AP13: =IFERROR(IF(AND($AN13<>"",$N13<>"Closed",$N13<>"Canceled",OR('Dashboard'!$B$4="All",$B13='Dashboard'!$B$4),OR('Dashboard'!$D$4="All",$C13='Dashboard'!$D$4)),COUNTIFS($AN$6:$AN13,"<>",$N$6:$N13,"<>Closed",$N$6:$N13,"<>Canceled",$B$6:$B13,IF('Dashboard'!$B$4="All","<>",'Dashboard'!$B$4),$C$6:$C13,IF('Dashboard'!$D$4="All","<>",'Dashboard'!$D$4)),""),"")
A14: PO-2026-0009 | B14: Harbor View Hotel | C14: Housekeeping | D14: Maria Lopez | E14: V001 | F14: =IFERROR(IF($E14="","",VLOOKUP($E14,'Settings'!$G$16:$M$115,2,0)),"") | G14: HK-AMEN-88 | H14: 46181 | I14: 46191 | J14: Approved | K14: Daniel Reed | L14: 46182 | M14: =IFERROR(IF($A14="","",IF($J14="Approved",MAX(0,$L14-$H14),"")),"") | N14: Open | P14: HK-AMENITY | Q14: Refillable guest bath amenity bottles | R14: 600 | S14: 2.35 | T14: 75 | U14: Yes | V14: 0.0625 | W14: 90 | X14: =IFERROR(IF($A14="","",MAX(0,$R14*$S14-$T14)),"") | Y14: =IFERROR(IF($A14="","",IF($U14="Yes",$X14*$V14,0)),"") | Z14: =IFERROR(IF($A14="","",$X14+$Y14+$W14),"") | AA14: 620 | AB14: 46190 | AC14: =IFERROR(IF($A14="","",IF($N14="Canceled","Canceled",IF($AA14=0,"Not Received",IF($AA14<$R14,"Partially Received",IF($AA14=$R14,"Fully Received","Over Received"))))),"") | AD14: Twenty extra units shipped and retained. | AE14: INV-84221 | AF14: 46191 | AG14: 1550 | AH14: =IFERROR(IF($A14="","",IF($AG14="","",$AG14-$Z14)),"") | AI14: =IFERROR(IF($A14="","",IF(OR($AG14="",$Z14=0),"",($AG14-$Z14)/$Z14)),"") | AJ14: Invoice Received | AL14: =IFERROR(IF($A14="","",IF(OR($N14="Canceled",$N14="Closed"),0,MAX($Z14-IF($AG14="",0,$AG14),0))),"") | AM14: =IFERROR(IF($A14="","",IF(OR($N14="Closed",$N14="Canceled"),IF($O14="","",MAX(0,$O14-$H14)),MAX(0,TODAY()-$H14))),"") | AN14: =IFERROR(IF($A14="","",IF($AA14>$R14,"Over Received",IF(AND($J14="Approved",OR($K14="",$L14="")),"Approval Missing",IF(AND($J14="Pending",$AM14>'Settings'!$B$7),"Approval Follow-Up",IF(AND($N14="Open",$I14<>"",$I14+'Settings'!$B$8<TODAY(),$AA14<$R14),"Delivery Overdue",IF(AND($AG14<>"",OR(ABS($AH14)>'Settings'!$B$9,ABS($AI14)>'Settings'!$B$10)),"Invoice Variance",IF(AND($N14="Open",$AM14>'Settings'!$B$11),"Aging Open PO",""))))))),"") | AO14: Review over-receipt and invoice quantity. | AP14: =IFERROR(IF(AND($AN14<>"",$N14<>"Closed",$N14<>"Canceled",OR('Dashboard'!$B$4="All",$B14='Dashboard'!$B$4),OR('Dashboard'!$D$4="All",$C14='Dashboard'!$D$4)),COUNTIFS($AN$6:$AN14,"<>",$N$6:$N14,"<>Closed",$N$6:$N14,"<>Canceled",$B$6:$B14,IF('Dashboard'!$B$4="All","<>",'Dashboard'!$B$4),$C$6:$C14,IF('Dashboard'!$D$4="All","<>",'Dashboard'!$D$4)),""),"")
A15: PO-2026-0010 | B15: Lakeside Conference Center | C15: Security | D15: Noah Bennett | E15: V004 | F15: =IFERROR(IF($E15="","",VLOOKUP($E15,'Settings'!$G$16:$M$115,2,0)),"") | G15: SEC-OPS-114 | H15: 46217 | I15: 46228 | J15: Approved | K15: Monica Price | L15: 46218 | M15: =IFERROR(IF($A15="","",IF($J15="Approved",MAX(0,$L15-$H15),"")),"") | N15: Open | P15: SEC-SUPPLIES | Q15: Rechargeable emergency flashlights | R15: 18 | S15: 47.5 | T15: 0 | U15: Yes | V15: 0.07 | W15: 30 | X15: =IFERROR(IF($A15="","",MAX(0,$R15*$S15-$T15)),"") | Y15: =IFERROR(IF($A15="","",IF($U15="Yes",$X15*$V15,0)),"") | Z15: =IFERROR(IF($A15="","",$X15+$Y15+$W15),"") | AA15: 6 | AB15: 46227 | AC15: =IFERROR(IF($A15="","",IF($N15="Canceled","Canceled",IF($AA15=0,"Not Received",IF($AA15<$R15,"Partially Received",IF($AA15=$R15,"Fully Received","Over Received"))))),"") | AD15: First six units received; balance pending. | AH15: =IFERROR(IF($A15="","",IF($AG15="","",$AG15-$Z15)),"") | AI15: =IFERROR(IF($A15="","",IF(OR($AG15="",$Z15=0),"",($AG15-$Z15)/$Z15)),"") | AJ15: Not Invoiced | AL15: =IFERROR(IF($A15="","",IF(OR($N15="Canceled",$N15="Closed"),0,MAX($Z15-IF($AG15="",0,$AG15),0))),"") | AM15: =IFERROR(IF($A15="","",IF(OR($N15="Closed",$N15="Canceled"),IF($O15="","",MAX(0,$O15-$H15)),MAX(0,TODAY()-$H15))),"") | AN15: =IFERROR(IF($A15="","",IF($AA15>$R15,"Over Received",IF(AND($J15="Approved",OR($K15="",$L15="")),"Approval Missing",IF(AND($J15="Pending",$AM15>'Settings'!$B$7),"Approval Follow-Up",IF(AND($N15="Open",$I15<>"",$I15+'Settings'!$B$8<TODAY(),$AA15<$R15),"Delivery Overdue",IF(AND($AG15<>"",OR(ABS($AH15)>'Settings'!$B$9,ABS($AI15)>'Settings'!$B$10)),"Invoice Variance",IF(AND($N15="Open",$AM15>'Settings'!$B$11),"Aging Open PO",""))))))),"") | AO15: Confirm remaining shipment date. | AP15: =IFERROR(IF(AND($AN15<>"",$N15<>"Closed",$N15<>"Canceled",OR('Dashboard'!$B$4="All",$B15='Dashboard'!$B$4),OR('Dashboard'!$D$4="All",$C15='Dashboard'!$D$4)),COUNTIFS($AN$6:$AN15,"<>",$N$6:$N15,"<>Closed",$N$6:$N15,"<>Canceled",$B$6:$B15,IF('Dashboard'!$B$4="All","<>",'Dashboard'!$B$4),$C$6:$C15,IF('Dashboard'!$D$4="All","<>",'Dashboard'!$D$4)),""),"")
F16: =IFERROR(IF($E16="","",VLOOKUP($E16,'Settings'!$G$16:$M$115,2,0)),"") | M16: =IFERROR(IF($A16="","",IF($J16="Approved",MAX(0,$L16-$H16),"")),"") | X16: =IFERROR(IF($A16="","",MAX(0,$R16*$S16-$T16)),"") | Y16: =IFERROR(IF($A16="","",IF($U16="Yes",$X16*$V16,0)),"") | Z16: =IFERROR(IF($A16="","",$X16+$Y16+$W16),"") | AC16: =IFERROR(IF($A16="","",IF($N16="Canceled","Canceled",IF($AA16=0,"Not Received",IF($AA16<$R16,"Partially Received",IF($AA16=$R16,"Fully Received","Over Received"))))),"") | AH16: =IFERROR(IF($A16="","",IF($AG16="","",$AG16-$Z16)),"") | AI16: =IFERROR(IF($A16="","",IF(OR($AG16="",$Z16=0),"",($AG16-$Z16)/$Z16)),"") | AL16: =IFERROR(IF($A16="","",IF(OR($N16="Canceled",$N16="Closed"),0,MAX($Z16-IF($AG16="",0,$AG16),0))),"") | AM16: =IFERROR(IF($A16="","",IF(OR($N16="Closed",$N16="Canceled"),IF($O16="","",MAX(0,$O16-$H16)),MAX(0,TODAY()-$H16))),"") | AN16: =IFERROR(IF($A16="","",IF($AA16>$R16,"Over Received",IF(AND($J16="Approved",OR($K16="",$L16="")),"Approval Missing",IF(AND($J16="Pending",$AM16>'Settings'!$B$7),"Approval Follow-Up",IF(AND($N16="Open",$I16<>"",$I16+'Settings'!$B$8<TODAY(),$AA16<$R16),"Delivery Overdue",IF(AND($AG16<>"",OR(ABS($AH16)>'Settings'!$B$9,ABS($AI16)>'Settings'!$B$10)),"Invoice Variance",IF(AND($N16="Open",$AM16>'Settings'!$B$11),"Aging Open PO",""))))))),"") | AP16: =IFERROR(IF(AND($AN16<>"",$N16<>"Closed",$N16<>"Canceled",OR('Dashboard'!$B$4="All",$B16='Dashboard'!$B$4),OR('Dashboard'!$D$4="All",$C16='Dashboard'!$D$4)),COUNTIFS($AN$6:$AN16,"<>",$N$6:$N16,"<>Closed",$N$6:$N16,"<>Canceled",$B$6:$B16,IF('Dashboard'!$B$4="All","<>",'Dashboard'!$B$4),$C$6:$C16,IF('Dashboard'!$D$4="All","<>",'Dashboard'!$D$4)),""),"")
F17: =IFERROR(IF($E17="","",VLOOKUP($E17,'Settings'!$G$16:$M$115,2,0)),"") | M17: =IFERROR(IF($A17="","",IF($J17="Approved",MAX(0,$L17-$H17),"")),"") | X17: =IFERROR(IF($A17="","",MAX(0,$R17*$S17-$T17)),"") | Y17: =IFERROR(IF($A17="","",IF($U17="Yes",$X17*$V17,0)),"") | Z17: =IFERROR(IF($A17="","",$X17+$Y17+$W17),"") | AC17: =IFERROR(IF($A17="","",IF($N17="Canceled","Canceled",IF($AA17=0,"Not Received",IF($AA17<$R17,"Partially Received",IF($AA17=$R17,"Fully Received","Over Received"))))),"") | AH17: =IFERROR(IF($A17="","",IF($AG17="","",$AG17-$Z17)),"") | AI17: =IFERROR(IF($A17="","",IF(OR($AG17="",$Z17=0),"",($AG17-$Z17)/$Z17)),"") | AL17: =IFERROR(IF($A17="","",IF(OR($N17="Canceled",$N17="Closed"),0,MAX($Z17-IF($AG17="",0,$AG17),0))),"") | AM17: =IFERROR(IF($A17="","",IF(OR($N17="Closed",$N17="Canceled"),IF($O17="","",MAX(0,$O17-$H17)),MAX(0,TODAY()-$H17))),"") | AN17: =IFERROR(IF($A17="","",IF($AA17>$R17,"Over Received",IF(AND($J17="Approved",OR($K17="",$L17="")),"Approval Missing",IF(AND($J17="Pending",$AM17>'Settings'!$B$7),"Approval Follow-Up",IF(AND($N17="Open",$I17<>"",$I17+'Settings'!$B$8<TODAY(),$AA17<$R17),"Delivery Overdue",IF(AND($AG17<>"",OR(ABS($AH17)>'Settings'!$B$9,ABS($AI17)>'Settings'!$B$10)),"Invoice Variance",IF(AND($N17="Open",$AM17>'Settings'!$B$11),"Aging Open PO",""))))))),"") | AP17: =IFERROR(IF(AND($AN17<>"",$N17<>"Closed",$N17<>"Canceled",OR('Dashboard'!$B$4="All",$B17='Dashboard'!$B$4),OR('Dashboard'!$D$4="All",$C17='Dashboard'!$D$4)),COUNTIFS($AN$6:$AN17,"<>",$N$6:$N17,"<>Closed",$N$6:$N17,"<>Canceled",$B$6:$B17,IF('Dashboard'!$B$4="All","<>",'Dashboard'!$B$4),$C$6:$C17,IF('Dashboard'!$D$4="All","<>",'Dashboard'!$D$4)),""),"")
F18: =IFERROR(IF($E18="","",VLOOKUP($E18,'Settings'!$G$16:$M$115,2,0)),"") | M18: =IFERROR(IF($A18="","",IF($J18="Approved",MAX(0,$L18-$H18),"")),"") | X18: =IFERROR(IF($A18="","",MAX(0,$R18*$S18-$T18)),"") | Y18: =IFERROR(IF($A18="","",IF($U18="Yes",$X18*$V18,0)),"") | Z18: =IFERROR(IF($A18="","",$X18+$Y18+$W18),"") | AC18: =IFERROR(IF($A18="","",IF($N18="Canceled","Canceled",IF($AA18=0,"Not Received",IF($AA18<$R18,"Partially Received",IF($AA18=$R18,"Fully Received","Over Received"))))),"") | AH18: =IFERROR(IF($A18="","",IF($AG18="","",$AG18-$Z18)),"") | AI18: =IFERROR(IF($A18="","",IF(OR($AG18="",$Z18=0),"",($AG18-$Z18)/$Z18)),"") | AL18: =IFERROR(IF($A18="","",IF(OR($N18="Canceled",$N18="Closed"),0,MAX($Z18-IF($AG18="",0,$AG18),0))),"") | AM18: =IFERROR(IF($A18="","",IF(OR($N18="Closed",$N18="Canceled"),IF($O18="","",MAX(0,$O18-$H18)),MAX(0,TODAY()-$H18))),"") | AN18: =IFERROR(IF($A18="","",IF($AA18>$R18,"Over Received",IF(AND($J18="Approved",OR($K18="",$L18="")),"Approval Missing",IF(AND($J18="Pending",$AM18>'Settings'!$B$7),"Approval Follow-Up",IF(AND($N18="Open",$I18<>"",$I18+'Settings'!$B$8<TODAY(),$AA18<$R18),"Delivery Overdue",IF(AND($AG18<>"",OR(ABS($AH18)>'Settings'!$B$9,ABS($AI18)>'Settings'!$B$10)),"Invoice Variance",IF(AND($N18="Open",$AM18>'Settings'!$B$11),"Aging Open PO",""))))))),"") | AP18: =IFERROR(IF(AND($AN18<>"",$N18<>"Closed",$N18<>"Canceled",OR('Dashboard'!$B$4="All",$B18='Dashboard'!$B$4),OR('Dashboard'!$D$4="All",$C18='Dashboard'!$D$4)),COUNTIFS($AN$6:$AN18,"<>",$N$6:$N18,"<>Closed",$N$6:$N18,"<>Canceled",$B$6:$B18,IF('Dashboard'!$B$4="All","<>",'Dashboard'!$B$4),$C$6:$C18,IF('Dashboard'!$D$4="All","<>",'Dashboard'!$D$4)),""),"")
F19: =IFERROR(IF($E19="","",VLOOKUP($E19,'Settings'!$G$16:$M$115,2,0)),"") | M19: =IFERROR(IF($A19="","",IF($J19="Approved",MAX(0,$L19-$H19),"")),"") | X19: =IFERROR(IF($A19="","",MAX(0,$R19*$S19-$T19)),"") | Y19: =IFERROR(IF($A19="","",IF($U19="Yes",$X19*$V19,0)),"") | Z19: =IFERROR(IF($A19="","",$X19+$Y19+$W19),"") | AC19: =IFERROR(IF($A19="","",IF($N19="Canceled","Canceled",IF($AA19=0,"Not Received",IF($AA19<$R19,"Partially Received",IF($AA19=$R19,"Fully Received","Over Received"))))),"") | AH19: =IFERROR(IF($A19="","",IF($AG19="","",$AG19-$Z19)),"") | AI19: =IFERROR(IF($A19="","",IF(OR($AG19="",$Z19=0),"",($AG19-$Z19)/$Z19)),"") | AL19: =IFERROR(IF($A19="","",IF(OR($N19="Canceled",$N19="Closed"),0,MAX($Z19-IF($AG19="",0,$AG19),0))),"") | AM19: =IFERROR(IF($A19="","",IF(OR($N19="Closed",$N19="Canceled"),IF($O19="","",MAX(0,$O19-$H19)),MAX(0,TODAY()-$H19))),"") | AN19: =IFERROR(IF($A19="","",IF($AA19>$R19,"Over Received",IF(AND($J19="Approved",OR($K19="",$L19="")),"Approval Missing",IF(AND($J19="Pending",$AM19>'Settings'!$B$7),"Approval Follow-Up",IF(AND($N19="Open",$I19<>"",$I19+'Settings'!$B$8<TODAY(),$AA19<$R19),"Delivery Overdue",IF(AND($AG19<>"",OR(ABS($AH19)>'Settings'!$B$9,ABS($AI19)>'Settings'!$B$10)),"Invoice Variance",IF(AND($N19="Open",$AM19>'Settings'!$B$11),"Aging Open PO",""))))))),"") | AP19: =IFERROR(IF(AND($AN19<>"",$N19<>"Closed",$N19<>"Canceled",OR('Dashboard'!$B$4="All",$B19='Dashboard'!$B$4),OR('Dashboard'!$D$4="All",$C19='Dashboard'!$D$4)),COUNTIFS($AN$6:$AN19,"<>",$N$6:$N19,"<>Closed",$N$6:$N19,"<>Canceled",$B$6:$B19,IF('Dashboard'!$B$4="All","<>",'Dashboard'!$B$4),$C$6:$C19,IF('Dashboard'!$D$4="All","<>",'Dashboard'!$D$4)),""),"")
F20: =IFERROR(IF($E20="","",VLOOKUP($E20,'Settings'!$G$16:$M$115,2,0)),"") | M20: =IFERROR(IF($A20="","",IF($J20="Approved",MAX(0,$L20-$H20),"")),"") | X20: =IFERROR(IF($A20="","",MAX(0,$R20*$S20-$T20)),"") | Y20: =IFERROR(IF($A20="","",IF($U20="Yes",$X20*$V20,0)),"") | Z20: =IFERROR(IF($A20="","",$X20+$Y20+$W20),"") | AC20: =IFERROR(IF($A20="","",IF($N20="Canceled","Canceled",IF($AA20=0,"Not Received",IF($AA20<$R20,"Partially Received",IF($AA20=$R20,"Fully Received","Over Received"))))),"") | AH20: =IFERROR(IF($A20="","",IF($AG20="","",$AG20-$Z20)),"") | AI20: =IFERROR(IF($A20="","",IF(OR($AG20="",$Z20=0),"",($AG20-$Z20)/$Z20)),"") | AL20: =IFERROR(IF($A20="","",IF(OR($N20="Canceled",$N20="Closed"),0,MAX($Z20-IF($AG20="",0,$AG20),0))),"") | AM20: =IFERROR(IF($A20="","",IF(OR($N20="Closed",$N20="Canceled"),IF($O20="","",MAX(0,$O20-$H20)),MAX(0,TODAY()-$H20))),"") | AN20: =IFERROR(IF($A20="","",IF($AA20>$R20,"Over Received",IF(AND($J20="Approved",OR($K20="",$L20="")),"Approval Missing",IF(AND($J20="Pending",$AM20>'Settings'!$B$7),"Approval Follow-Up",IF(AND($N20="Open",$I20<>"",$I20+'Settings'!$B$8<TODAY(),$AA20<$R20),"Delivery Overdue",IF(AND($AG20<>"",OR(ABS($AH20)>'Settings'!$B$9,ABS($AI20)>'Settings'!$B$10)),"Invoice Variance",IF(AND($N20="Open",$AM20>'Settings'!$B$11),"Aging Open PO",""))))))),"") | AP20: =IFERROR(IF(AND($AN20<>"",$N20<>"Closed",$N20<>"Canceled",OR('Dashboard'!$B$4="All",$B20='Dashboard'!$B$4),OR('Dashboard'!$D$4="All",$C20='Dashboard'!$D$4)),COUNTIFS($AN$6:$AN20,"<>",$N$6:$N20,"<>Closed",$N$6:$N20,"<>Canceled",$B$6:$B20,IF('Dashboard'!$B$4="All","<>",'Dashboard'!$B$4),$C$6:$C20,IF('Dashboard'!$D$4="All","<>",'Dashboard'!$D$4)),""),"")
F21: =IFERROR(IF($E21="","",VLOOKUP($E21,'Settings'!$G$16:$M$115,2,0)),"") | M21: =IFERROR(IF($A21="","",IF($J21="Approved",MAX(0,$L21-$H21),"")),"") | X21: =IFERROR(IF($A21="","",MAX(0,$R21*$S21-$T21)),"") | Y21: =IFERROR(IF($A21="","",IF($U21="Yes",$X21*$V21,0)),"") | Z21: =IFERROR(IF($A21="","",$X21+$Y21+$W21),"") | AC21: =IFERROR(IF($A21="","",IF($N21="Canceled","Canceled",IF($AA21=0,"Not Received",IF($AA21<$R21,"Partially Received",IF($AA21=$R21,"Fully Received","Over Received"))))),"") | AH21: =IFERROR(IF($A21="","",IF($AG21="","",$AG21-$Z21)),"") | AI21: =IFERROR(IF($A21="","",IF(OR($AG21="",$Z21=0),"",($AG21-$Z21)/$Z21)),"") | AL21: =IFERROR(IF($A21="","",IF(OR($N21="Canceled",$N21="Closed"),0,MAX($Z21-IF($AG21="",0,$AG21),0))),"") | AM21: =IFERROR(IF($A21="","",IF(OR($N21="Closed",$N21="Canceled"),IF($O21="","",MAX(0,$O21-$H21)),MAX(0,TODAY()-$H21))),"") | AN21: =IFERROR(IF($A21="","",IF($AA21>$R21,"Over Received",IF(AND($J21="Approved",OR($K21="",$L21="")),"Approval Missing",IF(AND($J21="Pending",$AM21>'Settings'!$B$7),"Approval Follow-Up",IF(AND($N21="Open",$I21<>"",$I21+'Settings'!$B$8<TODAY(),$AA21<$R21),"Delivery Overdue",IF(AND($AG21<>"",OR(ABS($AH21)>'Settings'!$B$9,ABS($AI21)>'Settings'!$B$10)),"Invoice Variance",IF(AND($N21="Open",$AM21>'Settings'!$B$11),"Aging Open PO",""))))))),"") | AP21: =IFERROR(IF(AND($AN21<>"",$N21<>"Closed",$N21<>"Canceled",OR('Dashboard'!$B$4="All",$B21='Dashboard'!$B$4),OR('Dashboard'!$D$4="All",$C21='Dashboard'!$D$4)),COUNTIFS($AN$6:$AN21,"<>",$N$6:$N21,"<>Closed",$N$6:$N21,"<>Canceled",$B$6:$B21,IF('Dashboard'!$B$4="All","<>",'Dashboard'!$B$4),$C$6:$C21,IF('Dashboard'!$D$4="All","<>",'Dashboard'!$D$4)),""),"")
F22: =IFERROR(IF($E22="","",VLOOKUP($E22,'Settings'!$G$16:$M$115,2,0)),"") | M22: =IFERROR(IF($A22="","",IF($J22="Approved",MAX(0,$L22-$H22),"")),"") | X22: =IFERROR(IF($A22="","",MAX(0,$R22*$S22-$T22)),"") | Y22: =IFERROR(IF($A22="","",IF($U22="Yes",$X22*$V22,0)),"") | Z22: =IFERROR(IF($A22="","",$X22+$Y22+$W22),"") | AC22: =IFERROR(IF($A22="","",IF($N22="Canceled","Canceled",IF($AA22=0,"Not Received",IF($AA22<$R22,"Partially Received",IF($AA22=$R22,"Fully Received","Over Received"))))),"") | AH22: =IFERROR(IF($A22="","",IF($AG22="","",$AG22-$Z22)),"") | AI22: =IFERROR(IF($A22="","",IF(OR($AG22="",$Z22=0),"",($AG22-$Z22)/$Z22)),"") | AL22: =IFERROR(IF($A22="","",IF(OR($N22="Canceled",$N22="Closed"),0,MAX($Z22-IF($AG22="",0,$AG22),0))),"") | AM22: =IFERROR(IF($A22="","",IF(OR($N22="Closed",$N22="Canceled"),IF($O22="","",MAX(0,$O22-$H22)),MAX(0,TODAY()-$H22))),"") | AN22: =IFERROR(IF($A22="","",IF($AA22>$R22,"Over Received",IF(AND($J22="Approved",OR($K22="",$L22="")),"Approval Missing",IF(AND($J22="Pending",$AM22>'Settings'!$B$7),"Approval Follow-Up",IF(AND($N22="Open",$I22<>"",$I22+'Settings'!$B$8<TODAY(),$AA22<$R22),"Delivery Overdue",IF(AND($AG22<>"",OR(ABS($AH22)>'Settings'!$B$9,ABS($AI22)>'Settings'!$B$10)),"Invoice Variance",IF(AND($N22="Open",$AM22>'Settings'!$B$11),"Aging Open PO",""))))))),"") | AP22: =IFERROR(IF(AND($AN22<>"",$N22<>"Closed",$N22<>"Canceled",OR('Dashboard'!$B$4="All",$B22='Dashboard'!$B$4),OR('Dashboard'!$D$4="All",$C22='Dashboard'!$D$4)),COUNTIFS($AN$6:$AN22,"<>",$N$6:$N22,"<>Closed",$N$6:$N22,"<>Canceled",$B$6:$B22,IF('Dashboard'!$B$4="All","<>",'Dashboard'!$B$4),$C$6:$C22,IF('Dashboard'!$D$4="All","<>",'Dashboard'!$D$4)),""),"")
F23: =IFERROR(IF($E23="","",VLOOKUP($E23,'Settings'!$G$16:$M$115,2,0)),"") | M23: =IFERROR(IF($A23="","",IF($J23="Approved",MAX(0,$L23-$H23),"")),"") | X23: =IFERROR(IF($A23="","",MAX(0,$R23*$S23-$T23)),"") | Y23: =IFERROR(IF($A23="","",IF($U23="Yes",$X23*$V23,0)),"") | Z23: =IFERROR(IF($A23="","",$X23+$Y23+$W23),"") | AC23: =IFERROR(IF($A23="","",IF($N23="Canceled","Canceled",IF($AA23=0,"Not Received",IF($AA23<$R23,"Partially Received",IF($AA23=$R23,"Fully Received","Over Received"))))),"") | AH23: =IFERROR(IF($A23="","",IF($AG23="","",$AG23-$Z23)),"") | AI23: =IFERROR(IF($A23="","",IF(OR($AG23="",$Z23=0),"",($AG23-$Z23)/$Z23)),"") | AL23: =IFERROR(IF($A23="","",IF(OR($N23="Canceled",$N23="Closed"),0,MAX($Z23-IF($AG23="",0,$AG23),0))),"") | AM23: =IFERROR(IF($A23="","",IF(OR($N23="Closed",$N23="Canceled"),IF($O23="","",MAX(0,$O23-$H23)),MAX(0,TODAY()-$H23))),"") | AN23: =IFERROR(IF($A23="","",IF($AA23>$R23,"Over Received",IF(AND($J23="Approved",OR($K23="",$L23="")),"Approval Missing",IF(AND($J23="Pending",$AM23>'Settings'!$B$7),"Approval Follow-Up",IF(AND($N23="Open",$I23<>"",$I23+'Settings'!$B$8<TODAY(),$AA23<$R23),"Delivery Overdue",IF(AND($AG23<>"",OR(ABS($AH23)>'Settings'!$B$9,ABS($AI23)>'Settings'!$B$10)),"Invoice Variance",IF(AND($N23="Open",$AM23>'Settings'!$B$11),"Aging Open PO",""))))))),"") | AP23: =IFERROR(IF(AND($AN23<>"",$N23<>"Closed",$N23<>"Canceled",OR('Dashboard'!$B$4="All",$B23='Dashboard'!$B$4),OR('Dashboard'!$D$4="All",$C23='Dashboard'!$D$4)),COUNTIFS($AN$6:$AN23,"<>",$N$6:$N23,"<>Closed",$N$6:$N23,"<>Canceled",$B$6:$B23,IF('Dashboard'!$B$4="All","<>",'Dashboard'!$B$4),$C$6:$C23,IF('Dashboard'!$D$4="All","<>",'Dashboard'!$D$4)),""),"")
F24: =IFERROR(IF($E24="","",VLOOKUP($E24,'Settings'!$G$16:$M$115,2,0)),"") | M24: =IFERROR(IF($A24="","",IF($J24="Approved",MAX(0,$L24-$H24),"")),"") | X24: =IFERROR(IF($A24="","",MAX(0,$R24*$S24-$T24)),"") | Y24: =IFERROR(IF($A24="","",IF($U24="Yes",$X24*$V24,0)),"") | Z24: =IFERROR(IF($A24="","",$X24+$Y24+$W24),"") | AC24: =IFERROR(IF($A24="","",IF($N24="Canceled","Canceled",IF($AA24=0,"Not Received",IF($AA24<$R24,"Partially Received",IF($AA24=$R24,"Fully Received","Over Received"))))),"") | AH24: =IFERROR(IF($A24="","",IF($AG24="","",$AG24-$Z24)),"") | AI24: =IFERROR(IF($A24="","",IF(OR($AG24="",$Z24=0),"",($AG24-$Z24)/$Z24)),"") | AL24: =IFERROR(IF($A24="","",IF(OR($N24="Canceled",$N24="Closed"),0,MAX($Z24-IF($AG24="",0,$AG24),0))),"") | AM24: =IFERROR(IF($A24="","",IF(OR($N24="Closed",$N24="Canceled"),IF($O24="","",MAX(0,$O24-$H24)),MAX(0,TODAY()-$H24))),"") | AN24: =IFERROR(IF($A24="","",IF($AA24>$R24,"Over Received",IF(AND($J24="Approved",OR($K24="",$L24="")),"Approval Missing",IF(AND($J24="Pending",$AM24>'Settings'!$B$7),"Approval Follow-Up",IF(AND($N24="Open",$I24<>"",$I24+'Settings'!$B$8<TODAY(),$AA24<$R24),"Delivery Overdue",IF(AND($AG24<>"",OR(ABS($AH24)>'Settings'!$B$9,ABS($AI24)>'Settings'!$B$10)),"Invoice Variance",IF(AND($N24="Open",$AM24>'Settings'!$B$11),"Aging Open PO",""))))))),"") | AP24: =IFERROR(IF(AND($AN24<>"",$N24<>"Closed",$N24<>"Canceled",OR('Dashboard'!$B$4="All",$B24='Dashboard'!$B$4),OR('Dashboard'!$D$4="All",$C24='Dashboard'!$D$4)),COUNTIFS($AN$6:$AN24,"<>",$N$6:$N24,"<>Closed",$N$6:$N24,"<>Canceled",$B$6:$B24,IF('Dashboard'!$B$4="All","<>",'Dashboard'!$B$4),$C$6:$C24,IF('Dashboard'!$D$4="All","<>",'Dashboard'!$D$4)),""),"")
F25: =IFERROR(IF($E25="","",VLOOKUP($E25,'Settings'!$G$16:$M$115,2,0)),"") | M25: =IFERROR(IF($A25="","",IF($J25="Approved",MAX(0,$L25-$H25),"")),"") | X25: =IFERROR(IF($A25="","",MAX(0,$R25*$S25-$T25)),"") | Y25: =IFERROR(IF($A25="","",IF($U25="Yes",$X25*$V25,0)),"") | Z25: =IFERROR(IF($A25="","",$X25+$Y25+$W25),"") | AC25: =IFERROR(IF($A25="","",IF($N25="Canceled","Canceled",IF($AA25=0,"Not Received",IF($AA25<$R25,"Partially Received",IF($AA25=$R25,"Fully Received","Over Received"))))),"") | AH25: =IFERROR(IF($A25="","",IF($AG25="","",$AG25-$Z25)),"") | AI25: =IFERROR(IF($A25="","",IF(OR($AG25="",$Z25=0),"",($AG25-$Z25)/$Z25)),"") | AL25: =IFERROR(IF($A25="","",IF(OR($N25="Canceled",$N25="Closed"),0,MAX($Z25-IF($AG25="",0,$AG25),0))),"") | AM25: =IFERROR(IF($A25="","",IF(OR($N25="Closed",$N25="Canceled"),IF($O25="","",MAX(0,$O25-$H25)),MAX(0,TODAY()-$H25))),"") | AN25: =IFERROR(IF($A25="","",IF($AA25>$R25,"Over Received",IF(AND($J25="Approved",OR($K25="",$L25="")),"Approval Missing",IF(AND($J25="Pending",$AM25>'Settings'!$B$7),"Approval Follow-Up",IF(AND($N25="Open",$I25<>"",$I25+'Settings'!$B$8<TODAY(),$AA25<$R25),"Delivery Overdue",IF(AND($AG25<>"",OR(ABS($AH25)>'Settings'!$B$9,ABS($AI25)>'Settings'!$B$10)),"Invoice Variance",IF(AND($N25="Open",$AM25>'Settings'!$B$11),"Aging Open PO",""))))))),"") | AP25: =IFERROR(IF(AND($AN25<>"",$N25<>"Closed",$N25<>"Canceled",OR('Dashboard'!$B$4="All",$B25='Dashboard'!$B$4),OR('Dashboard'!$D$4="All",$C25='Dashboard'!$D$4)),COUNTIFS($AN$6:$AN25,"<>",$N$6:$N25,"<>Closed",$N$6:$N25,"<>Canceled",$B$6:$B25,IF('Dashboard'!$B$4="All","<>",'Dashboard'!$B$4),$C$6:$C25,IF('Dashboard'!$D$4="All","<>",'Dashboard'!$D$4)),""),"")
F26: =IFERROR(IF($E26="","",VLOOKUP($E26,'Settings'!$G$16:$M$115,2,0)),"") | M26: =IFERROR(IF($A26="","",IF($J26="Approved",MAX(0,$L26-$H26),"")),"") | X26: =IFERROR(IF($A26="","",MAX(0,$R26*$S26-$T26)),"") | Y26: =IFERROR(IF($A26="","",IF($U26="Yes",$X26*$V26,0)),"") | Z26: =IFERROR(IF($A26="","",$X26+$Y26+$W26),"") | AC26: =IFERROR(IF($A26="","",IF($N26="Canceled","Canceled",IF($AA26=0,"Not Received",IF($AA26<$R26,"Partially Received",IF($AA26=$R26,"Fully Received","Over Received"))))),"") | AH26: =IFERROR(IF($A26="","",IF($AG26="","",$AG26-$Z26)),"") | AI26: =IFERROR(IF($A26="","",IF(OR($AG26="",$Z26=0),"",($AG26-$Z26)/$Z26)),"") | AL26: =IFERROR(IF($A26="","",IF(OR($N26="Canceled",$N26="Closed"),0,MAX($Z26-IF($AG26="",0,$AG26),0))),"") | AM26: =IFERROR(IF($A26="","",IF(OR($N26="Closed",$N26="Canceled"),IF($O26="","",MAX(0,$O26-$H26)),MAX(0,TODAY()-$H26))),"") | AN26: =IFERROR(IF($A26="","",IF($AA26>$R26,"Over Received",IF(AND($J26="Approved",OR($K26="",$L26="")),"Approval Missing",IF(AND($J26="Pending",$AM26>'Settings'!$B$7),"Approval Follow-Up",IF(AND($N26="Open",$I26<>"",$I26+'Settings'!$B$8<TODAY(),$AA26<$R26),"Delivery Overdue",IF(AND($AG26<>"",OR(ABS($AH26)>'Settings'!$B$9,ABS($AI26)>'Settings'!$B$10)),"Invoice Variance",IF(AND($N26="Open",$AM26>'Settings'!$B$11),"Aging Open PO",""))))))),"") | AP26: =IFERROR(IF(AND($AN26<>"",$N26<>"Closed",$N26<>"Canceled",OR('Dashboard'!$B$4="All",$B26='Dashboard'!$B$4),OR('Dashboard'!$D$4="All",$C26='Dashboard'!$D$4)),COUNTIFS($AN$6:$AN26,"<>",$N$6:$N26,"<>Closed",$N$6:$N26,"<>Canceled",$B$6:$B26,IF('Dashboard'!$B$4="All","<>",'Dashboard'!$B$4),$C$6:$C26,IF('Dashboard'!$D$4="All","<>",'Dashboard'!$D$4)),""),"")
