Workbook

Sheet Dashboard
A1: Hotel Pickup Report Dashboard
A3: Property | B3: All Properties | D3: Available Rooms per Night | E3: 150
A4: Stay Date Start | B4: 46143 | D4: Occupancy Watch Threshold | E4: 0.7
A5: Stay Date End | B5: 46173 | D5: High Occupancy Threshold | E5: 0.85
A6: Snapshot Date | B6: 46127 | D6: Material Wash Threshold | E6: 5
D7: Target Pickup ADR | E7: 185
A8: Select the property, stay-date range, and snapshot date. Dashboard metrics update from the Pickup Data table. Wash means negative room pickup and may reflect cancellations, reductions, or data corrections.
A10: Current Rooms on Books | C10: Prior Rooms on Books | E10: Net Room Pickup | G10: Current Room Revenue | I10: Net Revenue Pickup
A11: =IFERROR(IF($B$3="All Properties",SUMIFS('Pickup Data'!$L$4:$L$253,'Pickup Data'!$E$4:$E$253,">="&$B$4,'Pickup Data'!$E$4:$E$253,"<="&$B$5,'Pickup Data'!$C$4:$C$253,$B$6),SUMIFS('Pickup Data'!$L$4:$L$253,'Pickup Data'!$B$4:$B$253,$B$3,'Pickup Data'!$E$4:$E$253,">="&$B$4,'Pickup Data'!$E$4:$E$253,"<="&$B$5,'Pickup Data'!$C$4:$C$253,$B$6)),0) | C11: =IFERROR(IF($B$3="All Properties",SUMIFS('Pickup Data'!$K$4:$K$253,'Pickup Data'!$E$4:$E$253,">="&$B$4,'Pickup Data'!$E$4:$E$253,"<="&$B$5,'Pickup Data'!$C$4:$C$253,$B$6),SUMIFS('Pickup Data'!$K$4:$K$253,'Pickup Data'!$B$4:$B$253,$B$3,'Pickup Data'!$E$4:$E$253,">="&$B$4,'Pickup Data'!$E$4:$E$253,"<="&$B$5,'Pickup Data'!$C$4:$C$253,$B$6)),0) | E11: =IFERROR(IF($B$3="All Properties",SUMIFS('Pickup Data'!$M$4:$M$253,'Pickup Data'!$E$4:$E$253,">="&$B$4,'Pickup Data'!$E$4:$E$253,"<="&$B$5,'Pickup Data'!$C$4:$C$253,$B$6),SUMIFS('Pickup Data'!$M$4:$M$253,'Pickup Data'!$B$4:$B$253,$B$3,'Pickup Data'!$E$4:$E$253,">="&$B$4,'Pickup Data'!$E$4:$E$253,"<="&$B$5,'Pickup Data'!$C$4:$C$253,$B$6)),0) | G11: =IFERROR(IF($B$3="All Properties",SUMIFS('Pickup Data'!$O$4:$O$253,'Pickup Data'!$E$4:$E$253,">="&$B$4,'Pickup Data'!$E$4:$E$253,"<="&$B$5,'Pickup Data'!$C$4:$C$253,$B$6),SUMIFS('Pickup Data'!$O$4:$O$253,'Pickup Data'!$B$4:$B$253,$B$3,'Pickup Data'!$E$4:$E$253,">="&$B$4,'Pickup Data'!$E$4:$E$253,"<="&$B$5,'Pickup Data'!$C$4:$C$253,$B$6)),0) | I11: =IFERROR(IF($B$3="All Properties",SUMIFS('Pickup Data'!$P$4:$P$253,'Pickup Data'!$E$4:$E$253,">="&$B$4,'Pickup Data'!$E$4:$E$253,"<="&$B$5,'Pickup Data'!$C$4:$C$253,$B$6),SUMIFS('Pickup Data'!$P$4:$P$253,'Pickup Data'!$B$4:$B$253,$B$3,'Pickup Data'!$E$4:$E$253,">="&$B$4,'Pickup Data'!$E$4:$E$253,"<="&$B$5,'Pickup Data'!$C$4:$C$253,$B$6)),0)
A13: Current ADR | C13: Pickup ADR | E13: Average Current Occupancy | G13: Dates with Wash | I13: Dates at or Above High Occupancy
A14: =IFERROR(G11/A11,0) | C14: =IFERROR(I11/E11,0) | E14: =IFERROR(A11/(($B$5-$B$4+1)*$E$3),0) | G14: =IFERROR(IF($B$3="All Properties",COUNTIFS('Pickup Data'!$E$4:$E$253,">="&$B$4,'Pickup Data'!$E$4:$E$253,"<="&$B$5,'Pickup Data'!$C$4:$C$253,$B$6,'Pickup Data'!$M$4:$M$253,"<0"),COUNTIFS('Pickup Data'!$B$4:$B$253,$B$3,'Pickup Data'!$E$4:$E$253,">="&$B$4,'Pickup Data'!$E$4:$E$253,"<="&$B$5,'Pickup Data'!$C$4:$C$253,$B$6,'Pickup Data'!$M$4:$M$253,"<0")),0) | I14: =IFERROR(IF($B$3="All Properties",COUNTIFS('Pickup Data'!$E$4:$E$253,">="&$B$4,'Pickup Data'!$E$4:$E$253,"<="&$B$5,'Pickup Data'!$C$4:$C$253,$B$6,'Pickup Data'!$U$4:$U$253,">="&$E$5),COUNTIFS('Pickup Data'!$B$4:$B$253,$B$3,'Pickup Data'!$E$4:$E$253,">="&$B$4,'Pickup Data'!$E$4:$E$253,"<="&$B$5,'Pickup Data'!$C$4:$C$253,$B$6,'Pickup Data'!$U$4:$U$253,">="&$E$5)),0)
A16: Operational Status | B16: =IFERROR(IF(A11=0,"No matching data",IF(AND(E11>0,E14>=$E$5),"Strong pickup and high occupancy",IF(G14>0,"Wash detected, review cancellations and group changes",IF(E14<$E$4,"Below occupancy watch threshold",IF(E11>0,"Positive pickup, continue monitoring","No matching data"))))),"No matching data")
A19: Stay Date | B19: Current Rooms | C19: Prior Rooms | D19: Room Pickup | E19: Current Revenue | F19: Revenue Pickup | G19: Current ADR | H19: Occupancy | I19: Pickup Status
A20: =IFERROR($B$4,"") | B20: =IFERROR(IF($B$3="All Properties",SUMIFS('Pickup Data'!$L$4:$L$253,'Pickup Data'!$E$4:$E$253,A20,'Pickup Data'!$C$4:$C$253,$B$6),SUMIFS('Pickup Data'!$L$4:$L$253,'Pickup Data'!$B$4:$B$253,$B$3,'Pickup Data'!$E$4:$E$253,A20,'Pickup Data'!$C$4:$C$253,$B$6)),0) | C20: =IFERROR(IF($B$3="All Properties",SUMIFS('Pickup Data'!$K$4:$K$253,'Pickup Data'!$E$4:$E$253,A20,'Pickup Data'!$C$4:$C$253,$B$6),SUMIFS('Pickup Data'!$K$4:$K$253,'Pickup Data'!$B$4:$B$253,$B$3,'Pickup Data'!$E$4:$E$253,A20,'Pickup Data'!$C$4:$C$253,$B$6)),0) | D20: =IFERROR(B20-C20,0) | E20: =IFERROR(IF($B$3="All Properties",SUMIFS('Pickup Data'!$O$4:$O$253,'Pickup Data'!$E$4:$E$253,A20,'Pickup Data'!$C$4:$C$253,$B$6),SUMIFS('Pickup Data'!$O$4:$O$253,'Pickup Data'!$B$4:$B$253,$B$3,'Pickup Data'!$E$4:$E$253,A20,'Pickup Data'!$C$4:$C$253,$B$6)),0) | F20: =IFERROR(IF($B$3="All Properties",SUMIFS('Pickup Data'!$P$4:$P$253,'Pickup Data'!$E$4:$E$253,A20,'Pickup Data'!$C$4:$C$253,$B$6),SUMIFS('Pickup Data'!$P$4:$P$253,'Pickup Data'!$B$4:$B$253,$B$3,'Pickup Data'!$E$4:$E$253,A20,'Pickup Data'!$C$4:$C$253,$B$6)),0) | G20: =IFERROR(E20/B20,0) | H20: =IFERROR(B20/$E$3,0) | I20: =IFERROR(IF(D20<-$E$6,"Material Wash",IF(D20<0,"Wash",IF(D20>0,"Positive Pickup","No Change"))),"No Change")
A21: =IFERROR(A20+1,"") | B21: =IFERROR(IF($B$3="All Properties",SUMIFS('Pickup Data'!$L$4:$L$253,'Pickup Data'!$E$4:$E$253,A21,'Pickup Data'!$C$4:$C$253,$B$6),SUMIFS('Pickup Data'!$L$4:$L$253,'Pickup Data'!$B$4:$B$253,$B$3,'Pickup Data'!$E$4:$E$253,A21,'Pickup Data'!$C$4:$C$253,$B$6)),0) | C21: =IFERROR(IF($B$3="All Properties",SUMIFS('Pickup Data'!$K$4:$K$253,'Pickup Data'!$E$4:$E$253,A21,'Pickup Data'!$C$4:$C$253,$B$6),SUMIFS('Pickup Data'!$K$4:$K$253,'Pickup Data'!$B$4:$B$253,$B$3,'Pickup Data'!$E$4:$E$253,A21,'Pickup Data'!$C$4:$C$253,$B$6)),0) | D21: =IFERROR(B21-C21,0) | E21: =IFERROR(IF($B$3="All Properties",SUMIFS('Pickup Data'!$O$4:$O$253,'Pickup Data'!$E$4:$E$253,A21,'Pickup Data'!$C$4:$C$253,$B$6),SUMIFS('Pickup Data'!$O$4:$O$253,'Pickup Data'!$B$4:$B$253,$B$3,'Pickup Data'!$E$4:$E$253,A21,'Pickup Data'!$C$4:$C$253,$B$6)),0) | F21: =IFERROR(IF($B$3="All Properties",SUMIFS('Pickup Data'!$P$4:$P$253,'Pickup Data'!$E$4:$E$253,A21,'Pickup Data'!$C$4:$C$253,$B$6),SUMIFS('Pickup Data'!$P$4:$P$253,'Pickup Data'!$B$4:$B$253,$B$3,'Pickup Data'!$E$4:$E$253,A21,'Pickup Data'!$C$4:$C$253,$B$6)),0) | G21: =IFERROR(E21/B21,0) | H21: =IFERROR(B21/$E$3,0) | I21: =IFERROR(IF(D21<-$E$6,"Material Wash",IF(D21<0,"Wash",IF(D21>0,"Positive Pickup","No Change"))),"No Change")
A22: =IFERROR(A21+1,"") | B22: =IFERROR(IF($B$3="All Properties",SUMIFS('Pickup Data'!$L$4:$L$253,'Pickup Data'!$E$4:$E$253,A22,'Pickup Data'!$C$4:$C$253,$B$6),SUMIFS('Pickup Data'!$L$4:$L$253,'Pickup Data'!$B$4:$B$253,$B$3,'Pickup Data'!$E$4:$E$253,A22,'Pickup Data'!$C$4:$C$253,$B$6)),0) | C22: =IFERROR(IF($B$3="All Properties",SUMIFS('Pickup Data'!$K$4:$K$253,'Pickup Data'!$E$4:$E$253,A22,'Pickup Data'!$C$4:$C$253,$B$6),SUMIFS('Pickup Data'!$K$4:$K$253,'Pickup Data'!$B$4:$B$253,$B$3,'Pickup Data'!$E$4:$E$253,A22,'Pickup Data'!$C$4:$C$253,$B$6)),0) | D22: =IFERROR(B22-C22,0) | E22: =IFERROR(IF($B$3="All Properties",SUMIFS('Pickup Data'!$O$4:$O$253,'Pickup Data'!$E$4:$E$253,A22,'Pickup Data'!$C$4:$C$253,$B$6),SUMIFS('Pickup Data'!$O$4:$O$253,'Pickup Data'!$B$4:$B$253,$B$3,'Pickup Data'!$E$4:$E$253,A22,'Pickup Data'!$C$4:$C$253,$B$6)),0) | F22: =IFERROR(IF($B$3="All Properties",SUMIFS('Pickup Data'!$P$4:$P$253,'Pickup Data'!$E$4:$E$253,A22,'Pickup Data'!$C$4:$C$253,$B$6),SUMIFS('Pickup Data'!$P$4:$P$253,'Pickup Data'!$B$4:$B$253,$B$3,'Pickup Data'!$E$4:$E$253,A22,'Pickup Data'!$C$4:$C$253,$B$6)),0) | G22: =IFERROR(E22/B22,0) | H22: =IFERROR(B22/$E$3,0) | I22: =IFERROR(IF(D22<-$E$6,"Material Wash",IF(D22<0,"Wash",IF(D22>0,"Positive Pickup","No Change"))),"No Change")
A23: =IFERROR(A22+1,"") | B23: =IFERROR(IF($B$3="All Properties",SUMIFS('Pickup Data'!$L$4:$L$253,'Pickup Data'!$E$4:$E$253,A23,'Pickup Data'!$C$4:$C$253,$B$6),SUMIFS('Pickup Data'!$L$4:$L$253,'Pickup Data'!$B$4:$B$253,$B$3,'Pickup Data'!$E$4:$E$253,A23,'Pickup Data'!$C$4:$C$253,$B$6)),0) | C23: =IFERROR(IF($B$3="All Properties",SUMIFS('Pickup Data'!$K$4:$K$253,'Pickup Data'!$E$4:$E$253,A23,'Pickup Data'!$C$4:$C$253,$B$6),SUMIFS('Pickup Data'!$K$4:$K$253,'Pickup Data'!$B$4:$B$253,$B$3,'Pickup Data'!$E$4:$E$253,A23,'Pickup Data'!$C$4:$C$253,$B$6)),0) | D23: =IFERROR(B23-C23,0) | E23: =IFERROR(IF($B$3="All Properties",SUMIFS('Pickup Data'!$O$4:$O$253,'Pickup Data'!$E$4:$E$253,A23,'Pickup Data'!$C$4:$C$253,$B$6),SUMIFS('Pickup Data'!$O$4:$O$253,'Pickup Data'!$B$4:$B$253,$B$3,'Pickup Data'!$E$4:$E$253,A23,'Pickup Data'!$C$4:$C$253,$B$6)),0) | F23: =IFERROR(IF($B$3="All Properties",SUMIFS('Pickup Data'!$P$4:$P$253,'Pickup Data'!$E$4:$E$253,A23,'Pickup Data'!$C$4:$C$253,$B$6),SUMIFS('Pickup Data'!$P$4:$P$253,'Pickup Data'!$B$4:$B$253,$B$3,'Pickup Data'!$E$4:$E$253,A23,'Pickup Data'!$C$4:$C$253,$B$6)),0) | G23: =IFERROR(E23/B23,0) | H23: =IFERROR(B23/$E$3,0) | I23: =IFERROR(IF(D23<-$E$6,"Material Wash",IF(D23<0,"Wash",IF(D23>0,"Positive Pickup","No Change"))),"No Change")
A24: =IFERROR(A23+1,"") | B24: =IFERROR(IF($B$3="All Properties",SUMIFS('Pickup Data'!$L$4:$L$253,'Pickup Data'!$E$4:$E$253,A24,'Pickup Data'!$C$4:$C$253,$B$6),SUMIFS('Pickup Data'!$L$4:$L$253,'Pickup Data'!$B$4:$B$253,$B$3,'Pickup Data'!$E$4:$E$253,A24,'Pickup Data'!$C$4:$C$253,$B$6)),0) | C24: =IFERROR(IF($B$3="All Properties",SUMIFS('Pickup Data'!$K$4:$K$253,'Pickup Data'!$E$4:$E$253,A24,'Pickup Data'!$C$4:$C$253,$B$6),SUMIFS('Pickup Data'!$K$4:$K$253,'Pickup Data'!$B$4:$B$253,$B$3,'Pickup Data'!$E$4:$E$253,A24,'Pickup Data'!$C$4:$C$253,$B$6)),0) | D24: =IFERROR(B24-C24,0) | E24: =IFERROR(IF($B$3="All Properties",SUMIFS('Pickup Data'!$O$4:$O$253,'Pickup Data'!$E$4:$E$253,A24,'Pickup Data'!$C$4:$C$253,$B$6),SUMIFS('Pickup Data'!$O$4:$O$253,'Pickup Data'!$B$4:$B$253,$B$3,'Pickup Data'!$E$4:$E$253,A24,'Pickup Data'!$C$4:$C$253,$B$6)),0) | F24: =IFERROR(IF($B$3="All Properties",SUMIFS('Pickup Data'!$P$4:$P$253,'Pickup Data'!$E$4:$E$253,A24,'Pickup Data'!$C$4:$C$253,$B$6),SUMIFS('Pickup Data'!$P$4:$P$253,'Pickup Data'!$B$4:$B$253,$B$3,'Pickup Data'!$E$4:$E$253,A24,'Pickup Data'!$C$4:$C$253,$B$6)),0) | G24: =IFERROR(E24/B24,0) | H24: =IFERROR(B24/$E$3,0) | I24: =IFERROR(IF(D24<-$E$6,"Material Wash",IF(D24<0,"Wash",IF(D24>0,"Positive Pickup","No Change"))),"No Change")
A25: =IFERROR(A24+1,"") | B25: =IFERROR(IF($B$3="All Properties",SUMIFS('Pickup Data'!$L$4:$L$253,'Pickup Data'!$E$4:$E$253,A25,'Pickup Data'!$C$4:$C$253,$B$6),SUMIFS('Pickup Data'!$L$4:$L$253,'Pickup Data'!$B$4:$B$253,$B$3,'Pickup Data'!$E$4:$E$253,A25,'Pickup Data'!$C$4:$C$253,$B$6)),0) | C25: =IFERROR(IF($B$3="All Properties",SUMIFS('Pickup Data'!$K$4:$K$253,'Pickup Data'!$E$4:$E$253,A25,'Pickup Data'!$C$4:$C$253,$B$6),SUMIFS('Pickup Data'!$K$4:$K$253,'Pickup Data'!$B$4:$B$253,$B$3,'Pickup Data'!$E$4:$E$253,A25,'Pickup Data'!$C$4:$C$253,$B$6)),0) | D25: =IFERROR(B25-C25,0) | E25: =IFERROR(IF($B$3="All Properties",SUMIFS('Pickup Data'!$O$4:$O$253,'Pickup Data'!$E$4:$E$253,A25,'Pickup Data'!$C$4:$C$253,$B$6),SUMIFS('Pickup Data'!$O$4:$O$253,'Pickup Data'!$B$4:$B$253,$B$3,'Pickup Data'!$E$4:$E$253,A25,'Pickup Data'!$C$4:$C$253,$B$6)),0) | F25: =IFERROR(IF($B$3="All Properties",SUMIFS('Pickup Data'!$P$4:$P$253,'Pickup Data'!$E$4:$E$253,A25,'Pickup Data'!$C$4:$C$253,$B$6),SUMIFS('Pickup Data'!$P$4:$P$253,'Pickup Data'!$B$4:$B$253,$B$3,'Pickup Data'!$E$4:$E$253,A25,'Pickup Data'!$C$4:$C$253,$B$6)),0) | G25: =IFERROR(E25/B25,0) | H25: =IFERROR(B25/$E$3,0) | I25: =IFERROR(IF(D25<-$E$6,"Material Wash",IF(D25<0,"Wash",IF(D25>0,"Positive Pickup","No Change"))),"No Change")
A26: =IFERROR(A25+1,"") | B26: =IFERROR(IF($B$3="All Properties",SUMIFS('Pickup Data'!$L$4:$L$253,'Pickup Data'!$E$4:$E$253,A26,'Pickup Data'!$C$4:$C$253,$B$6),SUMIFS('Pickup Data'!$L$4:$L$253,'Pickup Data'!$B$4:$B$253,$B$3,'Pickup Data'!$E$4:$E$253,A26,'Pickup Data'!$C$4:$C$253,$B$6)),0) | C26: =IFERROR(IF($B$3="All Properties",SUMIFS('Pickup Data'!$K$4:$K$253,'Pickup Data'!$E$4:$E$253,A26,'Pickup Data'!$C$4:$C$253,$B$6),SUMIFS('Pickup Data'!$K$4:$K$253,'Pickup Data'!$B$4:$B$253,$B$3,'Pickup Data'!$E$4:$E$253,A26,'Pickup Data'!$C$4:$C$253,$B$6)),0) | D26: =IFERROR(B26-C26,0) | E26: =IFERROR(IF($B$3="All Properties",SUMIFS('Pickup Data'!$O$4:$O$253,'Pickup Data'!$E$4:$E$253,A26,'Pickup Data'!$C$4:$C$253,$B$6),SUMIFS('Pickup Data'!$O$4:$O$253,'Pickup Data'!$B$4:$B$253,$B$3,'Pickup Data'!$E$4:$E$253,A26,'Pickup Data'!$C$4:$C$253,$B$6)),0) | F26: =IFERROR(IF($B$3="All Properties",SUMIFS('Pickup Data'!$P$4:$P$253,'Pickup Data'!$E$4:$E$253,A26,'Pickup Data'!$C$4:$C$253,$B$6),SUMIFS('Pickup Data'!$P$4:$P$253,'Pickup Data'!$B$4:$B$253,$B$3,'Pickup Data'!$E$4:$E$253,A26,'Pickup Data'!$C$4:$C$253,$B$6)),0) | G26: =IFERROR(E26/B26,0) | H26: =IFERROR(B26/$E$3,0) | I26: =IFERROR(IF(D26<-$E$6,"Material Wash",IF(D26<0,"Wash",IF(D26>0,"Positive Pickup","No Change"))),"No Change")
A27: =IFERROR(A26+1,"") | B27: =IFERROR(IF($B$3="All Properties",SUMIFS('Pickup Data'!$L$4:$L$253,'Pickup Data'!$E$4:$E$253,A27,'Pickup Data'!$C$4:$C$253,$B$6),SUMIFS('Pickup Data'!$L$4:$L$253,'Pickup Data'!$B$4:$B$253,$B$3,'Pickup Data'!$E$4:$E$253,A27,'Pickup Data'!$C$4:$C$253,$B$6)),0) | C27: =IFERROR(IF($B$3="All Properties",SUMIFS('Pickup Data'!$K$4:$K$253,'Pickup Data'!$E$4:$E$253,A27,'Pickup Data'!$C$4:$C$253,$B$6),SUMIFS('Pickup Data'!$K$4:$K$253,'Pickup Data'!$B$4:$B$253,$B$3,'Pickup Data'!$E$4:$E$253,A27,'Pickup Data'!$C$4:$C$253,$B$6)),0) | D27: =IFERROR(B27-C27,0) | E27: =IFERROR(IF($B$3="All Properties",SUMIFS('Pickup Data'!$O$4:$O$253,'Pickup Data'!$E$4:$E$253,A27,'Pickup Data'!$C$4:$C$253,$B$6),SUMIFS('Pickup Data'!$O$4:$O$253,'Pickup Data'!$B$4:$B$253,$B$3,'Pickup Data'!$E$4:$E$253,A27,'Pickup Data'!$C$4:$C$253,$B$6)),0) | F27: =IFERROR(IF($B$3="All Properties",SUMIFS('Pickup Data'!$P$4:$P$253,'Pickup Data'!$E$4:$E$253,A27,'Pickup Data'!$C$4:$C$253,$B$6),SUMIFS('Pickup Data'!$P$4:$P$253,'Pickup Data'!$B$4:$B$253,$B$3,'Pickup Data'!$E$4:$E$253,A27,'Pickup Data'!$C$4:$C$253,$B$6)),0) | G27: =IFERROR(E27/B27,0) | H27: =IFERROR(B27/$E$3,0) | I27: =IFERROR(IF(D27<-$E$6,"Material Wash",IF(D27<0,"Wash",IF(D27>0,"Positive Pickup","No Change"))),"No Change")
A28: =IFERROR(A27+1,"") | B28: =IFERROR(IF($B$3="All Properties",SUMIFS('Pickup Data'!$L$4:$L$253,'Pickup Data'!$E$4:$E$253,A28,'Pickup Data'!$C$4:$C$253,$B$6),SUMIFS('Pickup Data'!$L$4:$L$253,'Pickup Data'!$B$4:$B$253,$B$3,'Pickup Data'!$E$4:$E$253,A28,'Pickup Data'!$C$4:$C$253,$B$6)),0) | C28: =IFERROR(IF($B$3="All Properties",SUMIFS('Pickup Data'!$K$4:$K$253,'Pickup Data'!$E$4:$E$253,A28,'Pickup Data'!$C$4:$C$253,$B$6),SUMIFS('Pickup Data'!$K$4:$K$253,'Pickup Data'!$B$4:$B$253,$B$3,'Pickup Data'!$E$4:$E$253,A28,'Pickup Data'!$C$4:$C$253,$B$6)),0) | D28: =IFERROR(B28-C28,0) | E28: =IFERROR(IF($B$3="All Properties",SUMIFS('Pickup Data'!$O$4:$O$253,'Pickup Data'!$E$4:$E$253,A28,'Pickup Data'!$C$4:$C$253,$B$6),SUMIFS('Pickup Data'!$O$4:$O$253,'Pickup Data'!$B$4:$B$253,$B$3,'Pickup Data'!$E$4:$E$253,A28,'Pickup Data'!$C$4:$C$253,$B$6)),0) | F28: =IFERROR(IF($B$3="All Properties",SUMIFS('Pickup Data'!$P$4:$P$253,'Pickup Data'!$E$4:$E$253,A28,'Pickup Data'!$C$4:$C$253,$B$6),SUMIFS('Pickup Data'!$P$4:$P$253,'Pickup Data'!$B$4:$B$253,$B$3,'Pickup Data'!$E$4:$E$253,A28,'Pickup Data'!$C$4:$C$253,$B$6)),0) | G28: =IFERROR(E28/B28,0) | H28: =IFERROR(B28/$E$3,0) | I28: =IFERROR(IF(D28<-$E$6,"Material Wash",IF(D28<0,"Wash",IF(D28>0,"Positive Pickup","No Change"))),"No Change")
A29: =IFERROR(A28+1,"") | B29: =IFERROR(IF($B$3="All Properties",SUMIFS('Pickup Data'!$L$4:$L$253,'Pickup Data'!$E$4:$E$253,A29,'Pickup Data'!$C$4:$C$253,$B$6),SUMIFS('Pickup Data'!$L$4:$L$253,'Pickup Data'!$B$4:$B$253,$B$3,'Pickup Data'!$E$4:$E$253,A29,'Pickup Data'!$C$4:$C$253,$B$6)),0) | C29: =IFERROR(IF($B$3="All Properties",SUMIFS('Pickup Data'!$K$4:$K$253,'Pickup Data'!$E$4:$E$253,A29,'Pickup Data'!$C$4:$C$253,$B$6),SUMIFS('Pickup Data'!$K$4:$K$253,'Pickup Data'!$B$4:$B$253,$B$3,'Pickup Data'!$E$4:$E$253,A29,'Pickup Data'!$C$4:$C$253,$B$6)),0) | D29: =IFERROR(B29-C29,0) | E29: =IFERROR(IF($B$3="All Properties",SUMIFS('Pickup Data'!$O$4:$O$253,'Pickup Data'!$E$4:$E$253,A29,'Pickup Data'!$C$4:$C$253,$B$6),SUMIFS('Pickup Data'!$O$4:$O$253,'Pickup Data'!$B$4:$B$253,$B$3,'Pickup Data'!$E$4:$E$253,A29,'Pickup Data'!$C$4:$C$253,$B$6)),0) | F29: =IFERROR(IF($B$3="All Properties",SUMIFS('Pickup Data'!$P$4:$P$253,'Pickup Data'!$E$4:$E$253,A29,'Pickup Data'!$C$4:$C$253,$B$6),SUMIFS('Pickup Data'!$P$4:$P$253,'Pickup Data'!$B$4:$B$253,$B$3,'Pickup Data'!$E$4:$E$253,A29,'Pickup Data'!$C$4:$C$253,$B$6)),0) | G29: =IFERROR(E29/B29,0) | H29: =IFERROR(B29/$E$3,0) | I29: =IFERROR(IF(D29<-$E$6,"Material Wash",IF(D29<0,"Wash",IF(D29>0,"Positive Pickup","No Change"))),"No Change")
A30: =IFERROR(A29+1,"") | B30: =IFERROR(IF($B$3="All Properties",SUMIFS('Pickup Data'!$L$4:$L$253,'Pickup Data'!$E$4:$E$253,A30,'Pickup Data'!$C$4:$C$253,$B$6),SUMIFS('Pickup Data'!$L$4:$L$253,'Pickup Data'!$B$4:$B$253,$B$3,'Pickup Data'!$E$4:$E$253,A30,'Pickup Data'!$C$4:$C$253,$B$6)),0) | C30: =IFERROR(IF($B$3="All Properties",SUMIFS('Pickup Data'!$K$4:$K$253,'Pickup Data'!$E$4:$E$253,A30,'Pickup Data'!$C$4:$C$253,$B$6),SUMIFS('Pickup Data'!$K$4:$K$253,'Pickup Data'!$B$4:$B$253,$B$3,'Pickup Data'!$E$4:$E$253,A30,'Pickup Data'!$C$4:$C$253,$B$6)),0) | D30: =IFERROR(B30-C30,0) | E30: =IFERROR(IF($B$3="All Properties",SUMIFS('Pickup Data'!$O$4:$O$253,'Pickup Data'!$E$4:$E$253,A30,'Pickup Data'!$C$4:$C$253,$B$6),SUMIFS('Pickup Data'!$O$4:$O$253,'Pickup Data'!$B$4:$B$253,$B$3,'Pickup Data'!$E$4:$E$253,A30,'Pickup Data'!$C$4:$C$253,$B$6)),0) | F30: =IFERROR(IF($B$3="All Properties",SUMIFS('Pickup Data'!$P$4:$P$253,'Pickup Data'!$E$4:$E$253,A30,'Pickup Data'!$C$4:$C$253,$B$6),SUMIFS('Pickup Data'!$P$4:$P$253,'Pickup Data'!$B$4:$B$253,$B$3,'Pickup Data'!$E$4:$E$253,A30,'Pickup Data'!$C$4:$C$253,$B$6)),0) | G30: =IFERROR(E30/B30,0) | H30: =IFERROR(B30/$E$3,0) | I30: =IFERROR(IF(D30<-$E$6,"Material Wash",IF(D30<0,"Wash",IF(D30>0,"Positive Pickup","No Change"))),"No Change")
A31: =IFERROR(A30+1,"") | B31: =IFERROR(IF($B$3="All Properties",SUMIFS('Pickup Data'!$L$4:$L$253,'Pickup Data'!$E$4:$E$253,A31,'Pickup Data'!$C$4:$C$253,$B$6),SUMIFS('Pickup Data'!$L$4:$L$253,'Pickup Data'!$B$4:$B$253,$B$3,'Pickup Data'!$E$4:$E$253,A31,'Pickup Data'!$C$4:$C$253,$B$6)),0) | C31: =IFERROR(IF($B$3="All Properties",SUMIFS('Pickup Data'!$K$4:$K$253,'Pickup Data'!$E$4:$E$253,A31,'Pickup Data'!$C$4:$C$253,$B$6),SUMIFS('Pickup Data'!$K$4:$K$253,'Pickup Data'!$B$4:$B$253,$B$3,'Pickup Data'!$E$4:$E$253,A31,'Pickup Data'!$C$4:$C$253,$B$6)),0) | D31: =IFERROR(B31-C31,0) | E31: =IFERROR(IF($B$3="All Properties",SUMIFS('Pickup Data'!$O$4:$O$253,'Pickup Data'!$E$4:$E$253,A31,'Pickup Data'!$C$4:$C$253,$B$6),SUMIFS('Pickup Data'!$O$4:$O$253,'Pickup Data'!$B$4:$B$253,$B$3,'Pickup Data'!$E$4:$E$253,A31,'Pickup Data'!$C$4:$C$253,$B$6)),0) | F31: =IFERROR(IF($B$3="All Properties",SUMIFS('Pickup Data'!$P$4:$P$253,'Pickup Data'!$E$4:$E$253,A31,'Pickup Data'!$C$4:$C$253,$B$6),SUMIFS('Pickup Data'!$P$4:$P$253,'Pickup Data'!$B$4:$B$253,$B$3,'Pickup Data'!$E$4:$E$253,A31,'Pickup Data'!$C$4:$C$253,$B$6)),0) | G31: =IFERROR(E31/B31,0) | H31: =IFERROR(B31/$E$3,0) | I31: =IFERROR(IF(D31<-$E$6,"Material Wash",IF(D31<0,"Wash",IF(D31>0,"Positive Pickup","No Change"))),"No Change")
A32: =IFERROR(A31+1,"") | B32: =IFERROR(IF($B$3="All Properties",SUMIFS('Pickup Data'!$L$4:$L$253,'Pickup Data'!$E$4:$E$253,A32,'Pickup Data'!$C$4:$C$253,$B$6),SUMIFS('Pickup Data'!$L$4:$L$253,'Pickup Data'!$B$4:$B$253,$B$3,'Pickup Data'!$E$4:$E$253,A32,'Pickup Data'!$C$4:$C$253,$B$6)),0) | C32: =IFERROR(IF($B$3="All Properties",SUMIFS('Pickup Data'!$K$4:$K$253,'Pickup Data'!$E$4:$E$253,A32,'Pickup Data'!$C$4:$C$253,$B$6),SUMIFS('Pickup Data'!$K$4:$K$253,'Pickup Data'!$B$4:$B$253,$B$3,'Pickup Data'!$E$4:$E$253,A32,'Pickup Data'!$C$4:$C$253,$B$6)),0) | D32: =IFERROR(B32-C32,0) | E32: =IFERROR(IF($B$3="All Properties",SUMIFS('Pickup Data'!$O$4:$O$253,'Pickup Data'!$E$4:$E$253,A32,'Pickup Data'!$C$4:$C$253,$B$6),SUMIFS('Pickup Data'!$O$4:$O$253,'Pickup Data'!$B$4:$B$253,$B$3,'Pickup Data'!$E$4:$E$253,A32,'Pickup Data'!$C$4:$C$253,$B$6)),0) | F32: =IFERROR(IF($B$3="All Properties",SUMIFS('Pickup Data'!$P$4:$P$253,'Pickup Data'!$E$4:$E$253,A32,'Pickup Data'!$C$4:$C$253,$B$6),SUMIFS('Pickup Data'!$P$4:$P$253,'Pickup Data'!$B$4:$B$253,$B$3,'Pickup Data'!$E$4:$E$253,A32,'Pickup Data'!$C$4:$C$253,$B$6)),0) | G32: =IFERROR(E32/B32,0) | H32: =IFERROR(B32/$E$3,0) | I32: =IFERROR(IF(D32<-$E$6,"Material Wash",IF(D32<0,"Wash",IF(D32>0,"Positive Pickup","No Change"))),"No Change")
A33: =IFERROR(A32+1,"") | B33: =IFERROR(IF($B$3="All Properties",SUMIFS('Pickup Data'!$L$4:$L$253,'Pickup Data'!$E$4:$E$253,A33,'Pickup Data'!$C$4:$C$253,$B$6),SUMIFS('Pickup Data'!$L$4:$L$253,'Pickup Data'!$B$4:$B$253,$B$3,'Pickup Data'!$E$4:$E$253,A33,'Pickup Data'!$C$4:$C$253,$B$6)),0) | C33: =IFERROR(IF($B$3="All Properties",SUMIFS('Pickup Data'!$K$4:$K$253,'Pickup Data'!$E$4:$E$253,A33,'Pickup Data'!$C$4:$C$253,$B$6),SUMIFS('Pickup Data'!$K$4:$K$253,'Pickup Data'!$B$4:$B$253,$B$3,'Pickup Data'!$E$4:$E$253,A33,'Pickup Data'!$C$4:$C$253,$B$6)),0) | D33: =IFERROR(B33-C33,0) | E33: =IFERROR(IF($B$3="All Properties",SUMIFS('Pickup Data'!$O$4:$O$253,'Pickup Data'!$E$4:$E$253,A33,'Pickup Data'!$C$4:$C$253,$B$6),SUMIFS('Pickup Data'!$O$4:$O$253,'Pickup Data'!$B$4:$B$253,$B$3,'Pickup Data'!$E$4:$E$253,A33,'Pickup Data'!$C$4:$C$253,$B$6)),0) | F33: =IFERROR(IF($B$3="All Properties",SUMIFS('Pickup Data'!$P$4:$P$253,'Pickup Data'!$E$4:$E$253,A33,'Pickup Data'!$C$4:$C$253,$B$6),SUMIFS('Pickup Data'!$P$4:$P$253,'Pickup Data'!$B$4:$B$253,$B$3,'Pickup Data'!$E$4:$E$253,A33,'Pickup Data'!$C$4:$C$253,$B$6)),0) | G33: =IFERROR(E33/B33,0) | H33: =IFERROR(B33/$E$3,0) | I33: =IFERROR(IF(D33<-$E$6,"Material Wash",IF(D33<0,"Wash",IF(D33>0,"Positive Pickup","No Change"))),"No Change")
A34: ="" | B34: ="" | C34: ="" | D34: ="" | E34: ="" | F34: ="" | G34: ="" | H34: ="" | I34: =""
A35: ="" | B35: ="" | C35: ="" | D35: ="" | E35: ="" | F35: ="" | G35: ="" | H35: ="" | I35: =""
A36: ="" | B36: ="" | C36: ="" | D36: ="" | E36: ="" | F36: ="" | G36: ="" | H36: ="" | I36: =""
A37: ="" | B37: ="" | C37: ="" | D37: ="" | E37: ="" | F37: ="" | G37: ="" | H37: ="" | I37: =""
A38: ="" | B38: ="" | C38: ="" | D38: ="" | E38: ="" | F38: ="" | G38: ="" | H38: ="" | I38: =""
A39: ="" | B39: ="" | C39: ="" | D39: ="" | E39: ="" | F39: ="" | G39: ="" | H39: ="" | I39: =""
A40: ="" | B40: ="" | C40: ="" | D40: ="" | E40: ="" | F40: ="" | G40: ="" | H40: ="" | I40: =""
A41: ="" | B41: ="" | C41: ="" | D41: ="" | E41: ="" | F41: ="" | G41: ="" | H41: ="" | I41: =""
A42: ="" | B42: ="" | C42: ="" | D42: ="" | E42: ="" | F42: ="" | G42: ="" | H42: ="" | I42: =""
A43: ="" | B43: ="" | C43: ="" | D43: ="" | E43: ="" | F43: ="" | G43: ="" | H43: ="" | I43: =""
A44: ="" | B44: ="" | C44: ="" | D44: ="" | E44: ="" | F44: ="" | G44: ="" | H44: ="" | I44: =""
A45: ="" | B45: ="" | C45: ="" | D45: ="" | E45: ="" | F45: ="" | G45: ="" | H45: ="" | I45: =""
... A101: ="" | B101: ="" | C101: ="" | D101: ="" | E101: ="" | F101: ="" | G101: ="" | H101: ="" | I101: =""

Sheet Pickup Data
A1: Pickup Data
A2: Enter or paste one row per property, snapshot date, stay date, market segment, booking channel, and room type. Gray columns calculate automatically.
A3: Record ID | B3: Property | C3: Snapshot Date | D3: Prior Snapshot Date | E3: Stay Date | F3: Day of Week | G3: Market Segment | H3: Booking Channel | I3: Room Type | J3: Available Rooms | K3: Prior Rooms on Books | L3: Current Rooms on Books | M3: Room Pickup | N3: Prior Room Revenue | O3: Current Room Revenue | P3: Revenue Pickup | Q3: Prior ADR | R3: Current ADR | S3: Pickup ADR | T3: Prior Occupancy | U3: Current Occupancy | V3: Days to Arrival | W3: Pickup Status | X3: Source Report or Batch ID | Y3: Owner | Z3: Notes | AA3: Data Check
A4: PU-2026-001 | B4: Harbor View Hotel | C4: 46127 | D4: 46120 | E4: 46143 | F4: =IFERROR(IF(E4="","",INDEX('Instructions'!$H$2:$H$8,MOD(E4-1,7)+1)),"") | G4: Retail | H4: Brand Website | I4: Standard King | J4: 150 | K4: 34 | L4: 41 | M4: =IFERROR(IF(OR(K4="",L4=""),"",L4-K4),"") | N4: 6460 | O4: 7995 | P4: =IFERROR(IF(OR(N4="",O4=""),"",O4-N4),"") | Q4: =IFERROR(N4/K4,0) | R4: =IFERROR(O4/L4,0) | S4: =IFERROR(P4/M4,0) | T4: =IFERROR(K4/J4,0) | U4: =IFERROR(L4/J4,0) | V4: =IFERROR(E4-C4,"") | W4: =IFERROR(IF(E4="","",IF(M4<0,"Wash",IF(M4>0,"Positive Pickup","No Change"))),"") | X4: OTB-041526-AM | Y4: Revenue Manager | Z4: Weekend leisure demand increased. | AA4: =IFERROR(IF(OR(A4="",B4="",C4="",D4="",E4="",G4="",H4="",I4="",J4="",K4="",L4="",N4="",O4=""),"Missing required input",IF(D4>=C4,"Prior snapshot must be earlier",IF(C4>E4,"Snapshot is after stay date",IF(OR(K4>J4,L4>J4),"Rooms exceed available inventory",IF(P4<0,"Review negative revenue pickup","OK"))))),"Missing required input")
A5: PU-2026-002 | B5: Harbor View Hotel | C5: 46127 | D5: 46120 | E5: 46144 | F5: =IFERROR(IF(E5="","",INDEX('Instructions'!$H$2:$H$8,MOD(E5-1,7)+1)),"") | G5: Retail | H5: Online Travel Agency | I5: Standard Double Queen | J5: 150 | K5: 29 | L5: 38 | M5: =IFERROR(IF(OR(K5="",L5=""),"",L5-K5),"") | N5: 5365 | O5: 7220 | P5: =IFERROR(IF(OR(N5="",O5=""),"",O5-N5),"") | Q5: =IFERROR(N5/K5,0) | R5: =IFERROR(O5/L5,0) | S5: =IFERROR(P5/M5,0) | T5: =IFERROR(K5/J5,0) | U5: =IFERROR(L5/J5,0) | V5: =IFERROR(E5-C5,"") | W5: =IFERROR(IF(E5="","",IF(M5<0,"Wash",IF(M5>0,"Positive Pickup","No Change"))),"") | X5: OTB-041526-AM | Y5: Revenue Manager | Z5: Monitor channel cost separately. | AA5: =IFERROR(IF(OR(A5="",B5="",C5="",D5="",E5="",G5="",H5="",I5="",J5="",K5="",L5="",N5="",O5=""),"Missing required input",IF(D5>=C5,"Prior snapshot must be earlier",IF(C5>E5,"Snapshot is after stay date",IF(OR(K5>J5,L5>J5),"Rooms exceed available inventory",IF(P5<0,"Review negative revenue pickup","OK"))))),"Missing required input")
A6: PU-2026-003 | B6: Harbor View Hotel | C6: 46127 | D6: 46120 | E6: 46145 | F6: =IFERROR(IF(E6="","",INDEX('Instructions'!$H$2:$H$8,MOD(E6-1,7)+1)),"") | G6: Group | H6: Group Sales | I6: Multiple Room Types | J6: 150 | K6: 48 | L6: 43 | M6: =IFERROR(IF(OR(K6="",L6=""),"",L6-K6),"") | N6: 8160 | O6: 7310 | P6: =IFERROR(IF(OR(N6="",O6=""),"",O6-N6),"") | Q6: =IFERROR(N6/K6,0) | R6: =IFERROR(O6/L6,0) | S6: =IFERROR(P6/M6,0) | T6: =IFERROR(K6/J6,0) | U6: =IFERROR(L6/J6,0) | V6: =IFERROR(E6-C6,"") | W6: =IFERROR(IF(E6="","",IF(M6<0,"Wash",IF(M6>0,"Positive Pickup","No Change"))),"") | X6: OTB-041526-AM | Y6: Director of Sales | Z6: Group reduced its room block. | AA6: =IFERROR(IF(OR(A6="",B6="",C6="",D6="",E6="",G6="",H6="",I6="",J6="",K6="",L6="",N6="",O6=""),"Missing required input",IF(D6>=C6,"Prior snapshot must be earlier",IF(C6>E6,"Snapshot is after stay date",IF(OR(K6>J6,L6>J6),"Rooms exceed available inventory",IF(P6<0,"Review negative revenue pickup","OK"))))),"Missing required input")
A7: PU-2026-004 | B7: Harbor View Hotel | C7: 46127 | D7: 46120 | E7: 46146 | F7: =IFERROR(IF(E7="","",INDEX('Instructions'!$H$2:$H$8,MOD(E7-1,7)+1)),"") | G7: Corporate | H7: Global Distribution System | I7: Standard King | J7: 150 | K7: 37 | L7: 42 | M7: =IFERROR(IF(OR(K7="",L7=""),"",L7-K7),"") | N7: 6845 | O7: 7980 | P7: =IFERROR(IF(OR(N7="",O7=""),"",O7-N7),"") | Q7: =IFERROR(N7/K7,0) | R7: =IFERROR(O7/L7,0) | S7: =IFERROR(P7/M7,0) | T7: =IFERROR(K7/J7,0) | U7: =IFERROR(L7/J7,0) | V7: =IFERROR(E7-C7,"") | W7: =IFERROR(IF(E7="","",IF(M7<0,"Wash",IF(M7>0,"Positive Pickup","No Change"))),"") | X7: OTB-041526-AM | Y7: Revenue Manager | Z7: Midweek corporate pickup. | AA7: =IFERROR(IF(OR(A7="",B7="",C7="",D7="",E7="",G7="",H7="",I7="",J7="",K7="",L7="",N7="",O7=""),"Missing required input",IF(D7>=C7,"Prior snapshot must be earlier",IF(C7>E7,"Snapshot is after stay date",IF(OR(K7>J7,L7>J7),"Rooms exceed available inventory",IF(P7<0,"Review negative revenue pickup","OK"))))),"Missing required input")
A8: PU-2026-005 | B8: Harbor View Hotel | C8: 46127 | D8: 46120 | E8: 46147 | F8: =IFERROR(IF(E8="","",INDEX('Instructions'!$H$2:$H$8,MOD(E8-1,7)+1)),"") | G8: Corporate | H8: Hotel Direct | I8: Deluxe King | J8: 150 | K8: 31 | L8: 35 | M8: =IFERROR(IF(OR(K8="",L8=""),"",L8-K8),"") | N8: 6200 | O8: 7175 | P8: =IFERROR(IF(OR(N8="",O8=""),"",O8-N8),"") | Q8: =IFERROR(N8/K8,0) | R8: =IFERROR(O8/L8,0) | S8: =IFERROR(P8/M8,0) | T8: =IFERROR(K8/J8,0) | U8: =IFERROR(L8/J8,0) | V8: =IFERROR(E8-C8,"") | W8: =IFERROR(IF(E8="","",IF(M8<0,"Wash",IF(M8>0,"Positive Pickup","No Change"))),"") | X8: OTB-041526-AM | Y8: Reservations Manager | Z8: Direct negotiated demand. | AA8: =IFERROR(IF(OR(A8="",B8="",C8="",D8="",E8="",G8="",H8="",I8="",J8="",K8="",L8="",N8="",O8=""),"Missing required input",IF(D8>=C8,"Prior snapshot must be earlier",IF(C8>E8,"Snapshot is after stay date",IF(OR(K8>J8,L8>J8),"Rooms exceed available inventory",IF(P8<0,"Review negative revenue pickup","OK"))))),"Missing required input")
A9: PU-2026-006 | B9: Harbor View Hotel | C9: 46127 | D9: 46120 | E9: 46148 | F9: =IFERROR(IF(E9="","",INDEX('Instructions'!$H$2:$H$8,MOD(E9-1,7)+1)),"") | G9: Government | H9: Voice Reservations | I9: Standard King | J9: 150 | K9: 18 | L9: 20 | M9: =IFERROR(IF(OR(K9="",L9=""),"",L9-K9),"") | N9: 3060 | O9: 3440 | P9: =IFERROR(IF(OR(N9="",O9=""),"",O9-N9),"") | Q9: =IFERROR(N9/K9,0) | R9: =IFERROR(O9/L9,0) | S9: =IFERROR(P9/M9,0) | T9: =IFERROR(K9/J9,0) | U9: =IFERROR(L9/J9,0) | V9: =IFERROR(E9-C9,"") | W9: =IFERROR(IF(E9="","",IF(M9<0,"Wash",IF(M9>0,"Positive Pickup","No Change"))),"") | X9: OTB-041526-AM | Y9: Reservations Manager | Z9: Small positive pickup. | AA9: =IFERROR(IF(OR(A9="",B9="",C9="",D9="",E9="",G9="",H9="",I9="",J9="",K9="",L9="",N9="",O9=""),"Missing required input",IF(D9>=C9,"Prior snapshot must be earlier",IF(C9>E9,"Snapshot is after stay date",IF(OR(K9>J9,L9>J9),"Rooms exceed available inventory",IF(P9<0,"Review negative revenue pickup","OK"))))),"Missing required input")
A10: PU-2026-007 | B10: Harbor View Hotel | C10: 46127 | D10: 46120 | E10: 46149 | F10: =IFERROR(IF(E10="","",INDEX('Instructions'!$H$2:$H$8,MOD(E10-1,7)+1)),"") | G10: Group | H10: Group Sales | I10: Multiple Room Types | J10: 150 | K10: 61 | L10: 69 | M10: =IFERROR(IF(OR(K10="",L10=""),"",L10-K10),"") | N10: 10980 | O10: 12627 | P10: =IFERROR(IF(OR(N10="",O10=""),"",O10-N10),"") | Q10: =IFERROR(N10/K10,0) | R10: =IFERROR(O10/L10,0) | S10: =IFERROR(P10/M10,0) | T10: =IFERROR(K10/J10,0) | U10: =IFERROR(L10/J10,0) | V10: =IFERROR(E10-C10,"") | W10: =IFERROR(IF(E10="","",IF(M10<0,"Wash",IF(M10>0,"Positive Pickup","No Change"))),"") | X10: OTB-041526-AM | Y10: Director of Sales | Z10: Conference block added rooms. | AA10: =IFERROR(IF(OR(A10="",B10="",C10="",D10="",E10="",G10="",H10="",I10="",J10="",K10="",L10="",N10="",O10=""),"Missing required input",IF(D10>=C10,"Prior snapshot must be earlier",IF(C10>E10,"Snapshot is after stay date",IF(OR(K10>J10,L10>J10),"Rooms exceed available inventory",IF(P10<0,"Review negative revenue pickup","OK"))))),"Missing required input")
A11: PU-2026-008 | B11: Harbor View Hotel | C11: 46127 | D11: 46120 | E11: 46150 | F11: =IFERROR(IF(E11="","",INDEX('Instructions'!$H$2:$H$8,MOD(E11-1,7)+1)),"") | G11: Package | H11: Brand Website | I11: Junior Suite | J11: 150 | K11: 12 | L11: 16 | M11: =IFERROR(IF(OR(K11="",L11=""),"",L11-K11),"") | N11: 3000 | O11: 4160 | P11: =IFERROR(IF(OR(N11="",O11=""),"",O11-N11),"") | Q11: =IFERROR(N11/K11,0) | R11: =IFERROR(O11/L11,0) | S11: =IFERROR(P11/M11,0) | T11: =IFERROR(K11/J11,0) | U11: =IFERROR(L11/J11,0) | V11: =IFERROR(E11-C11,"") | W11: =IFERROR(IF(E11="","",IF(M11<0,"Wash",IF(M11>0,"Positive Pickup","No Change"))),"") | X11: OTB-041526-AM | Y11: Revenue Manager | Z11: Package demand improved. | AA11: =IFERROR(IF(OR(A11="",B11="",C11="",D11="",E11="",G11="",H11="",I11="",J11="",K11="",L11="",N11="",O11=""),"Missing required input",IF(D11>=C11,"Prior snapshot must be earlier",IF(C11>E11,"Snapshot is after stay date",IF(OR(K11>J11,L11>J11),"Rooms exceed available inventory",IF(P11<0,"Review negative revenue pickup","OK"))))),"Missing required input")
A12: PU-2026-009 | B12: Harbor View Hotel | C12: 46127 | D12: 46120 | E12: 46151 | F12: =IFERROR(IF(E12="","",INDEX('Instructions'!$H$2:$H$8,MOD(E12-1,7)+1)),"") | G12: Retail | H12: Hotel Direct | I12: Standard Double Queen | J12: 150 | K12: 52 | L12: 52 | M12: =IFERROR(IF(OR(K12="",L12=""),"",L12-K12),"") | N12: 10140 | O12: 10140 | P12: =IFERROR(IF(OR(N12="",O12=""),"",O12-N12),"") | Q12: =IFERROR(N12/K12,0) | R12: =IFERROR(O12/L12,0) | S12: =IFERROR(P12/M12,0) | T12: =IFERROR(K12/J12,0) | U12: =IFERROR(L12/J12,0) | V12: =IFERROR(E12-C12,"") | W12: =IFERROR(IF(E12="","",IF(M12<0,"Wash",IF(M12>0,"Positive Pickup","No Change"))),"") | X12: OTB-041526-AM | Y12: Front Office Manager | Z12: No movement during comparison window. | AA12: =IFERROR(IF(OR(A12="",B12="",C12="",D12="",E12="",G12="",H12="",I12="",J12="",K12="",L12="",N12="",O12=""),"Missing required input",IF(D12>=C12,"Prior snapshot must be earlier",IF(C12>E12,"Snapshot is after stay date",IF(OR(K12>J12,L12>J12),"Rooms exceed available inventory",IF(P12<0,"Review negative revenue pickup","OK"))))),"Missing required input")
A13: PU-2026-010 | B13: Harbor View Hotel | C13: 46127 | D13: 46120 | E13: 46152 | F13: =IFERROR(IF(E13="","",INDEX('Instructions'!$H$2:$H$8,MOD(E13-1,7)+1)),"") | G13: Wholesale | H13: Other | I13: Multiple Room Types | J13: 150 | K13: 27 | L13: 22 | M13: =IFERROR(IF(OR(K13="",L13=""),"",L13-K13),"") | N13: 4320 | O13: 3520 | P13: =IFERROR(IF(OR(N13="",O13=""),"",O13-N13),"") | Q13: =IFERROR(N13/K13,0) | R13: =IFERROR(O13/L13,0) | S13: =IFERROR(P13/M13,0) | T13: =IFERROR(K13/J13,0) | U13: =IFERROR(L13/J13,0) | V13: =IFERROR(E13-C13,"") | W13: =IFERROR(IF(E13="","",IF(M13<0,"Wash",IF(M13>0,"Positive Pickup","No Change"))),"") | X13: OTB-041526-AM | Y13: Revenue Manager | Z13: Review release and cancellation activity. | AA13: =IFERROR(IF(OR(A13="",B13="",C13="",D13="",E13="",G13="",H13="",I13="",J13="",K13="",L13="",N13="",O13=""),"Missing required input",IF(D13>=C13,"Prior snapshot must be earlier",IF(C13>E13,"Snapshot is after stay date",IF(OR(K13>J13,L13>J13),"Rooms exceed available inventory",IF(P13<0,"Review negative revenue pickup","OK"))))),"Missing required input")
F14: =IFERROR(IF(E14="","",INDEX('Instructions'!$H$2:$H$8,MOD(E14-1,7)+1)),"") | M14: =IFERROR(IF(OR(K14="",L14=""),"",L14-K14),"") | P14: =IFERROR(IF(OR(N14="",O14=""),"",O14-N14),"") | Q14: =IFERROR(N14/K14,0) | R14: =IFERROR(O14/L14,0) | S14: =IFERROR(P14/M14,0) | T14: =IFERROR(K14/J14,0) | U14: =IFERROR(L14/J14,0) | V14: =IFERROR(E14-C14,"") | W14: =IFERROR(IF(E14="","",IF(M14<0,"Wash",IF(M14>0,"Positive Pickup","No Change"))),"") | AA14: =IFERROR(IF(OR(A14="",B14="",C14="",D14="",E14="",G14="",H14="",I14="",J14="",K14="",L14="",N14="",O14=""),"Missing required input",IF(D14>=C14,"Prior snapshot must be earlier",IF(C14>E14,"Snapshot is after stay date",IF(OR(K14>J14,L14>J14),"Rooms exceed available inventory",IF(P14<0,"Review negative revenue pickup","OK"))))),"Missing required input")
F15: =IFERROR(IF(E15="","",INDEX('Instructions'!$H$2:$H$8,MOD(E15-1,7)+1)),"") | M15: =IFERROR(IF(OR(K15="",L15=""),"",L15-K15),"") | P15: =IFERROR(IF(OR(N15="",O15=""),"",O15-N15),"") | Q15: =IFERROR(N15/K15,0) | R15: =IFERROR(O15/L15,0) | S15: =IFERROR(P15/M15,0) | T15: =IFERROR(K15/J15,0) | U15: =IFERROR(L15/J15,0) | V15: =IFERROR(E15-C15,"") | W15: =IFERROR(IF(E15="","",IF(M15<0,"Wash",IF(M15>0,"Positive Pickup","No Change"))),"") | AA15: =IFERROR(IF(OR(A15="",B15="",C15="",D15="",E15="",G15="",H15="",I15="",J15="",K15="",L15="",N15="",O15=""),"Missing required input",IF(D15>=C15,"Prior snapshot must be earlier",IF(C15>E15,"Snapshot is after stay date",IF(OR(K15>J15,L15>J15),"Rooms exceed available inventory",IF(P15<0,"Review negative revenue pickup","OK"))))),"Missing required input")
F16: =IFERROR(IF(E16="","",INDEX('Instructions'!$H$2:$H$8,MOD(E16-1,7)+1)),"") | M16: =IFERROR(IF(OR(K16="",L16=""),"",L16-K16),"") | P16: =IFERROR(IF(OR(N16="",O16=""),"",O16-N16),"") | Q16: =IFERROR(N16/K16,0) | R16: =IFERROR(O16/L16,0) | S16: =IFERROR(P16/M16,0) | T16: =IFERROR(K16/J16,0) | U16: =IFERROR(L16/J16,0) | V16: =IFERROR(E16-C16,"") | W16: =IFERROR(IF(E16="","",IF(M16<0,"Wash",IF(M16>0,"Positive Pickup","No Change"))),"") | AA16: =IFERROR(IF(OR(A16="",B16="",C16="",D16="",E16="",G16="",H16="",I16="",J16="",K16="",L16="",N16="",O16=""),"Missing required input",IF(D16>=C16,"Prior snapshot must be earlier",IF(C16>E16,"Snapshot is after stay date",IF(OR(K16>J16,L16>J16),"Rooms exceed available inventory",IF(P16<0,"Review negative revenue pickup","OK"))))),"Missing required input")
F17: =IFERROR(IF(E17="","",INDEX('Instructions'!$H$2:$H$8,MOD(E17-1,7)+1)),"") | M17: =IFERROR(IF(OR(K17="",L17=""),"",L17-K17),"") | P17: =IFERROR(IF(OR(N17="",O17=""),"",O17-N17),"") | Q17: =IFERROR(N17/K17,0) | R17: =IFERROR(O17/L17,0) | S17: =IFERROR(P17/M17,0) | T17: =IFERROR(K17/J17,0) | U17: =IFERROR(L17/J17,0) | V17: =IFERROR(E17-C17,"") | W17: =IFERROR(IF(E17="","",IF(M17<0,"Wash",IF(M17>0,"Positive Pickup","No Change"))),"") | AA17: =IFERROR(IF(OR(A17="",B17="",C17="",D17="",E17="",G17="",H17="",I17="",J17="",K17="",L17="",N17="",O17=""),"Missing required input",IF(D17>=C17,"Prior snapshot must be earlier",IF(C17>E17,"Snapshot is after stay date",IF(OR(K17>J17,L17>J17),"Rooms exceed available inventory",IF(P17<0,"Review negative revenue pickup","OK"))))),"Missing required input")
F18: =IFERROR(IF(E18="","",INDEX('Instructions'!$H$2:$H$8,MOD(E18-1,7)+1)),"") | M18: =IFERROR(IF(OR(K18="",L18=""),"",L18-K18),"") | P18: =IFERROR(IF(OR(N18="",O18=""),"",O18-N18),"") | Q18: =IFERROR(N18/K18,0) | R18: =IFERROR(O18/L18,0) | S18: =IFERROR(P18/M18,0) | T18: =IFERROR(K18/J18,0) | U18: =IFERROR(L18/J18,0) | V18: =IFERROR(E18-C18,"") | W18: =IFERROR(IF(E18="","",IF(M18<0,"Wash",IF(M18>0,"Positive Pickup","No Change"))),"") | AA18: =IFERROR(IF(OR(A18="",B18="",C18="",D18="",E18="",G18="",H18="",I18="",J18="",K18="",L18="",N18="",O18=""),"Missing required input",IF(D18>=C18,"Prior snapshot must be earlier",IF(C18>E18,"Snapshot is after stay date",IF(OR(K18>J18,L18>J18),"Rooms exceed available inventory",IF(P18<0,"Review negative revenue pickup","OK"))))),"Missing required input")
F19: =IFERROR(IF(E19="","",INDEX('Instructions'!$H$2:$H$8,MOD(E19-1,7)+1)),"") | M19: =IFERROR(IF(OR(K19="",L19=""),"",L19-K19),"") | P19: =IFERROR(IF(OR(N19="",O19=""),"",O19-N19),"") | Q19: =IFERROR(N19/K19,0) | R19: =IFERROR(O19/L19,0) | S19: =IFERROR(P19/M19,0) | T19: =IFERROR(K19/J19,0) | U19: =IFERROR(L19/J19,0) | V19: =IFERROR(E19-C19,"") | W19: =IFERROR(IF(E19="","",IF(M19<0,"Wash",IF(M19>0,"Positive Pickup","No Change"))),"") | AA19: =IFERROR(IF(OR(A19="",B19="",C19="",D19="",E19="",G19="",H19="",I19="",J19="",K19="",L19="",N19="",O19=""),"Missing required input",IF(D19>=C19,"Prior snapshot must be earlier",IF(C19>E19,"Snapshot is after stay date",IF(OR(K19>J19,L19>J19),"Rooms exceed available inventory",IF(P19<0,"Review negative revenue pickup","OK"))))),"Missing required input")
F20: =IFERROR(IF(E20="","",INDEX('Instructions'!$H$2:$H$8,MOD(E20-1,7)+1)),"") | M20: =IFERROR(IF(OR(K20="",L20=""),"",L20-K20),"") | P20: =IFERROR(IF(OR(N20="",O20=""),"",O20-N20),"") | Q20: =IFERROR(N20/K20,0) | R20: =IFERROR(O20/L20,0) | S20: =IFERROR(P20/M20,0) | T20: =IFERROR(K20/J20,0) | U20: =IFERROR(L20/J20,0) | V20: =IFERROR(E20-C20,"") | W20: =IFERROR(IF(E20="","",IF(M20<0,"Wash",IF(M20>0,"Positive Pickup","No Change"))),"") | AA20: =IFERROR(IF(OR(A20="",B20="",C20="",D20="",E20="",G20="",H20="",I20="",J20="",K20="",L20="",N20="",O20=""),"Missing required input",IF(D20>=C20,"Prior snapshot must be earlier",IF(C20>E20,"Snapshot is after stay date",IF(OR(K20>J20,L20>J20),"Rooms exceed available inventory",IF(P20<0,"Review negative revenue pickup","OK"))))),"Missing required input")
F21: =IFERROR(IF(E21="","",INDEX('Instructions'!$H$2:$H$8,MOD(E21-1,7)+1)),"") | M21: =IFERROR(IF(OR(K21="",L21=""),"",L21-K21),"") | P21: =IFERROR(IF(OR(N21="",O21=""),"",O21-N21),"") | Q21: =IFERROR(N21/K21,0) | R21: =IFERROR(O21/L21,0) | S21: =IFERROR(P21/M21,0) | T21: =IFERROR(K21/J21,0) | U21: =IFERROR(L21/J21,0) | V21: =IFERROR(E21-C21,"") | W21: =IFERROR(IF(E21="","",IF(M21<0,"Wash",IF(M21>0,"Positive Pickup","No Change"))),"") | AA21: =IFERROR(IF(OR(A21="",B21="",C21="",D21="",E21="",G21="",H21="",I21="",J21="",K21="",L21="",N21="",O21=""),"Missing required input",IF(D21>=C21,"Prior snapshot must be earlier",IF(C21>E21,"Snapshot is after stay date",IF(OR(K21>J21,L21>J21),"Rooms exceed available inventory",IF(P21<0,"Review negative revenue pickup","OK"))))),"Missing required input")
F22: =IFERROR(IF(E22="","",INDEX('Instructions'!$H$2:$H$8,MOD(E22-1,7)+1)),"") | M22: =IFERROR(IF(OR(K22="",L22=""),"",L22-K22),"") | P22: =IFERROR(IF(OR(N22="",O22=""),"",O22-N22),"") | Q22: =IFERROR(N22/K22,0) | R22: =IFERROR(O22/L22,0) | S22: =IFERROR(P22/M22,0) | T22: =IFERROR(K22/J22,0) | U22: =IFERROR(L22/J22,0) | V22: =IFERROR(E22-C22,"") | W22: =IFERROR(IF(E22="","",IF(M22<0,"Wash",IF(M22>0,"Positive Pickup","No Change"))),"") | AA22: =IFERROR(IF(OR(A22="",B22="",C22="",D22="",E22="",G22="",H22="",I22="",J22="",K22="",L22="",N22="",O22=""),"Missing required input",IF(D22>=C22,"Prior snapshot must be earlier",IF(C22>E22,"Snapshot is after stay date",IF(OR(K22>J22,L22>J22),"Rooms exceed available inventory",IF(P22<0,"Review negative revenue pickup","OK"))))),"Missing required input")
F23: =IFERROR(IF(E23="","",INDEX('Instructions'!$H$2:$H$8,MOD(E23-1,7)+1)),"") | M23: =IFERROR(IF(OR(K23="",L23=""),"",L23-K23),"") | P23: =IFERROR(IF(OR(N23="",O23=""),"",O23-N23),"") | Q23: =IFERROR(N23/K23,0) | R23: =IFERROR(O23/L23,0) | S23: =IFERROR(P23/M23,0) | T23: =IFERROR(K23/J23,0) | U23: =IFERROR(L23/J23,0) | V23: =IFERROR(E23-C23,"") | W23: =IFERROR(IF(E23="","",IF(M23<0,"Wash",IF(M23>0,"Positive Pickup","No Change"))),"") | AA23: =IFERROR(IF(OR(A23="",B23="",C23="",D23="",E23="",G23="",H23="",I23="",J23="",K23="",L23="",N23="",O23=""),"Missing required input",IF(D23>=C23,"Prior snapshot must be earlier",IF(C23>E23,"Snapshot is after stay date",IF(OR(K23>J23,L23>J23),"Rooms exceed available inventory",IF(P23<0,"Review negative revenue pickup","OK"))))),"Missing required input")
F24: =IFERROR(IF(E24="","",INDEX('Instructions'!$H$2:$H$8,MOD(E24-1,7)+1)),"") | M24: =IFERROR(IF(OR(K24="",L24=""),"",L24-K24),"") | P24: =IFERROR(IF(OR(N24="",O24=""),"",O24-N24),"") | Q24: =IFERROR(N24/K24,0) | R24: =IFERROR(O24/L24,0) | S24: =IFERROR(P24/M24,0) | T24: =IFERROR(K24/J24,0) | U24: =IFERROR(L24/J24,0) | V24: =IFERROR(E24-C24,"") | W24: =IFERROR(IF(E24="","",IF(M24<0,"Wash",IF(M24>0,"Positive Pickup","No Change"))),"") | AA24: =IFERROR(IF(OR(A24="",B24="",C24="",D24="",E24="",G24="",H24="",I24="",J24="",K24="",L24="",N24="",O24=""),"Missing required input",IF(D24>=C24,"Prior snapshot must be earlier",IF(C24>E24,"Snapshot is after stay date",IF(OR(K24>J24,L24>J24),"Rooms exceed available inventory",IF(P24<0,"Review negative revenue pickup","OK"))))),"Missing required input")
F25: =IFERROR(IF(E25="","",INDEX('Instructions'!$H$2:$H$8,MOD(E25-1,7)+1)),"") | M25: =IFERROR(IF(OR(K25="",L25=""),"",L25-K25),"") | P25: =IFERROR(IF(OR(N25="",O25=""),"",O25-N25),"") | Q25: =IFERROR(N25/K25,0) | R25: =IFERROR(O25/L25,0) | S25: =IFERROR(P25/M25,0) | T25: =IFERROR(K25/J25,0) | U25: =IFERROR(L25/J25,0) | V25: =IFERROR(E25-C25,"") | W25: =IFERROR(IF(E25="","",IF(M25<0,"Wash",IF(M25>0,"Positive Pickup","No Change"))),"") | AA25: =IFERROR(IF(OR(A25="",B25="",C25="",D25="",E25="",G25="",H25="",I25="",J25="",K25="",L25="",N25="",O25=""),"Missing required input",IF(D25>=C25,"Prior snapshot must be earlier",IF(C25>E25,"Snapshot is after stay date",IF(OR(K25>J25,L25>J25),"Rooms exceed available inventory",IF(P25<0,"Review negative revenue pickup","OK"))))),"Missing required input")
... F253: =IFERROR(IF(E253="","",INDEX('Instructions'!$H$2:$H$8,MOD(E253-1,7)+1)),"") | M253: =IFERROR(IF(OR(K253="",L253=""),"",L253-K253),"") | P253: =IFERROR(IF(OR(N253="",O253=""),"",O253-N253),"") | Q253: =IFERROR(N253/K253,0) | R253: =IFERROR(O253/L253,0) | S253: =IFERROR(P253/M253,0) | T253: =IFERROR(K253/J253,0) | U253: =IFERROR(L253/J253,0) | V253: =IFERROR(E253-C253,"") | W253: =IFERROR(IF(E253="","",IF(M253<0,"Wash",IF(M253>0,"Positive Pickup","No Change"))),"") | AA253: =IFERROR(IF(OR(A253="",B253="",C253="",D253="",E253="",G253="",H253="",I253="",J253="",K253="",L253="",N253="",O253=""),"Missing required input",IF(D253>=C253,"Prior snapshot must be earlier",IF(C253>E253,"Snapshot is after stay date",IF(OR(K253>J253,L253>J253),"Rooms exceed available inventory",IF(P253<0,"Review negative revenue pickup","OK"))))),"Missing required input")

Sheet Stay Date Summary
A1: Stay Date Summary
A3: Selected Property | B3: ='Dashboard'!B3 | D3: Selected Snapshot Date | E3: ='Dashboard'!B6 | G3: Summary Start Date | H3: ='Dashboard'!B4
A5: Stay Date | B5: Day of Week | C5: Available Rooms | D5: Prior Rooms on Books | E5: Current Rooms on Books | F5: Room Pickup | G5: Prior Room Revenue | H5: Current Room Revenue | I5: Revenue Pickup | J5: Prior ADR | K5: Current ADR | L5: Pickup ADR | M5: Prior Occupancy | N5: Current Occupancy | O5: Remaining Rooms | P5: Days to Arrival | Q5: Pickup Status | R5: Operational Flag
A6: =IFERROR($H$3,"") | B6: =IFERROR(IF(A6="","",INDEX('Instructions'!$H$2:$H$8,MOD(A6-1,7)+1)),"") | C6: ='Dashboard'!$E$3 | D6: =IFERROR(IF($B$3="All Properties",SUMIFS('Pickup Data'!$K$4:$K$253,'Pickup Data'!$E$4:$E$253,A6,'Pickup Data'!$C$4:$C$253,$E$3),SUMIFS('Pickup Data'!$K$4:$K$253,'Pickup Data'!$B$4:$B$253,$B$3,'Pickup Data'!$E$4:$E$253,A6,'Pickup Data'!$C$4:$C$253,$E$3)),0) | E6: =IFERROR(IF($B$3="All Properties",SUMIFS('Pickup Data'!$L$4:$L$253,'Pickup Data'!$E$4:$E$253,A6,'Pickup Data'!$C$4:$C$253,$E$3),SUMIFS('Pickup Data'!$L$4:$L$253,'Pickup Data'!$B$4:$B$253,$B$3,'Pickup Data'!$E$4:$E$253,A6,'Pickup Data'!$C$4:$C$253,$E$3)),0) | F6: =E6-D6 | G6: =IFERROR(IF($B$3="All Properties",SUMIFS('Pickup Data'!$N$4:$N$253,'Pickup Data'!$E$4:$E$253,A6,'Pickup Data'!$C$4:$C$253,$E$3),SUMIFS('Pickup Data'!$N$4:$N$253,'Pickup Data'!$B$4:$B$253,$B$3,'Pickup Data'!$E$4:$E$253,A6,'Pickup Data'!$C$4:$C$253,$E$3)),0) | H6: =IFERROR(IF($B$3="All Properties",SUMIFS('Pickup Data'!$O$4:$O$253,'Pickup Data'!$E$4:$E$253,A6,'Pickup Data'!$C$4:$C$253,$E$3),SUMIFS('Pickup Data'!$O$4:$O$253,'Pickup Data'!$B$4:$B$253,$B$3,'Pickup Data'!$E$4:$E$253,A6,'Pickup Data'!$C$4:$C$253,$E$3)),0) | I6: =H6-G6 | J6: =IFERROR(G6/D6,0) | K6: =IFERROR(H6/E6,0) | L6: =IFERROR(I6/F6,0) | M6: =IFERROR(D6/C6,0) | N6: =IFERROR(E6/C6,0) | O6: =C6-E6 | P6: =A6-$E$3 | Q6: =IF(F6<0,"Wash",IF(F6>0,"Positive Pickup","No Change")) | R6: =IF(F6<=-'Dashboard'!$E$6,"Review Material Wash",IF(N6>='Dashboard'!$E$5,"High Occupancy",IF(N6<'Dashboard'!$E$4,"Below Watch Threshold","Monitor")))
A7: =IFERROR(A6+1,"") | B7: =IFERROR(IF(A7="","",INDEX('Instructions'!$H$2:$H$8,MOD(A7-1,7)+1)),"") | C7: ='Dashboard'!$E$3 | D7: =IFERROR(IF($B$3="All Properties",SUMIFS('Pickup Data'!$K$4:$K$253,'Pickup Data'!$E$4:$E$253,A7,'Pickup Data'!$C$4:$C$253,$E$3),SUMIFS('Pickup Data'!$K$4:$K$253,'Pickup Data'!$B$4:$B$253,$B$3,'Pickup Data'!$E$4:$E$253,A7,'Pickup Data'!$C$4:$C$253,$E$3)),0) | E7: =IFERROR(IF($B$3="All Properties",SUMIFS('Pickup Data'!$L$4:$L$253,'Pickup Data'!$E$4:$E$253,A7,'Pickup Data'!$C$4:$C$253,$E$3),SUMIFS('Pickup Data'!$L$4:$L$253,'Pickup Data'!$B$4:$B$253,$B$3,'Pickup Data'!$E$4:$E$253,A7,'Pickup Data'!$C$4:$C$253,$E$3)),0) | F7: =E7-D7 | G7: =IFERROR(IF($B$3="All Properties",SUMIFS('Pickup Data'!$N$4:$N$253,'Pickup Data'!$E$4:$E$253,A7,'Pickup Data'!$C$4:$C$253,$E$3),SUMIFS('Pickup Data'!$N$4:$N$253,'Pickup Data'!$B$4:$B$253,$B$3,'Pickup Data'!$E$4:$E$253,A7,'Pickup Data'!$C$4:$C$253,$E$3)),0) | H7: =IFERROR(IF($B$3="All Properties",SUMIFS('Pickup Data'!$O$4:$O$253,'Pickup Data'!$E$4:$E$253,A7,'Pickup Data'!$C$4:$C$253,$E$3),SUMIFS('Pickup Data'!$O$4:$O$253,'Pickup Data'!$B$4:$B$253,$B$3,'Pickup Data'!$E$4:$E$253,A7,'Pickup Data'!$C$4:$C$253,$E$3)),0) | I7: =H7-G7 | J7: =IFERROR(G7/D7,0) | K7: =IFERROR(H7/E7,0) | L7: =IFERROR(I7/F7,0) | M7: =IFERROR(D7/C7,0) | N7: =IFERROR(E7/C7,0) | O7: =C7-E7 | P7: =A7-$E$3 | Q7: =IF(F7<0,"Wash",IF(F7>0,"Positive Pickup","No Change")) | R7: =IF(F7<=-'Dashboard'!$E$6,"Review Material Wash",IF(N7>='Dashboard'!$E$5,"High Occupancy",IF(N7<'Dashboard'!$E$4,"Below Watch Threshold","Monitor")))
A8: =IFERROR(A7+1,"") | B8: =IFERROR(IF(A8="","",INDEX('Instructions'!$H$2:$H$8,MOD(A8-1,7)+1)),"") | C8: ='Dashboard'!$E$3 | D8: =IFERROR(IF($B$3="All Properties",SUMIFS('Pickup Data'!$K$4:$K$253,'Pickup Data'!$E$4:$E$253,A8,'Pickup Data'!$C$4:$C$253,$E$3),SUMIFS('Pickup Data'!$K$4:$K$253,'Pickup Data'!$B$4:$B$253,$B$3,'Pickup Data'!$E$4:$E$253,A8,'Pickup Data'!$C$4:$C$253,$E$3)),0) | E8: =IFERROR(IF($B$3="All Properties",SUMIFS('Pickup Data'!$L$4:$L$253,'Pickup Data'!$E$4:$E$253,A8,'Pickup Data'!$C$4:$C$253,$E$3),SUMIFS('Pickup Data'!$L$4:$L$253,'Pickup Data'!$B$4:$B$253,$B$3,'Pickup Data'!$E$4:$E$253,A8,'Pickup Data'!$C$4:$C$253,$E$3)),0) | F8: =E8-D8 | G8: =IFERROR(IF($B$3="All Properties",SUMIFS('Pickup Data'!$N$4:$N$253,'Pickup Data'!$E$4:$E$253,A8,'Pickup Data'!$C$4:$C$253,$E$3),SUMIFS('Pickup Data'!$N$4:$N$253,'Pickup Data'!$B$4:$B$253,$B$3,'Pickup Data'!$E$4:$E$253,A8,'Pickup Data'!$C$4:$C$253,$E$3)),0) | H8: =IFERROR(IF($B$3="All Properties",SUMIFS('Pickup Data'!$O$4:$O$253,'Pickup Data'!$E$4:$E$253,A8,'Pickup Data'!$C$4:$C$253,$E$3),SUMIFS('Pickup Data'!$O$4:$O$253,'Pickup Data'!$B$4:$B$253,$B$3,'Pickup Data'!$E$4:$E$253,A8,'Pickup Data'!$C$4:$C$253,$E$3)),0) | I8: =H8-G8 | J8: =IFERROR(G8/D8,0) | K8: =IFERROR(H8/E8,0) | L8: =IFERROR(I8/F8,0) | M8: =IFERROR(D8/C8,0) | N8: =IFERROR(E8/C8,0) | O8: =C8-E8 | P8: =A8-$E$3 | Q8: =IF(F8<0,"Wash",IF(F8>0,"Positive Pickup","No Change")) | R8: =IF(F8<=-'Dashboard'!$E$6,"Review Material Wash",IF(N8>='Dashboard'!$E$5,"High Occupancy",IF(N8<'Dashboard'!$E$4,"Below Watch Threshold","Monitor")))
A9: =IFERROR(A8+1,"") | B9: =IFERROR(IF(A9="","",INDEX('Instructions'!$H$2:$H$8,MOD(A9-1,7)+1)),"") | C9: ='Dashboard'!$E$3 | D9: =IFERROR(IF($B$3="All Properties",SUMIFS('Pickup Data'!$K$4:$K$253,'Pickup Data'!$E$4:$E$253,A9,'Pickup Data'!$C$4:$C$253,$E$3),SUMIFS('Pickup Data'!$K$4:$K$253,'Pickup Data'!$B$4:$B$253,$B$3,'Pickup Data'!$E$4:$E$253,A9,'Pickup Data'!$C$4:$C$253,$E$3)),0) | E9: =IFERROR(IF($B$3="All Properties",SUMIFS('Pickup Data'!$L$4:$L$253,'Pickup Data'!$E$4:$E$253,A9,'Pickup Data'!$C$4:$C$253,$E$3),SUMIFS('Pickup Data'!$L$4:$L$253,'Pickup Data'!$B$4:$B$253,$B$3,'Pickup Data'!$E$4:$E$253,A9,'Pickup Data'!$C$4:$C$253,$E$3)),0) | F9: =E9-D9 | G9: =IFERROR(IF($B$3="All Properties",SUMIFS('Pickup Data'!$N$4:$N$253,'Pickup Data'!$E$4:$E$253,A9,'Pickup Data'!$C$4:$C$253,$E$3),SUMIFS('Pickup Data'!$N$4:$N$253,'Pickup Data'!$B$4:$B$253,$B$3,'Pickup Data'!$E$4:$E$253,A9,'Pickup Data'!$C$4:$C$253,$E$3)),0) | H9: =IFERROR(IF($B$3="All Properties",SUMIFS('Pickup Data'!$O$4:$O$253,'Pickup Data'!$E$4:$E$253,A9,'Pickup Data'!$C$4:$C$253,$E$3),SUMIFS('Pickup Data'!$O$4:$O$253,'Pickup Data'!$B$4:$B$253,$B$3,'Pickup Data'!$E$4:$E$253,A9,'Pickup Data'!$C$4:$C$253,$E$3)),0) | I9: =H9-G9 | J9: =IFERROR(G9/D9,0) | K9: =IFERROR(H9/E9,0) | L9: =IFERROR(I9/F9,0) | M9: =IFERROR(D9/C9,0) | N9: =IFERROR(E9/C9,0) | O9: =C9-E9 | P9: =A9-$E$3 | Q9: =IF(F9<0,"Wash",IF(F9>0,"Positive Pickup","No Change")) | R9: =IF(F9<=-'Dashboard'!$E$6,"Review Material Wash",IF(N9>='Dashboard'!$E$5,"High Occupancy",IF(N9<'Dashboard'!$E$4,"Below Watch Threshold","Monitor")))
A10: =IFERROR(A9+1,"") | B10: =IFERROR(IF(A10="","",INDEX('Instructions'!$H$2:$H$8,MOD(A10-1,7)+1)),"") | C10: ='Dashboard'!$E$3 | D10: =IFERROR(IF($B$3="All Properties",SUMIFS('Pickup Data'!$K$4:$K$253,'Pickup Data'!$E$4:$E$253,A10,'Pickup Data'!$C$4:$C$253,$E$3),SUMIFS('Pickup Data'!$K$4:$K$253,'Pickup Data'!$B$4:$B$253,$B$3,'Pickup Data'!$E$4:$E$253,A10,'Pickup Data'!$C$4:$C$253,$E$3)),0) | E10: =IFERROR(IF($B$3="All Properties",SUMIFS('Pickup Data'!$L$4:$L$253,'Pickup Data'!$E$4:$E$253,A10,'Pickup Data'!$C$4:$C$253,$E$3),SUMIFS('Pickup Data'!$L$4:$L$253,'Pickup Data'!$B$4:$B$253,$B$3,'Pickup Data'!$E$4:$E$253,A10,'Pickup Data'!$C$4:$C$253,$E$3)),0) | F10: =E10-D10 | G10: =IFERROR(IF($B$3="All Properties",SUMIFS('Pickup Data'!$N$4:$N$253,'Pickup Data'!$E$4:$E$253,A10,'Pickup Data'!$C$4:$C$253,$E$3),SUMIFS('Pickup Data'!$N$4:$N$253,'Pickup Data'!$B$4:$B$253,$B$3,'Pickup Data'!$E$4:$E$253,A10,'Pickup Data'!$C$4:$C$253,$E$3)),0) | H10: =IFERROR(IF($B$3="All Properties",SUMIFS('Pickup Data'!$O$4:$O$253,'Pickup Data'!$E$4:$E$253,A10,'Pickup Data'!$C$4:$C$253,$E$3),SUMIFS('Pickup Data'!$O$4:$O$253,'Pickup Data'!$B$4:$B$253,$B$3,'Pickup Data'!$E$4:$E$253,A10,'Pickup Data'!$C$4:$C$253,$E$3)),0) | I10: =H10-G10 | J10: =IFERROR(G10/D10,0) | K10: =IFERROR(H10/E10,0) | L10: =IFERROR(I10/F10,0) | M10: =IFERROR(D10/C10,0) | N10: =IFERROR(E10/C10,0) | O10: =C10-E10 | P10: =A10-$E$3 | Q10: =IF(F10<0,"Wash",IF(F10>0,"Positive Pickup","No Change")) | R10: =IF(F10<=-'Dashboard'!$E$6,"Review Material Wash",IF(N10>='Dashboard'!$E$5,"High Occupancy",IF(N10<'Dashboard'!$E$4,"Below Watch Threshold","Monitor")))
A11: =IFERROR(A10+1,"") | B11: =IFERROR(IF(A11="","",INDEX('Instructions'!$H$2:$H$8,MOD(A11-1,7)+1)),"") | C11: ='Dashboard'!$E$3 | D11: =IFERROR(IF($B$3="All Properties",SUMIFS('Pickup Data'!$K$4:$K$253,'Pickup Data'!$E$4:$E$253,A11,'Pickup Data'!$C$4:$C$253,$E$3),SUMIFS('Pickup Data'!$K$4:$K$253,'Pickup Data'!$B$4:$B$253,$B$3,'Pickup Data'!$E$4:$E$253,A11,'Pickup Data'!$C$4:$C$253,$E$3)),0) | E11: =IFERROR(IF($B$3="All Properties",SUMIFS('Pickup Data'!$L$4:$L$253,'Pickup Data'!$E$4:$E$253,A11,'Pickup Data'!$C$4:$C$253,$E$3),SUMIFS('Pickup Data'!$L$4:$L$253,'Pickup Data'!$B$4:$B$253,$B$3,'Pickup Data'!$E$4:$E$253,A11,'Pickup Data'!$C$4:$C$253,$E$3)),0) | F11: =E11-D11 | G11: =IFERROR(IF($B$3="All Properties",SUMIFS('Pickup Data'!$N$4:$N$253,'Pickup Data'!$E$4:$E$253,A11,'Pickup Data'!$C$4:$C$253,$E$3),SUMIFS('Pickup Data'!$N$4:$N$253,'Pickup Data'!$B$4:$B$253,$B$3,'Pickup Data'!$E$4:$E$253,A11,'Pickup Data'!$C$4:$C$253,$E$3)),0) | H11: =IFERROR(IF($B$3="All Properties",SUMIFS('Pickup Data'!$O$4:$O$253,'Pickup Data'!$E$4:$E$253,A11,'Pickup Data'!$C$4:$C$253,$E$3),SUMIFS('Pickup Data'!$O$4:$O$253,'Pickup Data'!$B$4:$B$253,$B$3,'Pickup Data'!$E$4:$E$253,A11,'Pickup Data'!$C$4:$C$253,$E$3)),0) | I11: =H11-G11 | J11: =IFERROR(G11/D11,0) | K11: =IFERROR(H11/E11,0) | L11: =IFERROR(I11/F11,0) | M11: =IFERROR(D11/C11,0) | N11: =IFERROR(E11/C11,0) | O11: =C11-E11 | P11: =A11-$E$3 | Q11: =IF(F11<0,"Wash",IF(F11>0,"Positive Pickup","No Change")) | R11: =IF(F11<=-'Dashboard'!$E$6,"Review Material Wash",IF(N11>='Dashboard'!$E$5,"High Occupancy",IF(N11<'Dashboard'!$E$4,"Below Watch Threshold","Monitor")))
A12: =IFERROR(A11+1,"") | B12: =IFERROR(IF(A12="","",INDEX('Instructions'!$H$2:$H$8,MOD(A12-1,7)+1)),"") | C12: ='Dashboard'!$E$3 | D12: =IFERROR(IF($B$3="All Properties",SUMIFS('Pickup Data'!$K$4:$K$253,'Pickup Data'!$E$4:$E$253,A12,'Pickup Data'!$C$4:$C$253,$E$3),SUMIFS('Pickup Data'!$K$4:$K$253,'Pickup Data'!$B$4:$B$253,$B$3,'Pickup Data'!$E$4:$E$253,A12,'Pickup Data'!$C$4:$C$253,$E$3)),0) | E12: =IFERROR(IF($B$3="All Properties",SUMIFS('Pickup Data'!$L$4:$L$253,'Pickup Data'!$E$4:$E$253,A12,'Pickup Data'!$C$4:$C$253,$E$3),SUMIFS('Pickup Data'!$L$4:$L$253,'Pickup Data'!$B$4:$B$253,$B$3,'Pickup Data'!$E$4:$E$253,A12,'Pickup Data'!$C$4:$C$253,$E$3)),0) | F12: =E12-D12 | G12: =IFERROR(IF($B$3="All Properties",SUMIFS('Pickup Data'!$N$4:$N$253,'Pickup Data'!$E$4:$E$253,A12,'Pickup Data'!$C$4:$C$253,$E$3),SUMIFS('Pickup Data'!$N$4:$N$253,'Pickup Data'!$B$4:$B$253,$B$3,'Pickup Data'!$E$4:$E$253,A12,'Pickup Data'!$C$4:$C$253,$E$3)),0) | H12: =IFERROR(IF($B$3="All Properties",SUMIFS('Pickup Data'!$O$4:$O$253,'Pickup Data'!$E$4:$E$253,A12,'Pickup Data'!$C$4:$C$253,$E$3),SUMIFS('Pickup Data'!$O$4:$O$253,'Pickup Data'!$B$4:$B$253,$B$3,'Pickup Data'!$E$4:$E$253,A12,'Pickup Data'!$C$4:$C$253,$E$3)),0) | I12: =H12-G12 | J12: =IFERROR(G12/D12,0) | K12: =IFERROR(H12/E12,0) | L12: =IFERROR(I12/F12,0) | M12: =IFERROR(D12/C12,0) | N12: =IFERROR(E12/C12,0) | O12: =C12-E12 | P12: =A12-$E$3 | Q12: =IF(F12<0,"Wash",IF(F12>0,"Positive Pickup","No Change")) | R12: =IF(F12<=-'Dashboard'!$E$6,"Review Material Wash",IF(N12>='Dashboard'!$E$5,"High Occupancy",IF(N12<'Dashboard'!$E$4,"Below Watch Threshold","Monitor")))
A13: =IFERROR(A12+1,"") | B13: =IFERROR(IF(A13="","",INDEX('Instructions'!$H$2:$H$8,MOD(A13-1,7)+1)),"") | C13: ='Dashboard'!$E$3 | D13: =IFERROR(IF($B$3="All Properties",SUMIFS('Pickup Data'!$K$4:$K$253,'Pickup Data'!$E$4:$E$253,A13,'Pickup Data'!$C$4:$C$253,$E$3),SUMIFS('Pickup Data'!$K$4:$K$253,'Pickup Data'!$B$4:$B$253,$B$3,'Pickup Data'!$E$4:$E$253,A13,'Pickup Data'!$C$4:$C$253,$E$3)),0) | E13: =IFERROR(IF($B$3="All Properties",SUMIFS('Pickup Data'!$L$4:$L$253,'Pickup Data'!$E$4:$E$253,A13,'Pickup Data'!$C$4:$C$253,$E$3),SUMIFS('Pickup Data'!$L$4:$L$253,'Pickup Data'!$B$4:$B$253,$B$3,'Pickup Data'!$E$4:$E$253,A13,'Pickup Data'!$C$4:$C$253,$E$3)),0) | F13: =E13-D13 | G13: =IFERROR(IF($B$3="All Properties",SUMIFS('Pickup Data'!$N$4:$N$253,'Pickup Data'!$E$4:$E$253,A13,'Pickup Data'!$C$4:$C$253,$E$3),SUMIFS('Pickup Data'!$N$4:$N$253,'Pickup Data'!$B$4:$B$253,$B$3,'Pickup Data'!$E$4:$E$253,A13,'Pickup Data'!$C$4:$C$253,$E$3)),0) | H13: =IFERROR(IF($B$3="All Properties",SUMIFS('Pickup Data'!$O$4:$O$253,'Pickup Data'!$E$4:$E$253,A13,'Pickup Data'!$C$4:$C$253,$E$3),SUMIFS('Pickup Data'!$O$4:$O$253,'Pickup Data'!$B$4:$B$253,$B$3,'Pickup Data'!$E$4:$E$253,A13,'Pickup Data'!$C$4:$C$253,$E$3)),0) | I13: =H13-G13 | J13: =IFERROR(G13/D13,0) | K13: =IFERROR(H13/E13,0) | L13: =IFERROR(I13/F13,0) | M13: =IFERROR(D13/C13,0) | N13: =IFERROR(E13/C13,0) | O13: =C13-E13 | P13: =A13-$E$3 | Q13: =IF(F13<0,"Wash",IF(F13>0,"Positive Pickup","No Change")) | R13: =IF(F13<=-'Dashboard'!$E$6,"Review Material Wash",IF(N13>='Dashboard'!$E$5,"High Occupancy",IF(N13<'Dashboard'!$E$4,"Below Watch Threshold","Monitor")))
A14: =IFERROR(A13+1,"") | B14: =IFERROR(IF(A14="","",INDEX('Instructions'!$H$2:$H$8,MOD(A14-1,7)+1)),"") | C14: ='Dashboard'!$E$3 | D14: =IFERROR(IF($B$3="All Properties",SUMIFS('Pickup Data'!$K$4:$K$253,'Pickup Data'!$E$4:$E$253,A14,'Pickup Data'!$C$4:$C$253,$E$3),SUMIFS('Pickup Data'!$K$4:$K$253,'Pickup Data'!$B$4:$B$253,$B$3,'Pickup Data'!$E$4:$E$253,A14,'Pickup Data'!$C$4:$C$253,$E$3)),0) | E14: =IFERROR(IF($B$3="All Properties",SUMIFS('Pickup Data'!$L$4:$L$253,'Pickup Data'!$E$4:$E$253,A14,'Pickup Data'!$C$4:$C$253,$E$3),SUMIFS('Pickup Data'!$L$4:$L$253,'Pickup Data'!$B$4:$B$253,$B$3,'Pickup Data'!$E$4:$E$253,A14,'Pickup Data'!$C$4:$C$253,$E$3)),0) | F14: =E14-D14 | G14: =IFERROR(IF($B$3="All Properties",SUMIFS('Pickup Data'!$N$4:$N$253,'Pickup Data'!$E$4:$E$253,A14,'Pickup Data'!$C$4:$C$253,$E$3),SUMIFS('Pickup Data'!$N$4:$N$253,'Pickup Data'!$B$4:$B$253,$B$3,'Pickup Data'!$E$4:$E$253,A14,'Pickup Data'!$C$4:$C$253,$E$3)),0) | H14: =IFERROR(IF($B$3="All Properties",SUMIFS('Pickup Data'!$O$4:$O$253,'Pickup Data'!$E$4:$E$253,A14,'Pickup Data'!$C$4:$C$253,$E$3),SUMIFS('Pickup Data'!$O$4:$O$253,'Pickup Data'!$B$4:$B$253,$B$3,'Pickup Data'!$E$4:$E$253,A14,'Pickup Data'!$C$4:$C$253,$E$3)),0) | I14: =H14-G14 | J14: =IFERROR(G14/D14,0) | K14: =IFERROR(H14/E14,0) | L14: =IFERROR(I14/F14,0) | M14: =IFERROR(D14/C14,0) | N14: =IFERROR(E14/C14,0) | O14: =C14-E14 | P14: =A14-$E$3 | Q14: =IF(F14<0,"Wash",IF(F14>0,"Positive Pickup","No Change")) | R14: =IF(F14<=-'Dashboard'!$E$6,"Review Material Wash",IF(N14>='Dashboard'!$E$5,"High Occupancy",IF(N14<'Dashboard'!$E$4,"Below Watch Threshold","Monitor")))
A15: =IFERROR(A14+1,"") | B15: =IFERROR(IF(A15="","",INDEX('Instructions'!$H$2:$H$8,MOD(A15-1,7)+1)),"") | C15: ='Dashboard'!$E$3 | D15: =IFERROR(IF($B$3="All Properties",SUMIFS('Pickup Data'!$K$4:$K$253,'Pickup Data'!$E$4:$E$253,A15,'Pickup Data'!$C$4:$C$253,$E$3),SUMIFS('Pickup Data'!$K$4:$K$253,'Pickup Data'!$B$4:$B$253,$B$3,'Pickup Data'!$E$4:$E$253,A15,'Pickup Data'!$C$4:$C$253,$E$3)),0) | E15: =IFERROR(IF($B$3="All Properties",SUMIFS('Pickup Data'!$L$4:$L$253,'Pickup Data'!$E$4:$E$253,A15,'Pickup Data'!$C$4:$C$253,$E$3),SUMIFS('Pickup Data'!$L$4:$L$253,'Pickup Data'!$B$4:$B$253,$B$3,'Pickup Data'!$E$4:$E$253,A15,'Pickup Data'!$C$4:$C$253,$E$3)),0) | F15: =E15-D15 | G15: =IFERROR(IF($B$3="All Properties",SUMIFS('Pickup Data'!$N$4:$N$253,'Pickup Data'!$E$4:$E$253,A15,'Pickup Data'!$C$4:$C$253,$E$3),SUMIFS('Pickup Data'!$N$4:$N$253,'Pickup Data'!$B$4:$B$253,$B$3,'Pickup Data'!$E$4:$E$253,A15,'Pickup Data'!$C$4:$C$253,$E$3)),0) | H15: =IFERROR(IF($B$3="All Properties",SUMIFS('Pickup Data'!$O$4:$O$253,'Pickup Data'!$E$4:$E$253,A15,'Pickup Data'!$C$4:$C$253,$E$3),SUMIFS('Pickup Data'!$O$4:$O$253,'Pickup Data'!$B$4:$B$253,$B$3,'Pickup Data'!$E$4:$E$253,A15,'Pickup Data'!$C$4:$C$253,$E$3)),0) | I15: =H15-G15 | J15: =IFERROR(G15/D15,0) | K15: =IFERROR(H15/E15,0) | L15: =IFERROR(I15/F15,0) | M15: =IFERROR(D15/C15,0) | N15: =IFERROR(E15/C15,0) | O15: =C15-E15 | P15: =A15-$E$3 | Q15: =IF(F15<0,"Wash",IF(F15>0,"Positive Pickup","No Change")) | R15: =IF(F15<=-'Dashboard'!$E$6,"Review Material Wash",IF(N15>='Dashboard'!$E$5,"High Occupancy",IF(N15<'Dashboard'!$E$4,"Below Watch Threshold","Monitor")))
A16: =IFERROR(A15+1,"") | B16: =IFERROR(IF(A16="","",INDEX('Instructions'!$H$2:$H$8,MOD(A16-1,7)+1)),"") | C16: ='Dashboard'!$E$3 | D16: =IFERROR(IF($B$3="All Properties",SUMIFS('Pickup Data'!$K$4:$K$253,'Pickup Data'!$E$4:$E$253,A16,'Pickup Data'!$C$4:$C$253,$E$3),SUMIFS('Pickup Data'!$K$4:$K$253,'Pickup Data'!$B$4:$B$253,$B$3,'Pickup Data'!$E$4:$E$253,A16,'Pickup Data'!$C$4:$C$253,$E$3)),0) | E16: =IFERROR(IF($B$3="All Properties",SUMIFS('Pickup Data'!$L$4:$L$253,'Pickup Data'!$E$4:$E$253,A16,'Pickup Data'!$C$4:$C$253,$E$3),SUMIFS('Pickup Data'!$L$4:$L$253,'Pickup Data'!$B$4:$B$253,$B$3,'Pickup Data'!$E$4:$E$253,A16,'Pickup Data'!$C$4:$C$253,$E$3)),0) | F16: =E16-D16 | G16: =IFERROR(IF($B$3="All Properties",SUMIFS('Pickup Data'!$N$4:$N$253,'Pickup Data'!$E$4:$E$253,A16,'Pickup Data'!$C$4:$C$253,$E$3),SUMIFS('Pickup Data'!$N$4:$N$253,'Pickup Data'!$B$4:$B$253,$B$3,'Pickup Data'!$E$4:$E$253,A16,'Pickup Data'!$C$4:$C$253,$E$3)),0) | H16: =IFERROR(IF($B$3="All Properties",SUMIFS('Pickup Data'!$O$4:$O$253,'Pickup Data'!$E$4:$E$253,A16,'Pickup Data'!$C$4:$C$253,$E$3),SUMIFS('Pickup Data'!$O$4:$O$253,'Pickup Data'!$B$4:$B$253,$B$3,'Pickup Data'!$E$4:$E$253,A16,'Pickup Data'!$C$4:$C$253,$E$3)),0) | I16: =H16-G16 | J16: =IFERROR(G16/D16,0) | K16: =IFERROR(H16/E16,0) | L16: =IFERROR(I16/F16,0) | M16: =IFERROR(D16/C16,0) | N16: =IFERROR(E16/C16,0) | O16: =C16-E16 | P16: =A16-$E$3 | Q16: =IF(F16<0,"Wash",IF(F16>0,"Positive Pickup","No Change")) | R16: =IF(F16<=-'Dashboard'!$E$6,"Review Material Wash",IF(N16>='Dashboard'!$E$5,"High Occupancy",IF(N16<'Dashboard'!$E$4,"Below Watch Threshold","Monitor")))
A17: =IFERROR(A16+1,"") | B17: =IFERROR(IF(A17="","",INDEX('Instructions'!$H$2:$H$8,MOD(A17-1,7)+1)),"") | C17: ='Dashboard'!$E$3 | D17: =IFERROR(IF($B$3="All Properties",SUMIFS('Pickup Data'!$K$4:$K$253,'Pickup Data'!$E$4:$E$253,A17,'Pickup Data'!$C$4:$C$253,$E$3),SUMIFS('Pickup Data'!$K$4:$K$253,'Pickup Data'!$B$4:$B$253,$B$3,'Pickup Data'!$E$4:$E$253,A17,'Pickup Data'!$C$4:$C$253,$E$3)),0) | E17: =IFERROR(IF($B$3="All Properties",SUMIFS('Pickup Data'!$L$4:$L$253,'Pickup Data'!$E$4:$E$253,A17,'Pickup Data'!$C$4:$C$253,$E$3),SUMIFS('Pickup Data'!$L$4:$L$253,'Pickup Data'!$B$4:$B$253,$B$3,'Pickup Data'!$E$4:$E$253,A17,'Pickup Data'!$C$4:$C$253,$E$3)),0) | F17: =E17-D17 | G17: =IFERROR(IF($B$3="All Properties",SUMIFS('Pickup Data'!$N$4:$N$253,'Pickup Data'!$E$4:$E$253,A17,'Pickup Data'!$C$4:$C$253,$E$3),SUMIFS('Pickup Data'!$N$4:$N$253,'Pickup Data'!$B$4:$B$253,$B$3,'Pickup Data'!$E$4:$E$253,A17,'Pickup Data'!$C$4:$C$253,$E$3)),0) | H17: =IFERROR(IF($B$3="All Properties",SUMIFS('Pickup Data'!$O$4:$O$253,'Pickup Data'!$E$4:$E$253,A17,'Pickup Data'!$C$4:$C$253,$E$3),SUMIFS('Pickup Data'!$O$4:$O$253,'Pickup Data'!$B$4:$B$253,$B$3,'Pickup Data'!$E$4:$E$253,A17,'Pickup Data'!$C$4:$C$253,$E$3)),0) | I17: =H17-G17 | J17: =IFERROR(G17/D17,0) | K17: =IFERROR(H17/E17,0) | L17: =IFERROR(I17/F17,0) | M17: =IFERROR(D17/C17,0) | N17: =IFERROR(E17/C17,0) | O17: =C17-E17 | P17: =A17-$E$3 | Q17: =IF(F17<0,"Wash",IF(F17>0,"Positive Pickup","No Change")) | R17: =IF(F17<=-'Dashboard'!$E$6,"Review Material Wash",IF(N17>='Dashboard'!$E$5,"High Occupancy",IF(N17<'Dashboard'!$E$4,"Below Watch Threshold","Monitor")))
A18: =IFERROR(A17+1,"") | B18: =IFERROR(IF(A18="","",INDEX('Instructions'!$H$2:$H$8,MOD(A18-1,7)+1)),"") | C18: ='Dashboard'!$E$3 | D18: =IFERROR(IF($B$3="All Properties",SUMIFS('Pickup Data'!$K$4:$K$253,'Pickup Data'!$E$4:$E$253,A18,'Pickup Data'!$C$4:$C$253,$E$3),SUMIFS('Pickup Data'!$K$4:$K$253,'Pickup Data'!$B$4:$B$253,$B$3,'Pickup Data'!$E$4:$E$253,A18,'Pickup Data'!$C$4:$C$253,$E$3)),0) | E18: =IFERROR(IF($B$3="All Properties",SUMIFS('Pickup Data'!$L$4:$L$253,'Pickup Data'!$E$4:$E$253,A18,'Pickup Data'!$C$4:$C$253,$E$3),SUMIFS('Pickup Data'!$L$4:$L$253,'Pickup Data'!$B$4:$B$253,$B$3,'Pickup Data'!$E$4:$E$253,A18,'Pickup Data'!$C$4:$C$253,$E$3)),0) | F18: =E18-D18 | G18: =IFERROR(IF($B$3="All Properties",SUMIFS('Pickup Data'!$N$4:$N$253,'Pickup Data'!$E$4:$E$253,A18,'Pickup Data'!$C$4:$C$253,$E$3),SUMIFS('Pickup Data'!$N$4:$N$253,'Pickup Data'!$B$4:$B$253,$B$3,'Pickup Data'!$E$4:$E$253,A18,'Pickup Data'!$C$4:$C$253,$E$3)),0) | H18: =IFERROR(IF($B$3="All Properties",SUMIFS('Pickup Data'!$O$4:$O$253,'Pickup Data'!$E$4:$E$253,A18,'Pickup Data'!$C$4:$C$253,$E$3),SUMIFS('Pickup Data'!$O$4:$O$253,'Pickup Data'!$B$4:$B$253,$B$3,'Pickup Data'!$E$4:$E$253,A18,'Pickup Data'!$C$4:$C$253,$E$3)),0) | I18: =H18-G18 | J18: =IFERROR(G18/D18,0) | K18: =IFERROR(H18/E18,0) | L18: =IFERROR(I18/F18,0) | M18: =IFERROR(D18/C18,0) | N18: =IFERROR(E18/C18,0) | O18: =C18-E18 | P18: =A18-$E$3 | Q18: =IF(F18<0,"Wash",IF(F18>0,"Positive Pickup","No Change")) | R18: =IF(F18<=-'Dashboard'!$E$6,"Review Material Wash",IF(N18>='Dashboard'!$E$5,"High Occupancy",IF(N18<'Dashboard'!$E$4,"Below Watch Threshold","Monitor")))
... A125: =IFERROR(A124+1,"") | B125: =IFERROR(IF(A125="","",INDEX('Instructions'!$H$2:$H$8,MOD(A125-1,7)+1)),"") | C125: ='Dashboard'!$E$3 | D125: =IFERROR(IF($B$3="All Properties",SUMIFS('Pickup Data'!$K$4:$K$253,'Pickup Data'!$E$4:$E$253,A125,'Pickup Data'!$C$4:$C$253,$E$3),SUMIFS('Pickup Data'!$K$4:$K$253,'Pickup Data'!$B$4:$B$253,$B$3,'Pickup Data'!$E$4:$E$253,A125,'Pickup Data'!$C$4:$C$253,$E$3)),0) | E125: =IFERROR(IF($B$3="All Properties",SUMIFS('Pickup Data'!$L$4:$L$253,'Pickup Data'!$E$4:$E$253,A125,'Pickup Data'!$C$4:$C$253,$E$3),SUMIFS('Pickup Data'!$L$4:$L$253,'Pickup Data'!$B$4:$B$253,$B$3,'Pickup Data'!$E$4:$E$253,A125,'Pickup Data'!$C$4:$C$253,$E$3)),0) | F125: =E125-D125 | G125: =IFERROR(IF($B$3="All Properties",SUMIFS('Pickup Data'!$N$4:$N$253,'Pickup Data'!$E$4:$E$253,A125,'Pickup Data'!$C$4:$C$253,$E$3),SUMIFS('Pickup Data'!$N$4:$N$253,'Pickup Data'!$B$4:$B$253,$B$3,'Pickup Data'!$E$4:$E$253,A125,'Pickup Data'!$C$4:$C$253,$E$3)),0) | H125: =IFERROR(IF($B$3="All Properties",SUMIFS('Pickup Data'!$O$4:$O$253,'Pickup Data'!$E$4:$E$253,A125,'Pickup Data'!$C$4:$C$253,$E$3),SUMIFS('Pickup Data'!$O$4:$O$253,'Pickup Data'!$B$4:$B$253,$B$3,'Pickup Data'!$E$4:$E$253,A125,'Pickup Data'!$C$4:$C$253,$E$3)),0) | I125: =H125-G125 | J125: =IFERROR(G125/D125,0) | K125: =IFERROR(H125/E125,0) | L125: =IFERROR(I125/F125,0) | M125: =IFERROR(D125/C125,0) | N125: =IFERROR(E125/C125,0) | O125: =C125-E125 | P125: =A125-$E$3 | Q125: =IF(F125<0,"Wash",IF(F125>0,"Positive Pickup","No Change")) | R125: =IF(F125<=-'Dashboard'!$E$6,"Review Material Wash",IF(N125>='Dashboard'!$E$5,"High Occupancy",IF(N125<'Dashboard'!$E$4,"Below Watch Threshold","Monitor")))

Sheet Instructions
A1: Hotel Pickup Report Instructions
H2: Monday
A3: Workbook Purpose | H3: Tuesday
A4: This workbook compares current and prior rooms-on-books snapshots to show net booking movement by stay date and business segment. | H4: Wednesday
H5: Thursday
A6: Recommended Workflow | H6: Friday
A7: 1. Enter pickup data. 2. Review the Data Check column. 3. Select the reporting period on the Dashboard. 4. Review wash, occupancy, and pickup ADR. 5. Coordinate follow-up with the appropriate hotel team. | H7: Saturday
H8: Sunday
A10: Field Definitions
A11: Room Pickup: Current rooms on books minus prior rooms on books. Wash: Negative pickup caused by cancellations, block reductions, or corrections. ADR: Room revenue divided by rooms on books. Occupancy: Rooms on books divided by available rooms.
A14: Important Use Notes
A15: Use consistent revenue definitions in both snapshots. Investigate negative pickup. Pickup ADR can be misleading when pickup is zero or negative.
A18: Color Key
A19: Light gold | B19: Editable input
A20: Light gray | B20: Calculated field
A21: Green | B21: Favorable or positive
A22: Amber | B22: Review or monitor
A23: Red | B23: Exception, wash, or data problem
