Workbook

Sheet Dashboard
A1: Hotel Overbooking Tracker
A2: Daily inventory exposure, reservation review, and guest relocation planning
A3: Review Start Date | B3: 46185 | D3: Review Days | E3: 14 | G3: Review End Date | H3: =IFERROR(B3+E3-1,B3)
A5: Overbooked Date/Room Type Combinations | D5: Peak Overbook Gap | G5: Projected Physical Room Shortage
A6: =IFERROR(COUNTIFS('Daily Inventory'!$A$11:$A$410,">="&$B$3,'Daily Inventory'!$A$11:$A$410,"<="&$H$3,'Daily Inventory'!$P$11:$P$410,">0"),0) | D6: =IFERROR(MAX(IF('Daily Inventory'!$A$11:$A$410>=$B$3,IF('Daily Inventory'!$A$11:$A$410<=$H$3,'Daily Inventory'!$P$11:$P$410,0),0)),0) | G6: =IFERROR(SUMIFS('Daily Inventory'!$Q$11:$Q$410,'Daily Inventory'!$A$11:$A$410,">="&$B$3,'Daily Inventory'!$A$11:$A$410,"<="&$H$3),0)
A7: Reservations Requiring Review | D7: Estimated Relocation Cost | G7: Rooms Marked for Relocation
A8: =IFERROR(COUNTIFS('Reservations'!$F$11:$F$260,"<="&$H$3,'Reservations'!$G$11:$G$260,">"&$B$3,'Reservations'!$M$11:$M$260,"Confirmed",'Reservations'!$W$11:$W$260,"Needs Review")+COUNTIFS('Reservations'!$F$11:$F$260,"<="&$H$3,'Reservations'!$G$11:$G$260,">"&$B$3,'Reservations'!$M$11:$M$260,"Guaranteed",'Reservations'!$W$11:$W$260,"Needs Review")+COUNTIFS('Reservations'!$F$11:$F$260,"<="&$H$3,'Reservations'!$G$11:$G$260,">"&$B$3,'Reservations'!$M$11:$M$260,"Checked In",'Reservations'!$W$11:$W$260,"Needs Review"),0) | D8: =IFERROR(SUMIFS('Reservations'!$AG$11:$AG$260,'Reservations'!$F$11:$F$260,">="&$B$3,'Reservations'!$F$11:$F$260,"<="&$H$3),0) | G8: =IFERROR(SUMIFS('Reservations'!$J$11:$J$260,'Reservations'!$Z$11:$Z$260,"Relocate",'Reservations'!$F$11:$F$260,">="&$B$3,'Reservations'!$F$11:$F$260,"<="&$H$3),0)
A11: Stay Date | B11: Sellable Rooms | C11: Committed Rooms | D11: Forecast Demand | E11: Authorized Overbook Rooms | F11: Overbook Gap | G11: Physical Shortfall | H11: Highest Risk | I11: Estimated Relocation Cost
A12: =IFERROR(IF(ROW()-ROW($A$12)+1<=$E$3,$B$3+ROW()-ROW($A$12),""),"") | B12: =IF($A12="","",IFERROR(SUMIFS('Daily Inventory'!$G$11:$G$410,'Daily Inventory'!$A$11:$A$410,$A12),0)) | C12: =IF($A12="","",IFERROR(SUMIFS('Daily Inventory'!$L$11:$L$410,'Daily Inventory'!$A$11:$A$410,$A12),0)) | D12: =IF($A12="","",IFERROR(SUMIFS('Daily Inventory'!$M$11:$M$410,'Daily Inventory'!$A$11:$A$410,$A12),0)) | E12: =IF($A12="","",IFERROR(SUMIFS('Daily Inventory'!$H$11:$H$410,'Daily Inventory'!$A$11:$A$410,$A12),0)) | F12: =IF($A12="","",IFERROR(SUMIFS('Daily Inventory'!$P$11:$P$410,'Daily Inventory'!$A$11:$A$410,$A12),0)) | G12: =IF($A12="","",IFERROR(SUMIFS('Daily Inventory'!$Q$11:$Q$410,'Daily Inventory'!$A$11:$A$410,$A12),0)) | H12: =IF($A12="","",IFERROR(IF(COUNTIFS('Daily Inventory'!$A$11:$A$410,$A12,'Daily Inventory'!$S$11:$S$410,"Critical")>0,"Critical",IF(COUNTIFS('Daily Inventory'!$A$11:$A$410,$A12,'Daily Inventory'!$S$11:$S$410,"Watch")>0,"Watch","Normal")),"")) | I12: =IF($A12="","",IFERROR(SUMIFS('Reservations'!$AG$11:$AG$260,'Reservations'!$F$11:$F$260,$A12),0))
A13: =IFERROR(IF(ROW()-ROW($A$12)+1<=$E$3,$B$3+ROW()-ROW($A$12),""),"") | B13: =IF($A13="","",IFERROR(SUMIFS('Daily Inventory'!$G$11:$G$410,'Daily Inventory'!$A$11:$A$410,$A13),0)) | C13: =IF($A13="","",IFERROR(SUMIFS('Daily Inventory'!$L$11:$L$410,'Daily Inventory'!$A$11:$A$410,$A13),0)) | D13: =IF($A13="","",IFERROR(SUMIFS('Daily Inventory'!$M$11:$M$410,'Daily Inventory'!$A$11:$A$410,$A13),0)) | E13: =IF($A13="","",IFERROR(SUMIFS('Daily Inventory'!$H$11:$H$410,'Daily Inventory'!$A$11:$A$410,$A13),0)) | F13: =IF($A13="","",IFERROR(SUMIFS('Daily Inventory'!$P$11:$P$410,'Daily Inventory'!$A$11:$A$410,$A13),0)) | G13: =IF($A13="","",IFERROR(SUMIFS('Daily Inventory'!$Q$11:$Q$410,'Daily Inventory'!$A$11:$A$410,$A13),0)) | H13: =IF($A13="","",IFERROR(IF(COUNTIFS('Daily Inventory'!$A$11:$A$410,$A13,'Daily Inventory'!$S$11:$S$410,"Critical")>0,"Critical",IF(COUNTIFS('Daily Inventory'!$A$11:$A$410,$A13,'Daily Inventory'!$S$11:$S$410,"Watch")>0,"Watch","Normal")),"")) | I13: =IF($A13="","",IFERROR(SUMIFS('Reservations'!$AG$11:$AG$260,'Reservations'!$F$11:$F$260,$A13),0))
A14: =IFERROR(IF(ROW()-ROW($A$12)+1<=$E$3,$B$3+ROW()-ROW($A$12),""),"") | B14: =IF($A14="","",IFERROR(SUMIFS('Daily Inventory'!$G$11:$G$410,'Daily Inventory'!$A$11:$A$410,$A14),0)) | C14: =IF($A14="","",IFERROR(SUMIFS('Daily Inventory'!$L$11:$L$410,'Daily Inventory'!$A$11:$A$410,$A14),0)) | D14: =IF($A14="","",IFERROR(SUMIFS('Daily Inventory'!$M$11:$M$410,'Daily Inventory'!$A$11:$A$410,$A14),0)) | E14: =IF($A14="","",IFERROR(SUMIFS('Daily Inventory'!$H$11:$H$410,'Daily Inventory'!$A$11:$A$410,$A14),0)) | F14: =IF($A14="","",IFERROR(SUMIFS('Daily Inventory'!$P$11:$P$410,'Daily Inventory'!$A$11:$A$410,$A14),0)) | G14: =IF($A14="","",IFERROR(SUMIFS('Daily Inventory'!$Q$11:$Q$410,'Daily Inventory'!$A$11:$A$410,$A14),0)) | H14: =IF($A14="","",IFERROR(IF(COUNTIFS('Daily Inventory'!$A$11:$A$410,$A14,'Daily Inventory'!$S$11:$S$410,"Critical")>0,"Critical",IF(COUNTIFS('Daily Inventory'!$A$11:$A$410,$A14,'Daily Inventory'!$S$11:$S$410,"Watch")>0,"Watch","Normal")),"")) | I14: =IF($A14="","",IFERROR(SUMIFS('Reservations'!$AG$11:$AG$260,'Reservations'!$F$11:$F$260,$A14),0))
A15: =IFERROR(IF(ROW()-ROW($A$12)+1<=$E$3,$B$3+ROW()-ROW($A$12),""),"") | B15: =IF($A15="","",IFERROR(SUMIFS('Daily Inventory'!$G$11:$G$410,'Daily Inventory'!$A$11:$A$410,$A15),0)) | C15: =IF($A15="","",IFERROR(SUMIFS('Daily Inventory'!$L$11:$L$410,'Daily Inventory'!$A$11:$A$410,$A15),0)) | D15: =IF($A15="","",IFERROR(SUMIFS('Daily Inventory'!$M$11:$M$410,'Daily Inventory'!$A$11:$A$410,$A15),0)) | E15: =IF($A15="","",IFERROR(SUMIFS('Daily Inventory'!$H$11:$H$410,'Daily Inventory'!$A$11:$A$410,$A15),0)) | F15: =IF($A15="","",IFERROR(SUMIFS('Daily Inventory'!$P$11:$P$410,'Daily Inventory'!$A$11:$A$410,$A15),0)) | G15: =IF($A15="","",IFERROR(SUMIFS('Daily Inventory'!$Q$11:$Q$410,'Daily Inventory'!$A$11:$A$410,$A15),0)) | H15: =IF($A15="","",IFERROR(IF(COUNTIFS('Daily Inventory'!$A$11:$A$410,$A15,'Daily Inventory'!$S$11:$S$410,"Critical")>0,"Critical",IF(COUNTIFS('Daily Inventory'!$A$11:$A$410,$A15,'Daily Inventory'!$S$11:$S$410,"Watch")>0,"Watch","Normal")),"")) | I15: =IF($A15="","",IFERROR(SUMIFS('Reservations'!$AG$11:$AG$260,'Reservations'!$F$11:$F$260,$A15),0))
A16: =IFERROR(IF(ROW()-ROW($A$12)+1<=$E$3,$B$3+ROW()-ROW($A$12),""),"") | B16: =IF($A16="","",IFERROR(SUMIFS('Daily Inventory'!$G$11:$G$410,'Daily Inventory'!$A$11:$A$410,$A16),0)) | C16: =IF($A16="","",IFERROR(SUMIFS('Daily Inventory'!$L$11:$L$410,'Daily Inventory'!$A$11:$A$410,$A16),0)) | D16: =IF($A16="","",IFERROR(SUMIFS('Daily Inventory'!$M$11:$M$410,'Daily Inventory'!$A$11:$A$410,$A16),0)) | E16: =IF($A16="","",IFERROR(SUMIFS('Daily Inventory'!$H$11:$H$410,'Daily Inventory'!$A$11:$A$410,$A16),0)) | F16: =IF($A16="","",IFERROR(SUMIFS('Daily Inventory'!$P$11:$P$410,'Daily Inventory'!$A$11:$A$410,$A16),0)) | G16: =IF($A16="","",IFERROR(SUMIFS('Daily Inventory'!$Q$11:$Q$410,'Daily Inventory'!$A$11:$A$410,$A16),0)) | H16: =IF($A16="","",IFERROR(IF(COUNTIFS('Daily Inventory'!$A$11:$A$410,$A16,'Daily Inventory'!$S$11:$S$410,"Critical")>0,"Critical",IF(COUNTIFS('Daily Inventory'!$A$11:$A$410,$A16,'Daily Inventory'!$S$11:$S$410,"Watch")>0,"Watch","Normal")),"")) | I16: =IF($A16="","",IFERROR(SUMIFS('Reservations'!$AG$11:$AG$260,'Reservations'!$F$11:$F$260,$A16),0))
A17: =IFERROR(IF(ROW()-ROW($A$12)+1<=$E$3,$B$3+ROW()-ROW($A$12),""),"") | B17: =IF($A17="","",IFERROR(SUMIFS('Daily Inventory'!$G$11:$G$410,'Daily Inventory'!$A$11:$A$410,$A17),0)) | C17: =IF($A17="","",IFERROR(SUMIFS('Daily Inventory'!$L$11:$L$410,'Daily Inventory'!$A$11:$A$410,$A17),0)) | D17: =IF($A17="","",IFERROR(SUMIFS('Daily Inventory'!$M$11:$M$410,'Daily Inventory'!$A$11:$A$410,$A17),0)) | E17: =IF($A17="","",IFERROR(SUMIFS('Daily Inventory'!$H$11:$H$410,'Daily Inventory'!$A$11:$A$410,$A17),0)) | F17: =IF($A17="","",IFERROR(SUMIFS('Daily Inventory'!$P$11:$P$410,'Daily Inventory'!$A$11:$A$410,$A17),0)) | G17: =IF($A17="","",IFERROR(SUMIFS('Daily Inventory'!$Q$11:$Q$410,'Daily Inventory'!$A$11:$A$410,$A17),0)) | H17: =IF($A17="","",IFERROR(IF(COUNTIFS('Daily Inventory'!$A$11:$A$410,$A17,'Daily Inventory'!$S$11:$S$410,"Critical")>0,"Critical",IF(COUNTIFS('Daily Inventory'!$A$11:$A$410,$A17,'Daily Inventory'!$S$11:$S$410,"Watch")>0,"Watch","Normal")),"")) | I17: =IF($A17="","",IFERROR(SUMIFS('Reservations'!$AG$11:$AG$260,'Reservations'!$F$11:$F$260,$A17),0))
A18: =IFERROR(IF(ROW()-ROW($A$12)+1<=$E$3,$B$3+ROW()-ROW($A$12),""),"") | B18: =IF($A18="","",IFERROR(SUMIFS('Daily Inventory'!$G$11:$G$410,'Daily Inventory'!$A$11:$A$410,$A18),0)) | C18: =IF($A18="","",IFERROR(SUMIFS('Daily Inventory'!$L$11:$L$410,'Daily Inventory'!$A$11:$A$410,$A18),0)) | D18: =IF($A18="","",IFERROR(SUMIFS('Daily Inventory'!$M$11:$M$410,'Daily Inventory'!$A$11:$A$410,$A18),0)) | E18: =IF($A18="","",IFERROR(SUMIFS('Daily Inventory'!$H$11:$H$410,'Daily Inventory'!$A$11:$A$410,$A18),0)) | F18: =IF($A18="","",IFERROR(SUMIFS('Daily Inventory'!$P$11:$P$410,'Daily Inventory'!$A$11:$A$410,$A18),0)) | G18: =IF($A18="","",IFERROR(SUMIFS('Daily Inventory'!$Q$11:$Q$410,'Daily Inventory'!$A$11:$A$410,$A18),0)) | H18: =IF($A18="","",IFERROR(IF(COUNTIFS('Daily Inventory'!$A$11:$A$410,$A18,'Daily Inventory'!$S$11:$S$410,"Critical")>0,"Critical",IF(COUNTIFS('Daily Inventory'!$A$11:$A$410,$A18,'Daily Inventory'!$S$11:$S$410,"Watch")>0,"Watch","Normal")),"")) | I18: =IF($A18="","",IFERROR(SUMIFS('Reservations'!$AG$11:$AG$260,'Reservations'!$F$11:$F$260,$A18),0))
A19: =IFERROR(IF(ROW()-ROW($A$12)+1<=$E$3,$B$3+ROW()-ROW($A$12),""),"") | B19: =IF($A19="","",IFERROR(SUMIFS('Daily Inventory'!$G$11:$G$410,'Daily Inventory'!$A$11:$A$410,$A19),0)) | C19: =IF($A19="","",IFERROR(SUMIFS('Daily Inventory'!$L$11:$L$410,'Daily Inventory'!$A$11:$A$410,$A19),0)) | D19: =IF($A19="","",IFERROR(SUMIFS('Daily Inventory'!$M$11:$M$410,'Daily Inventory'!$A$11:$A$410,$A19),0)) | E19: =IF($A19="","",IFERROR(SUMIFS('Daily Inventory'!$H$11:$H$410,'Daily Inventory'!$A$11:$A$410,$A19),0)) | F19: =IF($A19="","",IFERROR(SUMIFS('Daily Inventory'!$P$11:$P$410,'Daily Inventory'!$A$11:$A$410,$A19),0)) | G19: =IF($A19="","",IFERROR(SUMIFS('Daily Inventory'!$Q$11:$Q$410,'Daily Inventory'!$A$11:$A$410,$A19),0)) | H19: =IF($A19="","",IFERROR(IF(COUNTIFS('Daily Inventory'!$A$11:$A$410,$A19,'Daily Inventory'!$S$11:$S$410,"Critical")>0,"Critical",IF(COUNTIFS('Daily Inventory'!$A$11:$A$410,$A19,'Daily Inventory'!$S$11:$S$410,"Watch")>0,"Watch","Normal")),"")) | I19: =IF($A19="","",IFERROR(SUMIFS('Reservations'!$AG$11:$AG$260,'Reservations'!$F$11:$F$260,$A19),0))
A20: =IFERROR(IF(ROW()-ROW($A$12)+1<=$E$3,$B$3+ROW()-ROW($A$12),""),"") | B20: =IF($A20="","",IFERROR(SUMIFS('Daily Inventory'!$G$11:$G$410,'Daily Inventory'!$A$11:$A$410,$A20),0)) | C20: =IF($A20="","",IFERROR(SUMIFS('Daily Inventory'!$L$11:$L$410,'Daily Inventory'!$A$11:$A$410,$A20),0)) | D20: =IF($A20="","",IFERROR(SUMIFS('Daily Inventory'!$M$11:$M$410,'Daily Inventory'!$A$11:$A$410,$A20),0)) | E20: =IF($A20="","",IFERROR(SUMIFS('Daily Inventory'!$H$11:$H$410,'Daily Inventory'!$A$11:$A$410,$A20),0)) | F20: =IF($A20="","",IFERROR(SUMIFS('Daily Inventory'!$P$11:$P$410,'Daily Inventory'!$A$11:$A$410,$A20),0)) | G20: =IF($A20="","",IFERROR(SUMIFS('Daily Inventory'!$Q$11:$Q$410,'Daily Inventory'!$A$11:$A$410,$A20),0)) | H20: =IF($A20="","",IFERROR(IF(COUNTIFS('Daily Inventory'!$A$11:$A$410,$A20,'Daily Inventory'!$S$11:$S$410,"Critical")>0,"Critical",IF(COUNTIFS('Daily Inventory'!$A$11:$A$410,$A20,'Daily Inventory'!$S$11:$S$410,"Watch")>0,"Watch","Normal")),"")) | I20: =IF($A20="","",IFERROR(SUMIFS('Reservations'!$AG$11:$AG$260,'Reservations'!$F$11:$F$260,$A20),0))
A21: =IFERROR(IF(ROW()-ROW($A$12)+1<=$E$3,$B$3+ROW()-ROW($A$12),""),"") | B21: =IF($A21="","",IFERROR(SUMIFS('Daily Inventory'!$G$11:$G$410,'Daily Inventory'!$A$11:$A$410,$A21),0)) | C21: =IF($A21="","",IFERROR(SUMIFS('Daily Inventory'!$L$11:$L$410,'Daily Inventory'!$A$11:$A$410,$A21),0)) | D21: =IF($A21="","",IFERROR(SUMIFS('Daily Inventory'!$M$11:$M$410,'Daily Inventory'!$A$11:$A$410,$A21),0)) | E21: =IF($A21="","",IFERROR(SUMIFS('Daily Inventory'!$H$11:$H$410,'Daily Inventory'!$A$11:$A$410,$A21),0)) | F21: =IF($A21="","",IFERROR(SUMIFS('Daily Inventory'!$P$11:$P$410,'Daily Inventory'!$A$11:$A$410,$A21),0)) | G21: =IF($A21="","",IFERROR(SUMIFS('Daily Inventory'!$Q$11:$Q$410,'Daily Inventory'!$A$11:$A$410,$A21),0)) | H21: =IF($A21="","",IFERROR(IF(COUNTIFS('Daily Inventory'!$A$11:$A$410,$A21,'Daily Inventory'!$S$11:$S$410,"Critical")>0,"Critical",IF(COUNTIFS('Daily Inventory'!$A$11:$A$410,$A21,'Daily Inventory'!$S$11:$S$410,"Watch")>0,"Watch","Normal")),"")) | I21: =IF($A21="","",IFERROR(SUMIFS('Reservations'!$AG$11:$AG$260,'Reservations'!$F$11:$F$260,$A21),0))
A22: =IFERROR(IF(ROW()-ROW($A$12)+1<=$E$3,$B$3+ROW()-ROW($A$12),""),"") | B22: =IF($A22="","",IFERROR(SUMIFS('Daily Inventory'!$G$11:$G$410,'Daily Inventory'!$A$11:$A$410,$A22),0)) | C22: =IF($A22="","",IFERROR(SUMIFS('Daily Inventory'!$L$11:$L$410,'Daily Inventory'!$A$11:$A$410,$A22),0)) | D22: =IF($A22="","",IFERROR(SUMIFS('Daily Inventory'!$M$11:$M$410,'Daily Inventory'!$A$11:$A$410,$A22),0)) | E22: =IF($A22="","",IFERROR(SUMIFS('Daily Inventory'!$H$11:$H$410,'Daily Inventory'!$A$11:$A$410,$A22),0)) | F22: =IF($A22="","",IFERROR(SUMIFS('Daily Inventory'!$P$11:$P$410,'Daily Inventory'!$A$11:$A$410,$A22),0)) | G22: =IF($A22="","",IFERROR(SUMIFS('Daily Inventory'!$Q$11:$Q$410,'Daily Inventory'!$A$11:$A$410,$A22),0)) | H22: =IF($A22="","",IFERROR(IF(COUNTIFS('Daily Inventory'!$A$11:$A$410,$A22,'Daily Inventory'!$S$11:$S$410,"Critical")>0,"Critical",IF(COUNTIFS('Daily Inventory'!$A$11:$A$410,$A22,'Daily Inventory'!$S$11:$S$410,"Watch")>0,"Watch","Normal")),"")) | I22: =IF($A22="","",IFERROR(SUMIFS('Reservations'!$AG$11:$AG$260,'Reservations'!$F$11:$F$260,$A22),0))
A23: =IFERROR(IF(ROW()-ROW($A$12)+1<=$E$3,$B$3+ROW()-ROW($A$12),""),"") | B23: =IF($A23="","",IFERROR(SUMIFS('Daily Inventory'!$G$11:$G$410,'Daily Inventory'!$A$11:$A$410,$A23),0)) | C23: =IF($A23="","",IFERROR(SUMIFS('Daily Inventory'!$L$11:$L$410,'Daily Inventory'!$A$11:$A$410,$A23),0)) | D23: =IF($A23="","",IFERROR(SUMIFS('Daily Inventory'!$M$11:$M$410,'Daily Inventory'!$A$11:$A$410,$A23),0)) | E23: =IF($A23="","",IFERROR(SUMIFS('Daily Inventory'!$H$11:$H$410,'Daily Inventory'!$A$11:$A$410,$A23),0)) | F23: =IF($A23="","",IFERROR(SUMIFS('Daily Inventory'!$P$11:$P$410,'Daily Inventory'!$A$11:$A$410,$A23),0)) | G23: =IF($A23="","",IFERROR(SUMIFS('Daily Inventory'!$Q$11:$Q$410,'Daily Inventory'!$A$11:$A$410,$A23),0)) | H23: =IF($A23="","",IFERROR(IF(COUNTIFS('Daily Inventory'!$A$11:$A$410,$A23,'Daily Inventory'!$S$11:$S$410,"Critical")>0,"Critical",IF(COUNTIFS('Daily Inventory'!$A$11:$A$410,$A23,'Daily Inventory'!$S$11:$S$410,"Watch")>0,"Watch","Normal")),"")) | I23: =IF($A23="","",IFERROR(SUMIFS('Reservations'!$AG$11:$AG$260,'Reservations'!$F$11:$F$260,$A23),0))
... A42: =IFERROR(IF(ROW()-ROW($A$12)+1<=$E$3,$B$3+ROW()-ROW($A$12),""),"") | B42: =IF($A42="","",IFERROR(SUMIFS('Daily Inventory'!$G$11:$G$410,'Daily Inventory'!$A$11:$A$410,$A42),0)) | C42: =IF($A42="","",IFERROR(SUMIFS('Daily Inventory'!$L$11:$L$410,'Daily Inventory'!$A$11:$A$410,$A42),0)) | D42: =IF($A42="","",IFERROR(SUMIFS('Daily Inventory'!$M$11:$M$410,'Daily Inventory'!$A$11:$A$410,$A42),0)) | E42: =IF($A42="","",IFERROR(SUMIFS('Daily Inventory'!$H$11:$H$410,'Daily Inventory'!$A$11:$A$410,$A42),0)) | F42: =IF($A42="","",IFERROR(SUMIFS('Daily Inventory'!$P$11:$P$410,'Daily Inventory'!$A$11:$A$410,$A42),0)) | G42: =IF($A42="","",IFERROR(SUMIFS('Daily Inventory'!$Q$11:$Q$410,'Daily Inventory'!$A$11:$A$410,$A42),0)) | H42: =IF($A42="","",IFERROR(IF(COUNTIFS('Daily Inventory'!$A$11:$A$410,$A42,'Daily Inventory'!$S$11:$S$410,"Critical")>0,"Critical",IF(COUNTIFS('Daily Inventory'!$A$11:$A$410,$A42,'Daily Inventory'!$S$11:$S$410,"Watch")>0,"Watch","Normal")),"")) | I42: =IF($A42="","",IFERROR(SUMIFS('Reservations'!$AG$11:$AG$260,'Reservations'!$F$11:$F$260,$A42),0))
A43: ="" | B43: ="" | C43: ="" | D43: ="" | E43: ="" | F43: ="" | G43: ="" | H43: ="" | I43: =""
A44: ="" | B44: ="" | C44: ="" | D44: ="" | E44: ="" | F44: ="" | G44: ="" | H44: ="" | I44: =""
A45: ="" | B45: ="" | C45: ="" | D45: ="" | E45: ="" | F45: ="" | G45: ="" | H45: ="" | I45: =""
A46: ="" | B46: ="" | C46: ="" | D46: ="" | E46: ="" | F46: ="" | G46: ="" | H46: ="" | I46: =""
A47: ="" | B47: ="" | C47: ="" | D47: ="" | E47: ="" | F47: ="" | G47: ="" | H47: ="" | I47: =""
A48: ="" | B48: ="" | C48: ="" | D48: ="" | E48: ="" | F48: ="" | G48: ="" | H48: ="" | I48: =""
A49: ="" | B49: ="" | C49: ="" | D49: ="" | E49: ="" | F49: ="" | G49: ="" | H49: ="" | I49: =""
A50: ="" | B50: ="" | C50: ="" | D50: ="" | E50: ="" | F50: ="" | G50: ="" | H50: ="" | I50: =""
A51: ="" | B51: ="" | C51: ="" | D51: ="" | E51: ="" | F51: ="" | G51: ="" | H51: ="" | I51: =""
A52: ="" | B52: ="" | C52: ="" | D52: ="" | E52: ="" | F52: ="" | G52: ="" | H52: ="" | I52: =""
A53: ="" | B53: ="" | C53: ="" | D53: ="" | E53: ="" | F53: ="" | G53: ="" | H53: ="" | I53: =""
A54: ="" | B54: ="" | C54: ="" | D54: ="" | E54: ="" | F54: ="" | G54: ="" | H54: ="" | I54: =""
... A101: ="" | B101: ="" | C101: ="" | D101: ="" | E101: ="" | F101: ="" | G101: ="" | H101: ="" | I101: =""

Sheet Reservations
A1: Reservation Operating Assumptions
A2: Default Partner Hotel Nightly Rate | B2: 189
A3: Default Transportation Cost | B3: 35
A4: Default Guest Recovery Amount | B4: 100
A5: Review Age Threshold in Days | B5: 2
A6: High ADR Review Threshold | B6: 350
A8: Yellow cells are editable operating assumptions. Adjust them to match property policy and local market conditions.
A10: Reservation ID | B10: External Reservation Reference | C10: Guest or Group Name | D10: Booking Source | E10: Booking Date | F10: Arrival Date | G10: Departure Date | H10: Nights | I10: Room Type | J10: Rooms Booked | K10: Adults | L10: Children | M10: Reservation Status | N10: Guarantee Type | O10: Average Nightly Rate | P10: Estimated Room Revenue | Q10: Guest Priority | R10: Relocation Priority | S10: Relocatable | T10: Flexible Dates | U10: Mobile Phone | V10: Email | W10: Review Status | X10: Last Reviewed Date | Y10: Assigned Team Member | Z10: Relocation Decision | AA10: Partner Hotel | AB10: Partner Confirmation Number | AC10: Replacement Nightly Rate | AD10: Relocation Nights | AE10: Transportation Cost | AF10: Guest Recovery Amount | AG10: Total Relocation Cost | AH10: Review Age in Days | AI10: Data Check | AJ10: Notes
A11: R-260601 | B11: WEB-84021 | C11: Jordan Ellis | D11: Direct Website | E11: 46170 | F11: 46185 | G11: 46187 | H11: =IF(A11="","",IFERROR(MAX(0,G11-F11),0)) | I11: King | J11: 1 | K11: 2 | L11: 0 | M11: Guaranteed | N11: Credit Card | O11: 229 | P11: =IF(A11="","",IFERROR(H11*J11*O11,0)) | Q11: Standard | R11: 2 | S11: Yes | T11: No | U11: 202-555-0101 | V11: jordan.ellis@example.com | W11: Needs Review | X11: 46183 | Y11: Alex Morgan | Z11: Not Reviewed | AC11: 0 | AD11: 0 | AE11: 0 | AF11: 0 | AG11: =IF(A11="","",IFERROR(IF(Z11="Relocate",J11*AD11*IF(AC11>0,AC11,$B$2)+IF(AE11>0,AE11,$B$3)+IF(AF11>0,AF11,$B$4),0),0)) | AH11: =IF(A11="","",IF(X11="","",IFERROR(MAX(0,TODAY()-X11),0))) | AI11: =IF(A11="","",IFERROR(IF(G11<=F11,"Fix stay dates",IF(J11<=0,"Enter rooms booked",IF(I11="","Select room type",IF(AND(Z11="Relocate",AA11=""),"Enter partner hotel",IF(AND(Z11="Relocate",AD11<=0),"Enter relocation nights","OK"))))),"Review data")) | AJ11: Review room availability
A12: R-260602 | B12: OTA-55318 | C12: Taylor Brooks | D12: Online Travel Agency | E12: 46172 | F12: 46185 | G12: 46188 | H12: =IF(A12="","",IFERROR(MAX(0,G12-F12),0)) | I12: Double Queen | J12: 1 | K12: 2 | L12: 1 | M12: Confirmed | N12: Credit Card | O12: 245 | P12: =IF(A12="","",IFERROR(H12*J12*O12,0)) | Q12: Standard | R12: 1 - Review First | S12: Yes | T12: Unknown | U12: 202-555-0102 | V12: taylor.brooks@example.com | W12: Needs Review | X12: 46182 | Y12: Sam Carter | Z12: Not Reviewed | AC12: 0 | AD12: 0 | AE12: 0 | AF12: 0 | AG12: =IF(A12="","",IFERROR(IF(Z12="Relocate",J12*AD12*IF(AC12>0,AC12,$B$2)+IF(AE12>0,AE12,$B$3)+IF(AF12>0,AF12,$B$4),0),0)) | AH12: =IF(A12="","",IF(X12="","",IFERROR(MAX(0,TODAY()-X12),0))) | AI12: =IF(A12="","",IFERROR(IF(G12<=F12,"Fix stay dates",IF(J12<=0,"Enter rooms booked",IF(I12="","Select room type",IF(AND(Z12="Relocate",AA12=""),"Enter partner hotel",IF(AND(Z12="Relocate",AD12<=0),"Enter relocation nights","OK"))))),"Review data")) | AJ12: OTA terms to verify
A13: R-260603 | B13: CORP-7714 | C13: Morgan Lee | D13: Corporate | E13: 46162 | F13: 46186 | G13: 46188 | H13: =IF(A13="","",IFERROR(MAX(0,G13-F13),0)) | I13: King | J13: 2 | K13: 2 | L13: 0 | M13: Guaranteed | N13: Direct Bill | O13: 219 | P13: =IF(A13="","",IFERROR(H13*J13*O13,0)) | Q13: Contract Account | R13: 4 | S13: Review | T13: No | U13: 202-555-0103 | V13: morgan.lee@example.com | W13: Contacted | X13: 46184 | Y13: Alex Morgan | Z13: Keep In-House | AC13: 0 | AD13: 0 | AE13: 0 | AF13: 0 | AG13: =IF(A13="","",IFERROR(IF(Z13="Relocate",J13*AD13*IF(AC13>0,AC13,$B$2)+IF(AE13>0,AE13,$B$3)+IF(AF13>0,AF13,$B$4),0),0)) | AH13: =IF(A13="","",IF(X13="","",IFERROR(MAX(0,TODAY()-X13),0))) | AI13: =IF(A13="","",IFERROR(IF(G13<=F13,"Fix stay dates",IF(J13<=0,"Enter rooms booked",IF(I13="","Select room type",IF(AND(Z13="Relocate",AA13=""),"Enter partner hotel",IF(AND(Z13="Relocate",AD13<=0),"Enter relocation nights","OK"))))),"Review data")) | AJ13: Corporate account
A14: R-260604 | B14: GRP-2206 | C14: Summit Training Group | D14: Group Sales | E14: 46130 | F14: 46186 | G14: 46189 | H14: =IF(A14="","",IFERROR(MAX(0,G14-F14),0)) | I14: Double Queen | J14: 4 | K14: 8 | L14: 0 | M14: Guaranteed | N14: Advance Deposit | O14: 199 | P14: =IF(A14="","",IFERROR(H14*J14*O14,0)) | Q14: Group VIP | R14: 5 - Review Last | S14: No | T14: No | U14: 202-555-0104 | V14: summit.training@example.com | W14: Approved | X14: 46184 | Y14: Dana Wright | Z14: Keep In-House | AC14: 0 | AD14: 0 | AE14: 0 | AF14: 0 | AG14: =IF(A14="","",IFERROR(IF(Z14="Relocate",J14*AD14*IF(AC14>0,AC14,$B$2)+IF(AE14>0,AE14,$B$3)+IF(AF14>0,AF14,$B$4),0),0)) | AH14: =IF(A14="","",IF(X14="","",IFERROR(MAX(0,TODAY()-X14),0))) | AI14: =IF(A14="","",IFERROR(IF(G14<=F14,"Fix stay dates",IF(J14<=0,"Enter rooms booked",IF(I14="","Select room type",IF(AND(Z14="Relocate",AA14=""),"Enter partner hotel",IF(AND(Z14="Relocate",AD14<=0),"Enter relocation nights","OK"))))),"Review data")) | AJ14: Group room block
A15: R-260605 | B15: WEB-84077 | C15: Casey Rivera | D15: Direct Website | E15: 46157 | F15: 46186 | G15: 46188 | H15: =IF(A15="","",IFERROR(MAX(0,G15-F15),0)) | I15: Suite | J15: 1 | K15: 2 | L15: 0 | M15: Guaranteed | N15: Credit Card | O15: 389 | P15: =IF(A15="","",IFERROR(H15*J15*O15,0)) | Q15: Loyalty Member | R15: 5 - Review Last | S15: No | T15: No | U15: 202-555-0105 | V15: casey.rivera@example.com | W15: Approved | X15: 46185 | Y15: Sam Carter | Z15: Keep In-House | AC15: 0 | AD15: 0 | AE15: 0 | AF15: 0 | AG15: =IF(A15="","",IFERROR(IF(Z15="Relocate",J15*AD15*IF(AC15>0,AC15,$B$2)+IF(AE15>0,AE15,$B$3)+IF(AF15>0,AF15,$B$4),0),0)) | AH15: =IF(A15="","",IF(X15="","",IFERROR(MAX(0,TODAY()-X15),0))) | AI15: =IF(A15="","",IFERROR(IF(G15<=F15,"Fix stay dates",IF(J15<=0,"Enter rooms booked",IF(I15="","Select room type",IF(AND(Z15="Relocate",AA15=""),"Enter partner hotel",IF(AND(Z15="Relocate",AD15<=0),"Enter relocation nights","OK"))))),"Review data")) | AJ15: Suite priority
A16: R-260606 | B16: OTA-55402 | C16: Avery Bennett | D16: Online Travel Agency | E16: 46174 | F16: 46187 | G16: 46189 | H16: =IF(A16="","",IFERROR(MAX(0,G16-F16),0)) | I16: King | J16: 1 | K16: 2 | L16: 0 | M16: Confirmed | N16: Credit Card | O16: 259 | P16: =IF(A16="","",IFERROR(H16*J16*O16,0)) | Q16: Standard | R16: 1 - Review First | S16: Yes | T16: Yes | U16: 202-555-0106 | V16: avery.bennett@example.com | W16: Needs Review | X16: 46183 | Y16: Alex Morgan | Z16: Not Reviewed | AC16: 0 | AD16: 0 | AE16: 0 | AF16: 0 | AG16: =IF(A16="","",IFERROR(IF(Z16="Relocate",J16*AD16*IF(AC16>0,AC16,$B$2)+IF(AE16>0,AE16,$B$3)+IF(AF16>0,AF16,$B$4),0),0)) | AH16: =IF(A16="","",IF(X16="","",IFERROR(MAX(0,TODAY()-X16),0))) | AI16: =IF(A16="","",IFERROR(IF(G16<=F16,"Fix stay dates",IF(J16<=0,"Enter rooms booked",IF(I16="","Select room type",IF(AND(Z16="Relocate",AA16=""),"Enter partner hotel",IF(AND(Z16="Relocate",AD16<=0),"Enter relocation nights","OK"))))),"Review data")) | AJ16: Flexible dates noted
A17: R-260607 | B17: PHONE-1188 | C17: Riley Cooper | D17: Phone | E17: 46166 | F17: 46187 | G17: 46190 | H17: =IF(A17="","",IFERROR(MAX(0,G17-F17),0)) | I17: Double Queen | J17: 2 | K17: 3 | L17: 1 | M17: Guaranteed | N17: Credit Card | O17: 269 | P17: =IF(A17="","",IFERROR(H17*J17*O17,0)) | Q17: Repeat Guest | R17: 4 | S17: Review | T17: Unknown | U17: 202-555-0107 | V17: riley.cooper@example.com | W17: Escalated | X17: 46185 | Y17: Dana Wright | Z17: Not Reviewed | AC17: 0 | AD17: 0 | AE17: 0 | AF17: 0 | AG17: =IF(A17="","",IFERROR(IF(Z17="Relocate",J17*AD17*IF(AC17>0,AC17,$B$2)+IF(AE17>0,AE17,$B$3)+IF(AF17>0,AF17,$B$4),0),0)) | AH17: =IF(A17="","",IF(X17="","",IFERROR(MAX(0,TODAY()-X17),0))) | AI17: =IF(A17="","",IFERROR(IF(G17<=F17,"Fix stay dates",IF(J17<=0,"Enter rooms booked",IF(I17="","Select room type",IF(AND(Z17="Relocate",AA17=""),"Enter partner hotel",IF(AND(Z17="Relocate",AD17<=0),"Enter relocation nights","OK"))))),"Review data")) | AJ17: Manager review requested
A18: R-260608 | B18: TA-9041 | C18: Cameron Price | D18: Travel Advisor | E18: 46171 | F18: 46188 | G18: 46191 | H18: =IF(A18="","",IFERROR(MAX(0,G18-F18),0)) | I18: Suite | J18: 1 | K18: 2 | L18: 0 | M18: Confirmed | N18: Credit Card | O18: 425 | P18: =IF(A18="","",IFERROR(H18*J18*O18,0)) | Q18: Standard | R18: 2 | S18: Yes | T18: No | U18: 202-555-0108 | V18: cameron.price@example.com | W18: Needs Review | X18: 46184 | Y18: Sam Carter | Z18: Not Reviewed | AC18: 0 | AD18: 0 | AE18: 0 | AF18: 0 | AG18: =IF(A18="","",IFERROR(IF(Z18="Relocate",J18*AD18*IF(AC18>0,AC18,$B$2)+IF(AE18>0,AE18,$B$3)+IF(AF18>0,AF18,$B$4),0),0)) | AH18: =IF(A18="","",IF(X18="","",IFERROR(MAX(0,TODAY()-X18),0))) | AI18: =IF(A18="","",IFERROR(IF(G18<=F18,"Fix stay dates",IF(J18<=0,"Enter rooms booked",IF(I18="","Select room type",IF(AND(Z18="Relocate",AA18=""),"Enter partner hotel",IF(AND(Z18="Relocate",AD18<=0),"Enter relocation nights","OK"))))),"Review data")) | AJ18: High ADR reservation
A19: R-260609 | B19: WEB-84130 | C19: Jamie Foster | D19: Direct Website | E19: 46175 | F19: 46188 | G19: 46189 | H19: =IF(A19="","",IFERROR(MAX(0,G19-F19),0)) | I19: King | J19: 1 | K19: 1 | L19: 0 | M19: Canceled | N19: Credit Card | O19: 239 | P19: =IF(A19="","",IFERROR(H19*J19*O19,0)) | Q19: Standard | R19: 1 - Review First | S19: Yes | T19: Yes | U19: 202-555-0109 | V19: jamie.foster@example.com | W19: Complete | X19: 46181 | Y19: Alex Morgan | Z19: Guest Canceled | AC19: 0 | AD19: 0 | AE19: 0 | AF19: 0 | AG19: =IF(A19="","",IFERROR(IF(Z19="Relocate",J19*AD19*IF(AC19>0,AC19,$B$2)+IF(AE19>0,AE19,$B$3)+IF(AF19>0,AF19,$B$4),0),0)) | AH19: =IF(A19="","",IF(X19="","",IFERROR(MAX(0,TODAY()-X19),0))) | AI19: =IF(A19="","",IFERROR(IF(G19<=F19,"Fix stay dates",IF(J19<=0,"Enter rooms booked",IF(I19="","Select room type",IF(AND(Z19="Relocate",AA19=""),"Enter partner hotel",IF(AND(Z19="Relocate",AD19<=0),"Enter relocation nights","OK"))))),"Review data")) | AJ19: Canceled before arrival
A20: R-260610 | B20: OTA-55491 | C20: Drew Parker | D20: Online Travel Agency | E20: 46176 | F20: 46188 | G20: 46190 | H20: =IF(A20="","",IFERROR(MAX(0,G20-F20),0)) | I20: Double Queen | J20: 1 | K20: 2 | L20: 0 | M20: Guaranteed | N20: Credit Card | O20: 279 | P20: =IF(A20="","",IFERROR(H20*J20*O20,0)) | Q20: Standard | R20: 1 - Review First | S20: Yes | T20: No | U20: 202-555-0110 | V20: drew.parker@example.com | W20: Complete | X20: 46186 | Y20: Dana Wright | Z20: Relocate | AA20: Harbor Park Hotel | AB20: HPH-260615-44 | AC20: 205 | AD20: 2 | AE20: 35 | AF20: 100 | AG20: =IF(A20="","",IFERROR(IF(Z20="Relocate",J20*AD20*IF(AC20>0,AC20,$B$2)+IF(AE20>0,AE20,$B$3)+IF(AF20>0,AF20,$B$4),0),0)) | AH20: =IF(A20="","",IF(X20="","",IFERROR(MAX(0,TODAY()-X20),0))) | AI20: =IF(A20="","",IFERROR(IF(G20<=F20,"Fix stay dates",IF(J20<=0,"Enter rooms booked",IF(I20="","Select room type",IF(AND(Z20="Relocate",AA20=""),"Enter partner hotel",IF(AND(Z20="Relocate",AD20<=0),"Enter relocation nights","OK"))))),"Review data")) | AJ20: Partner room secured
H21: =IF(A21="","",IFERROR(MAX(0,G21-F21),0)) | P21: =IF(A21="","",IFERROR(H21*J21*O21,0)) | AG21: =IF(A21="","",IFERROR(IF(Z21="Relocate",J21*AD21*IF(AC21>0,AC21,$B$2)+IF(AE21>0,AE21,$B$3)+IF(AF21>0,AF21,$B$4),0),0)) | AH21: =IF(A21="","",IF(X21="","",IFERROR(MAX(0,TODAY()-X21),0))) | AI21: =IF(A21="","",IFERROR(IF(G21<=F21,"Fix stay dates",IF(J21<=0,"Enter rooms booked",IF(I21="","Select room type",IF(AND(Z21="Relocate",AA21=""),"Enter partner hotel",IF(AND(Z21="Relocate",AD21<=0),"Enter relocation nights","OK"))))),"Review data"))
H22: =IF(A22="","",IFERROR(MAX(0,G22-F22),0)) | P22: =IF(A22="","",IFERROR(H22*J22*O22,0)) | AG22: =IF(A22="","",IFERROR(IF(Z22="Relocate",J22*AD22*IF(AC22>0,AC22,$B$2)+IF(AE22>0,AE22,$B$3)+IF(AF22>0,AF22,$B$4),0),0)) | AH22: =IF(A22="","",IF(X22="","",IFERROR(MAX(0,TODAY()-X22),0))) | AI22: =IF(A22="","",IFERROR(IF(G22<=F22,"Fix stay dates",IF(J22<=0,"Enter rooms booked",IF(I22="","Select room type",IF(AND(Z22="Relocate",AA22=""),"Enter partner hotel",IF(AND(Z22="Relocate",AD22<=0),"Enter relocation nights","OK"))))),"Review data"))
H23: =IF(A23="","",IFERROR(MAX(0,G23-F23),0)) | P23: =IF(A23="","",IFERROR(H23*J23*O23,0)) | AG23: =IF(A23="","",IFERROR(IF(Z23="Relocate",J23*AD23*IF(AC23>0,AC23,$B$2)+IF(AE23>0,AE23,$B$3)+IF(AF23>0,AF23,$B$4),0),0)) | AH23: =IF(A23="","",IF(X23="","",IFERROR(MAX(0,TODAY()-X23),0))) | AI23: =IF(A23="","",IFERROR(IF(G23<=F23,"Fix stay dates",IF(J23<=0,"Enter rooms booked",IF(I23="","Select room type",IF(AND(Z23="Relocate",AA23=""),"Enter partner hotel",IF(AND(Z23="Relocate",AD23<=0),"Enter relocation nights","OK"))))),"Review data"))
H24: =IF(A24="","",IFERROR(MAX(0,G24-F24),0)) | P24: =IF(A24="","",IFERROR(H24*J24*O24,0)) | AG24: =IF(A24="","",IFERROR(IF(Z24="Relocate",J24*AD24*IF(AC24>0,AC24,$B$2)+IF(AE24>0,AE24,$B$3)+IF(AF24>0,AF24,$B$4),0),0)) | AH24: =IF(A24="","",IF(X24="","",IFERROR(MAX(0,TODAY()-X24),0))) | AI24: =IF(A24="","",IFERROR(IF(G24<=F24,"Fix stay dates",IF(J24<=0,"Enter rooms booked",IF(I24="","Select room type",IF(AND(Z24="Relocate",AA24=""),"Enter partner hotel",IF(AND(Z24="Relocate",AD24<=0),"Enter relocation nights","OK"))))),"Review data"))
H25: =IF(A25="","",IFERROR(MAX(0,G25-F25),0)) | P25: =IF(A25="","",IFERROR(H25*J25*O25,0)) | AG25: =IF(A25="","",IFERROR(IF(Z25="Relocate",J25*AD25*IF(AC25>0,AC25,$B$2)+IF(AE25>0,AE25,$B$3)+IF(AF25>0,AF25,$B$4),0),0)) | AH25: =IF(A25="","",IF(X25="","",IFERROR(MAX(0,TODAY()-X25),0))) | AI25: =IF(A25="","",IFERROR(IF(G25<=F25,"Fix stay dates",IF(J25<=0,"Enter rooms booked",IF(I25="","Select room type",IF(AND(Z25="Relocate",AA25=""),"Enter partner hotel",IF(AND(Z25="Relocate",AD25<=0),"Enter relocation nights","OK"))))),"Review data"))
H26: =IF(A26="","",IFERROR(MAX(0,G26-F26),0)) | P26: =IF(A26="","",IFERROR(H26*J26*O26,0)) | AG26: =IF(A26="","",IFERROR(IF(Z26="Relocate",J26*AD26*IF(AC26>0,AC26,$B$2)+IF(AE26>0,AE26,$B$3)+IF(AF26>0,AF26,$B$4),0),0)) | AH26: =IF(A26="","",IF(X26="","",IFERROR(MAX(0,TODAY()-X26),0))) | AI26: =IF(A26="","",IFERROR(IF(G26<=F26,"Fix stay dates",IF(J26<=0,"Enter rooms booked",IF(I26="","Select room type",IF(AND(Z26="Relocate",AA26=""),"Enter partner hotel",IF(AND(Z26="Relocate",AD26<=0),"Enter relocation nights","OK"))))),"Review data"))
H27: =IF(A27="","",IFERROR(MAX(0,G27-F27),0)) | P27: =IF(A27="","",IFERROR(H27*J27*O27,0)) | AG27: =IF(A27="","",IFERROR(IF(Z27="Relocate",J27*AD27*IF(AC27>0,AC27,$B$2)+IF(AE27>0,AE27,$B$3)+IF(AF27>0,AF27,$B$4),0),0)) | AH27: =IF(A27="","",IF(X27="","",IFERROR(MAX(0,TODAY()-X27),0))) | AI27: =IF(A27="","",IFERROR(IF(G27<=F27,"Fix stay dates",IF(J27<=0,"Enter rooms booked",IF(I27="","Select room type",IF(AND(Z27="Relocate",AA27=""),"Enter partner hotel",IF(AND(Z27="Relocate",AD27<=0),"Enter relocation nights","OK"))))),"Review data"))
H28: =IF(A28="","",IFERROR(MAX(0,G28-F28),0)) | P28: =IF(A28="","",IFERROR(H28*J28*O28,0)) | AG28: =IF(A28="","",IFERROR(IF(Z28="Relocate",J28*AD28*IF(AC28>0,AC28,$B$2)+IF(AE28>0,AE28,$B$3)+IF(AF28>0,AF28,$B$4),0),0)) | AH28: =IF(A28="","",IF(X28="","",IFERROR(MAX(0,TODAY()-X28),0))) | AI28: =IF(A28="","",IFERROR(IF(G28<=F28,"Fix stay dates",IF(J28<=0,"Enter rooms booked",IF(I28="","Select room type",IF(AND(Z28="Relocate",AA28=""),"Enter partner hotel",IF(AND(Z28="Relocate",AD28<=0),"Enter relocation nights","OK"))))),"Review data"))
H29: =IF(A29="","",IFERROR(MAX(0,G29-F29),0)) | P29: =IF(A29="","",IFERROR(H29*J29*O29,0)) | AG29: =IF(A29="","",IFERROR(IF(Z29="Relocate",J29*AD29*IF(AC29>0,AC29,$B$2)+IF(AE29>0,AE29,$B$3)+IF(AF29>0,AF29,$B$4),0),0)) | AH29: =IF(A29="","",IF(X29="","",IFERROR(MAX(0,TODAY()-X29),0))) | AI29: =IF(A29="","",IFERROR(IF(G29<=F29,"Fix stay dates",IF(J29<=0,"Enter rooms booked",IF(I29="","Select room type",IF(AND(Z29="Relocate",AA29=""),"Enter partner hotel",IF(AND(Z29="Relocate",AD29<=0),"Enter relocation nights","OK"))))),"Review data"))
H30: =IF(A30="","",IFERROR(MAX(0,G30-F30),0)) | P30: =IF(A30="","",IFERROR(H30*J30*O30,0)) | AG30: =IF(A30="","",IFERROR(IF(Z30="Relocate",J30*AD30*IF(AC30>0,AC30,$B$2)+IF(AE30>0,AE30,$B$3)+IF(AF30>0,AF30,$B$4),0),0)) | AH30: =IF(A30="","",IF(X30="","",IFERROR(MAX(0,TODAY()-X30),0))) | AI30: =IF(A30="","",IFERROR(IF(G30<=F30,"Fix stay dates",IF(J30<=0,"Enter rooms booked",IF(I30="","Select room type",IF(AND(Z30="Relocate",AA30=""),"Enter partner hotel",IF(AND(Z30="Relocate",AD30<=0),"Enter relocation nights","OK"))))),"Review data"))
H31: =IF(A31="","",IFERROR(MAX(0,G31-F31),0)) | P31: =IF(A31="","",IFERROR(H31*J31*O31,0)) | AG31: =IF(A31="","",IFERROR(IF(Z31="Relocate",J31*AD31*IF(AC31>0,AC31,$B$2)+IF(AE31>0,AE31,$B$3)+IF(AF31>0,AF31,$B$4),0),0)) | AH31: =IF(A31="","",IF(X31="","",IFERROR(MAX(0,TODAY()-X31),0))) | AI31: =IF(A31="","",IFERROR(IF(G31<=F31,"Fix stay dates",IF(J31<=0,"Enter rooms booked",IF(I31="","Select room type",IF(AND(Z31="Relocate",AA31=""),"Enter partner hotel",IF(AND(Z31="Relocate",AD31<=0),"Enter relocation nights","OK"))))),"Review data"))
H32: =IF(A32="","",IFERROR(MAX(0,G32-F32),0)) | P32: =IF(A32="","",IFERROR(H32*J32*O32,0)) | AG32: =IF(A32="","",IFERROR(IF(Z32="Relocate",J32*AD32*IF(AC32>0,AC32,$B$2)+IF(AE32>0,AE32,$B$3)+IF(AF32>0,AF32,$B$4),0),0)) | AH32: =IF(A32="","",IF(X32="","",IFERROR(MAX(0,TODAY()-X32),0))) | AI32: =IF(A32="","",IFERROR(IF(G32<=F32,"Fix stay dates",IF(J32<=0,"Enter rooms booked",IF(I32="","Select room type",IF(AND(Z32="Relocate",AA32=""),"Enter partner hotel",IF(AND(Z32="Relocate",AD32<=0),"Enter relocation nights","OK"))))),"Review data"))
... H260: =IF(A260="","",IFERROR(MAX(0,G260-F260),0)) | P260: =IF(A260="","",IFERROR(H260*J260*O260,0)) | AG260: =IF(A260="","",IFERROR(IF(Z260="Relocate",J260*AD260*IF(AC260>0,AC260,$B$2)+IF(AE260>0,AE260,$B$3)+IF(AF260>0,AF260,$B$4),0),0)) | AH260: =IF(A260="","",IF(X260="","",IFERROR(MAX(0,TODAY()-X260),0))) | AI260: =IF(A260="","",IFERROR(IF(G260<=F260,"Fix stay dates",IF(J260<=0,"Enter rooms booked",IF(I260="","Select room type",IF(AND(Z260="Relocate",AA260=""),"Enter partner hotel",IF(AND(Z260="Relocate",AD260<=0),"Enter relocation nights","OK"))))),"Review data"))

Sheet Daily Inventory
A1: Daily Inventory Operating Assumptions
A2: Default Expected Cancellation Rate | B2: 0.04
A3: Default Expected No-Show Rate | B3: 0.02
A4: Default Target Occupancy | B4: 0.95
A5: Watch Threshold for Demand to Sellable Rooms | B5: 0.95
A6: Critical Physical Shortfall Threshold | B6: 1
A7: Default Authorized Overbook Rooms | B7: 0
A8: Forecast rates and authorized overbooking limits are editable management assumptions. They are not legal or brand requirements.
A10: Stay Date | B10: Day | C10: Room Type | D10: Base Room Inventory | E10: Out of Order Rooms | F10: Operating Holds | G10: Sellable Rooms | H10: Authorized Overbook Rooms | I10: Expected Cancellation Rate | J10: Expected No-Show Rate | K10: Forecast Pickup Rooms | L10: Committed Rooms | M10: Forecast Demand | N10: Demand to Sellable Rooms | O10: Authorized Capacity | P10: Overbook Gap | Q10: Physical Shortfall | R10: Target Occupancy | S10: Risk Status | T10: Review Owner | U10: Last Reviewed Date | V10: Inventory Check | W10: Operating Notes
A11: 46185 | B11: =IF(A11="","",IFERROR(IF(MOD(A11,7)=1,"Sun",IF(MOD(A11,7)=2,"Mon",IF(MOD(A11,7)=3,"Tue",IF(MOD(A11,7)=4,"Wed",IF(MOD(A11,7)=5,"Thu",IF(MOD(A11,7)=6,"Fri","Sat")))))),"")) | C11: King | D11: 35 | E11: 2 | F11: 1 | G11: =IF(A11="","",IFERROR(MAX(0,D11-E11-F11),0)) | H11: 1 | I11: 0.04 | J11: 0.02 | K11: 3 | L11: =IF(A11="","",IFERROR(SUMIFS('Reservations'!$J$11:$J$260,'Reservations'!$I$11:$I$260,C11,'Reservations'!$F$11:$F$260,"<="&A11,'Reservations'!$G$11:$G$260,">"&A11,'Reservations'!$M$11:$M$260,"Confirmed")+SUMIFS('Reservations'!$J$11:$J$260,'Reservations'!$I$11:$I$260,C11,'Reservations'!$F$11:$F$260,"<="&A11,'Reservations'!$G$11:$G$260,">"&A11,'Reservations'!$M$11:$M$260,"Guaranteed")+SUMIFS('Reservations'!$J$11:$J$260,'Reservations'!$I$11:$I$260,C11,'Reservations'!$F$11:$F$260,"<="&A11,'Reservations'!$G$11:$G$260,">"&A11,'Reservations'!$M$11:$M$260,"Checked In"),0)) | M11: =IF(A11="","",IFERROR(MAX(0,L11*(1-I11-J11)+K11),0)) | N11: =IF(A11="","",IFERROR(M11/G11,0)) | O11: =IF(A11="","",IFERROR(G11+H11,0)) | P11: =IF(A11="","",IFERROR(MAX(0,ROUNDUP(M11,0)-O11),0)) | Q11: =IF(A11="","",IFERROR(MAX(0,ROUNDUP(M11,0)-G11),0)) | R11: 0.95 | S11: =IF(A11="","",IFERROR(IF(Q11>=$B$6,"Critical",IF(OR(P11>0,N11>=$B$5),"Watch","Normal")),"")) | T11: Revenue Management | U11: 46184 | V11: =IF(A11="","",IFERROR(IF(C11="","Select room type",IF(D11<=0,"Enter base inventory",IF(E11+F11>D11,"Holds exceed inventory",IF(I11+J11>1,"Review forecast rates","OK")))),"Review data")) | W11: Review during daily pickup meeting
A12: 46185 | B12: =IF(A12="","",IFERROR(IF(MOD(A12,7)=1,"Sun",IF(MOD(A12,7)=2,"Mon",IF(MOD(A12,7)=3,"Tue",IF(MOD(A12,7)=4,"Wed",IF(MOD(A12,7)=5,"Thu",IF(MOD(A12,7)=6,"Fri","Sat")))))),"")) | C12: Double Queen | D12: 30 | E12: 1 | F12: 1 | G12: =IF(A12="","",IFERROR(MAX(0,D12-E12-F12),0)) | H12: 1 | I12: 0.04 | J12: 0.02 | K12: 4 | L12: =IF(A12="","",IFERROR(SUMIFS('Reservations'!$J$11:$J$260,'Reservations'!$I$11:$I$260,C12,'Reservations'!$F$11:$F$260,"<="&A12,'Reservations'!$G$11:$G$260,">"&A12,'Reservations'!$M$11:$M$260,"Confirmed")+SUMIFS('Reservations'!$J$11:$J$260,'Reservations'!$I$11:$I$260,C12,'Reservations'!$F$11:$F$260,"<="&A12,'Reservations'!$G$11:$G$260,">"&A12,'Reservations'!$M$11:$M$260,"Guaranteed")+SUMIFS('Reservations'!$J$11:$J$260,'Reservations'!$I$11:$I$260,C12,'Reservations'!$F$11:$F$260,"<="&A12,'Reservations'!$G$11:$G$260,">"&A12,'Reservations'!$M$11:$M$260,"Checked In"),0)) | M12: =IF(A12="","",IFERROR(MAX(0,L12*(1-I12-J12)+K12),0)) | N12: =IF(A12="","",IFERROR(M12/G12,0)) | O12: =IF(A12="","",IFERROR(G12+H12,0)) | P12: =IF(A12="","",IFERROR(MAX(0,ROUNDUP(M12,0)-O12),0)) | Q12: =IF(A12="","",IFERROR(MAX(0,ROUNDUP(M12,0)-G12),0)) | R12: 0.95 | S12: =IF(A12="","",IFERROR(IF(Q12>=$B$6,"Critical",IF(OR(P12>0,N12>=$B$5),"Watch","Normal")),"")) | T12: Front Office | U12: 46184 | V12: =IF(A12="","",IFERROR(IF(C12="","Select room type",IF(D12<=0,"Enter base inventory",IF(E12+F12>D12,"Holds exceed inventory",IF(I12+J12>1,"Review forecast rates","OK")))),"Review data")) | W12: Review during daily pickup meeting
A13: 46185 | B13: =IF(A13="","",IFERROR(IF(MOD(A13,7)=1,"Sun",IF(MOD(A13,7)=2,"Mon",IF(MOD(A13,7)=3,"Tue",IF(MOD(A13,7)=4,"Wed",IF(MOD(A13,7)=5,"Thu",IF(MOD(A13,7)=6,"Fri","Sat")))))),"")) | C13: Suite | D13: 8 | E13: 0 | F13: 1 | G13: =IF(A13="","",IFERROR(MAX(0,D13-E13-F13),0)) | H13: 0 | I13: 0.03 | J13: 0.01 | K13: 1 | L13: =IF(A13="","",IFERROR(SUMIFS('Reservations'!$J$11:$J$260,'Reservations'!$I$11:$I$260,C13,'Reservations'!$F$11:$F$260,"<="&A13,'Reservations'!$G$11:$G$260,">"&A13,'Reservations'!$M$11:$M$260,"Confirmed")+SUMIFS('Reservations'!$J$11:$J$260,'Reservations'!$I$11:$I$260,C13,'Reservations'!$F$11:$F$260,"<="&A13,'Reservations'!$G$11:$G$260,">"&A13,'Reservations'!$M$11:$M$260,"Guaranteed")+SUMIFS('Reservations'!$J$11:$J$260,'Reservations'!$I$11:$I$260,C13,'Reservations'!$F$11:$F$260,"<="&A13,'Reservations'!$G$11:$G$260,">"&A13,'Reservations'!$M$11:$M$260,"Checked In"),0)) | M13: =IF(A13="","",IFERROR(MAX(0,L13*(1-I13-J13)+K13),0)) | N13: =IF(A13="","",IFERROR(M13/G13,0)) | O13: =IF(A13="","",IFERROR(G13+H13,0)) | P13: =IF(A13="","",IFERROR(MAX(0,ROUNDUP(M13,0)-O13),0)) | Q13: =IF(A13="","",IFERROR(MAX(0,ROUNDUP(M13,0)-G13),0)) | R13: 0.95 | S13: =IF(A13="","",IFERROR(IF(Q13>=$B$6,"Critical",IF(OR(P13>0,N13>=$B$5),"Watch","Normal")),"")) | T13: Reservations | U13: 46184 | V13: =IF(A13="","",IFERROR(IF(C13="","Select room type",IF(D13<=0,"Enter base inventory",IF(E13+F13>D13,"Holds exceed inventory",IF(I13+J13>1,"Review forecast rates","OK")))),"Review data")) | W13: Review during daily pickup meeting
A14: 46186 | B14: =IF(A14="","",IFERROR(IF(MOD(A14,7)=1,"Sun",IF(MOD(A14,7)=2,"Mon",IF(MOD(A14,7)=3,"Tue",IF(MOD(A14,7)=4,"Wed",IF(MOD(A14,7)=5,"Thu",IF(MOD(A14,7)=6,"Fri","Sat")))))),"")) | C14: King | D14: 35 | E14: 3 | F14: 1 | G14: =IF(A14="","",IFERROR(MAX(0,D14-E14-F14),0)) | H14: 2 | I14: 0.04 | J14: 0.02 | K14: 7 | L14: =IF(A14="","",IFERROR(SUMIFS('Reservations'!$J$11:$J$260,'Reservations'!$I$11:$I$260,C14,'Reservations'!$F$11:$F$260,"<="&A14,'Reservations'!$G$11:$G$260,">"&A14,'Reservations'!$M$11:$M$260,"Confirmed")+SUMIFS('Reservations'!$J$11:$J$260,'Reservations'!$I$11:$I$260,C14,'Reservations'!$F$11:$F$260,"<="&A14,'Reservations'!$G$11:$G$260,">"&A14,'Reservations'!$M$11:$M$260,"Guaranteed")+SUMIFS('Reservations'!$J$11:$J$260,'Reservations'!$I$11:$I$260,C14,'Reservations'!$F$11:$F$260,"<="&A14,'Reservations'!$G$11:$G$260,">"&A14,'Reservations'!$M$11:$M$260,"Checked In"),0)) | M14: =IF(A14="","",IFERROR(MAX(0,L14*(1-I14-J14)+K14),0)) | N14: =IF(A14="","",IFERROR(M14/G14,0)) | O14: =IF(A14="","",IFERROR(G14+H14,0)) | P14: =IF(A14="","",IFERROR(MAX(0,ROUNDUP(M14,0)-O14),0)) | Q14: =IF(A14="","",IFERROR(MAX(0,ROUNDUP(M14,0)-G14),0)) | R14: 0.95 | S14: =IF(A14="","",IFERROR(IF(Q14>=$B$6,"Critical",IF(OR(P14>0,N14>=$B$5),"Watch","Normal")),"")) | T14: Revenue Management | U14: 46185 | V14: =IF(A14="","",IFERROR(IF(C14="","Select room type",IF(D14<=0,"Enter base inventory",IF(E14+F14>D14,"Holds exceed inventory",IF(I14+J14>1,"Review forecast rates","OK")))),"Review data")) | W14: Review during daily pickup meeting
A15: 46186 | B15: =IF(A15="","",IFERROR(IF(MOD(A15,7)=1,"Sun",IF(MOD(A15,7)=2,"Mon",IF(MOD(A15,7)=3,"Tue",IF(MOD(A15,7)=4,"Wed",IF(MOD(A15,7)=5,"Thu",IF(MOD(A15,7)=6,"Fri","Sat")))))),"")) | C15: Double Queen | D15: 30 | E15: 2 | F15: 1 | G15: =IF(A15="","",IFERROR(MAX(0,D15-E15-F15),0)) | H15: 2 | I15: 0.04 | J15: 0.02 | K15: 8 | L15: =IF(A15="","",IFERROR(SUMIFS('Reservations'!$J$11:$J$260,'Reservations'!$I$11:$I$260,C15,'Reservations'!$F$11:$F$260,"<="&A15,'Reservations'!$G$11:$G$260,">"&A15,'Reservations'!$M$11:$M$260,"Confirmed")+SUMIFS('Reservations'!$J$11:$J$260,'Reservations'!$I$11:$I$260,C15,'Reservations'!$F$11:$F$260,"<="&A15,'Reservations'!$G$11:$G$260,">"&A15,'Reservations'!$M$11:$M$260,"Guaranteed")+SUMIFS('Reservations'!$J$11:$J$260,'Reservations'!$I$11:$I$260,C15,'Reservations'!$F$11:$F$260,"<="&A15,'Reservations'!$G$11:$G$260,">"&A15,'Reservations'!$M$11:$M$260,"Checked In"),0)) | M15: =IF(A15="","",IFERROR(MAX(0,L15*(1-I15-J15)+K15),0)) | N15: =IF(A15="","",IFERROR(M15/G15,0)) | O15: =IF(A15="","",IFERROR(G15+H15,0)) | P15: =IF(A15="","",IFERROR(MAX(0,ROUNDUP(M15,0)-O15),0)) | Q15: =IF(A15="","",IFERROR(MAX(0,ROUNDUP(M15,0)-G15),0)) | R15: 0.95 | S15: =IF(A15="","",IFERROR(IF(Q15>=$B$6,"Critical",IF(OR(P15>0,N15>=$B$5),"Watch","Normal")),"")) | T15: Front Office | U15: 46185 | V15: =IF(A15="","",IFERROR(IF(C15="","Select room type",IF(D15<=0,"Enter base inventory",IF(E15+F15>D15,"Holds exceed inventory",IF(I15+J15>1,"Review forecast rates","OK")))),"Review data")) | W15: Review during daily pickup meeting
A16: 46186 | B16: =IF(A16="","",IFERROR(IF(MOD(A16,7)=1,"Sun",IF(MOD(A16,7)=2,"Mon",IF(MOD(A16,7)=3,"Tue",IF(MOD(A16,7)=4,"Wed",IF(MOD(A16,7)=5,"Thu",IF(MOD(A16,7)=6,"Fri","Sat")))))),"")) | C16: Suite | D16: 8 | E16: 1 | F16: 0 | G16: =IF(A16="","",IFERROR(MAX(0,D16-E16-F16),0)) | H16: 0 | I16: 0.03 | J16: 0.01 | K16: 2 | L16: =IF(A16="","",IFERROR(SUMIFS('Reservations'!$J$11:$J$260,'Reservations'!$I$11:$I$260,C16,'Reservations'!$F$11:$F$260,"<="&A16,'Reservations'!$G$11:$G$260,">"&A16,'Reservations'!$M$11:$M$260,"Confirmed")+SUMIFS('Reservations'!$J$11:$J$260,'Reservations'!$I$11:$I$260,C16,'Reservations'!$F$11:$F$260,"<="&A16,'Reservations'!$G$11:$G$260,">"&A16,'Reservations'!$M$11:$M$260,"Guaranteed")+SUMIFS('Reservations'!$J$11:$J$260,'Reservations'!$I$11:$I$260,C16,'Reservations'!$F$11:$F$260,"<="&A16,'Reservations'!$G$11:$G$260,">"&A16,'Reservations'!$M$11:$M$260,"Checked In"),0)) | M16: =IF(A16="","",IFERROR(MAX(0,L16*(1-I16-J16)+K16),0)) | N16: =IF(A16="","",IFERROR(M16/G16,0)) | O16: =IF(A16="","",IFERROR(G16+H16,0)) | P16: =IF(A16="","",IFERROR(MAX(0,ROUNDUP(M16,0)-O16),0)) | Q16: =IF(A16="","",IFERROR(MAX(0,ROUNDUP(M16,0)-G16),0)) | R16: 0.95 | S16: =IF(A16="","",IFERROR(IF(Q16>=$B$6,"Critical",IF(OR(P16>0,N16>=$B$5),"Watch","Normal")),"")) | T16: Reservations | U16: 46185 | V16: =IF(A16="","",IFERROR(IF(C16="","Select room type",IF(D16<=0,"Enter base inventory",IF(E16+F16>D16,"Holds exceed inventory",IF(I16+J16>1,"Review forecast rates","OK")))),"Review data")) | W16: Review during daily pickup meeting
A17: 46187 | B17: =IF(A17="","",IFERROR(IF(MOD(A17,7)=1,"Sun",IF(MOD(A17,7)=2,"Mon",IF(MOD(A17,7)=3,"Tue",IF(MOD(A17,7)=4,"Wed",IF(MOD(A17,7)=5,"Thu",IF(MOD(A17,7)=6,"Fri","Sat")))))),"")) | C17: King | D17: 35 | E17: 3 | F17: 1 | G17: =IF(A17="","",IFERROR(MAX(0,D17-E17-F17),0)) | H17: 2 | I17: 0.04 | J17: 0.02 | K17: 8 | L17: =IF(A17="","",IFERROR(SUMIFS('Reservations'!$J$11:$J$260,'Reservations'!$I$11:$I$260,C17,'Reservations'!$F$11:$F$260,"<="&A17,'Reservations'!$G$11:$G$260,">"&A17,'Reservations'!$M$11:$M$260,"Confirmed")+SUMIFS('Reservations'!$J$11:$J$260,'Reservations'!$I$11:$I$260,C17,'Reservations'!$F$11:$F$260,"<="&A17,'Reservations'!$G$11:$G$260,">"&A17,'Reservations'!$M$11:$M$260,"Guaranteed")+SUMIFS('Reservations'!$J$11:$J$260,'Reservations'!$I$11:$I$260,C17,'Reservations'!$F$11:$F$260,"<="&A17,'Reservations'!$G$11:$G$260,">"&A17,'Reservations'!$M$11:$M$260,"Checked In"),0)) | M17: =IF(A17="","",IFERROR(MAX(0,L17*(1-I17-J17)+K17),0)) | N17: =IF(A17="","",IFERROR(M17/G17,0)) | O17: =IF(A17="","",IFERROR(G17+H17,0)) | P17: =IF(A17="","",IFERROR(MAX(0,ROUNDUP(M17,0)-O17),0)) | Q17: =IF(A17="","",IFERROR(MAX(0,ROUNDUP(M17,0)-G17),0)) | R17: 0.95 | S17: =IF(A17="","",IFERROR(IF(Q17>=$B$6,"Critical",IF(OR(P17>0,N17>=$B$5),"Watch","Normal")),"")) | T17: Revenue Management | U17: 46186 | V17: =IF(A17="","",IFERROR(IF(C17="","Select room type",IF(D17<=0,"Enter base inventory",IF(E17+F17>D17,"Holds exceed inventory",IF(I17+J17>1,"Review forecast rates","OK")))),"Review data")) | W17: Review during daily pickup meeting
A18: 46187 | B18: =IF(A18="","",IFERROR(IF(MOD(A18,7)=1,"Sun",IF(MOD(A18,7)=2,"Mon",IF(MOD(A18,7)=3,"Tue",IF(MOD(A18,7)=4,"Wed",IF(MOD(A18,7)=5,"Thu",IF(MOD(A18,7)=6,"Fri","Sat")))))),"")) | C18: Double Queen | D18: 30 | E18: 2 | F18: 2 | G18: =IF(A18="","",IFERROR(MAX(0,D18-E18-F18),0)) | H18: 2 | I18: 0.04 | J18: 0.02 | K18: 9 | L18: =IF(A18="","",IFERROR(SUMIFS('Reservations'!$J$11:$J$260,'Reservations'!$I$11:$I$260,C18,'Reservations'!$F$11:$F$260,"<="&A18,'Reservations'!$G$11:$G$260,">"&A18,'Reservations'!$M$11:$M$260,"Confirmed")+SUMIFS('Reservations'!$J$11:$J$260,'Reservations'!$I$11:$I$260,C18,'Reservations'!$F$11:$F$260,"<="&A18,'Reservations'!$G$11:$G$260,">"&A18,'Reservations'!$M$11:$M$260,"Guaranteed")+SUMIFS('Reservations'!$J$11:$J$260,'Reservations'!$I$11:$I$260,C18,'Reservations'!$F$11:$F$260,"<="&A18,'Reservations'!$G$11:$G$260,">"&A18,'Reservations'!$M$11:$M$260,"Checked In"),0)) | M18: =IF(A18="","",IFERROR(MAX(0,L18*(1-I18-J18)+K18),0)) | N18: =IF(A18="","",IFERROR(M18/G18,0)) | O18: =IF(A18="","",IFERROR(G18+H18,0)) | P18: =IF(A18="","",IFERROR(MAX(0,ROUNDUP(M18,0)-O18),0)) | Q18: =IF(A18="","",IFERROR(MAX(0,ROUNDUP(M18,0)-G18),0)) | R18: 0.95 | S18: =IF(A18="","",IFERROR(IF(Q18>=$B$6,"Critical",IF(OR(P18>0,N18>=$B$5),"Watch","Normal")),"")) | T18: Front Office | U18: 46186 | V18: =IF(A18="","",IFERROR(IF(C18="","Select room type",IF(D18<=0,"Enter base inventory",IF(E18+F18>D18,"Holds exceed inventory",IF(I18+J18>1,"Review forecast rates","OK")))),"Review data")) | W18: Review during daily pickup meeting
A19: 46187 | B19: =IF(A19="","",IFERROR(IF(MOD(A19,7)=1,"Sun",IF(MOD(A19,7)=2,"Mon",IF(MOD(A19,7)=3,"Tue",IF(MOD(A19,7)=4,"Wed",IF(MOD(A19,7)=5,"Thu",IF(MOD(A19,7)=6,"Fri","Sat")))))),"")) | C19: Suite | D19: 8 | E19: 1 | F19: 0 | G19: =IF(A19="","",IFERROR(MAX(0,D19-E19-F19),0)) | H19: 0 | I19: 0.03 | J19: 0.01 | K19: 2 | L19: =IF(A19="","",IFERROR(SUMIFS('Reservations'!$J$11:$J$260,'Reservations'!$I$11:$I$260,C19,'Reservations'!$F$11:$F$260,"<="&A19,'Reservations'!$G$11:$G$260,">"&A19,'Reservations'!$M$11:$M$260,"Confirmed")+SUMIFS('Reservations'!$J$11:$J$260,'Reservations'!$I$11:$I$260,C19,'Reservations'!$F$11:$F$260,"<="&A19,'Reservations'!$G$11:$G$260,">"&A19,'Reservations'!$M$11:$M$260,"Guaranteed")+SUMIFS('Reservations'!$J$11:$J$260,'Reservations'!$I$11:$I$260,C19,'Reservations'!$F$11:$F$260,"<="&A19,'Reservations'!$G$11:$G$260,">"&A19,'Reservations'!$M$11:$M$260,"Checked In"),0)) | M19: =IF(A19="","",IFERROR(MAX(0,L19*(1-I19-J19)+K19),0)) | N19: =IF(A19="","",IFERROR(M19/G19,0)) | O19: =IF(A19="","",IFERROR(G19+H19,0)) | P19: =IF(A19="","",IFERROR(MAX(0,ROUNDUP(M19,0)-O19),0)) | Q19: =IF(A19="","",IFERROR(MAX(0,ROUNDUP(M19,0)-G19),0)) | R19: 0.95 | S19: =IF(A19="","",IFERROR(IF(Q19>=$B$6,"Critical",IF(OR(P19>0,N19>=$B$5),"Watch","Normal")),"")) | T19: Reservations | U19: 46186 | V19: =IF(A19="","",IFERROR(IF(C19="","Select room type",IF(D19<=0,"Enter base inventory",IF(E19+F19>D19,"Holds exceed inventory",IF(I19+J19>1,"Review forecast rates","OK")))),"Review data")) | W19: Review during daily pickup meeting
A20: 46188 | B20: =IF(A20="","",IFERROR(IF(MOD(A20,7)=1,"Sun",IF(MOD(A20,7)=2,"Mon",IF(MOD(A20,7)=3,"Tue",IF(MOD(A20,7)=4,"Wed",IF(MOD(A20,7)=5,"Thu",IF(MOD(A20,7)=6,"Fri","Sat")))))),"")) | C20: Double Queen | D20: 30 | E20: 2 | F20: 1 | G20: =IF(A20="","",IFERROR(MAX(0,D20-E20-F20),0)) | H20: 1 | I20: 0.04 | J20: 0.02 | K20: 6 | L20: =IF(A20="","",IFERROR(SUMIFS('Reservations'!$J$11:$J$260,'Reservations'!$I$11:$I$260,C20,'Reservations'!$F$11:$F$260,"<="&A20,'Reservations'!$G$11:$G$260,">"&A20,'Reservations'!$M$11:$M$260,"Confirmed")+SUMIFS('Reservations'!$J$11:$J$260,'Reservations'!$I$11:$I$260,C20,'Reservations'!$F$11:$F$260,"<="&A20,'Reservations'!$G$11:$G$260,">"&A20,'Reservations'!$M$11:$M$260,"Guaranteed")+SUMIFS('Reservations'!$J$11:$J$260,'Reservations'!$I$11:$I$260,C20,'Reservations'!$F$11:$F$260,"<="&A20,'Reservations'!$G$11:$G$260,">"&A20,'Reservations'!$M$11:$M$260,"Checked In"),0)) | M20: =IF(A20="","",IFERROR(MAX(0,L20*(1-I20-J20)+K20),0)) | N20: =IF(A20="","",IFERROR(M20/G20,0)) | O20: =IF(A20="","",IFERROR(G20+H20,0)) | P20: =IF(A20="","",IFERROR(MAX(0,ROUNDUP(M20,0)-O20),0)) | Q20: =IF(A20="","",IFERROR(MAX(0,ROUNDUP(M20,0)-G20),0)) | R20: 0.95 | S20: =IF(A20="","",IFERROR(IF(Q20>=$B$6,"Critical",IF(OR(P20>0,N20>=$B$5),"Watch","Normal")),"")) | T20: Revenue Management | U20: 46187 | V20: =IF(A20="","",IFERROR(IF(C20="","Select room type",IF(D20<=0,"Enter base inventory",IF(E20+F20>D20,"Holds exceed inventory",IF(I20+J20>1,"Review forecast rates","OK")))),"Review data")) | W20: Review during daily pickup meeting
B21: =IF(A21="","",IFERROR(IF(MOD(A21,7)=1,"Sun",IF(MOD(A21,7)=2,"Mon",IF(MOD(A21,7)=3,"Tue",IF(MOD(A21,7)=4,"Wed",IF(MOD(A21,7)=5,"Thu",IF(MOD(A21,7)=6,"Fri","Sat")))))),"")) | G21: =IF(A21="","",IFERROR(MAX(0,D21-E21-F21),0)) | L21: =IF(A21="","",IFERROR(SUMIFS('Reservations'!$J$11:$J$260,'Reservations'!$I$11:$I$260,C21,'Reservations'!$F$11:$F$260,"<="&A21,'Reservations'!$G$11:$G$260,">"&A21,'Reservations'!$M$11:$M$260,"Confirmed")+SUMIFS('Reservations'!$J$11:$J$260,'Reservations'!$I$11:$I$260,C21,'Reservations'!$F$11:$F$260,"<="&A21,'Reservations'!$G$11:$G$260,">"&A21,'Reservations'!$M$11:$M$260,"Guaranteed")+SUMIFS('Reservations'!$J$11:$J$260,'Reservations'!$I$11:$I$260,C21,'Reservations'!$F$11:$F$260,"<="&A21,'Reservations'!$G$11:$G$260,">"&A21,'Reservations'!$M$11:$M$260,"Checked In"),0)) | M21: =IF(A21="","",IFERROR(MAX(0,L21*(1-I21-J21)+K21),0)) | N21: =IF(A21="","",IFERROR(M21/G21,0)) | O21: =IF(A21="","",IFERROR(G21+H21,0)) | P21: =IF(A21="","",IFERROR(MAX(0,ROUNDUP(M21,0)-O21),0)) | Q21: =IF(A21="","",IFERROR(MAX(0,ROUNDUP(M21,0)-G21),0)) | S21: =IF(A21="","",IFERROR(IF(Q21>=$B$6,"Critical",IF(OR(P21>0,N21>=$B$5),"Watch","Normal")),"")) | V21: =IF(A21="","",IFERROR(IF(C21="","Select room type",IF(D21<=0,"Enter base inventory",IF(E21+F21>D21,"Holds exceed inventory",IF(I21+J21>1,"Review forecast rates","OK")))),"Review data"))
B22: =IF(A22="","",IFERROR(IF(MOD(A22,7)=1,"Sun",IF(MOD(A22,7)=2,"Mon",IF(MOD(A22,7)=3,"Tue",IF(MOD(A22,7)=4,"Wed",IF(MOD(A22,7)=5,"Thu",IF(MOD(A22,7)=6,"Fri","Sat")))))),"")) | G22: =IF(A22="","",IFERROR(MAX(0,D22-E22-F22),0)) | L22: =IF(A22="","",IFERROR(SUMIFS('Reservations'!$J$11:$J$260,'Reservations'!$I$11:$I$260,C22,'Reservations'!$F$11:$F$260,"<="&A22,'Reservations'!$G$11:$G$260,">"&A22,'Reservations'!$M$11:$M$260,"Confirmed")+SUMIFS('Reservations'!$J$11:$J$260,'Reservations'!$I$11:$I$260,C22,'Reservations'!$F$11:$F$260,"<="&A22,'Reservations'!$G$11:$G$260,">"&A22,'Reservations'!$M$11:$M$260,"Guaranteed")+SUMIFS('Reservations'!$J$11:$J$260,'Reservations'!$I$11:$I$260,C22,'Reservations'!$F$11:$F$260,"<="&A22,'Reservations'!$G$11:$G$260,">"&A22,'Reservations'!$M$11:$M$260,"Checked In"),0)) | M22: =IF(A22="","",IFERROR(MAX(0,L22*(1-I22-J22)+K22),0)) | N22: =IF(A22="","",IFERROR(M22/G22,0)) | O22: =IF(A22="","",IFERROR(G22+H22,0)) | P22: =IF(A22="","",IFERROR(MAX(0,ROUNDUP(M22,0)-O22),0)) | Q22: =IF(A22="","",IFERROR(MAX(0,ROUNDUP(M22,0)-G22),0)) | S22: =IF(A22="","",IFERROR(IF(Q22>=$B$6,"Critical",IF(OR(P22>0,N22>=$B$5),"Watch","Normal")),"")) | V22: =IF(A22="","",IFERROR(IF(C22="","Select room type",IF(D22<=0,"Enter base inventory",IF(E22+F22>D22,"Holds exceed inventory",IF(I22+J22>1,"Review forecast rates","OK")))),"Review data"))
B23: =IF(A23="","",IFERROR(IF(MOD(A23,7)=1,"Sun",IF(MOD(A23,7)=2,"Mon",IF(MOD(A23,7)=3,"Tue",IF(MOD(A23,7)=4,"Wed",IF(MOD(A23,7)=5,"Thu",IF(MOD(A23,7)=6,"Fri","Sat")))))),"")) | G23: =IF(A23="","",IFERROR(MAX(0,D23-E23-F23),0)) | L23: =IF(A23="","",IFERROR(SUMIFS('Reservations'!$J$11:$J$260,'Reservations'!$I$11:$I$260,C23,'Reservations'!$F$11:$F$260,"<="&A23,'Reservations'!$G$11:$G$260,">"&A23,'Reservations'!$M$11:$M$260,"Confirmed")+SUMIFS('Reservations'!$J$11:$J$260,'Reservations'!$I$11:$I$260,C23,'Reservations'!$F$11:$F$260,"<="&A23,'Reservations'!$G$11:$G$260,">"&A23,'Reservations'!$M$11:$M$260,"Guaranteed")+SUMIFS('Reservations'!$J$11:$J$260,'Reservations'!$I$11:$I$260,C23,'Reservations'!$F$11:$F$260,"<="&A23,'Reservations'!$G$11:$G$260,">"&A23,'Reservations'!$M$11:$M$260,"Checked In"),0)) | M23: =IF(A23="","",IFERROR(MAX(0,L23*(1-I23-J23)+K23),0)) | N23: =IF(A23="","",IFERROR(M23/G23,0)) | O23: =IF(A23="","",IFERROR(G23+H23,0)) | P23: =IF(A23="","",IFERROR(MAX(0,ROUNDUP(M23,0)-O23),0)) | Q23: =IF(A23="","",IFERROR(MAX(0,ROUNDUP(M23,0)-G23),0)) | S23: =IF(A23="","",IFERROR(IF(Q23>=$B$6,"Critical",IF(OR(P23>0,N23>=$B$5),"Watch","Normal")),"")) | V23: =IF(A23="","",IFERROR(IF(C23="","Select room type",IF(D23<=0,"Enter base inventory",IF(E23+F23>D23,"Holds exceed inventory",IF(I23+J23>1,"Review forecast rates","OK")))),"Review data"))
B24: =IF(A24="","",IFERROR(IF(MOD(A24,7)=1,"Sun",IF(MOD(A24,7)=2,"Mon",IF(MOD(A24,7)=3,"Tue",IF(MOD(A24,7)=4,"Wed",IF(MOD(A24,7)=5,"Thu",IF(MOD(A24,7)=6,"Fri","Sat")))))),"")) | G24: =IF(A24="","",IFERROR(MAX(0,D24-E24-F24),0)) | L24: =IF(A24="","",IFERROR(SUMIFS('Reservations'!$J$11:$J$260,'Reservations'!$I$11:$I$260,C24,'Reservations'!$F$11:$F$260,"<="&A24,'Reservations'!$G$11:$G$260,">"&A24,'Reservations'!$M$11:$M$260,"Confirmed")+SUMIFS('Reservations'!$J$11:$J$260,'Reservations'!$I$11:$I$260,C24,'Reservations'!$F$11:$F$260,"<="&A24,'Reservations'!$G$11:$G$260,">"&A24,'Reservations'!$M$11:$M$260,"Guaranteed")+SUMIFS('Reservations'!$J$11:$J$260,'Reservations'!$I$11:$I$260,C24,'Reservations'!$F$11:$F$260,"<="&A24,'Reservations'!$G$11:$G$260,">"&A24,'Reservations'!$M$11:$M$260,"Checked In"),0)) | M24: =IF(A24="","",IFERROR(MAX(0,L24*(1-I24-J24)+K24),0)) | N24: =IF(A24="","",IFERROR(M24/G24,0)) | O24: =IF(A24="","",IFERROR(G24+H24,0)) | P24: =IF(A24="","",IFERROR(MAX(0,ROUNDUP(M24,0)-O24),0)) | Q24: =IF(A24="","",IFERROR(MAX(0,ROUNDUP(M24,0)-G24),0)) | S24: =IF(A24="","",IFERROR(IF(Q24>=$B$6,"Critical",IF(OR(P24>0,N24>=$B$5),"Watch","Normal")),"")) | V24: =IF(A24="","",IFERROR(IF(C24="","Select room type",IF(D24<=0,"Enter base inventory",IF(E24+F24>D24,"Holds exceed inventory",IF(I24+J24>1,"Review forecast rates","OK")))),"Review data"))
B25: =IF(A25="","",IFERROR(IF(MOD(A25,7)=1,"Sun",IF(MOD(A25,7)=2,"Mon",IF(MOD(A25,7)=3,"Tue",IF(MOD(A25,7)=4,"Wed",IF(MOD(A25,7)=5,"Thu",IF(MOD(A25,7)=6,"Fri","Sat")))))),"")) | G25: =IF(A25="","",IFERROR(MAX(0,D25-E25-F25),0)) | L25: =IF(A25="","",IFERROR(SUMIFS('Reservations'!$J$11:$J$260,'Reservations'!$I$11:$I$260,C25,'Reservations'!$F$11:$F$260,"<="&A25,'Reservations'!$G$11:$G$260,">"&A25,'Reservations'!$M$11:$M$260,"Confirmed")+SUMIFS('Reservations'!$J$11:$J$260,'Reservations'!$I$11:$I$260,C25,'Reservations'!$F$11:$F$260,"<="&A25,'Reservations'!$G$11:$G$260,">"&A25,'Reservations'!$M$11:$M$260,"Guaranteed")+SUMIFS('Reservations'!$J$11:$J$260,'Reservations'!$I$11:$I$260,C25,'Reservations'!$F$11:$F$260,"<="&A25,'Reservations'!$G$11:$G$260,">"&A25,'Reservations'!$M$11:$M$260,"Checked In"),0)) | M25: =IF(A25="","",IFERROR(MAX(0,L25*(1-I25-J25)+K25),0)) | N25: =IF(A25="","",IFERROR(M25/G25,0)) | O25: =IF(A25="","",IFERROR(G25+H25,0)) | P25: =IF(A25="","",IFERROR(MAX(0,ROUNDUP(M25,0)-O25),0)) | Q25: =IF(A25="","",IFERROR(MAX(0,ROUNDUP(M25,0)-G25),0)) | S25: =IF(A25="","",IFERROR(IF(Q25>=$B$6,"Critical",IF(OR(P25>0,N25>=$B$5),"Watch","Normal")),"")) | V25: =IF(A25="","",IFERROR(IF(C25="","Select room type",IF(D25<=0,"Enter base inventory",IF(E25+F25>D25,"Holds exceed inventory",IF(I25+J25>1,"Review forecast rates","OK")))),"Review data"))
