Workbook

Sheet Dashboard
A1: Hotel Operating Supplies Inventory Dashboard
A2: Current stock levels, replenishment priorities, inventory value, and count status
A4: Property Name | B4: Lakeside Harbor Hotel | D4: Last refreshed: | E4: =IFERROR(TODAY(),"")
A5: Physical Count Overdue After Days | B5: 30
A6: Default Vendor Lead Time Days | B6: 7
A7: High-Value Inventory Threshold | B7: 500
A9: Active Inventory Items | C9: Total Units on Hand | E9: Current Inventory Value | G9: Items to Reorder
A10: =IFERROR(COUNTIF('Item Master'!$P$2:$P$151,"Yes"),0) | C10: =IFERROR(SUM('Item Master'!$R$2:$R$151),0) | E10: =IFERROR(SUM('Item Master'!$S$2:$S$151),0) | G10: =IFERROR(COUNTIF('Item Master'!$V$2:$V$151,"Reorder"),0)
A11: Out-of-Stock Items | C11: Overdue Physical Counts | E11: Suggested Order Value | G11: High-Value Items
A12: =IFERROR(COUNTIF('Item Master'!$V$2:$V$151,"Out of Stock"),0) | C12: =IFERROR(COUNTIF('Item Master'!$W$2:$W$151,"Overdue"),0) | E12: =IFERROR(SUM('Item Master'!$U$2:$U$151),0) | G12: =IFERROR(COUNTIF('Item Master'!$Y$2:$Y$151,"High Value"),0)
A13: Inventory value uses the current unit cost in the Item Master and is intended for operational planning.
A14: Purchasing Reorder Queue
A15: Priority | B15: SKU | C15: Item Name | D15: Category | E15: On Hand | F15: Reorder Point | G15: Suggested Order Quantity | H15: Unit | I15: Preferred Vendor | J15: Suggested Order Value
A16: =IFERROR(IF($B16="","",IF(INDEX('Item Master'!$R$2:$R$151,MATCH($B16,'Item Master'!$A$2:$A$151,0))<=0,"Urgent","Reorder")),"") | B16: =IFERROR(INDEX($S$47:$S$196,MATCH(1,$T$47:$T$196,0)),"") | C16: =IFERROR(INDEX('Item Master'!$B$2:$B$151,MATCH($B16,'Item Master'!$A$2:$A$151,0)),"") | D16: =IFERROR(INDEX('Item Master'!$C$2:$C$151,MATCH($B16,'Item Master'!$A$2:$A$151,0)),"") | E16: =IFERROR(INDEX('Item Master'!$R$2:$R$151,MATCH($B16,'Item Master'!$A$2:$A$151,0)),"") | F16: =IFERROR(INDEX('Item Master'!$K$2:$K$151,MATCH($B16,'Item Master'!$A$2:$A$151,0)),"") | G16: =IFERROR(INDEX('Item Master'!$T$2:$T$151,MATCH($B16,'Item Master'!$A$2:$A$151,0)),"") | H16: =IFERROR(VLOOKUP($B16,'Item Master'!$A$2:$Z$151,5,0),"") | I16: =IFERROR(INDEX('Item Master'!$G$2:$G$151,MATCH($B16,'Item Master'!$A$2:$A$151,0)),"") | J16: =IFERROR(INDEX('Item Master'!$U$2:$U$151,MATCH($B16,'Item Master'!$A$2:$A$151,0)),"")
A17: =IFERROR(IF($B17="","",IF(INDEX('Item Master'!$R$2:$R$151,MATCH($B17,'Item Master'!$A$2:$A$151,0))<=0,"Urgent","Reorder")),"") | B17: =IFERROR(INDEX($S$47:$S$196,MATCH(2,$T$47:$T$196,0)),"") | C17: =IFERROR(INDEX('Item Master'!$B$2:$B$151,MATCH($B17,'Item Master'!$A$2:$A$151,0)),"") | D17: =IFERROR(INDEX('Item Master'!$C$2:$C$151,MATCH($B17,'Item Master'!$A$2:$A$151,0)),"") | E17: =IFERROR(INDEX('Item Master'!$R$2:$R$151,MATCH($B17,'Item Master'!$A$2:$A$151,0)),"") | F17: =IFERROR(INDEX('Item Master'!$K$2:$K$151,MATCH($B17,'Item Master'!$A$2:$A$151,0)),"") | G17: =IFERROR(INDEX('Item Master'!$T$2:$T$151,MATCH($B17,'Item Master'!$A$2:$A$151,0)),"") | H17: =IFERROR(VLOOKUP($B17,'Item Master'!$A$2:$Z$151,5,0),"") | I17: =IFERROR(INDEX('Item Master'!$G$2:$G$151,MATCH($B17,'Item Master'!$A$2:$A$151,0)),"") | J17: =IFERROR(INDEX('Item Master'!$U$2:$U$151,MATCH($B17,'Item Master'!$A$2:$A$151,0)),"")
A18: =IFERROR(IF($B18="","",IF(INDEX('Item Master'!$R$2:$R$151,MATCH($B18,'Item Master'!$A$2:$A$151,0))<=0,"Urgent","Reorder")),"") | B18: =IFERROR(INDEX($S$47:$S$196,MATCH(3,$T$47:$T$196,0)),"") | C18: =IFERROR(INDEX('Item Master'!$B$2:$B$151,MATCH($B18,'Item Master'!$A$2:$A$151,0)),"") | D18: =IFERROR(INDEX('Item Master'!$C$2:$C$151,MATCH($B18,'Item Master'!$A$2:$A$151,0)),"") | E18: =IFERROR(INDEX('Item Master'!$R$2:$R$151,MATCH($B18,'Item Master'!$A$2:$A$151,0)),"") | F18: =IFERROR(INDEX('Item Master'!$K$2:$K$151,MATCH($B18,'Item Master'!$A$2:$A$151,0)),"") | G18: =IFERROR(INDEX('Item Master'!$T$2:$T$151,MATCH($B18,'Item Master'!$A$2:$A$151,0)),"") | H18: =IFERROR(VLOOKUP($B18,'Item Master'!$A$2:$Z$151,5,0),"") | I18: =IFERROR(INDEX('Item Master'!$G$2:$G$151,MATCH($B18,'Item Master'!$A$2:$A$151,0)),"") | J18: =IFERROR(INDEX('Item Master'!$U$2:$U$151,MATCH($B18,'Item Master'!$A$2:$A$151,0)),"")
A19: =IFERROR(IF($B19="","",IF(INDEX('Item Master'!$R$2:$R$151,MATCH($B19,'Item Master'!$A$2:$A$151,0))<=0,"Urgent","Reorder")),"") | B19: =IFERROR(INDEX($S$47:$S$196,MATCH(4,$T$47:$T$196,0)),"") | C19: =IFERROR(INDEX('Item Master'!$B$2:$B$151,MATCH($B19,'Item Master'!$A$2:$A$151,0)),"") | D19: =IFERROR(INDEX('Item Master'!$C$2:$C$151,MATCH($B19,'Item Master'!$A$2:$A$151,0)),"") | E19: =IFERROR(INDEX('Item Master'!$R$2:$R$151,MATCH($B19,'Item Master'!$A$2:$A$151,0)),"") | F19: =IFERROR(INDEX('Item Master'!$K$2:$K$151,MATCH($B19,'Item Master'!$A$2:$A$151,0)),"") | G19: =IFERROR(INDEX('Item Master'!$T$2:$T$151,MATCH($B19,'Item Master'!$A$2:$A$151,0)),"") | H19: =IFERROR(VLOOKUP($B19,'Item Master'!$A$2:$Z$151,5,0),"") | I19: =IFERROR(INDEX('Item Master'!$G$2:$G$151,MATCH($B19,'Item Master'!$A$2:$A$151,0)),"") | J19: =IFERROR(INDEX('Item Master'!$U$2:$U$151,MATCH($B19,'Item Master'!$A$2:$A$151,0)),"")
A20: =IFERROR(IF($B20="","",IF(INDEX('Item Master'!$R$2:$R$151,MATCH($B20,'Item Master'!$A$2:$A$151,0))<=0,"Urgent","Reorder")),"") | B20: =IFERROR(INDEX($S$47:$S$196,MATCH(5,$T$47:$T$196,0)),"") | C20: =IFERROR(INDEX('Item Master'!$B$2:$B$151,MATCH($B20,'Item Master'!$A$2:$A$151,0)),"") | D20: =IFERROR(INDEX('Item Master'!$C$2:$C$151,MATCH($B20,'Item Master'!$A$2:$A$151,0)),"") | E20: =IFERROR(INDEX('Item Master'!$R$2:$R$151,MATCH($B20,'Item Master'!$A$2:$A$151,0)),"") | F20: =IFERROR(INDEX('Item Master'!$K$2:$K$151,MATCH($B20,'Item Master'!$A$2:$A$151,0)),"") | G20: =IFERROR(INDEX('Item Master'!$T$2:$T$151,MATCH($B20,'Item Master'!$A$2:$A$151,0)),"") | H20: =IFERROR(VLOOKUP($B20,'Item Master'!$A$2:$Z$151,5,0),"") | I20: =IFERROR(INDEX('Item Master'!$G$2:$G$151,MATCH($B20,'Item Master'!$A$2:$A$151,0)),"") | J20: =IFERROR(INDEX('Item Master'!$U$2:$U$151,MATCH($B20,'Item Master'!$A$2:$A$151,0)),"")
A21: =IFERROR(IF($B21="","",IF(INDEX('Item Master'!$R$2:$R$151,MATCH($B21,'Item Master'!$A$2:$A$151,0))<=0,"Urgent","Reorder")),"") | B21: =IFERROR(INDEX($S$47:$S$196,MATCH(6,$T$47:$T$196,0)),"") | C21: =IFERROR(INDEX('Item Master'!$B$2:$B$151,MATCH($B21,'Item Master'!$A$2:$A$151,0)),"") | D21: =IFERROR(INDEX('Item Master'!$C$2:$C$151,MATCH($B21,'Item Master'!$A$2:$A$151,0)),"") | E21: =IFERROR(INDEX('Item Master'!$R$2:$R$151,MATCH($B21,'Item Master'!$A$2:$A$151,0)),"") | F21: =IFERROR(INDEX('Item Master'!$K$2:$K$151,MATCH($B21,'Item Master'!$A$2:$A$151,0)),"") | G21: =IFERROR(INDEX('Item Master'!$T$2:$T$151,MATCH($B21,'Item Master'!$A$2:$A$151,0)),"") | H21: =IFERROR(VLOOKUP($B21,'Item Master'!$A$2:$Z$151,5,0),"") | I21: =IFERROR(INDEX('Item Master'!$G$2:$G$151,MATCH($B21,'Item Master'!$A$2:$A$151,0)),"") | J21: =IFERROR(INDEX('Item Master'!$U$2:$U$151,MATCH($B21,'Item Master'!$A$2:$A$151,0)),"")
A22: =IFERROR(IF($B22="","",IF(INDEX('Item Master'!$R$2:$R$151,MATCH($B22,'Item Master'!$A$2:$A$151,0))<=0,"Urgent","Reorder")),"") | B22: =IFERROR(INDEX($S$47:$S$196,MATCH(7,$T$47:$T$196,0)),"") | C22: =IFERROR(INDEX('Item Master'!$B$2:$B$151,MATCH($B22,'Item Master'!$A$2:$A$151,0)),"") | D22: =IFERROR(INDEX('Item Master'!$C$2:$C$151,MATCH($B22,'Item Master'!$A$2:$A$151,0)),"") | E22: =IFERROR(INDEX('Item Master'!$R$2:$R$151,MATCH($B22,'Item Master'!$A$2:$A$151,0)),"") | F22: =IFERROR(INDEX('Item Master'!$K$2:$K$151,MATCH($B22,'Item Master'!$A$2:$A$151,0)),"") | G22: =IFERROR(INDEX('Item Master'!$T$2:$T$151,MATCH($B22,'Item Master'!$A$2:$A$151,0)),"") | H22: =IFERROR(VLOOKUP($B22,'Item Master'!$A$2:$Z$151,5,0),"") | I22: =IFERROR(INDEX('Item Master'!$G$2:$G$151,MATCH($B22,'Item Master'!$A$2:$A$151,0)),"") | J22: =IFERROR(INDEX('Item Master'!$U$2:$U$151,MATCH($B22,'Item Master'!$A$2:$A$151,0)),"")
A23: =IFERROR(IF($B23="","",IF(INDEX('Item Master'!$R$2:$R$151,MATCH($B23,'Item Master'!$A$2:$A$151,0))<=0,"Urgent","Reorder")),"") | B23: =IFERROR(INDEX($S$47:$S$196,MATCH(8,$T$47:$T$196,0)),"") | C23: =IFERROR(INDEX('Item Master'!$B$2:$B$151,MATCH($B23,'Item Master'!$A$2:$A$151,0)),"") | D23: =IFERROR(INDEX('Item Master'!$C$2:$C$151,MATCH($B23,'Item Master'!$A$2:$A$151,0)),"") | E23: =IFERROR(INDEX('Item Master'!$R$2:$R$151,MATCH($B23,'Item Master'!$A$2:$A$151,0)),"") | F23: =IFERROR(INDEX('Item Master'!$K$2:$K$151,MATCH($B23,'Item Master'!$A$2:$A$151,0)),"") | G23: =IFERROR(INDEX('Item Master'!$T$2:$T$151,MATCH($B23,'Item Master'!$A$2:$A$151,0)),"") | H23: =IFERROR(VLOOKUP($B23,'Item Master'!$A$2:$Z$151,5,0),"") | I23: =IFERROR(INDEX('Item Master'!$G$2:$G$151,MATCH($B23,'Item Master'!$A$2:$A$151,0)),"") | J23: =IFERROR(INDEX('Item Master'!$U$2:$U$151,MATCH($B23,'Item Master'!$A$2:$A$151,0)),"")
A24: =IFERROR(IF($B24="","",IF(INDEX('Item Master'!$R$2:$R$151,MATCH($B24,'Item Master'!$A$2:$A$151,0))<=0,"Urgent","Reorder")),"") | B24: =IFERROR(INDEX($S$47:$S$196,MATCH(9,$T$47:$T$196,0)),"") | C24: =IFERROR(INDEX('Item Master'!$B$2:$B$151,MATCH($B24,'Item Master'!$A$2:$A$151,0)),"") | D24: =IFERROR(INDEX('Item Master'!$C$2:$C$151,MATCH($B24,'Item Master'!$A$2:$A$151,0)),"") | E24: =IFERROR(INDEX('Item Master'!$R$2:$R$151,MATCH($B24,'Item Master'!$A$2:$A$151,0)),"") | F24: =IFERROR(INDEX('Item Master'!$K$2:$K$151,MATCH($B24,'Item Master'!$A$2:$A$151,0)),"") | G24: =IFERROR(INDEX('Item Master'!$T$2:$T$151,MATCH($B24,'Item Master'!$A$2:$A$151,0)),"") | H24: =IFERROR(VLOOKUP($B24,'Item Master'!$A$2:$Z$151,5,0),"") | I24: =IFERROR(INDEX('Item Master'!$G$2:$G$151,MATCH($B24,'Item Master'!$A$2:$A$151,0)),"") | J24: =IFERROR(INDEX('Item Master'!$U$2:$U$151,MATCH($B24,'Item Master'!$A$2:$A$151,0)),"")
A25: =IFERROR(IF($B25="","",IF(INDEX('Item Master'!$R$2:$R$151,MATCH($B25,'Item Master'!$A$2:$A$151,0))<=0,"Urgent","Reorder")),"") | B25: =IFERROR(INDEX($S$47:$S$196,MATCH(10,$T$47:$T$196,0)),"") | C25: =IFERROR(INDEX('Item Master'!$B$2:$B$151,MATCH($B25,'Item Master'!$A$2:$A$151,0)),"") | D25: =IFERROR(INDEX('Item Master'!$C$2:$C$151,MATCH($B25,'Item Master'!$A$2:$A$151,0)),"") | E25: =IFERROR(INDEX('Item Master'!$R$2:$R$151,MATCH($B25,'Item Master'!$A$2:$A$151,0)),"") | F25: =IFERROR(INDEX('Item Master'!$K$2:$K$151,MATCH($B25,'Item Master'!$A$2:$A$151,0)),"") | G25: =IFERROR(INDEX('Item Master'!$T$2:$T$151,MATCH($B25,'Item Master'!$A$2:$A$151,0)),"") | H25: =IFERROR(VLOOKUP($B25,'Item Master'!$A$2:$Z$151,5,0),"") | I25: =IFERROR(INDEX('Item Master'!$G$2:$G$151,MATCH($B25,'Item Master'!$A$2:$A$151,0)),"") | J25: =IFERROR(INDEX('Item Master'!$U$2:$U$151,MATCH($B25,'Item Master'!$A$2:$A$151,0)),"")
A26: ="" | F26: ="" | G26: ="" | I26: ="" | J26: =""
A27: ="" | F27: ="" | G27: ="" | I27: ="" | J27: =""
A28: Category Summary | F28: ="" | G28: ="" | I28: ="" | J28: =""
A29: Category | B29: Active Items | C29: Units on Hand | D29: Inventory Value | E29: Items to Reorder | F29: ="" | G29: Status | H29: Item Count | I29: ="" | J29: =""
A30: Guest Room Amenities | B30: =IFERROR(COUNTIFS('Item Master'!$C$2:$C$151,$A30,'Item Master'!$P$2:$P$151,"Yes"),0) | C30: =IFERROR(SUMIFS('Item Master'!$R$2:$R$151,'Item Master'!$C$2:$C$151,$A30,'Item Master'!$P$2:$P$151,"Yes"),0) | D30: =IFERROR(SUMIFS('Item Master'!$S$2:$S$151,'Item Master'!$C$2:$C$151,$A30,'Item Master'!$P$2:$P$151,"Yes"),0) | E30: =IFERROR(COUNTIFS('Item Master'!$C$2:$C$151,$A30,'Item Master'!$V$2:$V$151,"Reorder")+COUNTIFS('Item Master'!$C$2:$C$151,$A30,'Item Master'!$V$2:$V$151,"Out of Stock"),0) | F30: ="" | G30: In Stock | H30: =IFERROR(COUNTIF('Item Master'!$V$2:$V$151,$G30),0) | I30: ="" | J30: =""
A31: Housekeeping Chemicals | B31: =IFERROR(COUNTIFS('Item Master'!$C$2:$C$151,$A31,'Item Master'!$P$2:$P$151,"Yes"),0) | C31: =IFERROR(SUMIFS('Item Master'!$R$2:$R$151,'Item Master'!$C$2:$C$151,$A31,'Item Master'!$P$2:$P$151,"Yes"),0) | D31: =IFERROR(SUMIFS('Item Master'!$S$2:$S$151,'Item Master'!$C$2:$C$151,$A31,'Item Master'!$P$2:$P$151,"Yes"),0) | E31: =IFERROR(COUNTIFS('Item Master'!$C$2:$C$151,$A31,'Item Master'!$V$2:$V$151,"Reorder")+COUNTIFS('Item Master'!$C$2:$C$151,$A31,'Item Master'!$V$2:$V$151,"Out of Stock"),0) | F31: ="" | G31: Reorder | H31: =IFERROR(COUNTIF('Item Master'!$V$2:$V$151,$G31),0) | I31: ="" | J31: =""
A32: Linens and Terry | B32: =IFERROR(COUNTIFS('Item Master'!$C$2:$C$151,$A32,'Item Master'!$P$2:$P$151,"Yes"),0) | C32: =IFERROR(SUMIFS('Item Master'!$R$2:$R$151,'Item Master'!$C$2:$C$151,$A32,'Item Master'!$P$2:$P$151,"Yes"),0) | D32: =IFERROR(SUMIFS('Item Master'!$S$2:$S$151,'Item Master'!$C$2:$C$151,$A32,'Item Master'!$P$2:$P$151,"Yes"),0) | E32: =IFERROR(COUNTIFS('Item Master'!$C$2:$C$151,$A32,'Item Master'!$V$2:$V$151,"Reorder")+COUNTIFS('Item Master'!$C$2:$C$151,$A32,'Item Master'!$V$2:$V$151,"Out of Stock"),0) | F32: ="" | G32: Out of Stock | H32: =IFERROR(COUNTIF('Item Master'!$V$2:$V$151,$G32),0) | I32: ="" | J32: =""
A33: Front Office Supplies | B33: =IFERROR(COUNTIFS('Item Master'!$C$2:$C$151,$A33,'Item Master'!$P$2:$P$151,"Yes"),0) | C33: =IFERROR(SUMIFS('Item Master'!$R$2:$R$151,'Item Master'!$C$2:$C$151,$A33,'Item Master'!$P$2:$P$151,"Yes"),0) | D33: =IFERROR(SUMIFS('Item Master'!$S$2:$S$151,'Item Master'!$C$2:$C$151,$A33,'Item Master'!$P$2:$P$151,"Yes"),0) | E33: =IFERROR(COUNTIFS('Item Master'!$C$2:$C$151,$A33,'Item Master'!$V$2:$V$151,"Reorder")+COUNTIFS('Item Master'!$C$2:$C$151,$A33,'Item Master'!$V$2:$V$151,"Out of Stock"),0) | F33: ="" | G33: Inactive | H33: =IFERROR(COUNTIF('Item Master'!$V$2:$V$151,$G33),0) | I33: ="" | J33: =""
A34: Food and Beverage Disposables | B34: =IFERROR(COUNTIFS('Item Master'!$C$2:$C$151,$A34,'Item Master'!$P$2:$P$151,"Yes"),0) | C34: =IFERROR(SUMIFS('Item Master'!$R$2:$R$151,'Item Master'!$C$2:$C$151,$A34,'Item Master'!$P$2:$P$151,"Yes"),0) | D34: =IFERROR(SUMIFS('Item Master'!$S$2:$S$151,'Item Master'!$C$2:$C$151,$A34,'Item Master'!$P$2:$P$151,"Yes"),0) | E34: =IFERROR(COUNTIFS('Item Master'!$C$2:$C$151,$A34,'Item Master'!$V$2:$V$151,"Reorder")+COUNTIFS('Item Master'!$C$2:$C$151,$A34,'Item Master'!$V$2:$V$151,"Out of Stock"),0) | F34: ="" | G34: ="" | H34: ="" | I34: ="" | J34: =""
A35: Engineering Supplies | B35: =IFERROR(COUNTIFS('Item Master'!$C$2:$C$151,$A35,'Item Master'!$P$2:$P$151,"Yes"),0) | C35: =IFERROR(SUMIFS('Item Master'!$R$2:$R$151,'Item Master'!$C$2:$C$151,$A35,'Item Master'!$P$2:$P$151,"Yes"),0) | D35: =IFERROR(SUMIFS('Item Master'!$S$2:$S$151,'Item Master'!$C$2:$C$151,$A35,'Item Master'!$P$2:$P$151,"Yes"),0) | E35: =IFERROR(COUNTIFS('Item Master'!$C$2:$C$151,$A35,'Item Master'!$V$2:$V$151,"Reorder")+COUNTIFS('Item Master'!$C$2:$C$151,$A35,'Item Master'!$V$2:$V$151,"Out of Stock"),0) | F35: ="" | G35: ="" | H35: ="" | I35: ="" | J35: =""
A36: Pool and Recreation | B36: =IFERROR(COUNTIFS('Item Master'!$C$2:$C$151,$A36,'Item Master'!$P$2:$P$151,"Yes"),0) | C36: =IFERROR(SUMIFS('Item Master'!$R$2:$R$151,'Item Master'!$C$2:$C$151,$A36,'Item Master'!$P$2:$P$151,"Yes"),0) | D36: =IFERROR(SUMIFS('Item Master'!$S$2:$S$151,'Item Master'!$C$2:$C$151,$A36,'Item Master'!$P$2:$P$151,"Yes"),0) | E36: =IFERROR(COUNTIFS('Item Master'!$C$2:$C$151,$A36,'Item Master'!$V$2:$V$151,"Reorder")+COUNTIFS('Item Master'!$C$2:$C$151,$A36,'Item Master'!$V$2:$V$151,"Out of Stock"),0) | F36: ="" | G36: ="" | H36: ="" | I36: ="" | J36: =""
A37: Meeting and Banquet Supplies | B37: =IFERROR(COUNTIFS('Item Master'!$C$2:$C$151,$A37,'Item Master'!$P$2:$P$151,"Yes"),0) | C37: =IFERROR(SUMIFS('Item Master'!$R$2:$R$151,'Item Master'!$C$2:$C$151,$A37,'Item Master'!$P$2:$P$151,"Yes"),0) | D37: =IFERROR(SUMIFS('Item Master'!$S$2:$S$151,'Item Master'!$C$2:$C$151,$A37,'Item Master'!$P$2:$P$151,"Yes"),0) | E37: =IFERROR(COUNTIFS('Item Master'!$C$2:$C$151,$A37,'Item Master'!$V$2:$V$151,"Reorder")+COUNTIFS('Item Master'!$C$2:$C$151,$A37,'Item Master'!$V$2:$V$151,"Out of Stock"),0) | F37: ="" | G37: ="" | H37: ="" | I37: ="" | J37: =""
A38: Safety Supplies | B38: =IFERROR(COUNTIFS('Item Master'!$C$2:$C$151,$A38,'Item Master'!$P$2:$P$151,"Yes"),0) | C38: =IFERROR(SUMIFS('Item Master'!$R$2:$R$151,'Item Master'!$C$2:$C$151,$A38,'Item Master'!$P$2:$P$151,"Yes"),0) | D38: =IFERROR(SUMIFS('Item Master'!$S$2:$S$151,'Item Master'!$C$2:$C$151,$A38,'Item Master'!$P$2:$P$151,"Yes"),0) | E38: =IFERROR(COUNTIFS('Item Master'!$C$2:$C$151,$A38,'Item Master'!$V$2:$V$151,"Reorder")+COUNTIFS('Item Master'!$C$2:$C$151,$A38,'Item Master'!$V$2:$V$151,"Out of Stock"),0) | F38: ="" | G38: ="" | H38: ="" | I38: ="" | J38: =""
A39: Other | B39: =IFERROR(COUNTIFS('Item Master'!$C$2:$C$151,$A39,'Item Master'!$P$2:$P$151,"Yes"),0) | C39: =IFERROR(SUMIFS('Item Master'!$R$2:$R$151,'Item Master'!$C$2:$C$151,$A39,'Item Master'!$P$2:$P$151,"Yes"),0) | D39: =IFERROR(SUMIFS('Item Master'!$S$2:$S$151,'Item Master'!$C$2:$C$151,$A39,'Item Master'!$P$2:$P$151,"Yes"),0) | E39: =IFERROR(COUNTIFS('Item Master'!$C$2:$C$151,$A39,'Item Master'!$V$2:$V$151,"Reorder")+COUNTIFS('Item Master'!$C$2:$C$151,$A39,'Item Master'!$V$2:$V$151,"Out of Stock"),0) | F39: ="" | G39: ="" | H39: ="" | I39: ="" | J39: =""
A40: ="" | B40: ="" | C40: ="" | D40: ="" | E40: ="" | F40: ="" | G40: ="" | H40: ="" | ... J40: =""
A41: ="" | B41: ="" | C41: ="" | D41: ="" | E41: ="" | F41: ="" | G41: ="" | H41: ="" | ... J41: =""
A42: ="" | B42: ="" | C42: ="" | D42: ="" | E42: ="" | F42: ="" | G42: ="" | H42: ="" | ... J42: =""
...

Sheet Item Master
A1: SKU | B1: Item Name | C1: Category | D1: Storage Location | E1: Unit | F1: Pack Size | G1: Preferred Vendor | H1: Vendor Item Number | I1: Opening Quantity | J1: Opening Balance Date | K1: Reorder Point | L1: Par Level | M1: Lead Time Days | N1: Current Unit Cost | O1: Last Physical Count Date | P1: Active | Q1: Net Transaction Quantity | R1: On Hand Quantity | S1: Inventory Value | T1: Suggested Order Quantity | U1: Suggested Order Value | V1: Reorder Status | W1: Count Status | X1: Last Transaction Date | Y1: Value Classification | Z1: Operational Check
A2: AMN-SHP-001 | B2: Conditioning Shampoo, 1 oz | C2: Guest Room Amenities | D2: Main Storeroom | E2: Case | F2: 200 | G2: American Hotel Supply | H2: AHS-CS100 | I2: 6 | J2: 46024 | K2: 4 | L2: 12 | M2: 7 | N2: 68 | O2: 46073 | P2: Yes | Q2: =IFERROR(IF($A2="","",SUMIFS('Transactions'!$P$2:$P$301,'Transactions'!$D$2:$D$301,$A2)),0) | R2: =IFERROR(IF($A2="","",$I2+$Q2),"") | S2: =IFERROR(IF($A2="","",$R2*$N2),"") | T2: =IFERROR(IF($A2="","",IF($P2<>"Yes",0,IF($R2<=$K2,MAX($L2-$R2,0),0))),"") | U2: =IFERROR(IF($A2="","",$T2*$N2),"") | V2: =IFERROR(IF($A2="","",IF($P2<>"Yes","Inactive",IF($R2<=0,"Out of Stock",IF($R2<=$K2,"Reorder","In Stock")))),"") | W2: =IFERROR(IF($A2="","",IF($P2<>"Yes","Inactive",IF($O2="","No Count Date",IF(TODAY()-$O2>Dashboard!$B$5,"Overdue","Current")))),"") | X2: =IFERROR(IF($A2="","",IF(COUNTIF('Transactions'!$D$2:$D$301,$A2)=0,"",MAXIFS('Transactions'!$B$2:$B$301,'Transactions'!$D$2:$D$301,$A2))),"") | Y2: =IFERROR(IF($A2="","",IF($S2>=Dashboard!$B$7,"High Value","Standard")),"") | Z2: =IFERROR(IF($A2="","",IF($L2<$K2,"Par below reorder point",IF($N2<0,"Invalid unit cost",IF($R2<0,"Negative on hand",IF(AND($P2="Yes",$O2=""),"Physical count date missing","OK"))))),"")
A3: AMN-SOAP-002 | B3: Facial Soap Bar, 1.25 oz | C3: Guest Room Amenities | D3: Main Storeroom | E3: Case | F3: 500 | G3: American Hotel Supply | H3: AHS-FS125 | I3: 5 | J3: 46024 | K3: 3 | L3: 10 | M3: 7 | N3: 54 | O3: 46073 | P3: Yes | Q3: =IFERROR(IF($A3="","",SUMIFS('Transactions'!$P$2:$P$301,'Transactions'!$D$2:$D$301,$A3)),0) | R3: =IFERROR(IF($A3="","",$I3+$Q3),"") | S3: =IFERROR(IF($A3="","",$R3*$N3),"") | T3: =IFERROR(IF($A3="","",IF($P3<>"Yes",0,IF($R3<=$K3,MAX($L3-$R3,0),0))),"") | U3: =IFERROR(IF($A3="","",$T3*$N3),"") | V3: =IFERROR(IF($A3="","",IF($P3<>"Yes","Inactive",IF($R3<=0,"Out of Stock",IF($R3<=$K3,"Reorder","In Stock")))),"") | W3: =IFERROR(IF($A3="","",IF($P3<>"Yes","Inactive",IF($O3="","No Count Date",IF(TODAY()-$O3>Dashboard!$B$5,"Overdue","Current")))),"") | X3: =IFERROR(IF($A3="","",IF(COUNTIF('Transactions'!$D$2:$D$301,$A3)=0,"",MAXIFS('Transactions'!$B$2:$B$301,'Transactions'!$D$2:$D$301,$A3))),"") | Y3: =IFERROR(IF($A3="","",IF($S3>=Dashboard!$B$7,"High Value","Standard")),"") | Z3: =IFERROR(IF($A3="","",IF($L3<$K3,"Par below reorder point",IF($N3<0,"Invalid unit cost",IF($R3<0,"Negative on hand",IF(AND($P3="Yes",$O3=""),"Physical count date missing","OK"))))),"")
A4: HK-GLS-003 | B4: Glass Cleaner, Ready to Use | C4: Housekeeping Chemicals | D4: Housekeeping Closet | E4: Bottle | F4: 12 | G4: CleanPro Hospitality | H4: CPH-GC32 | I4: 18 | J4: 46024 | K4: 8 | L4: 24 | M4: 5 | N4: 4.25 | O4: 46071 | P4: Yes | Q4: =IFERROR(IF($A4="","",SUMIFS('Transactions'!$P$2:$P$301,'Transactions'!$D$2:$D$301,$A4)),0) | R4: =IFERROR(IF($A4="","",$I4+$Q4),"") | S4: =IFERROR(IF($A4="","",$R4*$N4),"") | T4: =IFERROR(IF($A4="","",IF($P4<>"Yes",0,IF($R4<=$K4,MAX($L4-$R4,0),0))),"") | U4: =IFERROR(IF($A4="","",$T4*$N4),"") | V4: =IFERROR(IF($A4="","",IF($P4<>"Yes","Inactive",IF($R4<=0,"Out of Stock",IF($R4<=$K4,"Reorder","In Stock")))),"") | W4: =IFERROR(IF($A4="","",IF($P4<>"Yes","Inactive",IF($O4="","No Count Date",IF(TODAY()-$O4>Dashboard!$B$5,"Overdue","Current")))),"") | X4: =IFERROR(IF($A4="","",IF(COUNTIF('Transactions'!$D$2:$D$301,$A4)=0,"",MAXIFS('Transactions'!$B$2:$B$301,'Transactions'!$D$2:$D$301,$A4))),"") | Y4: =IFERROR(IF($A4="","",IF($S4>=Dashboard!$B$7,"High Value","Standard")),"") | Z4: =IFERROR(IF($A4="","",IF($L4<$K4,"Par below reorder point",IF($N4<0,"Invalid unit cost",IF($R4<0,"Negative on hand",IF(AND($P4="Yes",$O4=""),"Physical count date missing","OK"))))),"")
A5: LIN-BT-004 | B5: White Bath Towel, 27 x 54 | C5: Linens and Terry | D5: Laundry | E5: Dozen | F5: 12 | G5: National Linen Source | H5: NLS-BT2754 | I5: 22 | J5: 46024 | K5: 12 | L5: 36 | M5: 14 | N5: 96 | O5: 46068 | P5: Yes | Q5: =IFERROR(IF($A5="","",SUMIFS('Transactions'!$P$2:$P$301,'Transactions'!$D$2:$D$301,$A5)),0) | R5: =IFERROR(IF($A5="","",$I5+$Q5),"") | S5: =IFERROR(IF($A5="","",$R5*$N5),"") | T5: =IFERROR(IF($A5="","",IF($P5<>"Yes",0,IF($R5<=$K5,MAX($L5-$R5,0),0))),"") | U5: =IFERROR(IF($A5="","",$T5*$N5),"") | V5: =IFERROR(IF($A5="","",IF($P5<>"Yes","Inactive",IF($R5<=0,"Out of Stock",IF($R5<=$K5,"Reorder","In Stock")))),"") | W5: =IFERROR(IF($A5="","",IF($P5<>"Yes","Inactive",IF($O5="","No Count Date",IF(TODAY()-$O5>Dashboard!$B$5,"Overdue","Current")))),"") | X5: =IFERROR(IF($A5="","",IF(COUNTIF('Transactions'!$D$2:$D$301,$A5)=0,"",MAXIFS('Transactions'!$B$2:$B$301,'Transactions'!$D$2:$D$301,$A5))),"") | Y5: =IFERROR(IF($A5="","",IF($S5>=Dashboard!$B$7,"High Value","Standard")),"") | Z5: =IFERROR(IF($A5="","",IF($L5<$K5,"Par below reorder point",IF($N5<0,"Invalid unit cost",IF($R5<0,"Negative on hand",IF(AND($P5="Yes",$O5=""),"Physical count date missing","OK"))))),"")
A6: FO-KCR-005 | B6: RFID Guest Key Cards | C6: Front Office Supplies | D6: Front Desk | E6: Box | F6: 500 | G6: SecureStay Products | H6: SSP-RFID500 | I6: 4 | J6: 46024 | K6: 2 | L6: 8 | M6: 10 | N6: 82.5 | O6: 46075 | P6: Yes | Q6: =IFERROR(IF($A6="","",SUMIFS('Transactions'!$P$2:$P$301,'Transactions'!$D$2:$D$301,$A6)),0) | R6: =IFERROR(IF($A6="","",$I6+$Q6),"") | S6: =IFERROR(IF($A6="","",$R6*$N6),"") | T6: =IFERROR(IF($A6="","",IF($P6<>"Yes",0,IF($R6<=$K6,MAX($L6-$R6,0),0))),"") | U6: =IFERROR(IF($A6="","",$T6*$N6),"") | V6: =IFERROR(IF($A6="","",IF($P6<>"Yes","Inactive",IF($R6<=0,"Out of Stock",IF($R6<=$K6,"Reorder","In Stock")))),"") | W6: =IFERROR(IF($A6="","",IF($P6<>"Yes","Inactive",IF($O6="","No Count Date",IF(TODAY()-$O6>Dashboard!$B$5,"Overdue","Current")))),"") | X6: =IFERROR(IF($A6="","",IF(COUNTIF('Transactions'!$D$2:$D$301,$A6)=0,"",MAXIFS('Transactions'!$B$2:$B$301,'Transactions'!$D$2:$D$301,$A6))),"") | Y6: =IFERROR(IF($A6="","",IF($S6>=Dashboard!$B$7,"High Value","Standard")),"") | Z6: =IFERROR(IF($A6="","",IF($L6<$K6,"Par below reorder point",IF($N6<0,"Invalid unit cost",IF($R6<0,"Negative on hand",IF(AND($P6="Yes",$O6=""),"Physical count date missing","OK"))))),"")
A7: FB-CUP-006 | B7: Compostable Hot Cup, 12 oz | C7: Food and Beverage Disposables | D7: Kitchen Dry Storage | E7: Case | F7: 1000 | G7: Metro Foodservice Supply | H7: MFS-HC12 | I7: 7 | J7: 46024 | K7: 3 | L7: 10 | M7: 6 | N7: 74 | O7: 46070 | P7: Yes | Q7: =IFERROR(IF($A7="","",SUMIFS('Transactions'!$P$2:$P$301,'Transactions'!$D$2:$D$301,$A7)),0) | R7: =IFERROR(IF($A7="","",$I7+$Q7),"") | S7: =IFERROR(IF($A7="","",$R7*$N7),"") | T7: =IFERROR(IF($A7="","",IF($P7<>"Yes",0,IF($R7<=$K7,MAX($L7-$R7,0),0))),"") | U7: =IFERROR(IF($A7="","",$T7*$N7),"") | V7: =IFERROR(IF($A7="","",IF($P7<>"Yes","Inactive",IF($R7<=0,"Out of Stock",IF($R7<=$K7,"Reorder","In Stock")))),"") | W7: =IFERROR(IF($A7="","",IF($P7<>"Yes","Inactive",IF($O7="","No Count Date",IF(TODAY()-$O7>Dashboard!$B$5,"Overdue","Current")))),"") | X7: =IFERROR(IF($A7="","",IF(COUNTIF('Transactions'!$D$2:$D$301,$A7)=0,"",MAXIFS('Transactions'!$B$2:$B$301,'Transactions'!$D$2:$D$301,$A7))),"") | Y7: =IFERROR(IF($A7="","",IF($S7>=Dashboard!$B$7,"High Value","Standard")),"") | Z7: =IFERROR(IF($A7="","",IF($L7<$K7,"Par below reorder point",IF($N7<0,"Invalid unit cost",IF($R7<0,"Negative on hand",IF(AND($P7="Yes",$O7=""),"Physical count date missing","OK"))))),"")
A8: ENG-LMP-007 | B8: LED A19 Bulb, Soft White | C8: Engineering Supplies | D8: Engineering Shop | E8: Case | F8: 24 | G8: FacilitySource | H8: FS-A19-24 | I8: 5 | J8: 46024 | K8: 2 | L8: 8 | M8: 8 | N8: 42 | O8: 46032 | P8: Yes | Q8: =IFERROR(IF($A8="","",SUMIFS('Transactions'!$P$2:$P$301,'Transactions'!$D$2:$D$301,$A8)),0) | R8: =IFERROR(IF($A8="","",$I8+$Q8),"") | S8: =IFERROR(IF($A8="","",$R8*$N8),"") | T8: =IFERROR(IF($A8="","",IF($P8<>"Yes",0,IF($R8<=$K8,MAX($L8-$R8,0),0))),"") | U8: =IFERROR(IF($A8="","",$T8*$N8),"") | V8: =IFERROR(IF($A8="","",IF($P8<>"Yes","Inactive",IF($R8<=0,"Out of Stock",IF($R8<=$K8,"Reorder","In Stock")))),"") | W8: =IFERROR(IF($A8="","",IF($P8<>"Yes","Inactive",IF($O8="","No Count Date",IF(TODAY()-$O8>Dashboard!$B$5,"Overdue","Current")))),"") | X8: =IFERROR(IF($A8="","",IF(COUNTIF('Transactions'!$D$2:$D$301,$A8)=0,"",MAXIFS('Transactions'!$B$2:$B$301,'Transactions'!$D$2:$D$301,$A8))),"") | Y8: =IFERROR(IF($A8="","",IF($S8>=Dashboard!$B$7,"High Value","Standard")),"") | Z8: =IFERROR(IF($A8="","",IF($L8<$K8,"Par below reorder point",IF($N8<0,"Invalid unit cost",IF($R8<0,"Negative on hand",IF(AND($P8="Yes",$O8=""),"Physical count date missing","OK"))))),"")
A9: POOL-TST-008 | B9: Pool Water Test Strips | C9: Pool and Recreation | D9: Pool Storage | E9: Bottle | F9: 100 | G9: Aqua Hospitality Supply | H9: AHS-TS100 | I9: 3 | J9: 46024 | K9: 2 | L9: 6 | M9: 9 | N9: 19.5 | O9: 46063 | P9: Yes | Q9: =IFERROR(IF($A9="","",SUMIFS('Transactions'!$P$2:$P$301,'Transactions'!$D$2:$D$301,$A9)),0) | R9: =IFERROR(IF($A9="","",$I9+$Q9),"") | S9: =IFERROR(IF($A9="","",$R9*$N9),"") | T9: =IFERROR(IF($A9="","",IF($P9<>"Yes",0,IF($R9<=$K9,MAX($L9-$R9,0),0))),"") | U9: =IFERROR(IF($A9="","",$T9*$N9),"") | V9: =IFERROR(IF($A9="","",IF($P9<>"Yes","Inactive",IF($R9<=0,"Out of Stock",IF($R9<=$K9,"Reorder","In Stock")))),"") | W9: =IFERROR(IF($A9="","",IF($P9<>"Yes","Inactive",IF($O9="","No Count Date",IF(TODAY()-$O9>Dashboard!$B$5,"Overdue","Current")))),"") | X9: =IFERROR(IF($A9="","",IF(COUNTIF('Transactions'!$D$2:$D$301,$A9)=0,"",MAXIFS('Transactions'!$B$2:$B$301,'Transactions'!$D$2:$D$301,$A9))),"") | Y9: =IFERROR(IF($A9="","",IF($S9>=Dashboard!$B$7,"High Value","Standard")),"") | Z9: =IFERROR(IF($A9="","",IF($L9<$K9,"Par below reorder point",IF($N9<0,"Invalid unit cost",IF($R9<0,"Negative on hand",IF(AND($P9="Yes",$O9=""),"Physical count date missing","OK"))))),"")
A10: BAN-NAP-009 | B10: White Cloth Dinner Napkin | C10: Meeting and Banquet Supplies | D10: Banquet Storage | E10: Dozen | F10: 12 | G10: National Linen Source | H10: NLS-DN20 | I10: 30 | J10: 46024 | K10: 18 | L10: 48 | M10: 14 | N10: 34 | O10: 46065 | P10: Yes | Q10: =IFERROR(IF($A10="","",SUMIFS('Transactions'!$P$2:$P$301,'Transactions'!$D$2:$D$301,$A10)),0) | R10: =IFERROR(IF($A10="","",$I10+$Q10),"") | S10: =IFERROR(IF($A10="","",$R10*$N10),"") | T10: =IFERROR(IF($A10="","",IF($P10<>"Yes",0,IF($R10<=$K10,MAX($L10-$R10,0),0))),"") | U10: =IFERROR(IF($A10="","",$T10*$N10),"") | V10: =IFERROR(IF($A10="","",IF($P10<>"Yes","Inactive",IF($R10<=0,"Out of Stock",IF($R10<=$K10,"Reorder","In Stock")))),"") | W10: =IFERROR(IF($A10="","",IF($P10<>"Yes","Inactive",IF($O10="","No Count Date",IF(TODAY()-$O10>Dashboard!$B$5,"Overdue","Current")))),"") | X10: =IFERROR(IF($A10="","",IF(COUNTIF('Transactions'!$D$2:$D$301,$A10)=0,"",MAXIFS('Transactions'!$B$2:$B$301,'Transactions'!$D$2:$D$301,$A10))),"") | Y10: =IFERROR(IF($A10="","",IF($S10>=Dashboard!$B$7,"High Value","Standard")),"") | Z10: =IFERROR(IF($A10="","",IF($L10<$K10,"Par below reorder point",IF($N10<0,"Invalid unit cost",IF($R10<0,"Negative on hand",IF(AND($P10="Yes",$O10=""),"Physical count date missing","OK"))))),"")
A11: SAF-GLV-010 | B11: Nitrile Gloves, Large | C11: Safety Supplies | D11: Main Storeroom | E11: Box | F11: 100 | G11: CleanPro Hospitality | H11: CPH-NGL | I11: 14 | J11: 46024 | K11: 6 | L11: 20 | M11: 5 | N11: 8.75 | O11: 46072 | P11: Yes | Q11: =IFERROR(IF($A11="","",SUMIFS('Transactions'!$P$2:$P$301,'Transactions'!$D$2:$D$301,$A11)),0) | R11: =IFERROR(IF($A11="","",$I11+$Q11),"") | S11: =IFERROR(IF($A11="","",$R11*$N11),"") | T11: =IFERROR(IF($A11="","",IF($P11<>"Yes",0,IF($R11<=$K11,MAX($L11-$R11,0),0))),"") | U11: =IFERROR(IF($A11="","",$T11*$N11),"") | V11: =IFERROR(IF($A11="","",IF($P11<>"Yes","Inactive",IF($R11<=0,"Out of Stock",IF($R11<=$K11,"Reorder","In Stock")))),"") | W11: =IFERROR(IF($A11="","",IF($P11<>"Yes","Inactive",IF($O11="","No Count Date",IF(TODAY()-$O11>Dashboard!$B$5,"Overdue","Current")))),"") | X11: =IFERROR(IF($A11="","",IF(COUNTIF('Transactions'!$D$2:$D$301,$A11)=0,"",MAXIFS('Transactions'!$B$2:$B$301,'Transactions'!$D$2:$D$301,$A11))),"") | Y11: =IFERROR(IF($A11="","",IF($S11>=Dashboard!$B$7,"High Value","Standard")),"") | Z11: =IFERROR(IF($A11="","",IF($L11<$K11,"Par below reorder point",IF($N11<0,"Invalid unit cost",IF($R11<0,"Negative on hand",IF(AND($P11="Yes",$O11=""),"Physical count date missing","OK"))))),"")
Q12: =IFERROR(IF($A12="","",SUMIFS('Transactions'!$P$2:$P$301,'Transactions'!$D$2:$D$301,$A12)),0) | R12: =IFERROR(IF($A12="","",$I12+$Q12),"") | S12: =IFERROR(IF($A12="","",$R12*$N12),"") | T12: =IFERROR(IF($A12="","",IF($P12<>"Yes",0,IF($R12<=$K12,MAX($L12-$R12,0),0))),"") | U12: =IFERROR(IF($A12="","",$T12*$N12),"") | V12: =IFERROR(IF($A12="","",IF($P12<>"Yes","Inactive",IF($R12<=0,"Out of Stock",IF($R12<=$K12,"Reorder","In Stock")))),"") | W12: =IFERROR(IF($A12="","",IF($P12<>"Yes","Inactive",IF($O12="","No Count Date",IF(TODAY()-$O12>Dashboard!$B$5,"Overdue","Current")))),"") | X12: =IFERROR(IF($A12="","",IF(COUNTIF('Transactions'!$D$2:$D$301,$A12)=0,"",MAXIFS('Transactions'!$B$2:$B$301,'Transactions'!$D$2:$D$301,$A12))),"") | Y12: =IFERROR(IF($A12="","",IF($S12>=Dashboard!$B$7,"High Value","Standard")),"") | Z12: =IFERROR(IF($A12="","",IF($L12<$K12,"Par below reorder point",IF($N12<0,"Invalid unit cost",IF($R12<0,"Negative on hand",IF(AND($P12="Yes",$O12=""),"Physical count date missing","OK"))))),"")
Q13: =IFERROR(IF($A13="","",SUMIFS('Transactions'!$P$2:$P$301,'Transactions'!$D$2:$D$301,$A13)),0) | R13: =IFERROR(IF($A13="","",$I13+$Q13),"") | S13: =IFERROR(IF($A13="","",$R13*$N13),"") | T13: =IFERROR(IF($A13="","",IF($P13<>"Yes",0,IF($R13<=$K13,MAX($L13-$R13,0),0))),"") | U13: =IFERROR(IF($A13="","",$T13*$N13),"") | V13: =IFERROR(IF($A13="","",IF($P13<>"Yes","Inactive",IF($R13<=0,"Out of Stock",IF($R13<=$K13,"Reorder","In Stock")))),"") | W13: =IFERROR(IF($A13="","",IF($P13<>"Yes","Inactive",IF($O13="","No Count Date",IF(TODAY()-$O13>Dashboard!$B$5,"Overdue","Current")))),"") | X13: =IFERROR(IF($A13="","",IF(COUNTIF('Transactions'!$D$2:$D$301,$A13)=0,"",MAXIFS('Transactions'!$B$2:$B$301,'Transactions'!$D$2:$D$301,$A13))),"") | Y13: =IFERROR(IF($A13="","",IF($S13>=Dashboard!$B$7,"High Value","Standard")),"") | Z13: =IFERROR(IF($A13="","",IF($L13<$K13,"Par below reorder point",IF($N13<0,"Invalid unit cost",IF($R13<0,"Negative on hand",IF(AND($P13="Yes",$O13=""),"Physical count date missing","OK"))))),"")
Q14: =IFERROR(IF($A14="","",SUMIFS('Transactions'!$P$2:$P$301,'Transactions'!$D$2:$D$301,$A14)),0) | R14: =IFERROR(IF($A14="","",$I14+$Q14),"") | S14: =IFERROR(IF($A14="","",$R14*$N14),"") | T14: =IFERROR(IF($A14="","",IF($P14<>"Yes",0,IF($R14<=$K14,MAX($L14-$R14,0),0))),"") | U14: =IFERROR(IF($A14="","",$T14*$N14),"") | V14: =IFERROR(IF($A14="","",IF($P14<>"Yes","Inactive",IF($R14<=0,"Out of Stock",IF($R14<=$K14,"Reorder","In Stock")))),"") | W14: =IFERROR(IF($A14="","",IF($P14<>"Yes","Inactive",IF($O14="","No Count Date",IF(TODAY()-$O14>Dashboard!$B$5,"Overdue","Current")))),"") | X14: =IFERROR(IF($A14="","",IF(COUNTIF('Transactions'!$D$2:$D$301,$A14)=0,"",MAXIFS('Transactions'!$B$2:$B$301,'Transactions'!$D$2:$D$301,$A14))),"") | Y14: =IFERROR(IF($A14="","",IF($S14>=Dashboard!$B$7,"High Value","Standard")),"") | Z14: =IFERROR(IF($A14="","",IF($L14<$K14,"Par below reorder point",IF($N14<0,"Invalid unit cost",IF($R14<0,"Negative on hand",IF(AND($P14="Yes",$O14=""),"Physical count date missing","OK"))))),"")
Q15: =IFERROR(IF($A15="","",SUMIFS('Transactions'!$P$2:$P$301,'Transactions'!$D$2:$D$301,$A15)),0) | R15: =IFERROR(IF($A15="","",$I15+$Q15),"") | S15: =IFERROR(IF($A15="","",$R15*$N15),"") | T15: =IFERROR(IF($A15="","",IF($P15<>"Yes",0,IF($R15<=$K15,MAX($L15-$R15,0),0))),"") | U15: =IFERROR(IF($A15="","",$T15*$N15),"") | V15: =IFERROR(IF($A15="","",IF($P15<>"Yes","Inactive",IF($R15<=0,"Out of Stock",IF($R15<=$K15,"Reorder","In Stock")))),"") | W15: =IFERROR(IF($A15="","",IF($P15<>"Yes","Inactive",IF($O15="","No Count Date",IF(TODAY()-$O15>Dashboard!$B$5,"Overdue","Current")))),"") | X15: =IFERROR(IF($A15="","",IF(COUNTIF('Transactions'!$D$2:$D$301,$A15)=0,"",MAXIFS('Transactions'!$B$2:$B$301,'Transactions'!$D$2:$D$301,$A15))),"") | Y15: =IFERROR(IF($A15="","",IF($S15>=Dashboard!$B$7,"High Value","Standard")),"") | Z15: =IFERROR(IF($A15="","",IF($L15<$K15,"Par below reorder point",IF($N15<0,"Invalid unit cost",IF($R15<0,"Negative on hand",IF(AND($P15="Yes",$O15=""),"Physical count date missing","OK"))))),"")
Q16: =IFERROR(IF($A16="","",SUMIFS('Transactions'!$P$2:$P$301,'Transactions'!$D$2:$D$301,$A16)),0) | R16: =IFERROR(IF($A16="","",$I16+$Q16),"") | S16: =IFERROR(IF($A16="","",$R16*$N16),"") | T16: =IFERROR(IF($A16="","",IF($P16<>"Yes",0,IF($R16<=$K16,MAX($L16-$R16,0),0))),"") | U16: =IFERROR(IF($A16="","",$T16*$N16),"") | V16: =IFERROR(IF($A16="","",IF($P16<>"Yes","Inactive",IF($R16<=0,"Out of Stock",IF($R16<=$K16,"Reorder","In Stock")))),"") | W16: =IFERROR(IF($A16="","",IF($P16<>"Yes","Inactive",IF($O16="","No Count Date",IF(TODAY()-$O16>Dashboard!$B$5,"Overdue","Current")))),"") | X16: =IFERROR(IF($A16="","",IF(COUNTIF('Transactions'!$D$2:$D$301,$A16)=0,"",MAXIFS('Transactions'!$B$2:$B$301,'Transactions'!$D$2:$D$301,$A16))),"") | Y16: =IFERROR(IF($A16="","",IF($S16>=Dashboard!$B$7,"High Value","Standard")),"") | Z16: =IFERROR(IF($A16="","",IF($L16<$K16,"Par below reorder point",IF($N16<0,"Invalid unit cost",IF($R16<0,"Negative on hand",IF(AND($P16="Yes",$O16=""),"Physical count date missing","OK"))))),"")
Q17: =IFERROR(IF($A17="","",SUMIFS('Transactions'!$P$2:$P$301,'Transactions'!$D$2:$D$301,$A17)),0) | R17: =IFERROR(IF($A17="","",$I17+$Q17),"") | S17: =IFERROR(IF($A17="","",$R17*$N17),"") | T17: =IFERROR(IF($A17="","",IF($P17<>"Yes",0,IF($R17<=$K17,MAX($L17-$R17,0),0))),"") | U17: =IFERROR(IF($A17="","",$T17*$N17),"") | V17: =IFERROR(IF($A17="","",IF($P17<>"Yes","Inactive",IF($R17<=0,"Out of Stock",IF($R17<=$K17,"Reorder","In Stock")))),"") | W17: =IFERROR(IF($A17="","",IF($P17<>"Yes","Inactive",IF($O17="","No Count Date",IF(TODAY()-$O17>Dashboard!$B$5,"Overdue","Current")))),"") | X17: =IFERROR(IF($A17="","",IF(COUNTIF('Transactions'!$D$2:$D$301,$A17)=0,"",MAXIFS('Transactions'!$B$2:$B$301,'Transactions'!$D$2:$D$301,$A17))),"") | Y17: =IFERROR(IF($A17="","",IF($S17>=Dashboard!$B$7,"High Value","Standard")),"") | Z17: =IFERROR(IF($A17="","",IF($L17<$K17,"Par below reorder point",IF($N17<0,"Invalid unit cost",IF($R17<0,"Negative on hand",IF(AND($P17="Yes",$O17=""),"Physical count date missing","OK"))))),"")
Q18: =IFERROR(IF($A18="","",SUMIFS('Transactions'!$P$2:$P$301,'Transactions'!$D$2:$D$301,$A18)),0) | R18: =IFERROR(IF($A18="","",$I18+$Q18),"") | S18: =IFERROR(IF($A18="","",$R18*$N18),"") | T18: =IFERROR(IF($A18="","",IF($P18<>"Yes",0,IF($R18<=$K18,MAX($L18-$R18,0),0))),"") | U18: =IFERROR(IF($A18="","",$T18*$N18),"") | V18: =IFERROR(IF($A18="","",IF($P18<>"Yes","Inactive",IF($R18<=0,"Out of Stock",IF($R18<=$K18,"Reorder","In Stock")))),"") | W18: =IFERROR(IF($A18="","",IF($P18<>"Yes","Inactive",IF($O18="","No Count Date",IF(TODAY()-$O18>Dashboard!$B$5,"Overdue","Current")))),"") | X18: =IFERROR(IF($A18="","",IF(COUNTIF('Transactions'!$D$2:$D$301,$A18)=0,"",MAXIFS('Transactions'!$B$2:$B$301,'Transactions'!$D$2:$D$301,$A18))),"") | Y18: =IFERROR(IF($A18="","",IF($S18>=Dashboard!$B$7,"High Value","Standard")),"") | Z18: =IFERROR(IF($A18="","",IF($L18<$K18,"Par below reorder point",IF($N18<0,"Invalid unit cost",IF($R18<0,"Negative on hand",IF(AND($P18="Yes",$O18=""),"Physical count date missing","OK"))))),"")
Q19: =IFERROR(IF($A19="","",SUMIFS('Transactions'!$P$2:$P$301,'Transactions'!$D$2:$D$301,$A19)),0) | R19: =IFERROR(IF($A19="","",$I19+$Q19),"") | S19: =IFERROR(IF($A19="","",$R19*$N19),"") | T19: =IFERROR(IF($A19="","",IF($P19<>"Yes",0,IF($R19<=$K19,MAX($L19-$R19,0),0))),"") | U19: =IFERROR(IF($A19="","",$T19*$N19),"") | V19: =IFERROR(IF($A19="","",IF($P19<>"Yes","Inactive",IF($R19<=0,"Out of Stock",IF($R19<=$K19,"Reorder","In Stock")))),"") | W19: =IFERROR(IF($A19="","",IF($P19<>"Yes","Inactive",IF($O19="","No Count Date",IF(TODAY()-$O19>Dashboard!$B$5,"Overdue","Current")))),"") | X19: =IFERROR(IF($A19="","",IF(COUNTIF('Transactions'!$D$2:$D$301,$A19)=0,"",MAXIFS('Transactions'!$B$2:$B$301,'Transactions'!$D$2:$D$301,$A19))),"") | Y19: =IFERROR(IF($A19="","",IF($S19>=Dashboard!$B$7,"High Value","Standard")),"") | Z19: =IFERROR(IF($A19="","",IF($L19<$K19,"Par below reorder point",IF($N19<0,"Invalid unit cost",IF($R19<0,"Negative on hand",IF(AND($P19="Yes",$O19=""),"Physical count date missing","OK"))))),"")
Q20: =IFERROR(IF($A20="","",SUMIFS('Transactions'!$P$2:$P$301,'Transactions'!$D$2:$D$301,$A20)),0) | R20: =IFERROR(IF($A20="","",$I20+$Q20),"") | S20: =IFERROR(IF($A20="","",$R20*$N20),"") | T20: =IFERROR(IF($A20="","",IF($P20<>"Yes",0,IF($R20<=$K20,MAX($L20-$R20,0),0))),"") | U20: =IFERROR(IF($A20="","",$T20*$N20),"") | V20: =IFERROR(IF($A20="","",IF($P20<>"Yes","Inactive",IF($R20<=0,"Out of Stock",IF($R20<=$K20,"Reorder","In Stock")))),"") | W20: =IFERROR(IF($A20="","",IF($P20<>"Yes","Inactive",IF($O20="","No Count Date",IF(TODAY()-$O20>Dashboard!$B$5,"Overdue","Current")))),"") | X20: =IFERROR(IF($A20="","",IF(COUNTIF('Transactions'!$D$2:$D$301,$A20)=0,"",MAXIFS('Transactions'!$B$2:$B$301,'Transactions'!$D$2:$D$301,$A20))),"") | Y20: =IFERROR(IF($A20="","",IF($S20>=Dashboard!$B$7,"High Value","Standard")),"") | Z20: =IFERROR(IF($A20="","",IF($L20<$K20,"Par below reorder point",IF($N20<0,"Invalid unit cost",IF($R20<0,"Negative on hand",IF(AND($P20="Yes",$O20=""),"Physical count date missing","OK"))))),"")
Q21: =IFERROR(IF($A21="","",SUMIFS('Transactions'!$P$2:$P$301,'Transactions'!$D$2:$D$301,$A21)),0) | R21: =IFERROR(IF($A21="","",$I21+$Q21),"") | S21: =IFERROR(IF($A21="","",$R21*$N21),"") | T21: =IFERROR(IF($A21="","",IF($P21<>"Yes",0,IF($R21<=$K21,MAX($L21-$R21,0),0))),"") | U21: =IFERROR(IF($A21="","",$T21*$N21),"") | V21: =IFERROR(IF($A21="","",IF($P21<>"Yes","Inactive",IF($R21<=0,"Out of Stock",IF($R21<=$K21,"Reorder","In Stock")))),"") | W21: =IFERROR(IF($A21="","",IF($P21<>"Yes","Inactive",IF($O21="","No Count Date",IF(TODAY()-$O21>Dashboard!$B$5,"Overdue","Current")))),"") | X21: =IFERROR(IF($A21="","",IF(COUNTIF('Transactions'!$D$2:$D$301,$A21)=0,"",MAXIFS('Transactions'!$B$2:$B$301,'Transactions'!$D$2:$D$301,$A21))),"") | Y21: =IFERROR(IF($A21="","",IF($S21>=Dashboard!$B$7,"High Value","Standard")),"") | Z21: =IFERROR(IF($A21="","",IF($L21<$K21,"Par below reorder point",IF($N21<0,"Invalid unit cost",IF($R21<0,"Negative on hand",IF(AND($P21="Yes",$O21=""),"Physical count date missing","OK"))))),"")
Q22: =IFERROR(IF($A22="","",SUMIFS('Transactions'!$P$2:$P$301,'Transactions'!$D$2:$D$301,$A22)),0) | R22: =IFERROR(IF($A22="","",$I22+$Q22),"") | S22: =IFERROR(IF($A22="","",$R22*$N22),"") | T22: =IFERROR(IF($A22="","",IF($P22<>"Yes",0,IF($R22<=$K22,MAX($L22-$R22,0),0))),"") | U22: =IFERROR(IF($A22="","",$T22*$N22),"") | V22: =IFERROR(IF($A22="","",IF($P22<>"Yes","Inactive",IF($R22<=0,"Out of Stock",IF($R22<=$K22,"Reorder","In Stock")))),"") | W22: =IFERROR(IF($A22="","",IF($P22<>"Yes","Inactive",IF($O22="","No Count Date",IF(TODAY()-$O22>Dashboard!$B$5,"Overdue","Current")))),"") | X22: =IFERROR(IF($A22="","",IF(COUNTIF('Transactions'!$D$2:$D$301,$A22)=0,"",MAXIFS('Transactions'!$B$2:$B$301,'Transactions'!$D$2:$D$301,$A22))),"") | Y22: =IFERROR(IF($A22="","",IF($S22>=Dashboard!$B$7,"High Value","Standard")),"") | Z22: =IFERROR(IF($A22="","",IF($L22<$K22,"Par below reorder point",IF($N22<0,"Invalid unit cost",IF($R22<0,"Negative on hand",IF(AND($P22="Yes",$O22=""),"Physical count date missing","OK"))))),"")
Q23: =IFERROR(IF($A23="","",SUMIFS('Transactions'!$P$2:$P$301,'Transactions'!$D$2:$D$301,$A23)),0) | R23: =IFERROR(IF($A23="","",$I23+$Q23),"") | S23: =IFERROR(IF($A23="","",$R23*$N23),"") | T23: =IFERROR(IF($A23="","",IF($P23<>"Yes",0,IF($R23<=$K23,MAX($L23-$R23,0),0))),"") | U23: =IFERROR(IF($A23="","",$T23*$N23),"") | V23: =IFERROR(IF($A23="","",IF($P23<>"Yes","Inactive",IF($R23<=0,"Out of Stock",IF($R23<=$K23,"Reorder","In Stock")))),"") | W23: =IFERROR(IF($A23="","",IF($P23<>"Yes","Inactive",IF($O23="","No Count Date",IF(TODAY()-$O23>Dashboard!$B$5,"Overdue","Current")))),"") | X23: =IFERROR(IF($A23="","",IF(COUNTIF('Transactions'!$D$2:$D$301,$A23)=0,"",MAXIFS('Transactions'!$B$2:$B$301,'Transactions'!$D$2:$D$301,$A23))),"") | Y23: =IFERROR(IF($A23="","",IF($S23>=Dashboard!$B$7,"High Value","Standard")),"") | Z23: =IFERROR(IF($A23="","",IF($L23<$K23,"Par below reorder point",IF($N23<0,"Invalid unit cost",IF($R23<0,"Negative on hand",IF(AND($P23="Yes",$O23=""),"Physical count date missing","OK"))))),"")
... Q151: =IFERROR(IF($A151="","",SUMIFS('Transactions'!$P$2:$P$301,'Transactions'!$D$2:$D$301,$A151)),0) | R151: =IFERROR(IF($A151="","",$I151+$Q151),"") | S151: =IFERROR(IF($A151="","",$R151*$N151),"") | T151: =IFERROR(IF($A151="","",IF($P151<>"Yes",0,IF($R151<=$K151,MAX($L151-$R151,0),0))),"") | U151: =IFERROR(IF($A151="","",$T151*$N151),"") | V151: =IFERROR(IF($A151="","",IF($P151<>"Yes","Inactive",IF($R151<=0,"Out of Stock",IF($R151<=$K151,"Reorder","In Stock")))),"") | W151: =IFERROR(IF($A151="","",IF($P151<>"Yes","Inactive",IF($O151="","No Count Date",IF(TODAY()-$O151>Dashboard!$B$5,"Overdue","Current")))),"") | X151: =IFERROR(IF($A151="","",IF(COUNTIF('Transactions'!$D$2:$D$301,$A151)=0,"",MAXIFS('Transactions'!$B$2:$B$301,'Transactions'!$D$2:$D$301,$A151))),"") | Y151: =IFERROR(IF($A151="","",IF($S151>=Dashboard!$B$7,"High Value","Standard")),"") | Z151: =IFERROR(IF($A151="","",IF($L151<$K151,"Par below reorder point",IF($N151<0,"Invalid unit cost",IF($R151<0,"Negative on hand",IF(AND($P151="Yes",$O151=""),"Physical count date missing","OK"))))),"")

Sheet Transactions
A1: Transaction ID | B1: Transaction Date | C1: Transaction Type | D1: SKU | E1: Item Name | F1: Category | G1: Storage Location | H1: Quantity | I1: Unit | J1: Transaction Unit Cost | K1: Extended Value | L1: Reference | M1: Department or Issued To | N1: Entered By | O1: Notes | P1: Signed Quantity | Q1: Transaction Check
A2: TXN-2026-0001 | B2: 46030 | C2: Receipt | D2: AMN-SHP-001 | E2: =IFERROR(IF($D2="","",INDEX('Item Master'!$B$2:$B$151,MATCH($D2,'Item Master'!$A$2:$A$151,0))),"SKU not found") | F2: =IFERROR(IF($D2="","",INDEX('Item Master'!$C$2:$C$151,MATCH($D2,'Item Master'!$A$2:$A$151,0))),"") | G2: =IFERROR(IF($D2="","",INDEX('Item Master'!$D$2:$D$151,MATCH($D2,'Item Master'!$A$2:$A$151,0))),"") | H2: 4 | I2: =IFERROR(IF($D2="","",INDEX('Item Master'!$E$2:$E$151,MATCH($D2,'Item Master'!$A$2:$A$151,0))),"") | J2: 67.5 | K2: =IFERROR(IF($A2="","",$H2*IF($J2="",INDEX('Item Master'!$N$2:$N$151,MATCH($D2,'Item Master'!$A$2:$A$151,0)),$J2)),"") | L2: PO-2026-011 | M2: Receiving | N2: Maria Lopez | O2: Guest amenity replenishment | P2: =IFERROR(IF($A2="","",IF(OR($C2="Receipt",$C2="Adjustment Increase"),$H2,IF(OR($C2="Issue",$C2="Adjustment Decrease",$C2="Return to Vendor"),-$H2,0))),"") | Q2: =IFERROR(IF($A2="","",IF($B2="","Date missing",IF($C2="","Type missing",IF($D2="","SKU missing",IF($E2="SKU not found","Invalid SKU",IF(OR($H2="",$H2<=0),"Invalid quantity",IF(AND($C2="Issue",$M2=""),"Department missing","OK"))))))),"")
A3: TXN-2026-0002 | B3: 46037 | C3: Issue | D3: AMN-SHP-001 | E3: =IFERROR(IF($D3="","",INDEX('Item Master'!$B$2:$B$151,MATCH($D3,'Item Master'!$A$2:$A$151,0))),"SKU not found") | F3: =IFERROR(IF($D3="","",INDEX('Item Master'!$C$2:$C$151,MATCH($D3,'Item Master'!$A$2:$A$151,0))),"") | G3: =IFERROR(IF($D3="","",INDEX('Item Master'!$D$2:$D$151,MATCH($D3,'Item Master'!$A$2:$A$151,0))),"") | H3: 7 | I3: =IFERROR(IF($D3="","",INDEX('Item Master'!$E$2:$E$151,MATCH($D3,'Item Master'!$A$2:$A$151,0))),"") | K3: =IFERROR(IF($A3="","",$H3*IF($J3="",INDEX('Item Master'!$N$2:$N$151,MATCH($D3,'Item Master'!$A$2:$A$151,0)),$J3)),"") | L3: HK-REQ-014 | M3: Housekeeping | N3: Daniel Reed | O3: Issued for occupied room service | P3: =IFERROR(IF($A3="","",IF(OR($C3="Receipt",$C3="Adjustment Increase"),$H3,IF(OR($C3="Issue",$C3="Adjustment Decrease",$C3="Return to Vendor"),-$H3,0))),"") | Q3: =IFERROR(IF($A3="","",IF($B3="","Date missing",IF($C3="","Type missing",IF($D3="","SKU missing",IF($E3="SKU not found","Invalid SKU",IF(OR($H3="",$H3<=0),"Invalid quantity",IF(AND($C3="Issue",$M3=""),"Department missing","OK"))))))),"")
A4: TXN-2026-0003 | B4: 46040 | C4: Issue | D4: AMN-SOAP-002 | E4: =IFERROR(IF($D4="","",INDEX('Item Master'!$B$2:$B$151,MATCH($D4,'Item Master'!$A$2:$A$151,0))),"SKU not found") | F4: =IFERROR(IF($D4="","",INDEX('Item Master'!$C$2:$C$151,MATCH($D4,'Item Master'!$A$2:$A$151,0))),"") | G4: =IFERROR(IF($D4="","",INDEX('Item Master'!$D$2:$D$151,MATCH($D4,'Item Master'!$A$2:$A$151,0))),"") | H4: 3 | I4: =IFERROR(IF($D4="","",INDEX('Item Master'!$E$2:$E$151,MATCH($D4,'Item Master'!$A$2:$A$151,0))),"") | K4: =IFERROR(IF($A4="","",$H4*IF($J4="",INDEX('Item Master'!$N$2:$N$151,MATCH($D4,'Item Master'!$A$2:$A$151,0)),$J4)),"") | L4: HK-REQ-019 | M4: Housekeeping | N4: Daniel Reed | O4: Floor closet restock | P4: =IFERROR(IF($A4="","",IF(OR($C4="Receipt",$C4="Adjustment Increase"),$H4,IF(OR($C4="Issue",$C4="Adjustment Decrease",$C4="Return to Vendor"),-$H4,0))),"") | Q4: =IFERROR(IF($A4="","",IF($B4="","Date missing",IF($C4="","Type missing",IF($D4="","SKU missing",IF($E4="SKU not found","Invalid SKU",IF(OR($H4="",$H4<=0),"Invalid quantity",IF(AND($C4="Issue",$M4=""),"Department missing","OK"))))))),"")
A5: TXN-2026-0004 | B5: 46043 | C5: Issue | D5: HK-GLS-003 | E5: =IFERROR(IF($D5="","",INDEX('Item Master'!$B$2:$B$151,MATCH($D5,'Item Master'!$A$2:$A$151,0))),"SKU not found") | F5: =IFERROR(IF($D5="","",INDEX('Item Master'!$C$2:$C$151,MATCH($D5,'Item Master'!$A$2:$A$151,0))),"") | G5: =IFERROR(IF($D5="","",INDEX('Item Master'!$D$2:$D$151,MATCH($D5,'Item Master'!$A$2:$A$151,0))),"") | H5: 11 | I5: =IFERROR(IF($D5="","",INDEX('Item Master'!$E$2:$E$151,MATCH($D5,'Item Master'!$A$2:$A$151,0))),"") | K5: =IFERROR(IF($A5="","",$H5*IF($J5="",INDEX('Item Master'!$N$2:$N$151,MATCH($D5,'Item Master'!$A$2:$A$151,0)),$J5)),"") | L5: HK-REQ-024 | M5: Housekeeping | N5: Tasha Green | O5: Weekly chemical issue | P5: =IFERROR(IF($A5="","",IF(OR($C5="Receipt",$C5="Adjustment Increase"),$H5,IF(OR($C5="Issue",$C5="Adjustment Decrease",$C5="Return to Vendor"),-$H5,0))),"") | Q5: =IFERROR(IF($A5="","",IF($B5="","Date missing",IF($C5="","Type missing",IF($D5="","SKU missing",IF($E5="SKU not found","Invalid SKU",IF(OR($H5="",$H5<=0),"Invalid quantity",IF(AND($C5="Issue",$M5=""),"Department missing","OK"))))))),"")
A6: TXN-2026-0005 | B6: 46049 | C6: Adjustment Decrease | D6: LIN-BT-004 | E6: =IFERROR(IF($D6="","",INDEX('Item Master'!$B$2:$B$151,MATCH($D6,'Item Master'!$A$2:$A$151,0))),"SKU not found") | F6: =IFERROR(IF($D6="","",INDEX('Item Master'!$C$2:$C$151,MATCH($D6,'Item Master'!$A$2:$A$151,0))),"") | G6: =IFERROR(IF($D6="","",INDEX('Item Master'!$D$2:$D$151,MATCH($D6,'Item Master'!$A$2:$A$151,0))),"") | H6: 3 | I6: =IFERROR(IF($D6="","",INDEX('Item Master'!$E$2:$E$151,MATCH($D6,'Item Master'!$A$2:$A$151,0))),"") | K6: =IFERROR(IF($A6="","",$H6*IF($J6="",INDEX('Item Master'!$N$2:$N$151,MATCH($D6,'Item Master'!$A$2:$A$151,0)),$J6)),"") | L6: COUNT-2026-01 | M6: Laundry | N6: Erin Walsh | O6: Damaged towels removed after count | P6: =IFERROR(IF($A6="","",IF(OR($C6="Receipt",$C6="Adjustment Increase"),$H6,IF(OR($C6="Issue",$C6="Adjustment Decrease",$C6="Return to Vendor"),-$H6,0))),"") | Q6: =IFERROR(IF($A6="","",IF($B6="","Date missing",IF($C6="","Type missing",IF($D6="","SKU missing",IF($E6="SKU not found","Invalid SKU",IF(OR($H6="",$H6<=0),"Invalid quantity",IF(AND($C6="Issue",$M6=""),"Department missing","OK"))))))),"")
A7: TXN-2026-0006 | B7: 46055 | C7: Issue | D7: FO-KCR-005 | E7: =IFERROR(IF($D7="","",INDEX('Item Master'!$B$2:$B$151,MATCH($D7,'Item Master'!$A$2:$A$151,0))),"SKU not found") | F7: =IFERROR(IF($D7="","",INDEX('Item Master'!$C$2:$C$151,MATCH($D7,'Item Master'!$A$2:$A$151,0))),"") | G7: =IFERROR(IF($D7="","",INDEX('Item Master'!$D$2:$D$151,MATCH($D7,'Item Master'!$A$2:$A$151,0))),"") | H7: 3 | I7: =IFERROR(IF($D7="","",INDEX('Item Master'!$E$2:$E$151,MATCH($D7,'Item Master'!$A$2:$A$151,0))),"") | K7: =IFERROR(IF($A7="","",$H7*IF($J7="",INDEX('Item Master'!$N$2:$N$151,MATCH($D7,'Item Master'!$A$2:$A$151,0)),$J7)),"") | L7: FO-REQ-006 | M7: Front Office | N7: Kevin Brooks | O7: Key card stock issued to desk | P7: =IFERROR(IF($A7="","",IF(OR($C7="Receipt",$C7="Adjustment Increase"),$H7,IF(OR($C7="Issue",$C7="Adjustment Decrease",$C7="Return to Vendor"),-$H7,0))),"") | Q7: =IFERROR(IF($A7="","",IF($B7="","Date missing",IF($C7="","Type missing",IF($D7="","SKU missing",IF($E7="SKU not found","Invalid SKU",IF(OR($H7="",$H7<=0),"Invalid quantity",IF(AND($C7="Issue",$M7=""),"Department missing","OK"))))))),"")
A8: TXN-2026-0007 | B8: 46059 | C8: Receipt | D8: FB-CUP-006 | E8: =IFERROR(IF($D8="","",INDEX('Item Master'!$B$2:$B$151,MATCH($D8,'Item Master'!$A$2:$A$151,0))),"SKU not found") | F8: =IFERROR(IF($D8="","",INDEX('Item Master'!$C$2:$C$151,MATCH($D8,'Item Master'!$A$2:$A$151,0))),"") | G8: =IFERROR(IF($D8="","",INDEX('Item Master'!$D$2:$D$151,MATCH($D8,'Item Master'!$A$2:$A$151,0))),"") | H8: 5 | I8: =IFERROR(IF($D8="","",INDEX('Item Master'!$E$2:$E$151,MATCH($D8,'Item Master'!$A$2:$A$151,0))),"") | J8: 72.8 | K8: =IFERROR(IF($A8="","",$H8*IF($J8="",INDEX('Item Master'!$N$2:$N$151,MATCH($D8,'Item Master'!$A$2:$A$151,0)),$J8)),"") | L8: PO-2026-036 | M8: Receiving | N8: Maria Lopez | O8: Coffee station supplies | P8: =IFERROR(IF($A8="","",IF(OR($C8="Receipt",$C8="Adjustment Increase"),$H8,IF(OR($C8="Issue",$C8="Adjustment Decrease",$C8="Return to Vendor"),-$H8,0))),"") | Q8: =IFERROR(IF($A8="","",IF($B8="","Date missing",IF($C8="","Type missing",IF($D8="","SKU missing",IF($E8="SKU not found","Invalid SKU",IF(OR($H8="",$H8<=0),"Invalid quantity",IF(AND($C8="Issue",$M8=""),"Department missing","OK"))))))),"")
A9: TXN-2026-0008 | B9: 46062 | C9: Issue | D9: ENG-LMP-007 | E9: =IFERROR(IF($D9="","",INDEX('Item Master'!$B$2:$B$151,MATCH($D9,'Item Master'!$A$2:$A$151,0))),"SKU not found") | F9: =IFERROR(IF($D9="","",INDEX('Item Master'!$C$2:$C$151,MATCH($D9,'Item Master'!$A$2:$A$151,0))),"") | G9: =IFERROR(IF($D9="","",INDEX('Item Master'!$D$2:$D$151,MATCH($D9,'Item Master'!$A$2:$A$151,0))),"") | H9: 4 | I9: =IFERROR(IF($D9="","",INDEX('Item Master'!$E$2:$E$151,MATCH($D9,'Item Master'!$A$2:$A$151,0))),"") | K9: =IFERROR(IF($A9="","",$H9*IF($J9="",INDEX('Item Master'!$N$2:$N$151,MATCH($D9,'Item Master'!$A$2:$A$151,0)),$J9)),"") | L9: ENG-WO-118 | M9: Engineering | N9: Andre Miller | O9: Guest room lighting replacements | P9: =IFERROR(IF($A9="","",IF(OR($C9="Receipt",$C9="Adjustment Increase"),$H9,IF(OR($C9="Issue",$C9="Adjustment Decrease",$C9="Return to Vendor"),-$H9,0))),"") | Q9: =IFERROR(IF($A9="","",IF($B9="","Date missing",IF($C9="","Type missing",IF($D9="","SKU missing",IF($E9="SKU not found","Invalid SKU",IF(OR($H9="",$H9<=0),"Invalid quantity",IF(AND($C9="Issue",$M9=""),"Department missing","OK"))))))),"")
A10: TXN-2026-0009 | B10: 46067 | C10: Issue | D10: POOL-TST-008 | E10: =IFERROR(IF($D10="","",INDEX('Item Master'!$B$2:$B$151,MATCH($D10,'Item Master'!$A$2:$A$151,0))),"SKU not found") | F10: =IFERROR(IF($D10="","",INDEX('Item Master'!$C$2:$C$151,MATCH($D10,'Item Master'!$A$2:$A$151,0))),"") | G10: =IFERROR(IF($D10="","",INDEX('Item Master'!$D$2:$D$151,MATCH($D10,'Item Master'!$A$2:$A$151,0))),"") | H10: 2 | I10: =IFERROR(IF($D10="","",INDEX('Item Master'!$E$2:$E$151,MATCH($D10,'Item Master'!$A$2:$A$151,0))),"") | K10: =IFERROR(IF($A10="","",$H10*IF($J10="",INDEX('Item Master'!$N$2:$N$151,MATCH($D10,'Item Master'!$A$2:$A$151,0)),$J10)),"") | L10: POOL-REQ-003 | M10: Pool and Recreation | N10: Nina Patel | O10: Daily water testing supplies | P10: =IFERROR(IF($A10="","",IF(OR($C10="Receipt",$C10="Adjustment Increase"),$H10,IF(OR($C10="Issue",$C10="Adjustment Decrease",$C10="Return to Vendor"),-$H10,0))),"") | Q10: =IFERROR(IF($A10="","",IF($B10="","Date missing",IF($C10="","Type missing",IF($D10="","SKU missing",IF($E10="SKU not found","Invalid SKU",IF(OR($H10="",$H10<=0),"Invalid quantity",IF(AND($C10="Issue",$M10=""),"Department missing","OK"))))))),"")
A11: TXN-2026-0010 | B11: 46071 | C11: Issue | D11: SAF-GLV-010 | E11: =IFERROR(IF($D11="","",INDEX('Item Master'!$B$2:$B$151,MATCH($D11,'Item Master'!$A$2:$A$151,0))),"SKU not found") | F11: =IFERROR(IF($D11="","",INDEX('Item Master'!$C$2:$C$151,MATCH($D11,'Item Master'!$A$2:$A$151,0))),"") | G11: =IFERROR(IF($D11="","",INDEX('Item Master'!$D$2:$D$151,MATCH($D11,'Item Master'!$A$2:$A$151,0))),"") | H11: 9 | I11: =IFERROR(IF($D11="","",INDEX('Item Master'!$E$2:$E$151,MATCH($D11,'Item Master'!$A$2:$A$151,0))),"") | K11: =IFERROR(IF($A11="","",$H11*IF($J11="",INDEX('Item Master'!$N$2:$N$151,MATCH($D11,'Item Master'!$A$2:$A$151,0)),$J11)),"") | L11: HK-REQ-041 | M11: Housekeeping | N11: Tasha Green | O11: Protective glove restock | P11: =IFERROR(IF($A11="","",IF(OR($C11="Receipt",$C11="Adjustment Increase"),$H11,IF(OR($C11="Issue",$C11="Adjustment Decrease",$C11="Return to Vendor"),-$H11,0))),"") | Q11: =IFERROR(IF($A11="","",IF($B11="","Date missing",IF($C11="","Type missing",IF($D11="","SKU missing",IF($E11="SKU not found","Invalid SKU",IF(OR($H11="",$H11<=0),"Invalid quantity",IF(AND($C11="Issue",$M11=""),"Department missing","OK"))))))),"")
E12: =IFERROR(IF($D12="","",INDEX('Item Master'!$B$2:$B$151,MATCH($D12,'Item Master'!$A$2:$A$151,0))),"SKU not found") | F12: =IFERROR(IF($D12="","",INDEX('Item Master'!$C$2:$C$151,MATCH($D12,'Item Master'!$A$2:$A$151,0))),"") | G12: =IFERROR(IF($D12="","",INDEX('Item Master'!$D$2:$D$151,MATCH($D12,'Item Master'!$A$2:$A$151,0))),"") | I12: =IFERROR(IF($D12="","",INDEX('Item Master'!$E$2:$E$151,MATCH($D12,'Item Master'!$A$2:$A$151,0))),"") | K12: =IFERROR(IF($A12="","",$H12*IF($J12="",INDEX('Item Master'!$N$2:$N$151,MATCH($D12,'Item Master'!$A$2:$A$151,0)),$J12)),"") | P12: =IFERROR(IF($A12="","",IF(OR($C12="Receipt",$C12="Adjustment Increase"),$H12,IF(OR($C12="Issue",$C12="Adjustment Decrease",$C12="Return to Vendor"),-$H12,0))),"") | Q12: =IFERROR(IF($A12="","",IF($B12="","Date missing",IF($C12="","Type missing",IF($D12="","SKU missing",IF($E12="SKU not found","Invalid SKU",IF(OR($H12="",$H12<=0),"Invalid quantity",IF(AND($C12="Issue",$M12=""),"Department missing","OK"))))))),"")
E13: =IFERROR(IF($D13="","",INDEX('Item Master'!$B$2:$B$151,MATCH($D13,'Item Master'!$A$2:$A$151,0))),"SKU not found") | F13: =IFERROR(IF($D13="","",INDEX('Item Master'!$C$2:$C$151,MATCH($D13,'Item Master'!$A$2:$A$151,0))),"") | G13: =IFERROR(IF($D13="","",INDEX('Item Master'!$D$2:$D$151,MATCH($D13,'Item Master'!$A$2:$A$151,0))),"") | I13: =IFERROR(IF($D13="","",INDEX('Item Master'!$E$2:$E$151,MATCH($D13,'Item Master'!$A$2:$A$151,0))),"") | K13: =IFERROR(IF($A13="","",$H13*IF($J13="",INDEX('Item Master'!$N$2:$N$151,MATCH($D13,'Item Master'!$A$2:$A$151,0)),$J13)),"") | P13: =IFERROR(IF($A13="","",IF(OR($C13="Receipt",$C13="Adjustment Increase"),$H13,IF(OR($C13="Issue",$C13="Adjustment Decrease",$C13="Return to Vendor"),-$H13,0))),"") | Q13: =IFERROR(IF($A13="","",IF($B13="","Date missing",IF($C13="","Type missing",IF($D13="","SKU missing",IF($E13="SKU not found","Invalid SKU",IF(OR($H13="",$H13<=0),"Invalid quantity",IF(AND($C13="Issue",$M13=""),"Department missing","OK"))))))),"")
E14: =IFERROR(IF($D14="","",INDEX('Item Master'!$B$2:$B$151,MATCH($D14,'Item Master'!$A$2:$A$151,0))),"SKU not found") | F14: =IFERROR(IF($D14="","",INDEX('Item Master'!$C$2:$C$151,MATCH($D14,'Item Master'!$A$2:$A$151,0))),"") | G14: =IFERROR(IF($D14="","",INDEX('Item Master'!$D$2:$D$151,MATCH($D14,'Item Master'!$A$2:$A$151,0))),"") | I14: =IFERROR(IF($D14="","",INDEX('Item Master'!$E$2:$E$151,MATCH($D14,'Item Master'!$A$2:$A$151,0))),"") | K14: =IFERROR(IF($A14="","",$H14*IF($J14="",INDEX('Item Master'!$N$2:$N$151,MATCH($D14,'Item Master'!$A$2:$A$151,0)),$J14)),"") | P14: =IFERROR(IF($A14="","",IF(OR($C14="Receipt",$C14="Adjustment Increase"),$H14,IF(OR($C14="Issue",$C14="Adjustment Decrease",$C14="Return to Vendor"),-$H14,0))),"") | Q14: =IFERROR(IF($A14="","",IF($B14="","Date missing",IF($C14="","Type missing",IF($D14="","SKU missing",IF($E14="SKU not found","Invalid SKU",IF(OR($H14="",$H14<=0),"Invalid quantity",IF(AND($C14="Issue",$M14=""),"Department missing","OK"))))))),"")
E15: =IFERROR(IF($D15="","",INDEX('Item Master'!$B$2:$B$151,MATCH($D15,'Item Master'!$A$2:$A$151,0))),"SKU not found") | F15: =IFERROR(IF($D15="","",INDEX('Item Master'!$C$2:$C$151,MATCH($D15,'Item Master'!$A$2:$A$151,0))),"") | G15: =IFERROR(IF($D15="","",INDEX('Item Master'!$D$2:$D$151,MATCH($D15,'Item Master'!$A$2:$A$151,0))),"") | I15: =IFERROR(IF($D15="","",INDEX('Item Master'!$E$2:$E$151,MATCH($D15,'Item Master'!$A$2:$A$151,0))),"") | K15: =IFERROR(IF($A15="","",$H15*IF($J15="",INDEX('Item Master'!$N$2:$N$151,MATCH($D15,'Item Master'!$A$2:$A$151,0)),$J15)),"") | P15: =IFERROR(IF($A15="","",IF(OR($C15="Receipt",$C15="Adjustment Increase"),$H15,IF(OR($C15="Issue",$C15="Adjustment Decrease",$C15="Return to Vendor"),-$H15,0))),"") | Q15: =IFERROR(IF($A15="","",IF($B15="","Date missing",IF($C15="","Type missing",IF($D15="","SKU missing",IF($E15="SKU not found","Invalid SKU",IF(OR($H15="",$H15<=0),"Invalid quantity",IF(AND($C15="Issue",$M15=""),"Department missing","OK"))))))),"")
