Workbook

Sheet Dashboard
A1: Hotel No-Show Cost Dashboard
A2: Track lost revenue, recovered charges, room resales, avoided costs, and collection follow-up. | T2: Month | U2: Month Start | V2: Gross Expected Revenue | W2: Total Revenue Recovered | X2: Net No-Show Cost | Y2: No-Show Reservations
T3: 46023 | U3: 46023 | V3: =IFERROR(SUMIFS('No-Show Log'!$W$5:$W$504,'No-Show Log'!$B$5:$B$504,">="&MAX($B$4,$U3),'No-Show Log'!$B$5:$B$504,"<"&MIN($D$4+1,DATE(2026,2,1))),0) | W3: =IFERROR(SUMIFS('No-Show Log'!$AH$5:$AH$504,'No-Show Log'!$B$5:$B$504,">="&MAX($B$4,$U3),'No-Show Log'!$B$5:$B$504,"<"&MIN($D$4+1,DATE(2026,2,1))),0) | X3: =IFERROR(SUMIFS('No-Show Log'!$AJ$5:$AJ$504,'No-Show Log'!$B$5:$B$504,">="&MAX($B$4,$U3),'No-Show Log'!$B$5:$B$504,"<"&MIN($D$4+1,DATE(2026,2,1))),0) | Y3: =IFERROR(COUNTIFS('No-Show Log'!$B$5:$B$504,">="&MAX($B$4,$U3),'No-Show Log'!$B$5:$B$504,"<"&MIN($D$4+1,DATE(2026,2,1)),'No-Show Log'!$A$5:$A$504,"<>"),0)
A4: Report Start Date | B4: 46023 | C4: Report End Date | D4: 46387 | F4: Change the report dates below to update dashboard metrics and charts. | T4: 46054 | U4: 46054 | V4: =IFERROR(SUMIFS('No-Show Log'!$W$5:$W$504,'No-Show Log'!$B$5:$B$504,">="&MAX($B$4,$U4),'No-Show Log'!$B$5:$B$504,"<"&MIN($D$4+1,DATE(2026,3,1))),0) | W4: =IFERROR(SUMIFS('No-Show Log'!$AH$5:$AH$504,'No-Show Log'!$B$5:$B$504,">="&MAX($B$4,$U4),'No-Show Log'!$B$5:$B$504,"<"&MIN($D$4+1,DATE(2026,3,1))),0) | X4: =IFERROR(SUMIFS('No-Show Log'!$AJ$5:$AJ$504,'No-Show Log'!$B$5:$B$504,">="&MAX($B$4,$U4),'No-Show Log'!$B$5:$B$504,"<"&MIN($D$4+1,DATE(2026,3,1))),0) | Y4: =IFERROR(COUNTIFS('No-Show Log'!$B$5:$B$504,">="&MAX($B$4,$U4),'No-Show Log'!$B$5:$B$504,"<"&MIN($D$4+1,DATE(2026,3,1)),'No-Show Log'!$A$5:$A$504,"<>"),0)
T5: 46082 | U5: 46082 | V5: =IFERROR(SUMIFS('No-Show Log'!$W$5:$W$504,'No-Show Log'!$B$5:$B$504,">="&MAX($B$4,$U5),'No-Show Log'!$B$5:$B$504,"<"&MIN($D$4+1,DATE(2026,4,1))),0) | W5: =IFERROR(SUMIFS('No-Show Log'!$AH$5:$AH$504,'No-Show Log'!$B$5:$B$504,">="&MAX($B$4,$U5),'No-Show Log'!$B$5:$B$504,"<"&MIN($D$4+1,DATE(2026,4,1))),0) | X5: =IFERROR(SUMIFS('No-Show Log'!$AJ$5:$AJ$504,'No-Show Log'!$B$5:$B$504,">="&MAX($B$4,$U5),'No-Show Log'!$B$5:$B$504,"<"&MIN($D$4+1,DATE(2026,4,1))),0) | Y5: =IFERROR(COUNTIFS('No-Show Log'!$B$5:$B$504,">="&MAX($B$4,$U5),'No-Show Log'!$B$5:$B$504,"<"&MIN($D$4+1,DATE(2026,4,1)),'No-Show Log'!$A$5:$A$504,"<>"),0)
T6: 46113 | U6: 46113 | V6: =IFERROR(SUMIFS('No-Show Log'!$W$5:$W$504,'No-Show Log'!$B$5:$B$504,">="&MAX($B$4,$U6),'No-Show Log'!$B$5:$B$504,"<"&MIN($D$4+1,DATE(2026,5,1))),0) | W6: =IFERROR(SUMIFS('No-Show Log'!$AH$5:$AH$504,'No-Show Log'!$B$5:$B$504,">="&MAX($B$4,$U6),'No-Show Log'!$B$5:$B$504,"<"&MIN($D$4+1,DATE(2026,5,1))),0) | X6: =IFERROR(SUMIFS('No-Show Log'!$AJ$5:$AJ$504,'No-Show Log'!$B$5:$B$504,">="&MAX($B$4,$U6),'No-Show Log'!$B$5:$B$504,"<"&MIN($D$4+1,DATE(2026,5,1))),0) | Y6: =IFERROR(COUNTIFS('No-Show Log'!$B$5:$B$504,">="&MAX($B$4,$U6),'No-Show Log'!$B$5:$B$504,"<"&MIN($D$4+1,DATE(2026,5,1)),'No-Show Log'!$A$5:$A$504,"<>"),0)
A7: No-Show Reservations | B7: =IFERROR(COUNTIFS('No-Show Log'!$B$5:$B$504,">="&$B$4,'No-Show Log'!$B$5:$B$504,"<="&$D$4,'No-Show Log'!$A$5:$A$504,"<>"),0) | D7: Collection and Handling Costs | E7: =IFERROR(SUMIFS('No-Show Log'!$AG$5:$AG$504,'No-Show Log'!$B$5:$B$504,">="&$B$4,'No-Show Log'!$B$5:$B$504,"<="&$D$4),0) | T7: 46143 | U7: 46143 | V7: =IFERROR(SUMIFS('No-Show Log'!$W$5:$W$504,'No-Show Log'!$B$5:$B$504,">="&MAX($B$4,$U7),'No-Show Log'!$B$5:$B$504,"<"&MIN($D$4+1,DATE(2026,6,1))),0) | W7: =IFERROR(SUMIFS('No-Show Log'!$AH$5:$AH$504,'No-Show Log'!$B$5:$B$504,">="&MAX($B$4,$U7),'No-Show Log'!$B$5:$B$504,"<"&MIN($D$4+1,DATE(2026,6,1))),0) | X7: =IFERROR(SUMIFS('No-Show Log'!$AJ$5:$AJ$504,'No-Show Log'!$B$5:$B$504,">="&MAX($B$4,$U7),'No-Show Log'!$B$5:$B$504,"<"&MIN($D$4+1,DATE(2026,6,1))),0) | Y7: =IFERROR(COUNTIFS('No-Show Log'!$B$5:$B$504,">="&MAX($B$4,$U7),'No-Show Log'!$B$5:$B$504,"<"&MIN($D$4+1,DATE(2026,6,1)),'No-Show Log'!$A$5:$A$504,"<>"),0)
A8: Room Nights Not Occupied | B8: =IFERROR(SUMIFS('No-Show Log'!$V$5:$V$504,'No-Show Log'!$B$5:$B$504,">="&$B$4,'No-Show Log'!$B$5:$B$504,"<="&$D$4),0) | D8: Net No-Show Cost | E8: =IFERROR(SUMIFS('No-Show Log'!$AJ$5:$AJ$504,'No-Show Log'!$B$5:$B$504,">="&$B$4,'No-Show Log'!$B$5:$B$504,"<="&$D$4),0) | T8: 46174 | U8: 46174 | V8: =IFERROR(SUMIFS('No-Show Log'!$W$5:$W$504,'No-Show Log'!$B$5:$B$504,">="&MAX($B$4,$U8),'No-Show Log'!$B$5:$B$504,"<"&MIN($D$4+1,DATE(2026,7,1))),0) | W8: =IFERROR(SUMIFS('No-Show Log'!$AH$5:$AH$504,'No-Show Log'!$B$5:$B$504,">="&MAX($B$4,$U8),'No-Show Log'!$B$5:$B$504,"<"&MIN($D$4+1,DATE(2026,7,1))),0) | X8: =IFERROR(SUMIFS('No-Show Log'!$AJ$5:$AJ$504,'No-Show Log'!$B$5:$B$504,">="&MAX($B$4,$U8),'No-Show Log'!$B$5:$B$504,"<"&MIN($D$4+1,DATE(2026,7,1))),0) | Y8: =IFERROR(COUNTIFS('No-Show Log'!$B$5:$B$504,">="&MAX($B$4,$U8),'No-Show Log'!$B$5:$B$504,"<"&MIN($D$4+1,DATE(2026,7,1)),'No-Show Log'!$A$5:$A$504,"<>"),0)
A9: Gross Expected Revenue | B9: =IFERROR(SUMIFS('No-Show Log'!$W$5:$W$504,'No-Show Log'!$B$5:$B$504,">="&$B$4,'No-Show Log'!$B$5:$B$504,"<="&$D$4),0) | D9: Recovery Rate | E9: =IFERROR(SUMIFS('No-Show Log'!$AH$5:$AH$504,'No-Show Log'!$B$5:$B$504,">="&$B$4,'No-Show Log'!$B$5:$B$504,"<="&$D$4)/SUMIFS('No-Show Log'!$W$5:$W$504,'No-Show Log'!$B$5:$B$504,">="&$B$4,'No-Show Log'!$B$5:$B$504,"<="&$D$4),0) | T9: 46204 | U9: 46204 | V9: =IFERROR(SUMIFS('No-Show Log'!$W$5:$W$504,'No-Show Log'!$B$5:$B$504,">="&MAX($B$4,$U9),'No-Show Log'!$B$5:$B$504,"<"&MIN($D$4+1,DATE(2026,8,1))),0) | W9: =IFERROR(SUMIFS('No-Show Log'!$AH$5:$AH$504,'No-Show Log'!$B$5:$B$504,">="&MAX($B$4,$U9),'No-Show Log'!$B$5:$B$504,"<"&MIN($D$4+1,DATE(2026,8,1))),0) | X9: =IFERROR(SUMIFS('No-Show Log'!$AJ$5:$AJ$504,'No-Show Log'!$B$5:$B$504,">="&MAX($B$4,$U9),'No-Show Log'!$B$5:$B$504,"<"&MIN($D$4+1,DATE(2026,8,1))),0) | Y9: =IFERROR(COUNTIFS('No-Show Log'!$B$5:$B$504,">="&MAX($B$4,$U9),'No-Show Log'!$B$5:$B$504,"<"&MIN($D$4+1,DATE(2026,8,1)),'No-Show Log'!$A$5:$A$504,"<>"),0)
A10: Total Revenue Recovered | B10: =IFERROR(SUMIFS('No-Show Log'!$AH$5:$AH$504,'No-Show Log'!$B$5:$B$504,">="&$B$4,'No-Show Log'!$B$5:$B$504,"<="&$D$4),0) | D10: Average Net Cost per No-Show | E10: =IFERROR(SUMIFS('No-Show Log'!$AJ$5:$AJ$504,'No-Show Log'!$B$5:$B$504,">="&$B$4,'No-Show Log'!$B$5:$B$504,"<="&$D$4)/COUNTIFS('No-Show Log'!$B$5:$B$504,">="&$B$4,'No-Show Log'!$B$5:$B$504,"<="&$D$4,'No-Show Log'!$A$5:$A$504,"<>"),0) | T10: 46235 | U10: 46235 | V10: =IFERROR(SUMIFS('No-Show Log'!$W$5:$W$504,'No-Show Log'!$B$5:$B$504,">="&MAX($B$4,$U10),'No-Show Log'!$B$5:$B$504,"<"&MIN($D$4+1,DATE(2026,9,1))),0) | W10: =IFERROR(SUMIFS('No-Show Log'!$AH$5:$AH$504,'No-Show Log'!$B$5:$B$504,">="&MAX($B$4,$U10),'No-Show Log'!$B$5:$B$504,"<"&MIN($D$4+1,DATE(2026,9,1))),0) | X10: =IFERROR(SUMIFS('No-Show Log'!$AJ$5:$AJ$504,'No-Show Log'!$B$5:$B$504,">="&MAX($B$4,$U10),'No-Show Log'!$B$5:$B$504,"<"&MIN($D$4+1,DATE(2026,9,1))),0) | Y10: =IFERROR(COUNTIFS('No-Show Log'!$B$5:$B$504,">="&MAX($B$4,$U10),'No-Show Log'!$B$5:$B$504,"<"&MIN($D$4+1,DATE(2026,9,1)),'No-Show Log'!$A$5:$A$504,"<>"),0)
A11: Avoided Variable Costs | B11: =IFERROR(SUMIFS('No-Show Log'!$AD$5:$AD$504,'No-Show Log'!$B$5:$B$504,">="&$B$4,'No-Show Log'!$B$5:$B$504,"<="&$D$4),0) | D11: Follow-Up Items Due | E11: =IFERROR(COUNTIFS('No-Show Log'!$B$5:$B$504,">="&$B$4,'No-Show Log'!$B$5:$B$504,"<="&$D$4,'No-Show Log'!$AL$5:$AL$504,"Due")+COUNTIFS('No-Show Log'!$B$5:$B$504,">="&$B$4,'No-Show Log'!$B$5:$B$504,"<="&$D$4,'No-Show Log'!$AL$5:$AL$504,"Overdue"),0) | T11: 46266 | U11: 46266 | V11: =IFERROR(SUMIFS('No-Show Log'!$W$5:$W$504,'No-Show Log'!$B$5:$B$504,">="&MAX($B$4,$U11),'No-Show Log'!$B$5:$B$504,"<"&MIN($D$4+1,DATE(2026,10,1))),0) | W11: =IFERROR(SUMIFS('No-Show Log'!$AH$5:$AH$504,'No-Show Log'!$B$5:$B$504,">="&MAX($B$4,$U11),'No-Show Log'!$B$5:$B$504,"<"&MIN($D$4+1,DATE(2026,10,1))),0) | X11: =IFERROR(SUMIFS('No-Show Log'!$AJ$5:$AJ$504,'No-Show Log'!$B$5:$B$504,">="&MAX($B$4,$U11),'No-Show Log'!$B$5:$B$504,"<"&MIN($D$4+1,DATE(2026,10,1))),0) | Y11: =IFERROR(COUNTIFS('No-Show Log'!$B$5:$B$504,">="&MAX($B$4,$U11),'No-Show Log'!$B$5:$B$504,"<"&MIN($D$4+1,DATE(2026,10,1)),'No-Show Log'!$A$5:$A$504,"<>"),0)
T12: 46296 | U12: 46296 | V12: =IFERROR(SUMIFS('No-Show Log'!$W$5:$W$504,'No-Show Log'!$B$5:$B$504,">="&MAX($B$4,$U12),'No-Show Log'!$B$5:$B$504,"<"&MIN($D$4+1,DATE(2026,11,1))),0) | W12: =IFERROR(SUMIFS('No-Show Log'!$AH$5:$AH$504,'No-Show Log'!$B$5:$B$504,">="&MAX($B$4,$U12),'No-Show Log'!$B$5:$B$504,"<"&MIN($D$4+1,DATE(2026,11,1))),0) | X12: =IFERROR(SUMIFS('No-Show Log'!$AJ$5:$AJ$504,'No-Show Log'!$B$5:$B$504,">="&MAX($B$4,$U12),'No-Show Log'!$B$5:$B$504,"<"&MIN($D$4+1,DATE(2026,11,1))),0) | Y12: =IFERROR(COUNTIFS('No-Show Log'!$B$5:$B$504,">="&MAX($B$4,$U12),'No-Show Log'!$B$5:$B$504,"<"&MIN($D$4+1,DATE(2026,11,1)),'No-Show Log'!$A$5:$A$504,"<>"),0)
T13: 46327 | U13: 46327 | V13: =IFERROR(SUMIFS('No-Show Log'!$W$5:$W$504,'No-Show Log'!$B$5:$B$504,">="&MAX($B$4,$U13),'No-Show Log'!$B$5:$B$504,"<"&MIN($D$4+1,DATE(2026,12,1))),0) | W13: =IFERROR(SUMIFS('No-Show Log'!$AH$5:$AH$504,'No-Show Log'!$B$5:$B$504,">="&MAX($B$4,$U13),'No-Show Log'!$B$5:$B$504,"<"&MIN($D$4+1,DATE(2026,12,1))),0) | X13: =IFERROR(SUMIFS('No-Show Log'!$AJ$5:$AJ$504,'No-Show Log'!$B$5:$B$504,">="&MAX($B$4,$U13),'No-Show Log'!$B$5:$B$504,"<"&MIN($D$4+1,DATE(2026,12,1))),0) | Y13: =IFERROR(COUNTIFS('No-Show Log'!$B$5:$B$504,">="&MAX($B$4,$U13),'No-Show Log'!$B$5:$B$504,"<"&MIN($D$4+1,DATE(2026,12,1)),'No-Show Log'!$A$5:$A$504,"<>"),0)
A14: Booking Source Summary | H14: Collection Follow-Up Summary | T14: 46357 | U14: 46357 | V14: =IFERROR(SUMIFS('No-Show Log'!$W$5:$W$504,'No-Show Log'!$B$5:$B$504,">="&MAX($B$4,$U14),'No-Show Log'!$B$5:$B$504,"<"&MIN($D$4+1,DATE(2027,1,1))),0) | W14: =IFERROR(SUMIFS('No-Show Log'!$AH$5:$AH$504,'No-Show Log'!$B$5:$B$504,">="&MAX($B$4,$U14),'No-Show Log'!$B$5:$B$504,"<"&MIN($D$4+1,DATE(2027,1,1))),0) | X14: =IFERROR(SUMIFS('No-Show Log'!$AJ$5:$AJ$504,'No-Show Log'!$B$5:$B$504,">="&MAX($B$4,$U14),'No-Show Log'!$B$5:$B$504,"<"&MIN($D$4+1,DATE(2027,1,1))),0) | Y14: =IFERROR(COUNTIFS('No-Show Log'!$B$5:$B$504,">="&MAX($B$4,$U14),'No-Show Log'!$B$5:$B$504,"<"&MIN($D$4+1,DATE(2027,1,1)),'No-Show Log'!$A$5:$A$504,"<>"),0)
A15: Booking Source | B15: No-Show Reservations | C15: Gross Expected Revenue | D15: Revenue Recovered | E15: Net No-Show Cost | F15: Recovery Rate | H15: Status | I15: Count | V15: ="" | W15: ="" | X15: ="" | Y15: =""
A16: Direct Website | B16: =IFERROR(COUNTIFS('No-Show Log'!$D$5:$D$504,$A16,'No-Show Log'!$B$5:$B$504,">="&$B$4,'No-Show Log'!$B$5:$B$504,"<="&$D$4),0) | C16: =IFERROR(SUMIFS('No-Show Log'!$W$5:$W$504,'No-Show Log'!$D$5:$D$504,$A16,'No-Show Log'!$B$5:$B$504,">="&$B$4,'No-Show Log'!$B$5:$B$504,"<="&$D$4),0) | D16: =IFERROR(SUMIFS('No-Show Log'!$AH$5:$AH$504,'No-Show Log'!$D$5:$D$504,$A16,'No-Show Log'!$B$5:$B$504,">="&$B$4,'No-Show Log'!$B$5:$B$504,"<="&$D$4),0) | E16: =IFERROR(SUMIFS('No-Show Log'!$AJ$5:$AJ$504,'No-Show Log'!$D$5:$D$504,$A16,'No-Show Log'!$B$5:$B$504,">="&$B$4,'No-Show Log'!$B$5:$B$504,"<="&$D$4),0) | F16: =IFERROR(D16/C16,0) | H16: Open | I16: =IFERROR(COUNTIFS('No-Show Log'!$B$5:$B$504,">="&$B$4,'No-Show Log'!$B$5:$B$504,"<="&$D$4,'No-Show Log'!$AL$5:$AL$504,H16),0) | V16: ="" | W16: ="" | X16: ="" | Y16: =""
A17: Phone | B17: =IFERROR(COUNTIFS('No-Show Log'!$D$5:$D$504,$A17,'No-Show Log'!$B$5:$B$504,">="&$B$4,'No-Show Log'!$B$5:$B$504,"<="&$D$4),0) | C17: =IFERROR(SUMIFS('No-Show Log'!$W$5:$W$504,'No-Show Log'!$D$5:$D$504,$A17,'No-Show Log'!$B$5:$B$504,">="&$B$4,'No-Show Log'!$B$5:$B$504,"<="&$D$4),0) | D17: =IFERROR(SUMIFS('No-Show Log'!$AH$5:$AH$504,'No-Show Log'!$D$5:$D$504,$A17,'No-Show Log'!$B$5:$B$504,">="&$B$4,'No-Show Log'!$B$5:$B$504,"<="&$D$4),0) | E17: =IFERROR(SUMIFS('No-Show Log'!$AJ$5:$AJ$504,'No-Show Log'!$D$5:$D$504,$A17,'No-Show Log'!$B$5:$B$504,">="&$B$4,'No-Show Log'!$B$5:$B$504,"<="&$D$4),0) | F17: =IFERROR(D17/C17,0) | H17: Due | I17: =IFERROR(COUNTIFS('No-Show Log'!$B$5:$B$504,">="&$B$4,'No-Show Log'!$B$5:$B$504,"<="&$D$4,'No-Show Log'!$AL$5:$AL$504,H17),0) | V17: ="" | W17: ="" | X17: ="" | Y17: =""
A18: Walk-In | B18: =IFERROR(COUNTIFS('No-Show Log'!$D$5:$D$504,$A18,'No-Show Log'!$B$5:$B$504,">="&$B$4,'No-Show Log'!$B$5:$B$504,"<="&$D$4),0) | C18: =IFERROR(SUMIFS('No-Show Log'!$W$5:$W$504,'No-Show Log'!$D$5:$D$504,$A18,'No-Show Log'!$B$5:$B$504,">="&$B$4,'No-Show Log'!$B$5:$B$504,"<="&$D$4),0) | D18: =IFERROR(SUMIFS('No-Show Log'!$AH$5:$AH$504,'No-Show Log'!$D$5:$D$504,$A18,'No-Show Log'!$B$5:$B$504,">="&$B$4,'No-Show Log'!$B$5:$B$504,"<="&$D$4),0) | E18: =IFERROR(SUMIFS('No-Show Log'!$AJ$5:$AJ$504,'No-Show Log'!$D$5:$D$504,$A18,'No-Show Log'!$B$5:$B$504,">="&$B$4,'No-Show Log'!$B$5:$B$504,"<="&$D$4),0) | F18: =IFERROR(D18/C18,0) | H18: Overdue | I18: =IFERROR(COUNTIFS('No-Show Log'!$B$5:$B$504,">="&$B$4,'No-Show Log'!$B$5:$B$504,"<="&$D$4,'No-Show Log'!$AL$5:$AL$504,H18),0) | V18: ="" | W18: ="" | X18: ="" | Y18: =""
A19: Online Travel Agency | B19: =IFERROR(COUNTIFS('No-Show Log'!$D$5:$D$504,$A19,'No-Show Log'!$B$5:$B$504,">="&$B$4,'No-Show Log'!$B$5:$B$504,"<="&$D$4),0) | C19: =IFERROR(SUMIFS('No-Show Log'!$W$5:$W$504,'No-Show Log'!$D$5:$D$504,$A19,'No-Show Log'!$B$5:$B$504,">="&$B$4,'No-Show Log'!$B$5:$B$504,"<="&$D$4),0) | D19: =IFERROR(SUMIFS('No-Show Log'!$AH$5:$AH$504,'No-Show Log'!$D$5:$D$504,$A19,'No-Show Log'!$B$5:$B$504,">="&$B$4,'No-Show Log'!$B$5:$B$504,"<="&$D$4),0) | E19: =IFERROR(SUMIFS('No-Show Log'!$AJ$5:$AJ$504,'No-Show Log'!$D$5:$D$504,$A19,'No-Show Log'!$B$5:$B$504,">="&$B$4,'No-Show Log'!$B$5:$B$504,"<="&$D$4),0) | F19: =IFERROR(D19/C19,0) | H19: Closed | I19: =IFERROR(COUNTIFS('No-Show Log'!$B$5:$B$504,">="&$B$4,'No-Show Log'!$B$5:$B$504,"<="&$D$4,'No-Show Log'!$AL$5:$AL$504,H19),0) | V19: ="" | W19: ="" | X19: ="" | Y19: =""
A20: Group Block | B20: =IFERROR(COUNTIFS('No-Show Log'!$D$5:$D$504,$A20,'No-Show Log'!$B$5:$B$504,">="&$B$4,'No-Show Log'!$B$5:$B$504,"<="&$D$4),0) | C20: =IFERROR(SUMIFS('No-Show Log'!$W$5:$W$504,'No-Show Log'!$D$5:$D$504,$A20,'No-Show Log'!$B$5:$B$504,">="&$B$4,'No-Show Log'!$B$5:$B$504,"<="&$D$4),0) | D20: =IFERROR(SUMIFS('No-Show Log'!$AH$5:$AH$504,'No-Show Log'!$D$5:$D$504,$A20,'No-Show Log'!$B$5:$B$504,">="&$B$4,'No-Show Log'!$B$5:$B$504,"<="&$D$4),0) | E20: =IFERROR(SUMIFS('No-Show Log'!$AJ$5:$AJ$504,'No-Show Log'!$D$5:$D$504,$A20,'No-Show Log'!$B$5:$B$504,">="&$B$4,'No-Show Log'!$B$5:$B$504,"<="&$D$4),0) | F20: =IFERROR(D20/C20,0) | H20: Waived | I20: =IFERROR(COUNTIFS('No-Show Log'!$B$5:$B$504,">="&$B$4,'No-Show Log'!$B$5:$B$504,"<="&$D$4,'No-Show Log'!$S$5:$S$504,H20),0) | V20: ="" | W20: ="" | X20: ="" | Y20: =""
A21: Corporate | B21: =IFERROR(COUNTIFS('No-Show Log'!$D$5:$D$504,$A21,'No-Show Log'!$B$5:$B$504,">="&$B$4,'No-Show Log'!$B$5:$B$504,"<="&$D$4),0) | C21: =IFERROR(SUMIFS('No-Show Log'!$W$5:$W$504,'No-Show Log'!$D$5:$D$504,$A21,'No-Show Log'!$B$5:$B$504,">="&$B$4,'No-Show Log'!$B$5:$B$504,"<="&$D$4),0) | D21: =IFERROR(SUMIFS('No-Show Log'!$AH$5:$AH$504,'No-Show Log'!$D$5:$D$504,$A21,'No-Show Log'!$B$5:$B$504,">="&$B$4,'No-Show Log'!$B$5:$B$504,"<="&$D$4),0) | E21: =IFERROR(SUMIFS('No-Show Log'!$AJ$5:$AJ$504,'No-Show Log'!$D$5:$D$504,$A21,'No-Show Log'!$B$5:$B$504,">="&$B$4,'No-Show Log'!$B$5:$B$504,"<="&$D$4),0) | F21: =IFERROR(D21/C21,0) | H21: Uncollectible | I21: =IFERROR(COUNTIFS('No-Show Log'!$B$5:$B$504,">="&$B$4,'No-Show Log'!$B$5:$B$504,"<="&$D$4,'No-Show Log'!$S$5:$S$504,H21),0) | V21: ="" | W21: ="" | X21: ="" | Y21: =""
A22: Travel Agent | B22: =IFERROR(COUNTIFS('No-Show Log'!$D$5:$D$504,$A22,'No-Show Log'!$B$5:$B$504,">="&$B$4,'No-Show Log'!$B$5:$B$504,"<="&$D$4),0) | C22: =IFERROR(SUMIFS('No-Show Log'!$W$5:$W$504,'No-Show Log'!$D$5:$D$504,$A22,'No-Show Log'!$B$5:$B$504,">="&$B$4,'No-Show Log'!$B$5:$B$504,"<="&$D$4),0) | D22: =IFERROR(SUMIFS('No-Show Log'!$AH$5:$AH$504,'No-Show Log'!$D$5:$D$504,$A22,'No-Show Log'!$B$5:$B$504,">="&$B$4,'No-Show Log'!$B$5:$B$504,"<="&$D$4),0) | E22: =IFERROR(SUMIFS('No-Show Log'!$AJ$5:$AJ$504,'No-Show Log'!$D$5:$D$504,$A22,'No-Show Log'!$B$5:$B$504,">="&$B$4,'No-Show Log'!$B$5:$B$504,"<="&$D$4),0) | F22: =IFERROR(D22/C22,0) | V22: ="" | W22: ="" | X22: ="" | Y22: =""
A23: Other | B23: =IFERROR(COUNTIFS('No-Show Log'!$D$5:$D$504,$A23,'No-Show Log'!$B$5:$B$504,">="&$B$4,'No-Show Log'!$B$5:$B$504,"<="&$D$4),0) | C23: =IFERROR(SUMIFS('No-Show Log'!$W$5:$W$504,'No-Show Log'!$D$5:$D$504,$A23,'No-Show Log'!$B$5:$B$504,">="&$B$4,'No-Show Log'!$B$5:$B$504,"<="&$D$4),0) | D23: =IFERROR(SUMIFS('No-Show Log'!$AH$5:$AH$504,'No-Show Log'!$D$5:$D$504,$A23,'No-Show Log'!$B$5:$B$504,">="&$B$4,'No-Show Log'!$B$5:$B$504,"<="&$D$4),0) | E23: =IFERROR(SUMIFS('No-Show Log'!$AJ$5:$AJ$504,'No-Show Log'!$D$5:$D$504,$A23,'No-Show Log'!$B$5:$B$504,">="&$B$4,'No-Show Log'!$B$5:$B$504,"<="&$D$4),0) | F23: =IFERROR(D23/C23,0) | V23: ="" | W23: ="" | X23: ="" | Y23: =""
B24: ="" | C24: ="" | D24: ="" | E24: ="" | F24: ="" | H24: Target Recovery Rate | I24: =IFERROR(VLOOKUP(H24,'Assumptions'!$A$4:$B$13,2,0),0) | V24: ="" | W24: ="" | X24: ="" | Y24: =""
B25: ="" | C25: ="" | D25: ="" | E25: ="" | F25: ="" | I25: ="" | V25: ="" | W25: ="" | X25: ="" | Y25: =""
B26: ="" | C26: ="" | D26: ="" | E26: ="" | F26: ="" | I26: ="" | V26: ="" | W26: ="" | X26: ="" | Y26: =""
B27: ="" | C27: ="" | D27: ="" | E27: ="" | F27: ="" | I27: ="" | V27: ="" | W27: ="" | X27: ="" | Y27: =""
B28: ="" | C28: ="" | D28: ="" | E28: ="" | F28: ="" | I28: ="" | V28: ="" | W28: ="" | X28: ="" | Y28: =""
B29: ="" | C29: ="" | D29: ="" | E29: ="" | F29: ="" | I29: ="" | V29: ="" | W29: ="" | X29: ="" | Y29: =""
B30: ="" | C30: ="" | D30: ="" | E30: ="" | F30: ="" | I30: ="" | V30: ="" | W30: ="" | X30: ="" | Y30: =""
B31: ="" | C31: ="" | D31: ="" | E31: ="" | F31: ="" | I31: ="" | V31: ="" | W31: ="" | X31: ="" | Y31: =""
B32: ="" | C32: ="" | D32: ="" | E32: ="" | F32: ="" | I32: ="" | V32: ="" | W32: ="" | X32: ="" | Y32: =""
B33: ="" | C33: ="" | D33: ="" | E33: ="" | F33: ="" | I33: ="" | V33: ="" | W33: ="" | X33: ="" | Y33: =""
B34: ="" | C34: ="" | D34: ="" | E34: ="" | F34: ="" | I34: ="" | V34: ="" | W34: ="" | X34: ="" | Y34: =""
B35: ="" | C35: ="" | D35: ="" | E35: ="" | F35: ="" | I35: ="" | V35: ="" | W35: ="" | X35: ="" | Y35: =""
B36: ="" | C36: ="" | D36: ="" | E36: ="" | F36: ="" | I36: ="" | V36: ="" | W36: ="" | X36: ="" | Y36: =""
... B101: ="" | C101: ="" | D101: ="" | E101: ="" | F101: ="" | I101: ="" | V101: ="" | W101: ="" | X101: ="" | Y101: =""

Sheet No-Show Log
A1: Hotel No-Show Operating Log
A2: Enter one row per no-show reservation. Blue cells are user inputs; gray cells contain calculations. Amounts should be entered before tax unless the column specifically requests tax. Review property policy and local requirements before charging or taxing a no-show fee.
A3: Input cells | B3: Calculated cells
A4: Reservation ID | B4: Arrival Date | C4: Departure Date | D4: Booking Source | E4: Room Type | F4: Booked Room Nights | G4: Resold Room Nights | H4: Booked Room Revenue | I4: Estimated Ancillary Revenue | J4: Policy Charge Rate | K4: Service Charge Rate | L4: Tax Rate | M4: Amount Collected Before Tax | N4: Tax Collected | O4: Resale Room Revenue | P4: Direct Collection Cost | Q4: Staff Handling Minutes | R4: Follow-Up Owner | S4: Collection Status | T4: Last Follow-Up Date | U4: Notes | V4: Nights Not Resold | W4: Gross Expected Revenue | X4: Expected Base No-Show Charge | Y4: Expected Service Charge | Z4: Expected Tax | AA4: Expected Total Collection | AB4: Avoided Room Variable Cost | AC4: Avoided Ancillary Cost | AD4: Total Avoided Costs | AE4: Payment Processing Cost | AF4: Staff Handling Cost | AG4: Collection and Handling Cost | AH4: Total Revenue Recovered | AI4: Recovery Rate | AJ4: Net No-Show Cost | AK4: Follow-Up Due Date | AL4: Follow-Up Status | AM4: Review Flag
A5: NS-260101 | B5: 46031 | C5: 46033 | D5: Direct Website | E5: King | F5: 2 | G5: 1 | H5: 438 | I5: 70 | J5: 1 | K5: 0 | L5: 0.0825 | M5: 438 | N5: 36.14 | O5: 239 | P5: 4.5 | Q5: 18 | R5: Accounting | S5: Collected | T5: 46034 | U5: One night resold; no-show charge collected | V5: =IFERROR(IF($A5="","",MAX($F5-$G5,0)),"") | W5: =IFERROR(IF($A5="","",$H5+$I5),"") | X5: =IFERROR(IF($A5="","",$H5*IF($J5="",'Assumptions'!$B$4,$J5)),"") | Y5: =IFERROR(IF($A5="","",$X5*IF($K5="",'Assumptions'!$B$12,$K5)),"") | Z5: =IFERROR(IF($A5="","",($X5+$Y5)*IF($L5="",'Assumptions'!$B$13,$L5)),"") | AA5: =IFERROR(IF($A5="","",$X5+$Y5+$Z5),"") | AB5: =IFERROR(IF($A5="","",$V5*'Assumptions'!$B$5),"") | AC5: =IFERROR(IF($A5="","",$I5*'Assumptions'!$B$6),"") | AD5: =IFERROR(IF($A5="","",$AB5+$AC5),"") | AE5: =IFERROR(IF($A5="","",($M5+$N5)*'Assumptions'!$B$7),"") | AF5: =IFERROR(IF($A5="","",($Q5/60)*'Assumptions'!$B$8),"") | AG5: =IFERROR(IF($A5="","",$P5+$AE5+$AF5),"") | AH5: =IFERROR(IF($A5="","",$M5+$O5),"") | AI5: =IFERROR(IF($A5="","",IFERROR($AH5/$W5,0)),"") | AJ5: =IFERROR(IF($A5="","",$W5-$AH5-$AD5+$AG5),"") | AK5: =IFERROR(IF($A5="","",IF(OR($S5="Collected",$S5="Waived",$S5="Uncollectible",$S5="No Charge Due"),"",IF($T5="",$B5+'Assumptions'!$B$9,$T5+'Assumptions'!$B$9))),"") | AL5: =IFERROR(IF($A5="","",IF(OR($S5="Collected",$S5="Waived",$S5="Uncollectible",$S5="No Charge Due"),"Closed",IF($AK5<TODAY(),"Overdue",IF($AK5=TODAY(),"Due","Open")))),"") | AM5: =IFERROR(IF($A5="","",IF(COUNTIF($A$5:$A$504,$A5)>1,"Duplicate reservation ID",IF($C5<=$B5,"Check stay dates",IF($G5>$F5,"Resold nights exceed booked nights",IF($M5+$N5>$AA5+0.01,"Collection exceeds expected amount",IF(AND($S5="Collected",$M5=0),"Collected status has no amount",IF($AJ5>='Assumptions'!$B$10,"High-cost review","OK"))))))),"")
A6: NS-260102 | B6: 46045 | C6: 46046 | D6: Online Travel Agency | E6: Two Queens | F6: 1 | G6: 0 | H6: 189 | I6: 32 | J6: 1 | K6: 0 | L6: 0 | M6: 0 | N6: 0 | O6: 0 | P6: 0 | Q6: 22 | R6: Reservations | S6: Pending | T6: 46254 | U6: Virtual payment review pending | V6: =IFERROR(IF($A6="","",MAX($F6-$G6,0)),"") | W6: =IFERROR(IF($A6="","",$H6+$I6),"") | X6: =IFERROR(IF($A6="","",$H6*IF($J6="",'Assumptions'!$B$4,$J6)),"") | Y6: =IFERROR(IF($A6="","",$X6*IF($K6="",'Assumptions'!$B$12,$K6)),"") | Z6: =IFERROR(IF($A6="","",($X6+$Y6)*IF($L6="",'Assumptions'!$B$13,$L6)),"") | AA6: =IFERROR(IF($A6="","",$X6+$Y6+$Z6),"") | AB6: =IFERROR(IF($A6="","",$V6*'Assumptions'!$B$5),"") | AC6: =IFERROR(IF($A6="","",$I6*'Assumptions'!$B$6),"") | AD6: =IFERROR(IF($A6="","",$AB6+$AC6),"") | AE6: =IFERROR(IF($A6="","",($M6+$N6)*'Assumptions'!$B$7),"") | AF6: =IFERROR(IF($A6="","",($Q6/60)*'Assumptions'!$B$8),"") | AG6: =IFERROR(IF($A6="","",$P6+$AE6+$AF6),"") | AH6: =IFERROR(IF($A6="","",$M6+$O6),"") | AI6: =IFERROR(IF($A6="","",IFERROR($AH6/$W6,0)),"") | AJ6: =IFERROR(IF($A6="","",$W6-$AH6-$AD6+$AG6),"") | AK6: =IFERROR(IF($A6="","",IF(OR($S6="Collected",$S6="Waived",$S6="Uncollectible",$S6="No Charge Due"),"",IF($T6="",$B6+'Assumptions'!$B$9,$T6+'Assumptions'!$B$9))),"") | AL6: =IFERROR(IF($A6="","",IF(OR($S6="Collected",$S6="Waived",$S6="Uncollectible",$S6="No Charge Due"),"Closed",IF($AK6<TODAY(),"Overdue",IF($AK6=TODAY(),"Due","Open")))),"") | AM6: =IFERROR(IF($A6="","",IF(COUNTIF($A$5:$A$504,$A6)>1,"Duplicate reservation ID",IF($C6<=$B6,"Check stay dates",IF($G6>$F6,"Resold nights exceed booked nights",IF($M6+$N6>$AA6+0.01,"Collection exceeds expected amount",IF(AND($S6="Collected",$M6=0),"Collected status has no amount",IF($AJ6>='Assumptions'!$B$10,"High-cost review","OK"))))))),"")
A7: NS-260103 | B7: 46067 | C7: 46069 | D7: Phone | E7: King | F7: 2 | G7: 0 | H7: 598 | I7: 110 | J7: 0.5 | K7: 0 | L7: 0 | M7: 0 | N7: 0 | O7: 0 | P7: 0 | Q7: 12 | R7: General Manager | S7: Waived | T7: 46068 | U7: Charge waived after documented travel disruption | V7: =IFERROR(IF($A7="","",MAX($F7-$G7,0)),"") | W7: =IFERROR(IF($A7="","",$H7+$I7),"") | X7: =IFERROR(IF($A7="","",$H7*IF($J7="",'Assumptions'!$B$4,$J7)),"") | Y7: =IFERROR(IF($A7="","",$X7*IF($K7="",'Assumptions'!$B$12,$K7)),"") | Z7: =IFERROR(IF($A7="","",($X7+$Y7)*IF($L7="",'Assumptions'!$B$13,$L7)),"") | AA7: =IFERROR(IF($A7="","",$X7+$Y7+$Z7),"") | AB7: =IFERROR(IF($A7="","",$V7*'Assumptions'!$B$5),"") | AC7: =IFERROR(IF($A7="","",$I7*'Assumptions'!$B$6),"") | AD7: =IFERROR(IF($A7="","",$AB7+$AC7),"") | AE7: =IFERROR(IF($A7="","",($M7+$N7)*'Assumptions'!$B$7),"") | AF7: =IFERROR(IF($A7="","",($Q7/60)*'Assumptions'!$B$8),"") | AG7: =IFERROR(IF($A7="","",$P7+$AE7+$AF7),"") | AH7: =IFERROR(IF($A7="","",$M7+$O7),"") | AI7: =IFERROR(IF($A7="","",IFERROR($AH7/$W7,0)),"") | AJ7: =IFERROR(IF($A7="","",$W7-$AH7-$AD7+$AG7),"") | AK7: =IFERROR(IF($A7="","",IF(OR($S7="Collected",$S7="Waived",$S7="Uncollectible",$S7="No Charge Due"),"",IF($T7="",$B7+'Assumptions'!$B$9,$T7+'Assumptions'!$B$9))),"") | AL7: =IFERROR(IF($A7="","",IF(OR($S7="Collected",$S7="Waived",$S7="Uncollectible",$S7="No Charge Due"),"Closed",IF($AK7<TODAY(),"Overdue",IF($AK7=TODAY(),"Due","Open")))),"") | AM7: =IFERROR(IF($A7="","",IF(COUNTIF($A$5:$A$504,$A7)>1,"Duplicate reservation ID",IF($C7<=$B7,"Check stay dates",IF($G7>$F7,"Resold nights exceed booked nights",IF($M7+$N7>$AA7+0.01,"Collection exceeds expected amount",IF(AND($S7="Collected",$M7=0),"Collected status has no amount",IF($AJ7>='Assumptions'!$B$10,"High-cost review","OK"))))))),"")
A8: NS-260104 | B8: 46087 | C8: 46090 | D8: Group Block | E8: Two Queens | F8: 3 | G8: 2 | H8: 507 | I8: 135 | J8: 0.34 | K8: 0.05 | L8: 0 | M8: 177.15 | N8: 0 | O8: 350 | P8: 6 | Q8: 35 | R8: Accounting | S8: Partially Collected | T8: 46259 | U8: Group contact paid one-night charge | V8: =IFERROR(IF($A8="","",MAX($F8-$G8,0)),"") | W8: =IFERROR(IF($A8="","",$H8+$I8),"") | X8: =IFERROR(IF($A8="","",$H8*IF($J8="",'Assumptions'!$B$4,$J8)),"") | Y8: =IFERROR(IF($A8="","",$X8*IF($K8="",'Assumptions'!$B$12,$K8)),"") | Z8: =IFERROR(IF($A8="","",($X8+$Y8)*IF($L8="",'Assumptions'!$B$13,$L8)),"") | AA8: =IFERROR(IF($A8="","",$X8+$Y8+$Z8),"") | AB8: =IFERROR(IF($A8="","",$V8*'Assumptions'!$B$5),"") | AC8: =IFERROR(IF($A8="","",$I8*'Assumptions'!$B$6),"") | AD8: =IFERROR(IF($A8="","",$AB8+$AC8),"") | AE8: =IFERROR(IF($A8="","",($M8+$N8)*'Assumptions'!$B$7),"") | AF8: =IFERROR(IF($A8="","",($Q8/60)*'Assumptions'!$B$8),"") | AG8: =IFERROR(IF($A8="","",$P8+$AE8+$AF8),"") | AH8: =IFERROR(IF($A8="","",$M8+$O8),"") | AI8: =IFERROR(IF($A8="","",IFERROR($AH8/$W8,0)),"") | AJ8: =IFERROR(IF($A8="","",$W8-$AH8-$AD8+$AG8),"") | AK8: =IFERROR(IF($A8="","",IF(OR($S8="Collected",$S8="Waived",$S8="Uncollectible",$S8="No Charge Due"),"",IF($T8="",$B8+'Assumptions'!$B$9,$T8+'Assumptions'!$B$9))),"") | AL8: =IFERROR(IF($A8="","",IF(OR($S8="Collected",$S8="Waived",$S8="Uncollectible",$S8="No Charge Due"),"Closed",IF($AK8<TODAY(),"Overdue",IF($AK8=TODAY(),"Due","Open")))),"") | AM8: =IFERROR(IF($A8="","",IF(COUNTIF($A$5:$A$504,$A8)>1,"Duplicate reservation ID",IF($C8<=$B8,"Check stay dates",IF($G8>$F8,"Resold nights exceed booked nights",IF($M8+$N8>$AA8+0.01,"Collection exceeds expected amount",IF(AND($S8="Collected",$M8=0),"Collected status has no amount",IF($AJ8>='Assumptions'!$B$10,"High-cost review","OK"))))))),"")
A9: NS-260105 | B9: 46130 | C9: 46131 | D9: Corporate | E9: King | F9: 1 | G9: 1 | H9: 229 | I9: 45 | J9: 1 | K9: 0 | L9: 0 | M9: 0 | N9: 0 | O9: 245 | P9: 0 | Q9: 8 | R9: No Follow-Up | S9: No Charge Due | T9: 46130 | U9: Room fully resold; no charge pursued | V9: =IFERROR(IF($A9="","",MAX($F9-$G9,0)),"") | W9: =IFERROR(IF($A9="","",$H9+$I9),"") | X9: =IFERROR(IF($A9="","",$H9*IF($J9="",'Assumptions'!$B$4,$J9)),"") | Y9: =IFERROR(IF($A9="","",$X9*IF($K9="",'Assumptions'!$B$12,$K9)),"") | Z9: =IFERROR(IF($A9="","",($X9+$Y9)*IF($L9="",'Assumptions'!$B$13,$L9)),"") | AA9: =IFERROR(IF($A9="","",$X9+$Y9+$Z9),"") | AB9: =IFERROR(IF($A9="","",$V9*'Assumptions'!$B$5),"") | AC9: =IFERROR(IF($A9="","",$I9*'Assumptions'!$B$6),"") | AD9: =IFERROR(IF($A9="","",$AB9+$AC9),"") | AE9: =IFERROR(IF($A9="","",($M9+$N9)*'Assumptions'!$B$7),"") | AF9: =IFERROR(IF($A9="","",($Q9/60)*'Assumptions'!$B$8),"") | AG9: =IFERROR(IF($A9="","",$P9+$AE9+$AF9),"") | AH9: =IFERROR(IF($A9="","",$M9+$O9),"") | AI9: =IFERROR(IF($A9="","",IFERROR($AH9/$W9,0)),"") | AJ9: =IFERROR(IF($A9="","",$W9-$AH9-$AD9+$AG9),"") | AK9: =IFERROR(IF($A9="","",IF(OR($S9="Collected",$S9="Waived",$S9="Uncollectible",$S9="No Charge Due"),"",IF($T9="",$B9+'Assumptions'!$B$9,$T9+'Assumptions'!$B$9))),"") | AL9: =IFERROR(IF($A9="","",IF(OR($S9="Collected",$S9="Waived",$S9="Uncollectible",$S9="No Charge Due"),"Closed",IF($AK9<TODAY(),"Overdue",IF($AK9=TODAY(),"Due","Open")))),"") | AM9: =IFERROR(IF($A9="","",IF(COUNTIF($A$5:$A$504,$A9)>1,"Duplicate reservation ID",IF($C9<=$B9,"Check stay dates",IF($G9>$F9,"Resold nights exceed booked nights",IF($M9+$N9>$AA9+0.01,"Collection exceeds expected amount",IF(AND($S9="Collected",$M9=0),"Collected status has no amount",IF($AJ9>='Assumptions'!$B$10,"High-cost review","OK"))))))),"")
A10: NS-260106 | B10: 46164 | C10: 46167 | D10: Online Travel Agency | E10: Suite | F10: 3 | G10: 0 | H10: 1047 | I10: 210 | J10: 1 | K10: 0.08 | L10: 0.075 | M10: 350 | N10: 28.35 | O10: 0 | P10: 25 | Q10: 70 | R10: Accounting | S10: Disputed | T10: 46270 | U10: No-show charge disputed; documentation under review | V10: =IFERROR(IF($A10="","",MAX($F10-$G10,0)),"") | W10: =IFERROR(IF($A10="","",$H10+$I10),"") | X10: =IFERROR(IF($A10="","",$H10*IF($J10="",'Assumptions'!$B$4,$J10)),"") | Y10: =IFERROR(IF($A10="","",$X10*IF($K10="",'Assumptions'!$B$12,$K10)),"") | Z10: =IFERROR(IF($A10="","",($X10+$Y10)*IF($L10="",'Assumptions'!$B$13,$L10)),"") | AA10: =IFERROR(IF($A10="","",$X10+$Y10+$Z10),"") | AB10: =IFERROR(IF($A10="","",$V10*'Assumptions'!$B$5),"") | AC10: =IFERROR(IF($A10="","",$I10*'Assumptions'!$B$6),"") | AD10: =IFERROR(IF($A10="","",$AB10+$AC10),"") | AE10: =IFERROR(IF($A10="","",($M10+$N10)*'Assumptions'!$B$7),"") | AF10: =IFERROR(IF($A10="","",($Q10/60)*'Assumptions'!$B$8),"") | AG10: =IFERROR(IF($A10="","",$P10+$AE10+$AF10),"") | AH10: =IFERROR(IF($A10="","",$M10+$O10),"") | AI10: =IFERROR(IF($A10="","",IFERROR($AH10/$W10,0)),"") | AJ10: =IFERROR(IF($A10="","",$W10-$AH10-$AD10+$AG10),"") | AK10: =IFERROR(IF($A10="","",IF(OR($S10="Collected",$S10="Waived",$S10="Uncollectible",$S10="No Charge Due"),"",IF($T10="",$B10+'Assumptions'!$B$9,$T10+'Assumptions'!$B$9))),"") | AL10: =IFERROR(IF($A10="","",IF(OR($S10="Collected",$S10="Waived",$S10="Uncollectible",$S10="No Charge Due"),"Closed",IF($AK10<TODAY(),"Overdue",IF($AK10=TODAY(),"Due","Open")))),"") | AM10: =IFERROR(IF($A10="","",IF(COUNTIF($A$5:$A$504,$A10)>1,"Duplicate reservation ID",IF($C10<=$B10,"Check stay dates",IF($G10>$F10,"Resold nights exceed booked nights",IF($M10+$N10>$AA10+0.01,"Collection exceeds expected amount",IF(AND($S10="Collected",$M10=0),"Collected status has no amount",IF($AJ10>='Assumptions'!$B$10,"High-cost review","OK"))))))),"")
A11: NS-260107 | B11: 46185 | C11: 46187 | D11: Direct Website | E11: Accessible King | F11: 2 | G11: 0 | H11: 518 | I11: 80 | J11: 1 | K11: 0 | L11: 0 | M11: 518 | N11: 0 | O11: 0 | P11: 0 | Q11: 20 | R11: Front Office | S11: Collected | T11: 46186 | U11: Full policy charge collected | V11: =IFERROR(IF($A11="","",MAX($F11-$G11,0)),"") | W11: =IFERROR(IF($A11="","",$H11+$I11),"") | X11: =IFERROR(IF($A11="","",$H11*IF($J11="",'Assumptions'!$B$4,$J11)),"") | Y11: =IFERROR(IF($A11="","",$X11*IF($K11="",'Assumptions'!$B$12,$K11)),"") | Z11: =IFERROR(IF($A11="","",($X11+$Y11)*IF($L11="",'Assumptions'!$B$13,$L11)),"") | AA11: =IFERROR(IF($A11="","",$X11+$Y11+$Z11),"") | AB11: =IFERROR(IF($A11="","",$V11*'Assumptions'!$B$5),"") | AC11: =IFERROR(IF($A11="","",$I11*'Assumptions'!$B$6),"") | AD11: =IFERROR(IF($A11="","",$AB11+$AC11),"") | AE11: =IFERROR(IF($A11="","",($M11+$N11)*'Assumptions'!$B$7),"") | AF11: =IFERROR(IF($A11="","",($Q11/60)*'Assumptions'!$B$8),"") | AG11: =IFERROR(IF($A11="","",$P11+$AE11+$AF11),"") | AH11: =IFERROR(IF($A11="","",$M11+$O11),"") | AI11: =IFERROR(IF($A11="","",IFERROR($AH11/$W11,0)),"") | AJ11: =IFERROR(IF($A11="","",$W11-$AH11-$AD11+$AG11),"") | AK11: =IFERROR(IF($A11="","",IF(OR($S11="Collected",$S11="Waived",$S11="Uncollectible",$S11="No Charge Due"),"",IF($T11="",$B11+'Assumptions'!$B$9,$T11+'Assumptions'!$B$9))),"") | AL11: =IFERROR(IF($A11="","",IF(OR($S11="Collected",$S11="Waived",$S11="Uncollectible",$S11="No Charge Due"),"Closed",IF($AK11<TODAY(),"Overdue",IF($AK11=TODAY(),"Due","Open")))),"") | AM11: =IFERROR(IF($A11="","",IF(COUNTIF($A$5:$A$504,$A11)>1,"Duplicate reservation ID",IF($C11<=$B11,"Check stay dates",IF($G11>$F11,"Resold nights exceed booked nights",IF($M11+$N11>$AA11+0.01,"Collection exceeds expected amount",IF(AND($S11="Collected",$M11=0),"Collected status has no amount",IF($AJ11>='Assumptions'!$B$10,"High-cost review","OK"))))))),"")
A12: NS-260108 | B12: 46206 | C12: 46208 | D12: Travel Agent | E12: Two Queens | F12: 2 | G12: 1 | H12: 578 | I12: 125 | J12: 0.5 | K12: 0 | L12: 0 | M12: 0 | N12: 0 | O12: 325 | P12: 8 | Q12: 30 | R12: Reservations | S12: Pending | T12: 46268 | U12: Agency confirmation requested | V12: =IFERROR(IF($A12="","",MAX($F12-$G12,0)),"") | W12: =IFERROR(IF($A12="","",$H12+$I12),"") | X12: =IFERROR(IF($A12="","",$H12*IF($J12="",'Assumptions'!$B$4,$J12)),"") | Y12: =IFERROR(IF($A12="","",$X12*IF($K12="",'Assumptions'!$B$12,$K12)),"") | Z12: =IFERROR(IF($A12="","",($X12+$Y12)*IF($L12="",'Assumptions'!$B$13,$L12)),"") | AA12: =IFERROR(IF($A12="","",$X12+$Y12+$Z12),"") | AB12: =IFERROR(IF($A12="","",$V12*'Assumptions'!$B$5),"") | AC12: =IFERROR(IF($A12="","",$I12*'Assumptions'!$B$6),"") | AD12: =IFERROR(IF($A12="","",$AB12+$AC12),"") | AE12: =IFERROR(IF($A12="","",($M12+$N12)*'Assumptions'!$B$7),"") | AF12: =IFERROR(IF($A12="","",($Q12/60)*'Assumptions'!$B$8),"") | AG12: =IFERROR(IF($A12="","",$P12+$AE12+$AF12),"") | AH12: =IFERROR(IF($A12="","",$M12+$O12),"") | AI12: =IFERROR(IF($A12="","",IFERROR($AH12/$W12,0)),"") | AJ12: =IFERROR(IF($A12="","",$W12-$AH12-$AD12+$AG12),"") | AK12: =IFERROR(IF($A12="","",IF(OR($S12="Collected",$S12="Waived",$S12="Uncollectible",$S12="No Charge Due"),"",IF($T12="",$B12+'Assumptions'!$B$9,$T12+'Assumptions'!$B$9))),"") | AL12: =IFERROR(IF($A12="","",IF(OR($S12="Collected",$S12="Waived",$S12="Uncollectible",$S12="No Charge Due"),"Closed",IF($AK12<TODAY(),"Overdue",IF($AK12=TODAY(),"Due","Open")))),"") | AM12: =IFERROR(IF($A12="","",IF(COUNTIF($A$5:$A$504,$A12)>1,"Duplicate reservation ID",IF($C12<=$B12,"Check stay dates",IF($G12>$F12,"Resold nights exceed booked nights",IF($M12+$N12>$AA12+0.01,"Collection exceeds expected amount",IF(AND($S12="Collected",$M12=0),"Collected status has no amount",IF($AJ12>='Assumptions'!$B$10,"High-cost review","OK"))))))),"")
A13: NS-260109 | B13: 46255 | C13: 46256 | D13: Walk-In | E13: King | F13: 1 | G13: 0 | H13: 179 | I13: 25 | J13: 1 | K13: 0 | L13: 0 | M13: 0 | N13: 0 | O13: 0 | P13: 3.5 | Q13: 15 | R13: Accounting | S13: Uncollectible | T13: 46258 | U13: Invalid payment method; balance closed | V13: =IFERROR(IF($A13="","",MAX($F13-$G13,0)),"") | W13: =IFERROR(IF($A13="","",$H13+$I13),"") | X13: =IFERROR(IF($A13="","",$H13*IF($J13="",'Assumptions'!$B$4,$J13)),"") | Y13: =IFERROR(IF($A13="","",$X13*IF($K13="",'Assumptions'!$B$12,$K13)),"") | Z13: =IFERROR(IF($A13="","",($X13+$Y13)*IF($L13="",'Assumptions'!$B$13,$L13)),"") | AA13: =IFERROR(IF($A13="","",$X13+$Y13+$Z13),"") | AB13: =IFERROR(IF($A13="","",$V13*'Assumptions'!$B$5),"") | AC13: =IFERROR(IF($A13="","",$I13*'Assumptions'!$B$6),"") | AD13: =IFERROR(IF($A13="","",$AB13+$AC13),"") | AE13: =IFERROR(IF($A13="","",($M13+$N13)*'Assumptions'!$B$7),"") | AF13: =IFERROR(IF($A13="","",($Q13/60)*'Assumptions'!$B$8),"") | AG13: =IFERROR(IF($A13="","",$P13+$AE13+$AF13),"") | AH13: =IFERROR(IF($A13="","",$M13+$O13),"") | AI13: =IFERROR(IF($A13="","",IFERROR($AH13/$W13,0)),"") | AJ13: =IFERROR(IF($A13="","",$W13-$AH13-$AD13+$AG13),"") | AK13: =IFERROR(IF($A13="","",IF(OR($S13="Collected",$S13="Waived",$S13="Uncollectible",$S13="No Charge Due"),"",IF($T13="",$B13+'Assumptions'!$B$9,$T13+'Assumptions'!$B$9))),"") | AL13: =IFERROR(IF($A13="","",IF(OR($S13="Collected",$S13="Waived",$S13="Uncollectible",$S13="No Charge Due"),"Closed",IF($AK13<TODAY(),"Overdue",IF($AK13=TODAY(),"Due","Open")))),"") | AM13: =IFERROR(IF($A13="","",IF(COUNTIF($A$5:$A$504,$A13)>1,"Duplicate reservation ID",IF($C13<=$B13,"Check stay dates",IF($G13>$F13,"Resold nights exceed booked nights",IF($M13+$N13>$AA13+0.01,"Collection exceeds expected amount",IF(AND($S13="Collected",$M13=0),"Collected status has no amount",IF($AJ13>='Assumptions'!$B$10,"High-cost review","OK"))))))),"")
A14: NS-260110 | B14: 46276 | C14: 46278 | D14: Direct Website | E14: Suite | F14: 2 | G14: 1 | H14: 758 | I14: 160 | J14: 0.5 | K14: 0.1 | L14: 0 | M14: 300 | N14: 0 | O14: 420 | P14: 9 | Q14: 42 | R14: Revenue Management | S14: Partially Collected | T14: 46269 | U14: Deposit retained and one night resold | V14: =IFERROR(IF($A14="","",MAX($F14-$G14,0)),"") | W14: =IFERROR(IF($A14="","",$H14+$I14),"") | X14: =IFERROR(IF($A14="","",$H14*IF($J14="",'Assumptions'!$B$4,$J14)),"") | Y14: =IFERROR(IF($A14="","",$X14*IF($K14="",'Assumptions'!$B$12,$K14)),"") | Z14: =IFERROR(IF($A14="","",($X14+$Y14)*IF($L14="",'Assumptions'!$B$13,$L14)),"") | AA14: =IFERROR(IF($A14="","",$X14+$Y14+$Z14),"") | AB14: =IFERROR(IF($A14="","",$V14*'Assumptions'!$B$5),"") | AC14: =IFERROR(IF($A14="","",$I14*'Assumptions'!$B$6),"") | AD14: =IFERROR(IF($A14="","",$AB14+$AC14),"") | AE14: =IFERROR(IF($A14="","",($M14+$N14)*'Assumptions'!$B$7),"") | AF14: =IFERROR(IF($A14="","",($Q14/60)*'Assumptions'!$B$8),"") | AG14: =IFERROR(IF($A14="","",$P14+$AE14+$AF14),"") | AH14: =IFERROR(IF($A14="","",$M14+$O14),"") | AI14: =IFERROR(IF($A14="","",IFERROR($AH14/$W14,0)),"") | AJ14: =IFERROR(IF($A14="","",$W14-$AH14-$AD14+$AG14),"") | AK14: =IFERROR(IF($A14="","",IF(OR($S14="Collected",$S14="Waived",$S14="Uncollectible",$S14="No Charge Due"),"",IF($T14="",$B14+'Assumptions'!$B$9,$T14+'Assumptions'!$B$9))),"") | AL14: =IFERROR(IF($A14="","",IF(OR($S14="Collected",$S14="Waived",$S14="Uncollectible",$S14="No Charge Due"),"Closed",IF($AK14<TODAY(),"Overdue",IF($AK14=TODAY(),"Due","Open")))),"") | AM14: =IFERROR(IF($A14="","",IF(COUNTIF($A$5:$A$504,$A14)>1,"Duplicate reservation ID",IF($C14<=$B14,"Check stay dates",IF($G14>$F14,"Resold nights exceed booked nights",IF($M14+$N14>$AA14+0.01,"Collection exceeds expected amount",IF(AND($S14="Collected",$M14=0),"Collected status has no amount",IF($AJ14>='Assumptions'!$B$10,"High-cost review","OK"))))))),"")
V15: =IFERROR(IF($A15="","",MAX($F15-$G15,0)),"") | W15: =IFERROR(IF($A15="","",$H15+$I15),"") | X15: =IFERROR(IF($A15="","",$H15*IF($J15="",'Assumptions'!$B$4,$J15)),"") | Y15: =IFERROR(IF($A15="","",$X15*IF($K15="",'Assumptions'!$B$12,$K15)),"") | Z15: =IFERROR(IF($A15="","",($X15+$Y15)*IF($L15="",'Assumptions'!$B$13,$L15)),"") | AA15: =IFERROR(IF($A15="","",$X15+$Y15+$Z15),"") | AB15: =IFERROR(IF($A15="","",$V15*'Assumptions'!$B$5),"") | AC15: =IFERROR(IF($A15="","",$I15*'Assumptions'!$B$6),"") | AD15: =IFERROR(IF($A15="","",$AB15+$AC15),"") | AE15: =IFERROR(IF($A15="","",($M15+$N15)*'Assumptions'!$B$7),"") | AF15: =IFERROR(IF($A15="","",($Q15/60)*'Assumptions'!$B$8),"") | AG15: =IFERROR(IF($A15="","",$P15+$AE15+$AF15),"") | AH15: =IFERROR(IF($A15="","",$M15+$O15),"") | AI15: =IFERROR(IF($A15="","",IFERROR($AH15/$W15,0)),"") | AJ15: =IFERROR(IF($A15="","",$W15-$AH15-$AD15+$AG15),"") | AK15: =IFERROR(IF($A15="","",IF(OR($S15="Collected",$S15="Waived",$S15="Uncollectible",$S15="No Charge Due"),"",IF($T15="",$B15+'Assumptions'!$B$9,$T15+'Assumptions'!$B$9))),"") | AL15: =IFERROR(IF($A15="","",IF(OR($S15="Collected",$S15="Waived",$S15="Uncollectible",$S15="No Charge Due"),"Closed",IF($AK15<TODAY(),"Overdue",IF($AK15=TODAY(),"Due","Open")))),"") | AM15: =IFERROR(IF($A15="","",IF(COUNTIF($A$5:$A$504,$A15)>1,"Duplicate reservation ID",IF($C15<=$B15,"Check stay dates",IF($G15>$F15,"Resold nights exceed booked nights",IF($M15+$N15>$AA15+0.01,"Collection exceeds expected amount",IF(AND($S15="Collected",$M15=0),"Collected status has no amount",IF($AJ15>='Assumptions'!$B$10,"High-cost review","OK"))))))),"")
V16: =IFERROR(IF($A16="","",MAX($F16-$G16,0)),"") | W16: =IFERROR(IF($A16="","",$H16+$I16),"") | X16: =IFERROR(IF($A16="","",$H16*IF($J16="",'Assumptions'!$B$4,$J16)),"") | Y16: =IFERROR(IF($A16="","",$X16*IF($K16="",'Assumptions'!$B$12,$K16)),"") | Z16: =IFERROR(IF($A16="","",($X16+$Y16)*IF($L16="",'Assumptions'!$B$13,$L16)),"") | AA16: =IFERROR(IF($A16="","",$X16+$Y16+$Z16),"") | AB16: =IFERROR(IF($A16="","",$V16*'Assumptions'!$B$5),"") | AC16: =IFERROR(IF($A16="","",$I16*'Assumptions'!$B$6),"") | AD16: =IFERROR(IF($A16="","",$AB16+$AC16),"") | AE16: =IFERROR(IF($A16="","",($M16+$N16)*'Assumptions'!$B$7),"") | AF16: =IFERROR(IF($A16="","",($Q16/60)*'Assumptions'!$B$8),"") | AG16: =IFERROR(IF($A16="","",$P16+$AE16+$AF16),"") | AH16: =IFERROR(IF($A16="","",$M16+$O16),"") | AI16: =IFERROR(IF($A16="","",IFERROR($AH16/$W16,0)),"") | AJ16: =IFERROR(IF($A16="","",$W16-$AH16-$AD16+$AG16),"") | AK16: =IFERROR(IF($A16="","",IF(OR($S16="Collected",$S16="Waived",$S16="Uncollectible",$S16="No Charge Due"),"",IF($T16="",$B16+'Assumptions'!$B$9,$T16+'Assumptions'!$B$9))),"") | AL16: =IFERROR(IF($A16="","",IF(OR($S16="Collected",$S16="Waived",$S16="Uncollectible",$S16="No Charge Due"),"Closed",IF($AK16<TODAY(),"Overdue",IF($AK16=TODAY(),"Due","Open")))),"") | AM16: =IFERROR(IF($A16="","",IF(COUNTIF($A$5:$A$504,$A16)>1,"Duplicate reservation ID",IF($C16<=$B16,"Check stay dates",IF($G16>$F16,"Resold nights exceed booked nights",IF($M16+$N16>$AA16+0.01,"Collection exceeds expected amount",IF(AND($S16="Collected",$M16=0),"Collected status has no amount",IF($AJ16>='Assumptions'!$B$10,"High-cost review","OK"))))))),"")
V17: =IFERROR(IF($A17="","",MAX($F17-$G17,0)),"") | W17: =IFERROR(IF($A17="","",$H17+$I17),"") | X17: =IFERROR(IF($A17="","",$H17*IF($J17="",'Assumptions'!$B$4,$J17)),"") | Y17: =IFERROR(IF($A17="","",$X17*IF($K17="",'Assumptions'!$B$12,$K17)),"") | Z17: =IFERROR(IF($A17="","",($X17+$Y17)*IF($L17="",'Assumptions'!$B$13,$L17)),"") | AA17: =IFERROR(IF($A17="","",$X17+$Y17+$Z17),"") | AB17: =IFERROR(IF($A17="","",$V17*'Assumptions'!$B$5),"") | AC17: =IFERROR(IF($A17="","",$I17*'Assumptions'!$B$6),"") | AD17: =IFERROR(IF($A17="","",$AB17+$AC17),"") | AE17: =IFERROR(IF($A17="","",($M17+$N17)*'Assumptions'!$B$7),"") | AF17: =IFERROR(IF($A17="","",($Q17/60)*'Assumptions'!$B$8),"") | AG17: =IFERROR(IF($A17="","",$P17+$AE17+$AF17),"") | AH17: =IFERROR(IF($A17="","",$M17+$O17),"") | AI17: =IFERROR(IF($A17="","",IFERROR($AH17/$W17,0)),"") | AJ17: =IFERROR(IF($A17="","",$W17-$AH17-$AD17+$AG17),"") | AK17: =IFERROR(IF($A17="","",IF(OR($S17="Collected",$S17="Waived",$S17="Uncollectible",$S17="No Charge Due"),"",IF($T17="",$B17+'Assumptions'!$B$9,$T17+'Assumptions'!$B$9))),"") | AL17: =IFERROR(IF($A17="","",IF(OR($S17="Collected",$S17="Waived",$S17="Uncollectible",$S17="No Charge Due"),"Closed",IF($AK17<TODAY(),"Overdue",IF($AK17=TODAY(),"Due","Open")))),"") | AM17: =IFERROR(IF($A17="","",IF(COUNTIF($A$5:$A$504,$A17)>1,"Duplicate reservation ID",IF($C17<=$B17,"Check stay dates",IF($G17>$F17,"Resold nights exceed booked nights",IF($M17+$N17>$AA17+0.01,"Collection exceeds expected amount",IF(AND($S17="Collected",$M17=0),"Collected status has no amount",IF($AJ17>='Assumptions'!$B$10,"High-cost review","OK"))))))),"")
V18: =IFERROR(IF($A18="","",MAX($F18-$G18,0)),"") | W18: =IFERROR(IF($A18="","",$H18+$I18),"") | X18: =IFERROR(IF($A18="","",$H18*IF($J18="",'Assumptions'!$B$4,$J18)),"") | Y18: =IFERROR(IF($A18="","",$X18*IF($K18="",'Assumptions'!$B$12,$K18)),"") | Z18: =IFERROR(IF($A18="","",($X18+$Y18)*IF($L18="",'Assumptions'!$B$13,$L18)),"") | AA18: =IFERROR(IF($A18="","",$X18+$Y18+$Z18),"") | AB18: =IFERROR(IF($A18="","",$V18*'Assumptions'!$B$5),"") | AC18: =IFERROR(IF($A18="","",$I18*'Assumptions'!$B$6),"") | AD18: =IFERROR(IF($A18="","",$AB18+$AC18),"") | AE18: =IFERROR(IF($A18="","",($M18+$N18)*'Assumptions'!$B$7),"") | AF18: =IFERROR(IF($A18="","",($Q18/60)*'Assumptions'!$B$8),"") | AG18: =IFERROR(IF($A18="","",$P18+$AE18+$AF18),"") | AH18: =IFERROR(IF($A18="","",$M18+$O18),"") | AI18: =IFERROR(IF($A18="","",IFERROR($AH18/$W18,0)),"") | AJ18: =IFERROR(IF($A18="","",$W18-$AH18-$AD18+$AG18),"") | AK18: =IFERROR(IF($A18="","",IF(OR($S18="Collected",$S18="Waived",$S18="Uncollectible",$S18="No Charge Due"),"",IF($T18="",$B18+'Assumptions'!$B$9,$T18+'Assumptions'!$B$9))),"") | AL18: =IFERROR(IF($A18="","",IF(OR($S18="Collected",$S18="Waived",$S18="Uncollectible",$S18="No Charge Due"),"Closed",IF($AK18<TODAY(),"Overdue",IF($AK18=TODAY(),"Due","Open")))),"") | AM18: =IFERROR(IF($A18="","",IF(COUNTIF($A$5:$A$504,$A18)>1,"Duplicate reservation ID",IF($C18<=$B18,"Check stay dates",IF($G18>$F18,"Resold nights exceed booked nights",IF($M18+$N18>$AA18+0.01,"Collection exceeds expected amount",IF(AND($S18="Collected",$M18=0),"Collected status has no amount",IF($AJ18>='Assumptions'!$B$10,"High-cost review","OK"))))))),"")
V19: =IFERROR(IF($A19="","",MAX($F19-$G19,0)),"") | W19: =IFERROR(IF($A19="","",$H19+$I19),"") | X19: =IFERROR(IF($A19="","",$H19*IF($J19="",'Assumptions'!$B$4,$J19)),"") | Y19: =IFERROR(IF($A19="","",$X19*IF($K19="",'Assumptions'!$B$12,$K19)),"") | Z19: =IFERROR(IF($A19="","",($X19+$Y19)*IF($L19="",'Assumptions'!$B$13,$L19)),"") | AA19: =IFERROR(IF($A19="","",$X19+$Y19+$Z19),"") | AB19: =IFERROR(IF($A19="","",$V19*'Assumptions'!$B$5),"") | AC19: =IFERROR(IF($A19="","",$I19*'Assumptions'!$B$6),"") | AD19: =IFERROR(IF($A19="","",$AB19+$AC19),"") | AE19: =IFERROR(IF($A19="","",($M19+$N19)*'Assumptions'!$B$7),"") | AF19: =IFERROR(IF($A19="","",($Q19/60)*'Assumptions'!$B$8),"") | AG19: =IFERROR(IF($A19="","",$P19+$AE19+$AF19),"") | AH19: =IFERROR(IF($A19="","",$M19+$O19),"") | AI19: =IFERROR(IF($A19="","",IFERROR($AH19/$W19,0)),"") | AJ19: =IFERROR(IF($A19="","",$W19-$AH19-$AD19+$AG19),"") | AK19: =IFERROR(IF($A19="","",IF(OR($S19="Collected",$S19="Waived",$S19="Uncollectible",$S19="No Charge Due"),"",IF($T19="",$B19+'Assumptions'!$B$9,$T19+'Assumptions'!$B$9))),"") | AL19: =IFERROR(IF($A19="","",IF(OR($S19="Collected",$S19="Waived",$S19="Uncollectible",$S19="No Charge Due"),"Closed",IF($AK19<TODAY(),"Overdue",IF($AK19=TODAY(),"Due","Open")))),"") | AM19: =IFERROR(IF($A19="","",IF(COUNTIF($A$5:$A$504,$A19)>1,"Duplicate reservation ID",IF($C19<=$B19,"Check stay dates",IF($G19>$F19,"Resold nights exceed booked nights",IF($M19+$N19>$AA19+0.01,"Collection exceeds expected amount",IF(AND($S19="Collected",$M19=0),"Collected status has no amount",IF($AJ19>='Assumptions'!$B$10,"High-cost review","OK"))))))),"")
V20: =IFERROR(IF($A20="","",MAX($F20-$G20,0)),"") | W20: =IFERROR(IF($A20="","",$H20+$I20),"") | X20: =IFERROR(IF($A20="","",$H20*IF($J20="",'Assumptions'!$B$4,$J20)),"") | Y20: =IFERROR(IF($A20="","",$X20*IF($K20="",'Assumptions'!$B$12,$K20)),"") | Z20: =IFERROR(IF($A20="","",($X20+$Y20)*IF($L20="",'Assumptions'!$B$13,$L20)),"") | AA20: =IFERROR(IF($A20="","",$X20+$Y20+$Z20),"") | AB20: =IFERROR(IF($A20="","",$V20*'Assumptions'!$B$5),"") | AC20: =IFERROR(IF($A20="","",$I20*'Assumptions'!$B$6),"") | AD20: =IFERROR(IF($A20="","",$AB20+$AC20),"") | AE20: =IFERROR(IF($A20="","",($M20+$N20)*'Assumptions'!$B$7),"") | AF20: =IFERROR(IF($A20="","",($Q20/60)*'Assumptions'!$B$8),"") | AG20: =IFERROR(IF($A20="","",$P20+$AE20+$AF20),"") | AH20: =IFERROR(IF($A20="","",$M20+$O20),"") | AI20: =IFERROR(IF($A20="","",IFERROR($AH20/$W20,0)),"") | AJ20: =IFERROR(IF($A20="","",$W20-$AH20-$AD20+$AG20),"") | AK20: =IFERROR(IF($A20="","",IF(OR($S20="Collected",$S20="Waived",$S20="Uncollectible",$S20="No Charge Due"),"",IF($T20="",$B20+'Assumptions'!$B$9,$T20+'Assumptions'!$B$9))),"") | AL20: =IFERROR(IF($A20="","",IF(OR($S20="Collected",$S20="Waived",$S20="Uncollectible",$S20="No Charge Due"),"Closed",IF($AK20<TODAY(),"Overdue",IF($AK20=TODAY(),"Due","Open")))),"") | AM20: =IFERROR(IF($A20="","",IF(COUNTIF($A$5:$A$504,$A20)>1,"Duplicate reservation ID",IF($C20<=$B20,"Check stay dates",IF($G20>$F20,"Resold nights exceed booked nights",IF($M20+$N20>$AA20+0.01,"Collection exceeds expected amount",IF(AND($S20="Collected",$M20=0),"Collected status has no amount",IF($AJ20>='Assumptions'!$B$10,"High-cost review","OK"))))))),"")
V21: =IFERROR(IF($A21="","",MAX($F21-$G21,0)),"") | W21: =IFERROR(IF($A21="","",$H21+$I21),"") | X21: =IFERROR(IF($A21="","",$H21*IF($J21="",'Assumptions'!$B$4,$J21)),"") | Y21: =IFERROR(IF($A21="","",$X21*IF($K21="",'Assumptions'!$B$12,$K21)),"") | Z21: =IFERROR(IF($A21="","",($X21+$Y21)*IF($L21="",'Assumptions'!$B$13,$L21)),"") | AA21: =IFERROR(IF($A21="","",$X21+$Y21+$Z21),"") | AB21: =IFERROR(IF($A21="","",$V21*'Assumptions'!$B$5),"") | AC21: =IFERROR(IF($A21="","",$I21*'Assumptions'!$B$6),"") | AD21: =IFERROR(IF($A21="","",$AB21+$AC21),"") | AE21: =IFERROR(IF($A21="","",($M21+$N21)*'Assumptions'!$B$7),"") | AF21: =IFERROR(IF($A21="","",($Q21/60)*'Assumptions'!$B$8),"") | AG21: =IFERROR(IF($A21="","",$P21+$AE21+$AF21),"") | AH21: =IFERROR(IF($A21="","",$M21+$O21),"") | AI21: =IFERROR(IF($A21="","",IFERROR($AH21/$W21,0)),"") | AJ21: =IFERROR(IF($A21="","",$W21-$AH21-$AD21+$AG21),"") | AK21: =IFERROR(IF($A21="","",IF(OR($S21="Collected",$S21="Waived",$S21="Uncollectible",$S21="No Charge Due"),"",IF($T21="",$B21+'Assumptions'!$B$9,$T21+'Assumptions'!$B$9))),"") | AL21: =IFERROR(IF($A21="","",IF(OR($S21="Collected",$S21="Waived",$S21="Uncollectible",$S21="No Charge Due"),"Closed",IF($AK21<TODAY(),"Overdue",IF($AK21=TODAY(),"Due","Open")))),"") | AM21: =IFERROR(IF($A21="","",IF(COUNTIF($A$5:$A$504,$A21)>1,"Duplicate reservation ID",IF($C21<=$B21,"Check stay dates",IF($G21>$F21,"Resold nights exceed booked nights",IF($M21+$N21>$AA21+0.01,"Collection exceeds expected amount",IF(AND($S21="Collected",$M21=0),"Collected status has no amount",IF($AJ21>='Assumptions'!$B$10,"High-cost review","OK"))))))),"")
V22: =IFERROR(IF($A22="","",MAX($F22-$G22,0)),"") | W22: =IFERROR(IF($A22="","",$H22+$I22),"") | X22: =IFERROR(IF($A22="","",$H22*IF($J22="",'Assumptions'!$B$4,$J22)),"") | Y22: =IFERROR(IF($A22="","",$X22*IF($K22="",'Assumptions'!$B$12,$K22)),"") | Z22: =IFERROR(IF($A22="","",($X22+$Y22)*IF($L22="",'Assumptions'!$B$13,$L22)),"") | AA22: =IFERROR(IF($A22="","",$X22+$Y22+$Z22),"") | AB22: =IFERROR(IF($A22="","",$V22*'Assumptions'!$B$5),"") | AC22: =IFERROR(IF($A22="","",$I22*'Assumptions'!$B$6),"") | AD22: =IFERROR(IF($A22="","",$AB22+$AC22),"") | AE22: =IFERROR(IF($A22="","",($M22+$N22)*'Assumptions'!$B$7),"") | AF22: =IFERROR(IF($A22="","",($Q22/60)*'Assumptions'!$B$8),"") | AG22: =IFERROR(IF($A22="","",$P22+$AE22+$AF22),"") | AH22: =IFERROR(IF($A22="","",$M22+$O22),"") | AI22: =IFERROR(IF($A22="","",IFERROR($AH22/$W22,0)),"") | AJ22: =IFERROR(IF($A22="","",$W22-$AH22-$AD22+$AG22),"") | AK22: =IFERROR(IF($A22="","",IF(OR($S22="Collected",$S22="Waived",$S22="Uncollectible",$S22="No Charge Due"),"",IF($T22="",$B22+'Assumptions'!$B$9,$T22+'Assumptions'!$B$9))),"") | AL22: =IFERROR(IF($A22="","",IF(OR($S22="Collected",$S22="Waived",$S22="Uncollectible",$S22="No Charge Due"),"Closed",IF($AK22<TODAY(),"Overdue",IF($AK22=TODAY(),"Due","Open")))),"") | AM22: =IFERROR(IF($A22="","",IF(COUNTIF($A$5:$A$504,$A22)>1,"Duplicate reservation ID",IF($C22<=$B22,"Check stay dates",IF($G22>$F22,"Resold nights exceed booked nights",IF($M22+$N22>$AA22+0.01,"Collection exceeds expected amount",IF(AND($S22="Collected",$M22=0),"Collected status has no amount",IF($AJ22>='Assumptions'!$B$10,"High-cost review","OK"))))))),"")
V23: =IFERROR(IF($A23="","",MAX($F23-$G23,0)),"") | W23: =IFERROR(IF($A23="","",$H23+$I23),"") | X23: =IFERROR(IF($A23="","",$H23*IF($J23="",'Assumptions'!$B$4,$J23)),"") | Y23: =IFERROR(IF($A23="","",$X23*IF($K23="",'Assumptions'!$B$12,$K23)),"") | Z23: =IFERROR(IF($A23="","",($X23+$Y23)*IF($L23="",'Assumptions'!$B$13,$L23)),"") | AA23: =IFERROR(IF($A23="","",$X23+$Y23+$Z23),"") | AB23: =IFERROR(IF($A23="","",$V23*'Assumptions'!$B$5),"") | AC23: =IFERROR(IF($A23="","",$I23*'Assumptions'!$B$6),"") | AD23: =IFERROR(IF($A23="","",$AB23+$AC23),"") | AE23: =IFERROR(IF($A23="","",($M23+$N23)*'Assumptions'!$B$7),"") | AF23: =IFERROR(IF($A23="","",($Q23/60)*'Assumptions'!$B$8),"") | AG23: =IFERROR(IF($A23="","",$P23+$AE23+$AF23),"") | AH23: =IFERROR(IF($A23="","",$M23+$O23),"") | AI23: =IFERROR(IF($A23="","",IFERROR($AH23/$W23,0)),"") | AJ23: =IFERROR(IF($A23="","",$W23-$AH23-$AD23+$AG23),"") | AK23: =IFERROR(IF($A23="","",IF(OR($S23="Collected",$S23="Waived",$S23="Uncollectible",$S23="No Charge Due"),"",IF($T23="",$B23+'Assumptions'!$B$9,$T23+'Assumptions'!$B$9))),"") | AL23: =IFERROR(IF($A23="","",IF(OR($S23="Collected",$S23="Waived",$S23="Uncollectible",$S23="No Charge Due"),"Closed",IF($AK23<TODAY(),"Overdue",IF($AK23=TODAY(),"Due","Open")))),"") | AM23: =IFERROR(IF($A23="","",IF(COUNTIF($A$5:$A$504,$A23)>1,"Duplicate reservation ID",IF($C23<=$B23,"Check stay dates",IF($G23>$F23,"Resold nights exceed booked nights",IF($M23+$N23>$AA23+0.01,"Collection exceeds expected amount",IF(AND($S23="Collected",$M23=0),"Collected status has no amount",IF($AJ23>='Assumptions'!$B$10,"High-cost review","OK"))))))),"")
V24: =IFERROR(IF($A24="","",MAX($F24-$G24,0)),"") | W24: =IFERROR(IF($A24="","",$H24+$I24),"") | X24: =IFERROR(IF($A24="","",$H24*IF($J24="",'Assumptions'!$B$4,$J24)),"") | Y24: =IFERROR(IF($A24="","",$X24*IF($K24="",'Assumptions'!$B$12,$K24)),"") | Z24: =IFERROR(IF($A24="","",($X24+$Y24)*IF($L24="",'Assumptions'!$B$13,$L24)),"") | AA24: =IFERROR(IF($A24="","",$X24+$Y24+$Z24),"") | AB24: =IFERROR(IF($A24="","",$V24*'Assumptions'!$B$5),"") | AC24: =IFERROR(IF($A24="","",$I24*'Assumptions'!$B$6),"") | AD24: =IFERROR(IF($A24="","",$AB24+$AC24),"") | AE24: =IFERROR(IF($A24="","",($M24+$N24)*'Assumptions'!$B$7),"") | AF24: =IFERROR(IF($A24="","",($Q24/60)*'Assumptions'!$B$8),"") | AG24: =IFERROR(IF($A24="","",$P24+$AE24+$AF24),"") | AH24: =IFERROR(IF($A24="","",$M24+$O24),"") | AI24: =IFERROR(IF($A24="","",IFERROR($AH24/$W24,0)),"") | AJ24: =IFERROR(IF($A24="","",$W24-$AH24-$AD24+$AG24),"") | AK24: =IFERROR(IF($A24="","",IF(OR($S24="Collected",$S24="Waived",$S24="Uncollectible",$S24="No Charge Due"),"",IF($T24="",$B24+'Assumptions'!$B$9,$T24+'Assumptions'!$B$9))),"") | AL24: =IFERROR(IF($A24="","",IF(OR($S24="Collected",$S24="Waived",$S24="Uncollectible",$S24="No Charge Due"),"Closed",IF($AK24<TODAY(),"Overdue",IF($AK24=TODAY(),"Due","Open")))),"") | AM24: =IFERROR(IF($A24="","",IF(COUNTIF($A$5:$A$504,$A24)>1,"Duplicate reservation ID",IF($C24<=$B24,"Check stay dates",IF($G24>$F24,"Resold nights exceed booked nights",IF($M24+$N24>$AA24+0.01,"Collection exceeds expected amount",IF(AND($S24="Collected",$M24=0),"Collected status has no amount",IF($AJ24>='Assumptions'!$B$10,"High-cost review","OK"))))))),"")
V25: =IFERROR(IF($A25="","",MAX($F25-$G25,0)),"") | W25: =IFERROR(IF($A25="","",$H25+$I25),"") | X25: =IFERROR(IF($A25="","",$H25*IF($J25="",'Assumptions'!$B$4,$J25)),"") | Y25: =IFERROR(IF($A25="","",$X25*IF($K25="",'Assumptions'!$B$12,$K25)),"") | Z25: =IFERROR(IF($A25="","",($X25+$Y25)*IF($L25="",'Assumptions'!$B$13,$L25)),"") | AA25: =IFERROR(IF($A25="","",$X25+$Y25+$Z25),"") | AB25: =IFERROR(IF($A25="","",$V25*'Assumptions'!$B$5),"") | AC25: =IFERROR(IF($A25="","",$I25*'Assumptions'!$B$6),"") | AD25: =IFERROR(IF($A25="","",$AB25+$AC25),"") | AE25: =IFERROR(IF($A25="","",($M25+$N25)*'Assumptions'!$B$7),"") | AF25: =IFERROR(IF($A25="","",($Q25/60)*'Assumptions'!$B$8),"") | AG25: =IFERROR(IF($A25="","",$P25+$AE25+$AF25),"") | AH25: =IFERROR(IF($A25="","",$M25+$O25),"") | AI25: =IFERROR(IF($A25="","",IFERROR($AH25/$W25,0)),"") | AJ25: =IFERROR(IF($A25="","",$W25-$AH25-$AD25+$AG25),"") | AK25: =IFERROR(IF($A25="","",IF(OR($S25="Collected",$S25="Waived",$S25="Uncollectible",$S25="No Charge Due"),"",IF($T25="",$B25+'Assumptions'!$B$9,$T25+'Assumptions'!$B$9))),"") | AL25: =IFERROR(IF($A25="","",IF(OR($S25="Collected",$S25="Waived",$S25="Uncollectible",$S25="No Charge Due"),"Closed",IF($AK25<TODAY(),"Overdue",IF($AK25=TODAY(),"Due","Open")))),"") | AM25: =IFERROR(IF($A25="","",IF(COUNTIF($A$5:$A$504,$A25)>1,"Duplicate reservation ID",IF($C25<=$B25,"Check stay dates",IF($G25>$F25,"Resold nights exceed booked nights",IF($M25+$N25>$AA25+0.01,"Collection exceeds expected amount",IF(AND($S25="Collected",$M25=0),"Collected status has no amount",IF($AJ25>='Assumptions'!$B$10,"High-cost review","OK"))))))),"")
V26: =IFERROR(IF($A26="","",MAX($F26-$G26,0)),"") | W26: =IFERROR(IF($A26="","",$H26+$I26),"") | X26: =IFERROR(IF($A26="","",$H26*IF($J26="",'Assumptions'!$B$4,$J26)),"") | Y26: =IFERROR(IF($A26="","",$X26*IF($K26="",'Assumptions'!$B$12,$K26)),"") | Z26: =IFERROR(IF($A26="","",($X26+$Y26)*IF($L26="",'Assumptions'!$B$13,$L26)),"") | AA26: =IFERROR(IF($A26="","",$X26+$Y26+$Z26),"") | AB26: =IFERROR(IF($A26="","",$V26*'Assumptions'!$B$5),"") | AC26: =IFERROR(IF($A26="","",$I26*'Assumptions'!$B$6),"") | AD26: =IFERROR(IF($A26="","",$AB26+$AC26),"") | AE26: =IFERROR(IF($A26="","",($M26+$N26)*'Assumptions'!$B$7),"") | AF26: =IFERROR(IF($A26="","",($Q26/60)*'Assumptions'!$B$8),"") | AG26: =IFERROR(IF($A26="","",$P26+$AE26+$AF26),"") | AH26: =IFERROR(IF($A26="","",$M26+$O26),"") | AI26: =IFERROR(IF($A26="","",IFERROR($AH26/$W26,0)),"") | AJ26: =IFERROR(IF($A26="","",$W26-$AH26-$AD26+$AG26),"") | AK26: =IFERROR(IF($A26="","",IF(OR($S26="Collected",$S26="Waived",$S26="Uncollectible",$S26="No Charge Due"),"",IF($T26="",$B26+'Assumptions'!$B$9,$T26+'Assumptions'!$B$9))),"") | AL26: =IFERROR(IF($A26="","",IF(OR($S26="Collected",$S26="Waived",$S26="Uncollectible",$S26="No Charge Due"),"Closed",IF($AK26<TODAY(),"Overdue",IF($AK26=TODAY(),"Due","Open")))),"") | AM26: =IFERROR(IF($A26="","",IF(COUNTIF($A$5:$A$504,$A26)>1,"Duplicate reservation ID",IF($C26<=$B26,"Check stay dates",IF($G26>$F26,"Resold nights exceed booked nights",IF($M26+$N26>$AA26+0.01,"Collection exceeds expected amount",IF(AND($S26="Collected",$M26=0),"Collected status has no amount",IF($AJ26>='Assumptions'!$B$10,"High-cost review","OK"))))))),"")
... V504: =IFERROR(IF($A504="","",MAX($F504-$G504,0)),"") | W504: =IFERROR(IF($A504="","",$H504+$I504),"") | X504: =IFERROR(IF($A504="","",$H504*IF($J504="",'Assumptions'!$B$4,$J504)),"") | Y504: =IFERROR(IF($A504="","",$X504*IF($K504="",'Assumptions'!$B$12,$K504)),"") | Z504: =IFERROR(IF($A504="","",($X504+$Y504)*IF($L504="",'Assumptions'!$B$13,$L504)),"") | AA504: =IFERROR(IF($A504="","",$X504+$Y504+$Z504),"") | AB504: =IFERROR(IF($A504="","",$V504*'Assumptions'!$B$5),"") | AC504: =IFERROR(IF($A504="","",$I504*'Assumptions'!$B$6),"") | AD504: =IFERROR(IF($A504="","",$AB504+$AC504),"") | AE504: =IFERROR(IF($A504="","",($M504+$N504)*'Assumptions'!$B$7),"") | AF504: =IFERROR(IF($A504="","",($Q504/60)*'Assumptions'!$B$8),"") | AG504: =IFERROR(IF($A504="","",$P504+$AE504+$AF504),"") | AH504: =IFERROR(IF($A504="","",$M504+$O504),"") | AI504: =IFERROR(IF($A504="","",IFERROR($AH504/$W504,0)),"") | AJ504: =IFERROR(IF($A504="","",$W504-$AH504-$AD504+$AG504),"") | AK504: =IFERROR(IF($A504="","",IF(OR($S504="Collected",$S504="Waived",$S504="Uncollectible",$S504="No Charge Due"),"",IF($T504="",$B504+'Assumptions'!$B$9,$T504+'Assumptions'!$B$9))),"") | AL504: =IFERROR(IF($A504="","",IF(OR($S504="Collected",$S504="Waived",$S504="Uncollectible",$S504="No Charge Due"),"Closed",IF($AK504<TODAY(),"Overdue",IF($AK504=TODAY(),"Due","Open")))),"") | AM504: =IFERROR(IF($A504="","",IF(COUNTIF($A$5:$A$504,$A504)>1,"Duplicate reservation ID",IF($C504<=$B504,"Check stay dates",IF($G504>$F504,"Resold nights exceed booked nights",IF($M504+$N504>$AA504+0.01,"Collection exceeds expected amount",IF(AND($S504="Collected",$M504=0),"Collected status has no amount",IF($AJ504>='Assumptions'!$B$10,"High-cost review","OK"))))))),"")

Sheet Assumptions
A1: Property Assumptions and Validation Lists
A2: These are sample operating assumptions only. Replace them with property-approved amounts and rates. Confirm charge, service-charge, and tax treatment with appropriate property advisors.
