Workbook

Sheet Dashboard
A1: Hotel Monthly Profit and Loss Dashboard
A2: Review monthly operating results, budget variances, and hotel performance indicators.
A4: Reporting Month | B4: 46174 | D4: Department View | E4: All Departments
A6: Total Revenue | D6: Gross Operating Profit | G6: GOP Margin | J6: Net Operating Income
A7: Actual | B7: =IFERROR('Monthly P&L'!C14,0) | D7: Actual | E7: =IFERROR('Monthly P&L'!C72,0) | G7: Actual | H7: =IFERROR('Monthly P&L'!C73,0) | J7: Actual | K7: =IFERROR('Monthly P&L'!C83,0)
A11: Occupancy | B11: =IFERROR(VLOOKUP($B$4,'Setup'!$A$16:$I$135,3,FALSE)/VLOOKUP($B$4,'Setup'!$A$16:$I$135,2,FALSE),0) | D11: Average Daily Rate | E11: =IFERROR(VLOOKUP($B$4,'Setup'!$A$16:$I$135,4,FALSE)/VLOOKUP($B$4,'Setup'!$A$16:$I$135,3,FALSE),0) | G11: Revenue per Available Room | H11: =IFERROR(VLOOKUP($B$4,'Setup'!$A$16:$I$135,4,FALSE)/VLOOKUP($B$4,'Setup'!$A$16:$I$135,2,FALSE),0) | J11: Labor Cost Percentage | K11: =IFERROR(VLOOKUP($B$4,'Setup'!$A$16:$I$135,6,FALSE)/'Monthly P&L'!C14,0)
A17: Selected-Month Summary
A18: Metric | B18: Actual | C18: Budget | D18: Variance $ | E18: Variance % | F18: Prior Month | G18: Change vs. Prior Month %
A19: Rooms Revenue | B19: =IFERROR('Monthly P&L'!C7,0) | C19: =IFERROR('Monthly P&L'!D7,0) | D19: =IFERROR(B19-C19,0) | E19: =IFERROR((B19-C19)/C19,0) | F19: =IFERROR('Monthly P&L'!G7,0) | G19: =IFERROR((B19-F19)/F19,0)
A20: Total Revenue | B20: =IFERROR('Monthly P&L'!C14,0) | C20: =IFERROR('Monthly P&L'!D14,0) | D20: =IFERROR(B20-C20,0) | E20: =IFERROR((B20-C20)/C20,0) | F20: =IFERROR('Monthly P&L'!G14,0) | G20: =IFERROR((B20-F20)/F20,0)
A21: Total Departmental Expenses | B21: =IFERROR('Monthly P&L'!C39,0) | C21: =IFERROR('Monthly P&L'!D39,0) | D21: =IFERROR(B21-C21,0) | E21: =IFERROR((B21-C21)/C21,0) | F21: =IFERROR('Monthly P&L'!G39,0) | G21: =IFERROR((B21-F21)/F21,0)
A22: Total Undistributed Operating Expenses | B22: =IFERROR('Monthly P&L'!C71,0) | C22: =IFERROR('Monthly P&L'!D71,0) | D22: =IFERROR(B22-C22,0) | E22: =IFERROR((B22-C22)/C22,0) | F22: =IFERROR('Monthly P&L'!G71,0) | G22: =IFERROR((B22-F22)/F22,0)
A23: Gross Operating Profit | B23: =IFERROR('Monthly P&L'!C72,0) | C23: =IFERROR('Monthly P&L'!D72,0) | D23: =IFERROR(B23-C23,0) | E23: =IFERROR((B23-C23)/C23,0) | F23: =IFERROR('Monthly P&L'!G72,0) | G23: =IFERROR((B23-F23)/F23,0)
A24: Total Fixed Charges | B24: =IFERROR('Monthly P&L'!C82,0) | C24: =IFERROR('Monthly P&L'!D82,0) | D24: =IFERROR(B24-C24,0) | E24: =IFERROR((B24-C24)/C24,0) | F24: =IFERROR('Monthly P&L'!G82,0) | G24: =IFERROR((B24-F24)/F24,0)
A25: Net Operating Income | B25: =IFERROR('Monthly P&L'!C83,0) | C25: =IFERROR('Monthly P&L'!D83,0) | D25: =IFERROR(B25-C25,0) | E25: =IFERROR((B25-C25)/C25,0) | F25: =IFERROR('Monthly P&L'!G83,0) | G25: =IFERROR((B25-F25)/F25,0)
D26: ="" | E26: ="" | G26: =""
D27: ="" | E27: ="" | G27: =""
D28: ="" | E28: ="" | G28: =""
D29: ="" | E29: ="" | G29: =""
A30: Operational Checks | D30: ="" | E30: ="" | G30: =""
A31: Monthly operations record | B31: =IF(COUNTIF('Setup'!$A$16:$A$135,$B$4)=0,"Review: Missing monthly operations record.","OK") | D31: ="" | E31: ="" | G31: =""
A32: Available room nights | B32: =IFERROR(IF(VLOOKUP($B$4,'Setup'!$A$16:$I$135,2,FALSE)=0,"Review: Available room nights is zero.","OK"),"Review: Missing monthly operations record.") | D32: ="" | E32: ="" | G32: =""
A33: Rooms sold capacity | B33: =IFERROR(IF(VLOOKUP($B$4,'Setup'!$A$16:$I$135,3,FALSE)>VLOOKUP($B$4,'Setup'!$A$16:$I$135,2,FALSE),"Review: Rooms sold exceeds capacity.","OK"),"Review: Missing monthly operations record.") | D33: ="" | E33: ="" | G33: =""
A34: Duplicate source references | B34: =IF(COUNTIF('Transactions'!$O$7:$O$506,"Duplicate source reference")>0,"Review: Duplicate source references found.","OK") | D34: ="" | E34: ="" | G34: =""
A35: P&L line mapping | B35: =IF(COUNTIF('Transactions'!$O$7:$O$506,"Missing P&L line")>0,"Review: Missing P&L lines found.","OK") | D35: ="" | E35: ="" | G35: =""
D36: ="" | E36: ="" | G36: =""
D37: ="" | E37: ="" | G37: =""
D38: ="" | E38: ="" | G38: =""
D39: ="" | E39: ="" | G39: =""
D40: ="" | E40: ="" | G40: =""
D41: ="" | E41: ="" | G41: =""
D42: ="" | E42: ="" | G42: =""
D43: ="" | E43: ="" | G43: =""
D44: ="" | E44: ="" | G44: =""
D45: ="" | E45: ="" | G45: =""
D46: ="" | E46: ="" | G46: =""
D47: ="" | E47: ="" | G47: =""
A48: Month | B48: Total Revenue | C48: Gross Operating Profit | D48: ="" | E48: Revenue Category | F48: Amount | G48: =""
A49: 46023 | B49: =IFERROR(SUMIFS('Transactions'!$I$7:$I$506,'Transactions'!$B$7:$B$506,$A49,'Transactions'!$C$7:$C$506,"Actual",'Transactions'!$E$7:$E$506,"Revenue"),0) | C49: =IFERROR(B49-SUMIFS('Transactions'!$I$7:$I$506,'Transactions'!$B$7:$B$506,$A49,'Transactions'!$C$7:$C$506,"Actual",'Transactions'!$E$7:$E$506,"Departmental Expense")-SUMIFS('Transactions'!$I$7:$I$506,'Transactions'!$B$7:$B$506,$A49,'Transactions'!$C$7:$C$506,"Actual",'Transactions'!$E$7:$E$506,"Undistributed Operating Expense"),0) | D49: ="" | E49: Rooms Revenue | F49: =IFERROR('Monthly P&L'!C7,0) | G49: =""
A50: 46054 | B50: =IFERROR(SUMIFS('Transactions'!$I$7:$I$506,'Transactions'!$B$7:$B$506,$A50,'Transactions'!$C$7:$C$506,"Actual",'Transactions'!$E$7:$E$506,"Revenue"),0) | C50: =IFERROR(B50-SUMIFS('Transactions'!$I$7:$I$506,'Transactions'!$B$7:$B$506,$A50,'Transactions'!$C$7:$C$506,"Actual",'Transactions'!$E$7:$E$506,"Departmental Expense")-SUMIFS('Transactions'!$I$7:$I$506,'Transactions'!$B$7:$B$506,$A50,'Transactions'!$C$7:$C$506,"Actual",'Transactions'!$E$7:$E$506,"Undistributed Operating Expense"),0) | D50: ="" | E50: Food Revenue | F50: =IFERROR('Monthly P&L'!C8,0) | G50: =""
...

Sheet Monthly P&L
A1: Hotel Monthly Profit and Loss Statement
A2: Reporting Month | B2: =IFERROR('Dashboard'!$B$4,"") | D2: Department View | E2: =IFERROR('Dashboard'!$E$4,"")
A3: Amounts are based on records entered in the Transactions table. Revenue and expense amounts should be entered as positive values.
A5: P&L Section | B5: P&L Line | C5: Actual | D5: Budget | E5: Variance $ | F5: Variance % | G5: Prior Month Actual | H5: Change vs. Prior Month $ | I5: Change vs. Prior Month %
A6: Revenue
A7: Revenue | B7: Rooms Revenue | C7: =IFERROR(IF('Dashboard'!$E$4="All Departments",SUMIFS('Transactions'!$I$7:$I$506,'Transactions'!$B$7:$B$506,'Dashboard'!$B$4,'Transactions'!$C$7:$C$506,"Actual",'Transactions'!$F$7:$F$506,$B7),SUMIFS('Transactions'!$I$7:$I$506,'Transactions'!$B$7:$B$506,'Dashboard'!$B$4,'Transactions'!$C$7:$C$506,"Actual",'Transactions'!$F$7:$F$506,$B7,'Transactions'!$D$7:$D$506,'Dashboard'!$E$4)),0) | D7: =IFERROR(IF('Dashboard'!$E$4="All Departments",SUMIFS('Transactions'!$I$7:$I$506,'Transactions'!$B$7:$B$506,'Dashboard'!$B$4,'Transactions'!$C$7:$C$506,"Budget",'Transactions'!$F$7:$F$506,$B7),SUMIFS('Transactions'!$I$7:$I$506,'Transactions'!$B$7:$B$506,'Dashboard'!$B$4,'Transactions'!$C$7:$C$506,"Budget",'Transactions'!$F$7:$F$506,$B7,'Transactions'!$D$7:$D$506,'Dashboard'!$E$4)),0) | E7: =IFERROR(C7-D7,0) | F7: =IFERROR((C7-D7)/D7,0) | G7: =IFERROR(IF('Dashboard'!$E$4="All Departments",SUMIFS('Transactions'!$I$7:$I$506,'Transactions'!$B$7:$B$506,EDATE('Dashboard'!$B$4,-1),'Transactions'!$C$7:$C$506,"Actual",'Transactions'!$F$7:$F$506,$B7),SUMIFS('Transactions'!$I$7:$I$506,'Transactions'!$B$7:$B$506,EDATE('Dashboard'!$B$4,-1),'Transactions'!$C$7:$C$506,"Actual",'Transactions'!$F$7:$F$506,$B7,'Transactions'!$D$7:$D$506,'Dashboard'!$E$4)),0) | H7: =IFERROR(C7-G7,0) | I7: =IFERROR((C7-G7)/G7,0)
A8: Revenue | B8: Food Revenue | C8: =IFERROR(IF('Dashboard'!$E$4="All Departments",SUMIFS('Transactions'!$I$7:$I$506,'Transactions'!$B$7:$B$506,'Dashboard'!$B$4,'Transactions'!$C$7:$C$506,"Actual",'Transactions'!$F$7:$F$506,$B8),SUMIFS('Transactions'!$I$7:$I$506,'Transactions'!$B$7:$B$506,'Dashboard'!$B$4,'Transactions'!$C$7:$C$506,"Actual",'Transactions'!$F$7:$F$506,$B8,'Transactions'!$D$7:$D$506,'Dashboard'!$E$4)),0) | D8: =IFERROR(IF('Dashboard'!$E$4="All Departments",SUMIFS('Transactions'!$I$7:$I$506,'Transactions'!$B$7:$B$506,'Dashboard'!$B$4,'Transactions'!$C$7:$C$506,"Budget",'Transactions'!$F$7:$F$506,$B8),SUMIFS('Transactions'!$I$7:$I$506,'Transactions'!$B$7:$B$506,'Dashboard'!$B$4,'Transactions'!$C$7:$C$506,"Budget",'Transactions'!$F$7:$F$506,$B8,'Transactions'!$D$7:$D$506,'Dashboard'!$E$4)),0) | E8: =IFERROR(C8-D8,0) | F8: =IFERROR((C8-D8)/D8,0) | G8: =IFERROR(IF('Dashboard'!$E$4="All Departments",SUMIFS('Transactions'!$I$7:$I$506,'Transactions'!$B$7:$B$506,EDATE('Dashboard'!$B$4,-1),'Transactions'!$C$7:$C$506,"Actual",'Transactions'!$F$7:$F$506,$B8),SUMIFS('Transactions'!$I$7:$I$506,'Transactions'!$B$7:$B$506,EDATE('Dashboard'!$B$4,-1),'Transactions'!$C$7:$C$506,"Actual",'Transactions'!$F$7:$F$506,$B8,'Transactions'!$D$7:$D$506,'Dashboard'!$E$4)),0) | H8: =IFERROR(C8-G8,0) | I8: =IFERROR((C8-G8)/G8,0)
A9: Revenue | B9: Beverage Revenue | C9: =IFERROR(IF('Dashboard'!$E$4="All Departments",SUMIFS('Transactions'!$I$7:$I$506,'Transactions'!$B$7:$B$506,'Dashboard'!$B$4,'Transactions'!$C$7:$C$506,"Actual",'Transactions'!$F$7:$F$506,$B9),SUMIFS('Transactions'!$I$7:$I$506,'Transactions'!$B$7:$B$506,'Dashboard'!$B$4,'Transactions'!$C$7:$C$506,"Actual",'Transactions'!$F$7:$F$506,$B9,'Transactions'!$D$7:$D$506,'Dashboard'!$E$4)),0) | D9: =IFERROR(IF('Dashboard'!$E$4="All Departments",SUMIFS('Transactions'!$I$7:$I$506,'Transactions'!$B$7:$B$506,'Dashboard'!$B$4,'Transactions'!$C$7:$C$506,"Budget",'Transactions'!$F$7:$F$506,$B9),SUMIFS('Transactions'!$I$7:$I$506,'Transactions'!$B$7:$B$506,'Dashboard'!$B$4,'Transactions'!$C$7:$C$506,"Budget",'Transactions'!$F$7:$F$506,$B9,'Transactions'!$D$7:$D$506,'Dashboard'!$E$4)),0) | E9: =IFERROR(C9-D9,0) | F9: =IFERROR((C9-D9)/D9,0) | G9: =IFERROR(IF('Dashboard'!$E$4="All Departments",SUMIFS('Transactions'!$I$7:$I$506,'Transactions'!$B$7:$B$506,EDATE('Dashboard'!$B$4,-1),'Transactions'!$C$7:$C$506,"Actual",'Transactions'!$F$7:$F$506,$B9),SUMIFS('Transactions'!$I$7:$I$506,'Transactions'!$B$7:$B$506,EDATE('Dashboard'!$B$4,-1),'Transactions'!$C$7:$C$506,"Actual",'Transactions'!$F$7:$F$506,$B9,'Transactions'!$D$7:$D$506,'Dashboard'!$E$4)),0) | H9: =IFERROR(C9-G9,0) | I9: =IFERROR((C9-G9)/G9,0)
A10: Revenue | B10: Meeting Room Rental | C10: =IFERROR(IF('Dashboard'!$E$4="All Departments",SUMIFS('Transactions'!$I$7:$I$506,'Transactions'!$B$7:$B$506,'Dashboard'!$B$4,'Transactions'!$C$7:$C$506,"Actual",'Transactions'!$F$7:$F$506,$B10),SUMIFS('Transactions'!$I$7:$I$506,'Transactions'!$B$7:$B$506,'Dashboard'!$B$4,'Transactions'!$C$7:$C$506,"Actual",'Transactions'!$F$7:$F$506,$B10,'Transactions'!$D$7:$D$506,'Dashboard'!$E$4)),0) | D10: =IFERROR(IF('Dashboard'!$E$4="All Departments",SUMIFS('Transactions'!$I$7:$I$506,'Transactions'!$B$7:$B$506,'Dashboard'!$B$4,'Transactions'!$C$7:$C$506,"Budget",'Transactions'!$F$7:$F$506,$B10),SUMIFS('Transactions'!$I$7:$I$506,'Transactions'!$B$7:$B$506,'Dashboard'!$B$4,'Transactions'!$C$7:$C$506,"Budget",'Transactions'!$F$7:$F$506,$B10,'Transactions'!$D$7:$D$506,'Dashboard'!$E$4)),0) | E10: =IFERROR(C10-D10,0) | F10: =IFERROR((C10-D10)/D10,0) | G10: =IFERROR(IF('Dashboard'!$E$4="All Departments",SUMIFS('Transactions'!$I$7:$I$506,'Transactions'!$B$7:$B$506,EDATE('Dashboard'!$B$4,-1),'Transactions'!$C$7:$C$506,"Actual",'Transactions'!$F$7:$F$506,$B10),SUMIFS('Transactions'!$I$7:$I$506,'Transactions'!$B$7:$B$506,EDATE('Dashboard'!$B$4,-1),'Transactions'!$C$7:$C$506,"Actual",'Transactions'!$F$7:$F$506,$B10,'Transactions'!$D$7:$D$506,'Dashboard'!$E$4)),0) | H10: =IFERROR(C10-G10,0) | I10: =IFERROR((C10-G10)/G10,0)
A11: Revenue | B11: Resort or Amenity Revenue | C11: =IFERROR(IF('Dashboard'!$E$4="All Departments",SUMIFS('Transactions'!$I$7:$I$506,'Transactions'!$B$7:$B$506,'Dashboard'!$B$4,'Transactions'!$C$7:$C$506,"Actual",'Transactions'!$F$7:$F$506,$B11),SUMIFS('Transactions'!$I$7:$I$506,'Transactions'!$B$7:$B$506,'Dashboard'!$B$4,'Transactions'!$C$7:$C$506,"Actual",'Transactions'!$F$7:$F$506,$B11,'Transactions'!$D$7:$D$506,'Dashboard'!$E$4)),0) | D11: =IFERROR(IF('Dashboard'!$E$4="All Departments",SUMIFS('Transactions'!$I$7:$I$506,'Transactions'!$B$7:$B$506,'Dashboard'!$B$4,'Transactions'!$C$7:$C$506,"Budget",'Transactions'!$F$7:$F$506,$B11),SUMIFS('Transactions'!$I$7:$I$506,'Transactions'!$B$7:$B$506,'Dashboard'!$B$4,'Transactions'!$C$7:$C$506,"Budget",'Transactions'!$F$7:$F$506,$B11,'Transactions'!$D$7:$D$506,'Dashboard'!$E$4)),0) | E11: =IFERROR(C11-D11,0) | F11: =IFERROR((C11-D11)/D11,0) | G11: =IFERROR(IF('Dashboard'!$E$4="All Departments",SUMIFS('Transactions'!$I$7:$I$506,'Transactions'!$B$7:$B$506,EDATE('Dashboard'!$B$4,-1),'Transactions'!$C$7:$C$506,"Actual",'Transactions'!$F$7:$F$506,$B11),SUMIFS('Transactions'!$I$7:$I$506,'Transactions'!$B$7:$B$506,EDATE('Dashboard'!$B$4,-1),'Transactions'!$C$7:$C$506,"Actual",'Transactions'!$F$7:$F$506,$B11,'Transactions'!$D$7:$D$506,'Dashboard'!$E$4)),0) | H11: =IFERROR(C11-G11,0) | I11: =IFERROR((C11-G11)/G11,0)
A12: Revenue | B12: Parking Revenue | C12: =IFERROR(IF('Dashboard'!$E$4="All Departments",SUMIFS('Transactions'!$I$7:$I$506,'Transactions'!$B$7:$B$506,'Dashboard'!$B$4,'Transactions'!$C$7:$C$506,"Actual",'Transactions'!$F$7:$F$506,$B12),SUMIFS('Transactions'!$I$7:$I$506,'Transactions'!$B$7:$B$506,'Dashboard'!$B$4,'Transactions'!$C$7:$C$506,"Actual",'Transactions'!$F$7:$F$506,$B12,'Transactions'!$D$7:$D$506,'Dashboard'!$E$4)),0) | D12: =IFERROR(IF('Dashboard'!$E$4="All Departments",SUMIFS('Transactions'!$I$7:$I$506,'Transactions'!$B$7:$B$506,'Dashboard'!$B$4,'Transactions'!$C$7:$C$506,"Budget",'Transactions'!$F$7:$F$506,$B12),SUMIFS('Transactions'!$I$7:$I$506,'Transactions'!$B$7:$B$506,'Dashboard'!$B$4,'Transactions'!$C$7:$C$506,"Budget",'Transactions'!$F$7:$F$506,$B12,'Transactions'!$D$7:$D$506,'Dashboard'!$E$4)),0) | E12: =IFERROR(C12-D12,0) | F12: =IFERROR((C12-D12)/D12,0) | G12: =IFERROR(IF('Dashboard'!$E$4="All Departments",SUMIFS('Transactions'!$I$7:$I$506,'Transactions'!$B$7:$B$506,EDATE('Dashboard'!$B$4,-1),'Transactions'!$C$7:$C$506,"Actual",'Transactions'!$F$7:$F$506,$B12),SUMIFS('Transactions'!$I$7:$I$506,'Transactions'!$B$7:$B$506,EDATE('Dashboard'!$B$4,-1),'Transactions'!$C$7:$C$506,"Actual",'Transactions'!$F$7:$F$506,$B12,'Transactions'!$D$7:$D$506,'Dashboard'!$E$4)),0) | H12: =IFERROR(C12-G12,0) | I12: =IFERROR((C12-G12)/G12,0)
A13: Revenue | B13: Other Operating Revenue | C13: =IFERROR(IF('Dashboard'!$E$4="All Departments",SUMIFS('Transactions'!$I$7:$I$506,'Transactions'!$B$7:$B$506,'Dashboard'!$B$4,'Transactions'!$C$7:$C$506,"Actual",'Transactions'!$F$7:$F$506,$B13),SUMIFS('Transactions'!$I$7:$I$506,'Transactions'!$B$7:$B$506,'Dashboard'!$B$4,'Transactions'!$C$7:$C$506,"Actual",'Transactions'!$F$7:$F$506,$B13,'Transactions'!$D$7:$D$506,'Dashboard'!$E$4)),0) | D13: =IFERROR(IF('Dashboard'!$E$4="All Departments",SUMIFS('Transactions'!$I$7:$I$506,'Transactions'!$B$7:$B$506,'Dashboard'!$B$4,'Transactions'!$C$7:$C$506,"Budget",'Transactions'!$F$7:$F$506,$B13),SUMIFS('Transactions'!$I$7:$I$506,'Transactions'!$B$7:$B$506,'Dashboard'!$B$4,'Transactions'!$C$7:$C$506,"Budget",'Transactions'!$F$7:$F$506,$B13,'Transactions'!$D$7:$D$506,'Dashboard'!$E$4)),0) | E13: =IFERROR(C13-D13,0) | F13: =IFERROR((C13-D13)/D13,0) | G13: =IFERROR(IF('Dashboard'!$E$4="All Departments",SUMIFS('Transactions'!$I$7:$I$506,'Transactions'!$B$7:$B$506,EDATE('Dashboard'!$B$4,-1),'Transactions'!$C$7:$C$506,"Actual",'Transactions'!$F$7:$F$506,$B13),SUMIFS('Transactions'!$I$7:$I$506,'Transactions'!$B$7:$B$506,EDATE('Dashboard'!$B$4,-1),'Transactions'!$C$7:$C$506,"Actual",'Transactions'!$F$7:$F$506,$B13,'Transactions'!$D$7:$D$506,'Dashboard'!$E$4)),0) | H13: =IFERROR(C13-G13,0) | I13: =IFERROR((C13-G13)/G13,0)
A14: Revenue | B14: Total Revenue | C14: =IFERROR(SUM(C7,C8,C9,C10,C11,C12,C13),0) | D14: =IFERROR(SUM(D7,D8,D9,D10,D11,D12,D13),0) | E14: =IFERROR(C14-D14,0) | F14: =IFERROR((C14-D14)/D14,0) | G14: =IFERROR(SUM(G7,G8,G9,G10,G11,G12,G13),0) | H14: =IFERROR(C14-G14,0) | I14: =IFERROR((C14-G14)/G14,0)
A15: Departmental Expenses
A16: Rooms Department
A17: Rooms Department | B17: Rooms Payroll | C17: =IFERROR(IF('Dashboard'!$E$4="All Departments",SUMIFS('Transactions'!$I$7:$I$506,'Transactions'!$B$7:$B$506,'Dashboard'!$B$4,'Transactions'!$C$7:$C$506,"Actual",'Transactions'!$F$7:$F$506,$B17),SUMIFS('Transactions'!$I$7:$I$506,'Transactions'!$B$7:$B$506,'Dashboard'!$B$4,'Transactions'!$C$7:$C$506,"Actual",'Transactions'!$F$7:$F$506,$B17,'Transactions'!$D$7:$D$506,'Dashboard'!$E$4)),0) | D17: =IFERROR(IF('Dashboard'!$E$4="All Departments",SUMIFS('Transactions'!$I$7:$I$506,'Transactions'!$B$7:$B$506,'Dashboard'!$B$4,'Transactions'!$C$7:$C$506,"Budget",'Transactions'!$F$7:$F$506,$B17),SUMIFS('Transactions'!$I$7:$I$506,'Transactions'!$B$7:$B$506,'Dashboard'!$B$4,'Transactions'!$C$7:$C$506,"Budget",'Transactions'!$F$7:$F$506,$B17,'Transactions'!$D$7:$D$506,'Dashboard'!$E$4)),0) | E17: =IFERROR(D17-C17,0) | F17: =IFERROR((D17-C17)/D17,0) | G17: =IFERROR(IF('Dashboard'!$E$4="All Departments",SUMIFS('Transactions'!$I$7:$I$506,'Transactions'!$B$7:$B$506,EDATE('Dashboard'!$B$4,-1),'Transactions'!$C$7:$C$506,"Actual",'Transactions'!$F$7:$F$506,$B17),SUMIFS('Transactions'!$I$7:$I$506,'Transactions'!$B$7:$B$506,EDATE('Dashboard'!$B$4,-1),'Transactions'!$C$7:$C$506,"Actual",'Transactions'!$F$7:$F$506,$B17,'Transactions'!$D$7:$D$506,'Dashboard'!$E$4)),0) | H17: =IFERROR(G17-C17,0) | I17: =IFERROR((G17-C17)/G17,0)
A18: Rooms Department | B18: Rooms Payroll Taxes and Benefits | C18: =IFERROR(IF('Dashboard'!$E$4="All Departments",SUMIFS('Transactions'!$I$7:$I$506,'Transactions'!$B$7:$B$506,'Dashboard'!$B$4,'Transactions'!$C$7:$C$506,"Actual",'Transactions'!$F$7:$F$506,$B18),SUMIFS('Transactions'!$I$7:$I$506,'Transactions'!$B$7:$B$506,'Dashboard'!$B$4,'Transactions'!$C$7:$C$506,"Actual",'Transactions'!$F$7:$F$506,$B18,'Transactions'!$D$7:$D$506,'Dashboard'!$E$4)),0) | D18: =IFERROR(IF('Dashboard'!$E$4="All Departments",SUMIFS('Transactions'!$I$7:$I$506,'Transactions'!$B$7:$B$506,'Dashboard'!$B$4,'Transactions'!$C$7:$C$506,"Budget",'Transactions'!$F$7:$F$506,$B18),SUMIFS('Transactions'!$I$7:$I$506,'Transactions'!$B$7:$B$506,'Dashboard'!$B$4,'Transactions'!$C$7:$C$506,"Budget",'Transactions'!$F$7:$F$506,$B18,'Transactions'!$D$7:$D$506,'Dashboard'!$E$4)),0) | E18: =IFERROR(D18-C18,0) | F18: =IFERROR((D18-C18)/D18,0) | G18: =IFERROR(IF('Dashboard'!$E$4="All Departments",SUMIFS('Transactions'!$I$7:$I$506,'Transactions'!$B$7:$B$506,EDATE('Dashboard'!$B$4,-1),'Transactions'!$C$7:$C$506,"Actual",'Transactions'!$F$7:$F$506,$B18),SUMIFS('Transactions'!$I$7:$I$506,'Transactions'!$B$7:$B$506,EDATE('Dashboard'!$B$4,-1),'Transactions'!$C$7:$C$506,"Actual",'Transactions'!$F$7:$F$506,$B18,'Transactions'!$D$7:$D$506,'Dashboard'!$E$4)),0) | H18: =IFERROR(G18-C18,0) | I18: =IFERROR((G18-C18)/G18,0)
A19: Rooms Department | B19: Guest Supplies | C19: =IFERROR(IF('Dashboard'!$E$4="All Departments",SUMIFS('Transactions'!$I$7:$I$506,'Transactions'!$B$7:$B$506,'Dashboard'!$B$4,'Transactions'!$C$7:$C$506,"Actual",'Transactions'!$F$7:$F$506,$B19),SUMIFS('Transactions'!$I$7:$I$506,'Transactions'!$B$7:$B$506,'Dashboard'!$B$4,'Transactions'!$C$7:$C$506,"Actual",'Transactions'!$F$7:$F$506,$B19,'Transactions'!$D$7:$D$506,'Dashboard'!$E$4)),0) | D19: =IFERROR(IF('Dashboard'!$E$4="All Departments",SUMIFS('Transactions'!$I$7:$I$506,'Transactions'!$B$7:$B$506,'Dashboard'!$B$4,'Transactions'!$C$7:$C$506,"Budget",'Transactions'!$F$7:$F$506,$B19),SUMIFS('Transactions'!$I$7:$I$506,'Transactions'!$B$7:$B$506,'Dashboard'!$B$4,'Transactions'!$C$7:$C$506,"Budget",'Transactions'!$F$7:$F$506,$B19,'Transactions'!$D$7:$D$506,'Dashboard'!$E$4)),0) | E19: =IFERROR(D19-C19,0) | F19: =IFERROR((D19-C19)/D19,0) | G19: =IFERROR(IF('Dashboard'!$E$4="All Departments",SUMIFS('Transactions'!$I$7:$I$506,'Transactions'!$B$7:$B$506,EDATE('Dashboard'!$B$4,-1),'Transactions'!$C$7:$C$506,"Actual",'Transactions'!$F$7:$F$506,$B19),SUMIFS('Transactions'!$I$7:$I$506,'Transactions'!$B$7:$B$506,EDATE('Dashboard'!$B$4,-1),'Transactions'!$C$7:$C$506,"Actual",'Transactions'!$F$7:$F$506,$B19,'Transactions'!$D$7:$D$506,'Dashboard'!$E$4)),0) | H19: =IFERROR(G19-C19,0) | I19: =IFERROR((G19-C19)/G19,0)
A20: Rooms Department | B20: Linen and Laundry | C20: =IFERROR(IF('Dashboard'!$E$4="All Departments",SUMIFS('Transactions'!$I$7:$I$506,'Transactions'!$B$7:$B$506,'Dashboard'!$B$4,'Transactions'!$C$7:$C$506,"Actual",'Transactions'!$F$7:$F$506,$B20),SUMIFS('Transactions'!$I$7:$I$506,'Transactions'!$B$7:$B$506,'Dashboard'!$B$4,'Transactions'!$C$7:$C$506,"Actual",'Transactions'!$F$7:$F$506,$B20,'Transactions'!$D$7:$D$506,'Dashboard'!$E$4)),0) | D20: =IFERROR(IF('Dashboard'!$E$4="All Departments",SUMIFS('Transactions'!$I$7:$I$506,'Transactions'!$B$7:$B$506,'Dashboard'!$B$4,'Transactions'!$C$7:$C$506,"Budget",'Transactions'!$F$7:$F$506,$B20),SUMIFS('Transactions'!$I$7:$I$506,'Transactions'!$B$7:$B$506,'Dashboard'!$B$4,'Transactions'!$C$7:$C$506,"Budget",'Transactions'!$F$7:$F$506,$B20,'Transactions'!$D$7:$D$506,'Dashboard'!$E$4)),0) | E20: =IFERROR(D20-C20,0) | F20: =IFERROR((D20-C20)/D20,0) | G20: =IFERROR(IF('Dashboard'!$E$4="All Departments",SUMIFS('Transactions'!$I$7:$I$506,'Transactions'!$B$7:$B$506,EDATE('Dashboard'!$B$4,-1),'Transactions'!$C$7:$C$506,"Actual",'Transactions'!$F$7:$F$506,$B20),SUMIFS('Transactions'!$I$7:$I$506,'Transactions'!$B$7:$B$506,EDATE('Dashboard'!$B$4,-1),'Transactions'!$C$7:$C$506,"Actual",'Transactions'!$F$7:$F$506,$B20,'Transactions'!$D$7:$D$506,'Dashboard'!$E$4)),0) | H20: =IFERROR(G20-C20,0) | I20: =IFERROR((G20-C20)/G20,0)
A21: Rooms Department | B21: Reservation and Distribution Fees | C21: =IFERROR(IF('Dashboard'!$E$4="All Departments",SUMIFS('Transactions'!$I$7:$I$506,'Transactions'!$B$7:$B$506,'Dashboard'!$B$4,'Transactions'!$C$7:$C$506,"Actual",'Transactions'!$F$7:$F$506,$B21),SUMIFS('Transactions'!$I$7:$I$506,'Transactions'!$B$7:$B$506,'Dashboard'!$B$4,'Transactions'!$C$7:$C$506,"Actual",'Transactions'!$F$7:$F$506,$B21,'Transactions'!$D$7:$D$506,'Dashboard'!$E$4)),0) | D21: =IFERROR(IF('Dashboard'!$E$4="All Departments",SUMIFS('Transactions'!$I$7:$I$506,'Transactions'!$B$7:$B$506,'Dashboard'!$B$4,'Transactions'!$C$7:$C$506,"Budget",'Transactions'!$F$7:$F$506,$B21),SUMIFS('Transactions'!$I$7:$I$506,'Transactions'!$B$7:$B$506,'Dashboard'!$B$4,'Transactions'!$C$7:$C$506,"Budget",'Transactions'!$F$7:$F$506,$B21,'Transactions'!$D$7:$D$506,'Dashboard'!$E$4)),0) | E21: =IFERROR(D21-C21,0) | F21: =IFERROR((D21-C21)/D21,0) | G21: =IFERROR(IF('Dashboard'!$E$4="All Departments",SUMIFS('Transactions'!$I$7:$I$506,'Transactions'!$B$7:$B$506,EDATE('Dashboard'!$B$4,-1),'Transactions'!$C$7:$C$506,"Actual",'Transactions'!$F$7:$F$506,$B21),SUMIFS('Transactions'!$I$7:$I$506,'Transactions'!$B$7:$B$506,EDATE('Dashboard'!$B$4,-1),'Transactions'!$C$7:$C$506,"Actual",'Transactions'!$F$7:$F$506,$B21,'Transactions'!$D$7:$D$506,'Dashboard'!$E$4)),0) | H21: =IFERROR(G21-C21,0) | I21: =IFERROR((G21-C21)/G21,0)
A22: Rooms Department | B22: Complimentary Guest Services | C22: =IFERROR(IF('Dashboard'!$E$4="All Departments",SUMIFS('Transactions'!$I$7:$I$506,'Transactions'!$B$7:$B$506,'Dashboard'!$B$4,'Transactions'!$C$7:$C$506,"Actual",'Transactions'!$F$7:$F$506,$B22),SUMIFS('Transactions'!$I$7:$I$506,'Transactions'!$B$7:$B$506,'Dashboard'!$B$4,'Transactions'!$C$7:$C$506,"Actual",'Transactions'!$F$7:$F$506,$B22,'Transactions'!$D$7:$D$506,'Dashboard'!$E$4)),0) | D22: =IFERROR(IF('Dashboard'!$E$4="All Departments",SUMIFS('Transactions'!$I$7:$I$506,'Transactions'!$B$7:$B$506,'Dashboard'!$B$4,'Transactions'!$C$7:$C$506,"Budget",'Transactions'!$F$7:$F$506,$B22),SUMIFS('Transactions'!$I$7:$I$506,'Transactions'!$B$7:$B$506,'Dashboard'!$B$4,'Transactions'!$C$7:$C$506,"Budget",'Transactions'!$F$7:$F$506,$B22,'Transactions'!$D$7:$D$506,'Dashboard'!$E$4)),0) | E22: =IFERROR(D22-C22,0) | F22: =IFERROR((D22-C22)/D22,0) | G22: =IFERROR(IF('Dashboard'!$E$4="All Departments",SUMIFS('Transactions'!$I$7:$I$506,'Transactions'!$B$7:$B$506,EDATE('Dashboard'!$B$4,-1),'Transactions'!$C$7:$C$506,"Actual",'Transactions'!$F$7:$F$506,$B22),SUMIFS('Transactions'!$I$7:$I$506,'Transactions'!$B$7:$B$506,EDATE('Dashboard'!$B$4,-1),'Transactions'!$C$7:$C$506,"Actual",'Transactions'!$F$7:$F$506,$B22,'Transactions'!$D$7:$D$506,'Dashboard'!$E$4)),0) | H22: =IFERROR(G22-C22,0) | I22: =IFERROR((G22-C22)/G22,0)
A23: Rooms Department | B23: Other Rooms Expense | C23: =IFERROR(IF('Dashboard'!$E$4="All Departments",SUMIFS('Transactions'!$I$7:$I$506,'Transactions'!$B$7:$B$506,'Dashboard'!$B$4,'Transactions'!$C$7:$C$506,"Actual",'Transactions'!$F$7:$F$506,$B23),SUMIFS('Transactions'!$I$7:$I$506,'Transactions'!$B$7:$B$506,'Dashboard'!$B$4,'Transactions'!$C$7:$C$506,"Actual",'Transactions'!$F$7:$F$506,$B23,'Transactions'!$D$7:$D$506,'Dashboard'!$E$4)),0) | D23: =IFERROR(IF('Dashboard'!$E$4="All Departments",SUMIFS('Transactions'!$I$7:$I$506,'Transactions'!$B$7:$B$506,'Dashboard'!$B$4,'Transactions'!$C$7:$C$506,"Budget",'Transactions'!$F$7:$F$506,$B23),SUMIFS('Transactions'!$I$7:$I$506,'Transactions'!$B$7:$B$506,'Dashboard'!$B$4,'Transactions'!$C$7:$C$506,"Budget",'Transactions'!$F$7:$F$506,$B23,'Transactions'!$D$7:$D$506,'Dashboard'!$E$4)),0) | E23: =IFERROR(D23-C23,0) | F23: =IFERROR((D23-C23)/D23,0) | G23: =IFERROR(IF('Dashboard'!$E$4="All Departments",SUMIFS('Transactions'!$I$7:$I$506,'Transactions'!$B$7:$B$506,EDATE('Dashboard'!$B$4,-1),'Transactions'!$C$7:$C$506,"Actual",'Transactions'!$F$7:$F$506,$B23),SUMIFS('Transactions'!$I$7:$I$506,'Transactions'!$B$7:$B$506,EDATE('Dashboard'!$B$4,-1),'Transactions'!$C$7:$C$506,"Actual",'Transactions'!$F$7:$F$506,$B23,'Transactions'!$D$7:$D$506,'Dashboard'!$E$4)),0) | H23: =IFERROR(G23-C23,0) | I23: =IFERROR((G23-C23)/G23,0)
A24: Rooms Department | B24: Total Rooms Department Expense | C24: =IFERROR(SUM(C17,C18,C19,C20,C21,C22,C23),0) | D24: =IFERROR(SUM(D17,D18,D19,D20,D21,D22,D23),0) | E24: =IFERROR(D24-C24,0) | F24: =IFERROR((D24-C24)/D24,0) | G24: =IFERROR(SUM(G17,G18,G19,G20,G21,G22,G23),0) | H24: =IFERROR(G24-C24,0) | I24: =IFERROR((G24-C24)/G24,0)
A25: Food & Beverage Department
A26: Food & Beverage Department | B26: Food Cost | C26: =IFERROR(IF('Dashboard'!$E$4="All Departments",SUMIFS('Transactions'!$I$7:$I$506,'Transactions'!$B$7:$B$506,'Dashboard'!$B$4,'Transactions'!$C$7:$C$506,"Actual",'Transactions'!$F$7:$F$506,$B26),SUMIFS('Transactions'!$I$7:$I$506,'Transactions'!$B$7:$B$506,'Dashboard'!$B$4,'Transactions'!$C$7:$C$506,"Actual",'Transactions'!$F$7:$F$506,$B26,'Transactions'!$D$7:$D$506,'Dashboard'!$E$4)),0) | D26: =IFERROR(IF('Dashboard'!$E$4="All Departments",SUMIFS('Transactions'!$I$7:$I$506,'Transactions'!$B$7:$B$506,'Dashboard'!$B$4,'Transactions'!$C$7:$C$506,"Budget",'Transactions'!$F$7:$F$506,$B26),SUMIFS('Transactions'!$I$7:$I$506,'Transactions'!$B$7:$B$506,'Dashboard'!$B$4,'Transactions'!$C$7:$C$506,"Budget",'Transactions'!$F$7:$F$506,$B26,'Transactions'!$D$7:$D$506,'Dashboard'!$E$4)),0) | E26: =IFERROR(D26-C26,0) | F26: =IFERROR((D26-C26)/D26,0) | G26: =IFERROR(IF('Dashboard'!$E$4="All Departments",SUMIFS('Transactions'!$I$7:$I$506,'Transactions'!$B$7:$B$506,EDATE('Dashboard'!$B$4,-1),'Transactions'!$C$7:$C$506,"Actual",'Transactions'!$F$7:$F$506,$B26),SUMIFS('Transactions'!$I$7:$I$506,'Transactions'!$B$7:$B$506,EDATE('Dashboard'!$B$4,-1),'Transactions'!$C$7:$C$506,"Actual",'Transactions'!$F$7:$F$506,$B26,'Transactions'!$D$7:$D$506,'Dashboard'!$E$4)),0) | H26: =IFERROR(G26-C26,0) | I26: =IFERROR((G26-C26)/G26,0)
A27: Food & Beverage Department | B27: Beverage Cost | C27: =IFERROR(IF('Dashboard'!$E$4="All Departments",SUMIFS('Transactions'!$I$7:$I$506,'Transactions'!$B$7:$B$506,'Dashboard'!$B$4,'Transactions'!$C$7:$C$506,"Actual",'Transactions'!$F$7:$F$506,$B27),SUMIFS('Transactions'!$I$7:$I$506,'Transactions'!$B$7:$B$506,'Dashboard'!$B$4,'Transactions'!$C$7:$C$506,"Actual",'Transactions'!$F$7:$F$506,$B27,'Transactions'!$D$7:$D$506,'Dashboard'!$E$4)),0) | D27: =IFERROR(IF('Dashboard'!$E$4="All Departments",SUMIFS('Transactions'!$I$7:$I$506,'Transactions'!$B$7:$B$506,'Dashboard'!$B$4,'Transactions'!$C$7:$C$506,"Budget",'Transactions'!$F$7:$F$506,$B27),SUMIFS('Transactions'!$I$7:$I$506,'Transactions'!$B$7:$B$506,'Dashboard'!$B$4,'Transactions'!$C$7:$C$506,"Budget",'Transactions'!$F$7:$F$506,$B27,'Transactions'!$D$7:$D$506,'Dashboard'!$E$4)),0) | E27: =IFERROR(D27-C27,0) | F27: =IFERROR((D27-C27)/D27,0) | G27: =IFERROR(IF('Dashboard'!$E$4="All Departments",SUMIFS('Transactions'!$I$7:$I$506,'Transactions'!$B$7:$B$506,EDATE('Dashboard'!$B$4,-1),'Transactions'!$C$7:$C$506,"Actual",'Transactions'!$F$7:$F$506,$B27),SUMIFS('Transactions'!$I$7:$I$506,'Transactions'!$B$7:$B$506,EDATE('Dashboard'!$B$4,-1),'Transactions'!$C$7:$C$506,"Actual",'Transactions'!$F$7:$F$506,$B27,'Transactions'!$D$7:$D$506,'Dashboard'!$E$4)),0) | H27: =IFERROR(G27-C27,0) | I27: =IFERROR((G27-C27)/G27,0)
A28: Food & Beverage Department | B28: Food & Beverage Payroll | C28: =IFERROR(IF('Dashboard'!$E$4="All Departments",SUMIFS('Transactions'!$I$7:$I$506,'Transactions'!$B$7:$B$506,'Dashboard'!$B$4,'Transactions'!$C$7:$C$506,"Actual",'Transactions'!$F$7:$F$506,$B28),SUMIFS('Transactions'!$I$7:$I$506,'Transactions'!$B$7:$B$506,'Dashboard'!$B$4,'Transactions'!$C$7:$C$506,"Actual",'Transactions'!$F$7:$F$506,$B28,'Transactions'!$D$7:$D$506,'Dashboard'!$E$4)),0) | D28: =IFERROR(IF('Dashboard'!$E$4="All Departments",SUMIFS('Transactions'!$I$7:$I$506,'Transactions'!$B$7:$B$506,'Dashboard'!$B$4,'Transactions'!$C$7:$C$506,"Budget",'Transactions'!$F$7:$F$506,$B28),SUMIFS('Transactions'!$I$7:$I$506,'Transactions'!$B$7:$B$506,'Dashboard'!$B$4,'Transactions'!$C$7:$C$506,"Budget",'Transactions'!$F$7:$F$506,$B28,'Transactions'!$D$7:$D$506,'Dashboard'!$E$4)),0) | E28: =IFERROR(D28-C28,0) | F28: =IFERROR((D28-C28)/D28,0) | G28: =IFERROR(IF('Dashboard'!$E$4="All Departments",SUMIFS('Transactions'!$I$7:$I$506,'Transactions'!$B$7:$B$506,EDATE('Dashboard'!$B$4,-1),'Transactions'!$C$7:$C$506,"Actual",'Transactions'!$F$7:$F$506,$B28),SUMIFS('Transactions'!$I$7:$I$506,'Transactions'!$B$7:$B$506,EDATE('Dashboard'!$B$4,-1),'Transactions'!$C$7:$C$506,"Actual",'Transactions'!$F$7:$F$506,$B28,'Transactions'!$D$7:$D$506,'Dashboard'!$E$4)),0) | H28: =IFERROR(G28-C28,0) | I28: =IFERROR((G28-C28)/G28,0)
A29: Food & Beverage Department | B29: Food & Beverage Payroll Taxes and Benefits | C29: =IFERROR(IF('Dashboard'!$E$4="All Departments",SUMIFS('Transactions'!$I$7:$I$506,'Transactions'!$B$7:$B$506,'Dashboard'!$B$4,'Transactions'!$C$7:$C$506,"Actual",'Transactions'!$F$7:$F$506,$B29),SUMIFS('Transactions'!$I$7:$I$506,'Transactions'!$B$7:$B$506,'Dashboard'!$B$4,'Transactions'!$C$7:$C$506,"Actual",'Transactions'!$F$7:$F$506,$B29,'Transactions'!$D$7:$D$506,'Dashboard'!$E$4)),0) | D29: =IFERROR(IF('Dashboard'!$E$4="All Departments",SUMIFS('Transactions'!$I$7:$I$506,'Transactions'!$B$7:$B$506,'Dashboard'!$B$4,'Transactions'!$C$7:$C$506,"Budget",'Transactions'!$F$7:$F$506,$B29),SUMIFS('Transactions'!$I$7:$I$506,'Transactions'!$B$7:$B$506,'Dashboard'!$B$4,'Transactions'!$C$7:$C$506,"Budget",'Transactions'!$F$7:$F$506,$B29,'Transactions'!$D$7:$D$506,'Dashboard'!$E$4)),0) | E29: =IFERROR(D29-C29,0) | F29: =IFERROR((D29-C29)/D29,0) | G29: =IFERROR(IF('Dashboard'!$E$4="All Departments",SUMIFS('Transactions'!$I$7:$I$506,'Transactions'!$B$7:$B$506,EDATE('Dashboard'!$B$4,-1),'Transactions'!$C$7:$C$506,"Actual",'Transactions'!$F$7:$F$506,$B29),SUMIFS('Transactions'!$I$7:$I$506,'Transactions'!$B$7:$B$506,EDATE('Dashboard'!$B$4,-1),'Transactions'!$C$7:$C$506,"Actual",'Transactions'!$F$7:$F$506,$B29,'Transactions'!$D$7:$D$506,'Dashboard'!$E$4)),0) | H29: =IFERROR(G29-C29,0) | I29: =IFERROR((G29-C29)/G29,0)
A30: Food & Beverage Department | B30: Operating Supplies | C30: =IFERROR(IF('Dashboard'!$E$4="All Departments",SUMIFS('Transactions'!$I$7:$I$506,'Transactions'!$B$7:$B$506,'Dashboard'!$B$4,'Transactions'!$C$7:$C$506,"Actual",'Transactions'!$F$7:$F$506,$B30),SUMIFS('Transactions'!$I$7:$I$506,'Transactions'!$B$7:$B$506,'Dashboard'!$B$4,'Transactions'!$C$7:$C$506,"Actual",'Transactions'!$F$7:$F$506,$B30,'Transactions'!$D$7:$D$506,'Dashboard'!$E$4)),0) | D30: =IFERROR(IF('Dashboard'!$E$4="All Departments",SUMIFS('Transactions'!$I$7:$I$506,'Transactions'!$B$7:$B$506,'Dashboard'!$B$4,'Transactions'!$C$7:$C$506,"Budget",'Transactions'!$F$7:$F$506,$B30),SUMIFS('Transactions'!$I$7:$I$506,'Transactions'!$B$7:$B$506,'Dashboard'!$B$4,'Transactions'!$C$7:$C$506,"Budget",'Transactions'!$F$7:$F$506,$B30,'Transactions'!$D$7:$D$506,'Dashboard'!$E$4)),0) | E30: =IFERROR(D30-C30,0) | F30: =IFERROR((D30-C30)/D30,0) | G30: =IFERROR(IF('Dashboard'!$E$4="All Departments",SUMIFS('Transactions'!$I$7:$I$506,'Transactions'!$B$7:$B$506,EDATE('Dashboard'!$B$4,-1),'Transactions'!$C$7:$C$506,"Actual",'Transactions'!$F$7:$F$506,$B30),SUMIFS('Transactions'!$I$7:$I$506,'Transactions'!$B$7:$B$506,EDATE('Dashboard'!$B$4,-1),'Transactions'!$C$7:$C$506,"Actual",'Transactions'!$F$7:$F$506,$B30,'Transactions'!$D$7:$D$506,'Dashboard'!$E$4)),0) | H30: =IFERROR(G30-C30,0) | I30: =IFERROR((G30-C30)/G30,0)
A31: Food & Beverage Department | B31: Banquet and Event Expense | C31: =IFERROR(IF('Dashboard'!$E$4="All Departments",SUMIFS('Transactions'!$I$7:$I$506,'Transactions'!$B$7:$B$506,'Dashboard'!$B$4,'Transactions'!$C$7:$C$506,"Actual",'Transactions'!$F$7:$F$506,$B31),SUMIFS('Transactions'!$I$7:$I$506,'Transactions'!$B$7:$B$506,'Dashboard'!$B$4,'Transactions'!$C$7:$C$506,"Actual",'Transactions'!$F$7:$F$506,$B31,'Transactions'!$D$7:$D$506,'Dashboard'!$E$4)),0) | D31: =IFERROR(IF('Dashboard'!$E$4="All Departments",SUMIFS('Transactions'!$I$7:$I$506,'Transactions'!$B$7:$B$506,'Dashboard'!$B$4,'Transactions'!$C$7:$C$506,"Budget",'Transactions'!$F$7:$F$506,$B31),SUMIFS('Transactions'!$I$7:$I$506,'Transactions'!$B$7:$B$506,'Dashboard'!$B$4,'Transactions'!$C$7:$C$506,"Budget",'Transactions'!$F$7:$F$506,$B31,'Transactions'!$D$7:$D$506,'Dashboard'!$E$4)),0) | E31: =IFERROR(D31-C31,0) | F31: =IFERROR((D31-C31)/D31,0) | G31: =IFERROR(IF('Dashboard'!$E$4="All Departments",SUMIFS('Transactions'!$I$7:$I$506,'Transactions'!$B$7:$B$506,EDATE('Dashboard'!$B$4,-1),'Transactions'!$C$7:$C$506,"Actual",'Transactions'!$F$7:$F$506,$B31),SUMIFS('Transactions'!$I$7:$I$506,'Transactions'!$B$7:$B$506,EDATE('Dashboard'!$B$4,-1),'Transactions'!$C$7:$C$506,"Actual",'Transactions'!$F$7:$F$506,$B31,'Transactions'!$D$7:$D$506,'Dashboard'!$E$4)),0) | H31: =IFERROR(G31-C31,0) | I31: =IFERROR((G31-C31)/G31,0)
A32: Food & Beverage Department | B32: Other Food & Beverage Expense | C32: =IFERROR(IF('Dashboard'!$E$4="All Departments",SUMIFS('Transactions'!$I$7:$I$506,'Transactions'!$B$7:$B$506,'Dashboard'!$B$4,'Transactions'!$C$7:$C$506,"Actual",'Transactions'!$F$7:$F$506,$B32),SUMIFS('Transactions'!$I$7:$I$506,'Transactions'!$B$7:$B$506,'Dashboard'!$B$4,'Transactions'!$C$7:$C$506,"Actual",'Transactions'!$F$7:$F$506,$B32,'Transactions'!$D$7:$D$506,'Dashboard'!$E$4)),0) | D32: =IFERROR(IF('Dashboard'!$E$4="All Departments",SUMIFS('Transactions'!$I$7:$I$506,'Transactions'!$B$7:$B$506,'Dashboard'!$B$4,'Transactions'!$C$7:$C$506,"Budget",'Transactions'!$F$7:$F$506,$B32),SUMIFS('Transactions'!$I$7:$I$506,'Transactions'!$B$7:$B$506,'Dashboard'!$B$4,'Transactions'!$C$7:$C$506,"Budget",'Transactions'!$F$7:$F$506,$B32,'Transactions'!$D$7:$D$506,'Dashboard'!$E$4)),0) | E32: =IFERROR(D32-C32,0) | F32: =IFERROR((D32-C32)/D32,0) | G32: =IFERROR(IF('Dashboard'!$E$4="All Departments",SUMIFS('Transactions'!$I$7:$I$506,'Transactions'!$B$7:$B$506,EDATE('Dashboard'!$B$4,-1),'Transactions'!$C$7:$C$506,"Actual",'Transactions'!$F$7:$F$506,$B32),SUMIFS('Transactions'!$I$7:$I$506,'Transactions'!$B$7:$B$506,EDATE('Dashboard'!$B$4,-1),'Transactions'!$C$7:$C$506,"Actual",'Transactions'!$F$7:$F$506,$B32,'Transactions'!$D$7:$D$506,'Dashboard'!$E$4)),0) | H32: =IFERROR(G32-C32,0) | I32: =IFERROR((G32-C32)/G32,0)
A33: Food & Beverage Department | B33: Total Food & Beverage Department Expense | C33: =IFERROR(SUM(C26,C27,C28,C29,C30,C31,C32),0) | D33: =IFERROR(SUM(D26,D27,D28,D29,D30,D31,D32),0) | E33: =IFERROR(D33-C33,0) | F33: =IFERROR((D33-C33)/D33,0) | G33: =IFERROR(SUM(G26,G27,G28,G29,G30,G31,G32),0) | H33: =IFERROR(G33-C33,0) | I33: =IFERROR((G33-C33)/G33,0)
A34: Other Operated Departments
A35: Other Operated Departments | B35: Other Department Payroll | C35: =IFERROR(IF('Dashboard'!$E$4="All Departments",SUMIFS('Transactions'!$I$7:$I$506,'Transactions'!$B$7:$B$506,'Dashboard'!$B$4,'Transactions'!$C$7:$C$506,"Actual",'Transactions'!$F$7:$F$506,$B35),SUMIFS('Transactions'!$I$7:$I$506,'Transactions'!$B$7:$B$506,'Dashboard'!$B$4,'Transactions'!$C$7:$C$506,"Actual",'Transactions'!$F$7:$F$506,$B35,'Transactions'!$D$7:$D$506,'Dashboard'!$E$4)),0) | D35: =IFERROR(IF('Dashboard'!$E$4="All Departments",SUMIFS('Transactions'!$I$7:$I$506,'Transactions'!$B$7:$B$506,'Dashboard'!$B$4,'Transactions'!$C$7:$C$506,"Budget",'Transactions'!$F$7:$F$506,$B35),SUMIFS('Transactions'!$I$7:$I$506,'Transactions'!$B$7:$B$506,'Dashboard'!$B$4,'Transactions'!$C$7:$C$506,"Budget",'Transactions'!$F$7:$F$506,$B35,'Transactions'!$D$7:$D$506,'Dashboard'!$E$4)),0) | E35: =IFERROR(D35-C35,0) | F35: =IFERROR((D35-C35)/D35,0) | G35: =IFERROR(IF('Dashboard'!$E$4="All Departments",SUMIFS('Transactions'!$I$7:$I$506,'Transactions'!$B$7:$B$506,EDATE('Dashboard'!$B$4,-1),'Transactions'!$C$7:$C$506,"Actual",'Transactions'!$F$7:$F$506,$B35),SUMIFS('Transactions'!$I$7:$I$506,'Transactions'!$B$7:$B$506,EDATE('Dashboard'!$B$4,-1),'Transactions'!$C$7:$C$506,"Actual",'Transactions'!$F$7:$F$506,$B35,'Transactions'!$D$7:$D$506,'Dashboard'!$E$4)),0) | H35: =IFERROR(G35-C35,0) | I35: =IFERROR((G35-C35)/G35,0)
A36: Other Operated Departments | B36: Other Department Cost of Sales | C36: =IFERROR(IF('Dashboard'!$E$4="All Departments",SUMIFS('Transactions'!$I$7:$I$506,'Transactions'!$B$7:$B$506,'Dashboard'!$B$4,'Transactions'!$C$7:$C$506,"Actual",'Transactions'!$F$7:$F$506,$B36),SUMIFS('Transactions'!$I$7:$I$506,'Transactions'!$B$7:$B$506,'Dashboard'!$B$4,'Transactions'!$C$7:$C$506,"Actual",'Transactions'!$F$7:$F$506,$B36,'Transactions'!$D$7:$D$506,'Dashboard'!$E$4)),0) | D36: =IFERROR(IF('Dashboard'!$E$4="All Departments",SUMIFS('Transactions'!$I$7:$I$506,'Transactions'!$B$7:$B$506,'Dashboard'!$B$4,'Transactions'!$C$7:$C$506,"Budget",'Transactions'!$F$7:$F$506,$B36),SUMIFS('Transactions'!$I$7:$I$506,'Transactions'!$B$7:$B$506,'Dashboard'!$B$4,'Transactions'!$C$7:$C$506,"Budget",'Transactions'!$F$7:$F$506,$B36,'Transactions'!$D$7:$D$506,'Dashboard'!$E$4)),0) | E36: =IFERROR(D36-C36,0) | F36: =IFERROR((D36-C36)/D36,0) | G36: =IFERROR(IF('Dashboard'!$E$4="All Departments",SUMIFS('Transactions'!$I$7:$I$506,'Transactions'!$B$7:$B$506,EDATE('Dashboard'!$B$4,-1),'Transactions'!$C$7:$C$506,"Actual",'Transactions'!$F$7:$F$506,$B36),SUMIFS('Transactions'!$I$7:$I$506,'Transactions'!$B$7:$B$506,EDATE('Dashboard'!$B$4,-1),'Transactions'!$C$7:$C$506,"Actual",'Transactions'!$F$7:$F$506,$B36,'Transactions'!$D$7:$D$506,'Dashboard'!$E$4)),0) | H36: =IFERROR(G36-C36,0) | I36: =IFERROR((G36-C36)/G36,0)
A37: Other Operated Departments | B37: Other Department Operating Expense | C37: =IFERROR(IF('Dashboard'!$E$4="All Departments",SUMIFS('Transactions'!$I$7:$I$506,'Transactions'!$B$7:$B$506,'Dashboard'!$B$4,'Transactions'!$C$7:$C$506,"Actual",'Transactions'!$F$7:$F$506,$B37),SUMIFS('Transactions'!$I$7:$I$506,'Transactions'!$B$7:$B$506,'Dashboard'!$B$4,'Transactions'!$C$7:$C$506,"Actual",'Transactions'!$F$7:$F$506,$B37,'Transactions'!$D$7:$D$506,'Dashboard'!$E$4)),0) | D37: =IFERROR(IF('Dashboard'!$E$4="All Departments",SUMIFS('Transactions'!$I$7:$I$506,'Transactions'!$B$7:$B$506,'Dashboard'!$B$4,'Transactions'!$C$7:$C$506,"Budget",'Transactions'!$F$7:$F$506,$B37),SUMIFS('Transactions'!$I$7:$I$506,'Transactions'!$B$7:$B$506,'Dashboard'!$B$4,'Transactions'!$C$7:$C$506,"Budget",'Transactions'!$F$7:$F$506,$B37,'Transactions'!$D$7:$D$506,'Dashboard'!$E$4)),0) | E37: =IFERROR(D37-C37,0) | F37: =IFERROR((D37-C37)/D37,0) | G37: =IFERROR(IF('Dashboard'!$E$4="All Departments",SUMIFS('Transactions'!$I$7:$I$506,'Transactions'!$B$7:$B$506,EDATE('Dashboard'!$B$4,-1),'Transactions'!$C$7:$C$506,"Actual",'Transactions'!$F$7:$F$506,$B37),SUMIFS('Transactions'!$I$7:$I$506,'Transactions'!$B$7:$B$506,EDATE('Dashboard'!$B$4,-1),'Transactions'!$C$7:$C$506,"Actual",'Transactions'!$F$7:$F$506,$B37,'Transactions'!$D$7:$D$506,'Dashboard'!$E$4)),0) | H37: =IFERROR(G37-C37,0) | I37: =IFERROR((G37-C37)/G37,0)
A38: Other Operated Departments | B38: Total Other Operated Departments Expense | C38: =IFERROR(SUM(C35,C36,C37),0) | D38: =IFERROR(SUM(D35,D36,D37),0) | E38: =IFERROR(D38-C38,0) | F38: =IFERROR((D38-C38)/D38,0) | G38: =IFERROR(SUM(G35,G36,G37),0) | H38: =IFERROR(G38-C38,0) | I38: =IFERROR((G38-C38)/G38,0)
A39: Departmental Expenses | B39: Total Departmental Expenses | C39: =IFERROR(SUM(C24,C33,C38),0) | D39: =IFERROR(SUM(D24,D33,D38),0) | E39: =IFERROR(D39-C39,0) | F39: =IFERROR((D39-C39)/D39,0) | G39: =IFERROR(SUM(G24,G33,G38),0) | H39: =IFERROR(G39-C39,0) | I39: =IFERROR((G39-C39)/G39,0)
A40: Departmental Expenses | B40: Departmental Profit | C40: =IFERROR(C14-C39,0) | D40: =IFERROR(D14-D39,0) | E40: =IFERROR(C40-D40,0) | F40: =IFERROR((C40-D40)/D40,0) | G40: =IFERROR(G14-G39,0) | H40: =IFERROR(C40-G40,0) | I40: =IFERROR((C40-G40)/G40,0)
A41: Undistributed Operating Expenses
...

Sheet Transactions
A1: Hotel Monthly Profit and Loss Transactions
A2: Enter or paste one summarized monthly record per account, department, scenario, and source reference. Enter revenue and expenses as positive amounts.
A3: This workbook does not connect directly to hotel systems. Data may be entered manually or pasted into the prepared table.
A6: Transaction Date | B6: Reporting Month | C6: Scenario | D6: Department | E6: P&L Section | F6: P&L Line | G6: Account Code | H6: Account Description | I6: Amount | J6: Source System | K6: Source Reference | L6: Prepared By | M6: Entry Date | N6: Notes | O6: Data Check
A7: 46203 | B7: =IFERROR(IF(A7="","",A7-DAY(A7)+1),"") | C7: Actual | D7: Rooms | E7: Revenue | F7: Rooms Revenue | G7: 4000 | H7: Guest Room Revenue | I7: 284760 | J7: PMS Export | K7: PMS-2026-06-RMREV | L7: Hotel Finance Team | M7: 46208 | N7: Monthly operating summary | O7: =IFERROR(IF(COUNTA(A7,C7:N7)=0,"",IF(A7="","Missing transaction date",IF(C7="","Missing scenario",IF(D7="","Missing department",IF(E7="","Missing P&L section",IF(F7="","Missing P&L line",IF(ISBLANK(I7),"Missing amount",IF(I7=0,"Zero amount",IF(OR(A7<DATE(2026,1,1),A7>DATE(2026,12,31)),"Date outside 2026",IF(AND(K7<>"",COUNTIF($K$7:$K$506,K7)>1),"Duplicate source reference","OK")))))))))),"")
A8: 46203 | B8: =IFERROR(IF(A8="","",A8-DAY(A8)+1),"") | C8: Budget | D8: Rooms | E8: Revenue | F8: Rooms Revenue | G8: 4000-B | H8: Budgeted Guest Room Revenue | I8: 276500 | J8: Manual Entry | K8: BUD-2026-06-RMREV | L8: Hotel Finance Team | M8: 46208 | N8: Monthly operating summary | O8: =IFERROR(IF(COUNTA(A8,C8:N8)=0,"",IF(A8="","Missing transaction date",IF(C8="","Missing scenario",IF(D8="","Missing department",IF(E8="","Missing P&L section",IF(F8="","Missing P&L line",IF(ISBLANK(I8),"Missing amount",IF(I8=0,"Zero amount",IF(OR(A8<DATE(2026,1,1),A8>DATE(2026,12,31)),"Date outside 2026",IF(AND(K8<>"",COUNTIF($K$7:$K$506,K8)>1),"Duplicate source reference","OK")))))))))),"")
A9: 46203 | B9: =IFERROR(IF(A9="","",A9-DAY(A9)+1),"") | C9: Actual | D9: Food & Beverage | E9: Revenue | F9: Food Revenue | G9: 4100 | H9: Restaurant and Banquet Food Revenue | I9: 86420 | J9: POS Export | K9: POS-2026-06-FOOD | L9: Hotel Finance Team | M9: 46208 | N9: Monthly operating summary | O9: =IFERROR(IF(COUNTA(A9,C9:N9)=0,"",IF(A9="","Missing transaction date",IF(C9="","Missing scenario",IF(D9="","Missing department",IF(E9="","Missing P&L section",IF(F9="","Missing P&L line",IF(ISBLANK(I9),"Missing amount",IF(I9=0,"Zero amount",IF(OR(A9<DATE(2026,1,1),A9>DATE(2026,12,31)),"Date outside 2026",IF(AND(K9<>"",COUNTIF($K$7:$K$506,K9)>1),"Duplicate source reference","OK")))))))))),"")
A10: 46203 | B10: =IFERROR(IF(A10="","",A10-DAY(A10)+1),"") | C10: Budget | D10: Food & Beverage | E10: Revenue | F10: Food Revenue | G10: 4100-B | H10: Budgeted Food Revenue | I10: 82000 | J10: Manual Entry | K10: BUD-2026-06-FOOD | L10: Hotel Finance Team | M10: 46208 | N10: Monthly operating summary | O10: =IFERROR(IF(COUNTA(A10,C10:N10)=0,"",IF(A10="","Missing transaction date",IF(C10="","Missing scenario",IF(D10="","Missing department",IF(E10="","Missing P&L section",IF(F10="","Missing P&L line",IF(ISBLANK(I10),"Missing amount",IF(I10=0,"Zero amount",IF(OR(A10<DATE(2026,1,1),A10>DATE(2026,12,31)),"Date outside 2026",IF(AND(K10<>"",COUNTIF($K$7:$K$506,K10)>1),"Duplicate source reference","OK")))))))))),"")
A11: 46203 | B11: =IFERROR(IF(A11="","",A11-DAY(A11)+1),"") | C11: Actual | D11: Rooms | E11: Departmental Expense | F11: Rooms Payroll | G11: 5100 | H11: Rooms Department Wages | I11: 71190 | J11: Payroll Report | K11: PAY-2026-06-ROOMS | L11: Hotel Finance Team | M11: 46208 | N11: Monthly operating summary | O11: =IFERROR(IF(COUNTA(A11,C11:N11)=0,"",IF(A11="","Missing transaction date",IF(C11="","Missing scenario",IF(D11="","Missing department",IF(E11="","Missing P&L section",IF(F11="","Missing P&L line",IF(ISBLANK(I11),"Missing amount",IF(I11=0,"Zero amount",IF(OR(A11<DATE(2026,1,1),A11>DATE(2026,12,31)),"Date outside 2026",IF(AND(K11<>"",COUNTIF($K$7:$K$506,K11)>1),"Duplicate source reference","OK")))))))))),"")
A12: 46203 | B12: =IFERROR(IF(A12="","",A12-DAY(A12)+1),"") | C12: Budget | D12: Rooms | E12: Departmental Expense | F12: Rooms Payroll | G12: 5100-B | H12: Budgeted Rooms Department Wages | I12: 69500 | J12: Manual Entry | K12: BUD-2026-06-RMPAY | L12: Hotel Finance Team | M12: 46208 | N12: Monthly operating summary | O12: =IFERROR(IF(COUNTA(A12,C12:N12)=0,"",IF(A12="","Missing transaction date",IF(C12="","Missing scenario",IF(D12="","Missing department",IF(E12="","Missing P&L section",IF(F12="","Missing P&L line",IF(ISBLANK(I12),"Missing amount",IF(I12=0,"Zero amount",IF(OR(A12<DATE(2026,1,1),A12>DATE(2026,12,31)),"Date outside 2026",IF(AND(K12<>"",COUNTIF($K$7:$K$506,K12)>1),"Duplicate source reference","OK")))))))))),"")
A13: 46203 | B13: =IFERROR(IF(A13="","",A13-DAY(A13)+1),"") | C13: Actual | D13: Food & Beverage | E13: Departmental Expense | F13: Food Cost | G13: 5200 | H13: Food Cost of Sales | I13: 27655 | J13: Accounting Export | K13: GL-2026-06-FOODCOST | L13: Hotel Finance Team | M13: 46208 | N13: Monthly operating summary | O13: =IFERROR(IF(COUNTA(A13,C13:N13)=0,"",IF(A13="","Missing transaction date",IF(C13="","Missing scenario",IF(D13="","Missing department",IF(E13="","Missing P&L section",IF(F13="","Missing P&L line",IF(ISBLANK(I13),"Missing amount",IF(I13=0,"Zero amount",IF(OR(A13<DATE(2026,1,1),A13>DATE(2026,12,31)),"Date outside 2026",IF(AND(K13<>"",COUNTIF($K$7:$K$506,K13)>1),"Duplicate source reference","OK")))))))))),"")
A14: 46203 | B14: =IFERROR(IF(A14="","",A14-DAY(A14)+1),"") | C14: Budget | D14: Food & Beverage | E14: Departmental Expense | F14: Food Cost | G14: 5200-B | H14: Budgeted Food Cost | I14: 26240 | J14: Manual Entry | K14: BUD-2026-06-FOODCOST | L14: Hotel Finance Team | M14: 46208 | N14: Monthly operating summary | O14: =IFERROR(IF(COUNTA(A14,C14:N14)=0,"",IF(A14="","Missing transaction date",IF(C14="","Missing scenario",IF(D14="","Missing department",IF(E14="","Missing P&L section",IF(F14="","Missing P&L line",IF(ISBLANK(I14),"Missing amount",IF(I14=0,"Zero amount",IF(OR(A14<DATE(2026,1,1),A14>DATE(2026,12,31)),"Date outside 2026",IF(AND(K14<>"",COUNTIF($K$7:$K$506,K14)>1),"Duplicate source reference","OK")))))))))),"")
A15: 46203 | B15: =IFERROR(IF(A15="","",A15-DAY(A15)+1),"") | C15: Actual | D15: Utilities | E15: Undistributed Operating Expense | F15: Electricity | G15: 6500 | H15: Electricity Expense | I15: 18940 | J15: Accounting Export | K15: GL-2026-06-ELECTRIC | L15: Hotel Finance Team | M15: 46208 | N15: Monthly operating summary | O15: =IFERROR(IF(COUNTA(A15,C15:N15)=0,"",IF(A15="","Missing transaction date",IF(C15="","Missing scenario",IF(D15="","Missing department",IF(E15="","Missing P&L section",IF(F15="","Missing P&L line",IF(ISBLANK(I15),"Missing amount",IF(I15=0,"Zero amount",IF(OR(A15<DATE(2026,1,1),A15>DATE(2026,12,31)),"Date outside 2026",IF(AND(K15<>"",COUNTIF($K$7:$K$506,K15)>1),"Duplicate source reference","OK")))))))))),"")
A16: 46203 | B16: =IFERROR(IF(A16="","",A16-DAY(A16)+1),"") | C16: Budget | D16: Utilities | E16: Undistributed Operating Expense | F16: Electricity | G16: 6500-B | H16: Budgeted Electricity Expense | I16: 17800 | J16: Manual Entry | K16: BUD-2026-06-ELECTRIC | L16: Hotel Finance Team | M16: 46208 | N16: Monthly operating summary | O16: =IFERROR(IF(COUNTA(A16,C16:N16)=0,"",IF(A16="","Missing transaction date",IF(C16="","Missing scenario",IF(D16="","Missing department",IF(E16="","Missing P&L section",IF(F16="","Missing P&L line",IF(ISBLANK(I16),"Missing amount",IF(I16=0,"Zero amount",IF(OR(A16<DATE(2026,1,1),A16>DATE(2026,12,31)),"Date outside 2026",IF(AND(K16<>"",COUNTIF($K$7:$K$506,K16)>1),"Duplicate source reference","OK")))))))))),"")
B17: =IFERROR(IF(A17="","",A17-DAY(A17)+1),"") | O17: =IFERROR(IF(COUNTA(A17,C17:N17)=0,"",IF(A17="","Missing transaction date",IF(C17="","Missing scenario",IF(D17="","Missing department",IF(E17="","Missing P&L section",IF(F17="","Missing P&L line",IF(ISBLANK(I17),"Missing amount",IF(I17=0,"Zero amount",IF(OR(A17<DATE(2026,1,1),A17>DATE(2026,12,31)),"Date outside 2026",IF(AND(K17<>"",COUNTIF($K$7:$K$506,K17)>1),"Duplicate source reference","OK")))))))))),"")
B18: =IFERROR(IF(A18="","",A18-DAY(A18)+1),"") | O18: =IFERROR(IF(COUNTA(A18,C18:N18)=0,"",IF(A18="","Missing transaction date",IF(C18="","Missing scenario",IF(D18="","Missing department",IF(E18="","Missing P&L section",IF(F18="","Missing P&L line",IF(ISBLANK(I18),"Missing amount",IF(I18=0,"Zero amount",IF(OR(A18<DATE(2026,1,1),A18>DATE(2026,12,31)),"Date outside 2026",IF(AND(K18<>"",COUNTIF($K$7:$K$506,K18)>1),"Duplicate source reference","OK")))))))))),"")
B19: =IFERROR(IF(A19="","",A19-DAY(A19)+1),"") | O19: =IFERROR(IF(COUNTA(A19,C19:N19)=0,"",IF(A19="","Missing transaction date",IF(C19="","Missing scenario",IF(D19="","Missing department",IF(E19="","Missing P&L section",IF(F19="","Missing P&L line",IF(ISBLANK(I19),"Missing amount",IF(I19=0,"Zero amount",IF(OR(A19<DATE(2026,1,1),A19>DATE(2026,12,31)),"Date outside 2026",IF(AND(K19<>"",COUNTIF($K$7:$K$506,K19)>1),"Duplicate source reference","OK")))))))))),"")
B20: =IFERROR(IF(A20="","",A20-DAY(A20)+1),"") | O20: =IFERROR(IF(COUNTA(A20,C20:N20)=0,"",IF(A20="","Missing transaction date",IF(C20="","Missing scenario",IF(D20="","Missing department",IF(E20="","Missing P&L section",IF(F20="","Missing P&L line",IF(ISBLANK(I20),"Missing amount",IF(I20=0,"Zero amount",IF(OR(A20<DATE(2026,1,1),A20>DATE(2026,12,31)),"Date outside 2026",IF(AND(K20<>"",COUNTIF($K$7:$K$506,K20)>1),"Duplicate source reference","OK")))))))))),"")
B21: =IFERROR(IF(A21="","",A21-DAY(A21)+1),"") | O21: =IFERROR(IF(COUNTA(A21,C21:N21)=0,"",IF(A21="","Missing transaction date",IF(C21="","Missing scenario",IF(D21="","Missing department",IF(E21="","Missing P&L section",IF(F21="","Missing P&L line",IF(ISBLANK(I21),"Missing amount",IF(I21=0,"Zero amount",IF(OR(A21<DATE(2026,1,1),A21>DATE(2026,12,31)),"Date outside 2026",IF(AND(K21<>"",COUNTIF($K$7:$K$506,K21)>1),"Duplicate source reference","OK")))))))))),"")
B22: =IFERROR(IF(A22="","",A22-DAY(A22)+1),"") | O22: =IFERROR(IF(COUNTA(A22,C22:N22)=0,"",IF(A22="","Missing transaction date",IF(C22="","Missing scenario",IF(D22="","Missing department",IF(E22="","Missing P&L section",IF(F22="","Missing P&L line",IF(ISBLANK(I22),"Missing amount",IF(I22=0,"Zero amount",IF(OR(A22<DATE(2026,1,1),A22>DATE(2026,12,31)),"Date outside 2026",IF(AND(K22<>"",COUNTIF($K$7:$K$506,K22)>1),"Duplicate source reference","OK")))))))))),"")
B23: =IFERROR(IF(A23="","",A23-DAY(A23)+1),"") | O23: =IFERROR(IF(COUNTA(A23,C23:N23)=0,"",IF(A23="","Missing transaction date",IF(C23="","Missing scenario",IF(D23="","Missing department",IF(E23="","Missing P&L section",IF(F23="","Missing P&L line",IF(ISBLANK(I23),"Missing amount",IF(I23=0,"Zero amount",IF(OR(A23<DATE(2026,1,1),A23>DATE(2026,12,31)),"Date outside 2026",IF(AND(K23<>"",COUNTIF($K$7:$K$506,K23)>1),"Duplicate source reference","OK")))))))))),"")
B24: =IFERROR(IF(A24="","",A24-DAY(A24)+1),"") | O24: =IFERROR(IF(COUNTA(A24,C24:N24)=0,"",IF(A24="","Missing transaction date",IF(C24="","Missing scenario",IF(D24="","Missing department",IF(E24="","Missing P&L section",IF(F24="","Missing P&L line",IF(ISBLANK(I24),"Missing amount",IF(I24=0,"Zero amount",IF(OR(A24<DATE(2026,1,1),A24>DATE(2026,12,31)),"Date outside 2026",IF(AND(K24<>"",COUNTIF($K$7:$K$506,K24)>1),"Duplicate source reference","OK")))))))))),"")
B25: =IFERROR(IF(A25="","",A25-DAY(A25)+1),"") | O25: =IFERROR(IF(COUNTA(A25,C25:N25)=0,"",IF(A25="","Missing transaction date",IF(C25="","Missing scenario",IF(D25="","Missing department",IF(E25="","Missing P&L section",IF(F25="","Missing P&L line",IF(ISBLANK(I25),"Missing amount",IF(I25=0,"Zero amount",IF(OR(A25<DATE(2026,1,1),A25>DATE(2026,12,31)),"Date outside 2026",IF(AND(K25<>"",COUNTIF($K$7:$K$506,K25)>1),"Duplicate source reference","OK")))))))))),"")
B26: =IFERROR(IF(A26="","",A26-DAY(A26)+1),"") | O26: =IFERROR(IF(COUNTA(A26,C26:N26)=0,"",IF(A26="","Missing transaction date",IF(C26="","Missing scenario",IF(D26="","Missing department",IF(E26="","Missing P&L section",IF(F26="","Missing P&L line",IF(ISBLANK(I26),"Missing amount",IF(I26=0,"Zero amount",IF(OR(A26<DATE(2026,1,1),A26>DATE(2026,12,31)),"Date outside 2026",IF(AND(K26<>"",COUNTIF($K$7:$K$506,K26)>1),"Duplicate source reference","OK")))))))))),"")
B27: =IFERROR(IF(A27="","",A27-DAY(A27)+1),"") | O27: =IFERROR(IF(COUNTA(A27,C27:N27)=0,"",IF(A27="","Missing transaction date",IF(C27="","Missing scenario",IF(D27="","Missing department",IF(E27="","Missing P&L section",IF(F27="","Missing P&L line",IF(ISBLANK(I27),"Missing amount",IF(I27=0,"Zero amount",IF(OR(A27<DATE(2026,1,1),A27>DATE(2026,12,31)),"Date outside 2026",IF(AND(K27<>"",COUNTIF($K$7:$K$506,K27)>1),"Duplicate source reference","OK")))))))))),"")
B28: =IFERROR(IF(A28="","",A28-DAY(A28)+1),"") | O28: =IFERROR(IF(COUNTA(A28,C28:N28)=0,"",IF(A28="","Missing transaction date",IF(C28="","Missing scenario",IF(D28="","Missing department",IF(E28="","Missing P&L section",IF(F28="","Missing P&L line",IF(ISBLANK(I28),"Missing amount",IF(I28=0,"Zero amount",IF(OR(A28<DATE(2026,1,1),A28>DATE(2026,12,31)),"Date outside 2026",IF(AND(K28<>"",COUNTIF($K$7:$K$506,K28)>1),"Duplicate source reference","OK")))))))))),"")
... B506: =IFERROR(IF(A506="","",A506-DAY(A506)+1),"") | O506: =IFERROR(IF(COUNTA(A506,C506:N506)=0,"",IF(A506="","Missing transaction date",IF(C506="","Missing scenario",IF(D506="","Missing department",IF(E506="","Missing P&L section",IF(F506="","Missing P&L line",IF(ISBLANK(I506),"Missing amount",IF(I506=0,"Zero amount",IF(OR(A506<DATE(2026,1,1),A506>DATE(2026,12,31)),"Date outside 2026",IF(AND(K506<>"",COUNTIF($K$7:$K$506,K506)>1),"Duplicate source reference","OK")))))))))),"")

Sheet Setup
A1: Hotel Profit and Loss Setup
A2: Edit property assumptions and monthly operating statistics in pale yellow cells.
A4: Property Assumptions | K4: Scenarios | L4: Departments | M4: P&L Sections | N4: Source Systems | O4: P&L Lines
A5: Property Name | B5: Harbor View Hotel | K5: Actual | L5: Rooms | M5: Revenue | N5: Manual Entry | O5: Rooms Revenue
A6: Room Count | B6: 120 | K6: Budget | L6: Food & Beverage | M6: Departmental Expense | N6: PMS Export | O6: Food Revenue
A7: Labor Cost Target | B7: 0.32 | L7: Other Operated Departments | M7: Undistributed Operating Expense | N7: POS Export | O7: Beverage Revenue
A8: GOP Margin Target | B8: 0.38 | L8: Administrative & General | M8: Fixed Charge | N8: Payroll Report | O8: Meeting Room Rental
A9: Occupancy Alert Threshold | B9: 0.6 | L9: Sales & Marketing | N9: Accounting Export | O9: Resort or Amenity Revenue
A10: Revenue Variance Alert Threshold | B10: 0.05 | L10: Property Operations & Maintenance | N10: Bank or Merchant Report | O10: Parking Revenue
A11: Expense Variance Alert Threshold | B11: 0.05 | L11: Utilities | N11: Other Source | O11: Other Operating Revenue
A12: Duplicate Source References Allowed | B12: No | L12: Fixed Charges | O12: Rooms Payroll
A13: Default Reporting Year | B13: 2026 | O13: Rooms Payroll Taxes and Benefits
O14: Guest Supplies
A15: Month | B15: Available Room Nights | C15: Rooms Sold | D15: Room Revenue | E15: Occupied Rooms Payroll Hours | F15: Total Labor Cost | G15: Guest Satisfaction Score | H15: Notes | I15: Data Check | O15: Linen and Laundry
A16: 46023 | B16: 3720 | C16: 2418 | D16: 250863 | E16: 4330 | F16: 118450 | G16: 86.2 | H16: Winter leisure and corporate demand | I16: =IFERROR(IF(A16="","",IF(B16=0,"Review: Available room nights is zero",IF(C16>B16,"Review: Rooms sold exceeds available room nights",IF(COUNTIF($A$16:$A$135,A16)>1,"Review: Duplicate month","OK")))),"") | O16: Reservation and Distribution Fees
A17: 46054 | B17: 3360 | C17: 2285 | D17: 244495 | E17: 4190 | F17: 116880 | G17: 87 | H17: Presidents' Day weekend demand | I17: =IFERROR(IF(A17="","",IF(B17=0,"Review: Available room nights is zero",IF(C17>B17,"Review: Rooms sold exceeds available room nights",IF(COUNTIF($A$16:$A$135,A17)>1,"Review: Duplicate month","OK")))),"") | O17: Complimentary Guest Services
A18: 46082 | B18: 3720 | C18: 2716 | D18: 301476 | E18: 4710 | F18: 129640 | G18: 87.6 | H18: Spring group business increased | I18: =IFERROR(IF(A18="","",IF(B18=0,"Review: Available room nights is zero",IF(C18>B18,"Review: Rooms sold exceeds available room nights",IF(COUNTIF($A$16:$A$135,A18)>1,"Review: Duplicate month","OK")))),"") | O18: Other Rooms Expense
A19: 46113 | B19: 3600 | C19: 2700 | D19: 310500 | E19: 4820 | F19: 133250 | G19: 88.1 | H19: Strong meeting and event activity | I19: =IFERROR(IF(A19="","",IF(B19=0,"Review: Available room nights is zero",IF(C19>B19,"Review: Rooms sold exceeds available room nights",IF(COUNTIF($A$16:$A$135,A19)>1,"Review: Duplicate month","OK")))),"") | O19: Food Cost
A20: 46143 | B20: 3720 | C20: 2939 | D20: 349741 | E20: 5060 | F20: 141300 | G20: 88.7 | H20: Memorial Day leisure demand | I20: =IFERROR(IF(A20="","",IF(B20=0,"Review: Available room nights is zero",IF(C20>B20,"Review: Rooms sold exceeds available room nights",IF(COUNTIF($A$16:$A$135,A20)>1,"Review: Duplicate month","OK")))),"") | O20: Beverage Cost
A21: 46174 | B21: 3600 | C21: 2916 | D21: 284760 | E21: 5140 | F21: 146920 | G21: 89 | H21: Summer occupancy with moderated room rate | I21: =IFERROR(IF(A21="","",IF(B21=0,"Review: Available room nights is zero",IF(C21>B21,"Review: Rooms sold exceeds available room nights",IF(COUNTIF($A$16:$A$135,A21)>1,"Review: Duplicate month","OK")))),"") | O21: Food & Beverage Payroll
A22: 46204 | B22: 3720 | C22: 3236 | D22: 394792 | E22: 5470 | F22: 154880 | G22: 89.4 | H22: Peak summer leisure demand | I22: =IFERROR(IF(A22="","",IF(B22=0,"Review: Available room nights is zero",IF(C22>B22,"Review: Rooms sold exceeds available room nights",IF(COUNTIF($A$16:$A$135,A22)>1,"Review: Duplicate month","OK")))),"") | O22: Food & Beverage Payroll Taxes and Benefits
A23: 46235 | B23: 3720 | C23: 3162 | D23: 385764 | E23: 5390 | F23: 152770 | G23: 88.9 | H23: Strong family travel demand | I23: =IFERROR(IF(A23="","",IF(B23=0,"Review: Available room nights is zero",IF(C23>B23,"Review: Rooms sold exceeds available room nights",IF(COUNTIF($A$16:$A$135,A23)>1,"Review: Duplicate month","OK")))),"") | O23: Operating Supplies
A24: 46266 | B24: 3600 | C24: 2772 | D24: 340956 | E24: 4940 | F24: 143620 | G24: 88.4 | H24: Corporate and small-group recovery | I24: =IFERROR(IF(A24="","",IF(B24=0,"Review: Available room nights is zero",IF(C24>B24,"Review: Rooms sold exceeds available room nights",IF(COUNTIF($A$16:$A$135,A24)>1,"Review: Duplicate month","OK")))),"") | O24: Banquet and Event Expense
