Workbook

Sheet Dashboard
A1: Hotel Market Segment Analysis
A2: Room production, revenue, acquisition cost, and segment mix
A3: Reporting Note | B3: Dashboard results are based on completed rows in the Segment Data table and available room nights entered on the Assumptions worksheet.
B5: Property | C5: Harbor Point Hotel | E5: Report Start Date | F5: 46023 | H5: Report End Date | I5: 46081 | K5: Selected Segment | L5: All Segments
A6: Reporting Period Status | B6: =IFERROR(IF(I5<F5,"Warning: End date is before start date","Date range is valid"),"")
A8: Available Room Nights | C8: Rooms Sold | E8: Occupancy | G8: Room Revenue | I8: Blended ADR | K8: Total Revenue
A9: =IFERROR(SUMIFS('Assumptions'!$E$19:$E$138,'Assumptions'!$B$19:$B$138,$C$5,'Assumptions'!$A$19:$A$138,">="&$F$5,'Assumptions'!$A$19:$A$138,"<="&$I$5),0) | C9: =IFERROR(IF($L$5="All Segments",SUMIFS('Segment Data'!$E$6:$E$305,'Segment Data'!$B$6:$B$305,$C$5,'Segment Data'!$A$6:$A$305,">="&$F$5,'Segment Data'!$A$6:$A$305,"<="&$I$5),SUMIFS('Segment Data'!$E$6:$E$305,'Segment Data'!$B$6:$B$305,$C$5,'Segment Data'!$A$6:$A$305,">="&$F$5,'Segment Data'!$A$6:$A$305,"<="&$I$5,'Segment Data'!$C$6:$C$305,$L$5)),0) | E9: =IFERROR((IF($L$5="All Segments",SUMIFS('Segment Data'!$E$6:$E$305,'Segment Data'!$B$6:$B$305,$C$5,'Segment Data'!$A$6:$A$305,">="&$F$5,'Segment Data'!$A$6:$A$305,"<="&$I$5),SUMIFS('Segment Data'!$E$6:$E$305,'Segment Data'!$B$6:$B$305,$C$5,'Segment Data'!$A$6:$A$305,">="&$F$5,'Segment Data'!$A$6:$A$305,"<="&$I$5,'Segment Data'!$C$6:$C$305,$L$5)))/(SUMIFS('Assumptions'!$E$19:$E$138,'Assumptions'!$B$19:$B$138,$C$5,'Assumptions'!$A$19:$A$138,">="&$F$5,'Assumptions'!$A$19:$A$138,"<="&$I$5)),0) | G9: =IFERROR(IF($L$5="All Segments",SUMIFS('Segment Data'!$F$6:$F$305,'Segment Data'!$B$6:$B$305,$C$5,'Segment Data'!$A$6:$A$305,">="&$F$5,'Segment Data'!$A$6:$A$305,"<="&$I$5),SUMIFS('Segment Data'!$F$6:$F$305,'Segment Data'!$B$6:$B$305,$C$5,'Segment Data'!$A$6:$A$305,">="&$F$5,'Segment Data'!$A$6:$A$305,"<="&$I$5,'Segment Data'!$C$6:$C$305,$L$5)),0) | I9: =IFERROR((IF($L$5="All Segments",SUMIFS('Segment Data'!$F$6:$F$305,'Segment Data'!$B$6:$B$305,$C$5,'Segment Data'!$A$6:$A$305,">="&$F$5,'Segment Data'!$A$6:$A$305,"<="&$I$5),SUMIFS('Segment Data'!$F$6:$F$305,'Segment Data'!$B$6:$B$305,$C$5,'Segment Data'!$A$6:$A$305,">="&$F$5,'Segment Data'!$A$6:$A$305,"<="&$I$5,'Segment Data'!$C$6:$C$305,$L$5)))/(IF($L$5="All Segments",SUMIFS('Segment Data'!$E$6:$E$305,'Segment Data'!$B$6:$B$305,$C$5,'Segment Data'!$A$6:$A$305,">="&$F$5,'Segment Data'!$A$6:$A$305,"<="&$I$5),SUMIFS('Segment Data'!$E$6:$E$305,'Segment Data'!$B$6:$B$305,$C$5,'Segment Data'!$A$6:$A$305,">="&$F$5,'Segment Data'!$A$6:$A$305,"<="&$I$5,'Segment Data'!$C$6:$C$305,$L$5))),0) | K9: =IFERROR((IF($L$5="All Segments",SUMIFS('Segment Data'!$F$6:$F$305,'Segment Data'!$B$6:$B$305,$C$5,'Segment Data'!$A$6:$A$305,">="&$F$5,'Segment Data'!$A$6:$A$305,"<="&$I$5),SUMIFS('Segment Data'!$F$6:$F$305,'Segment Data'!$B$6:$B$305,$C$5,'Segment Data'!$A$6:$A$305,">="&$F$5,'Segment Data'!$A$6:$A$305,"<="&$I$5,'Segment Data'!$C$6:$C$305,$L$5)))+(IF($L$5="All Segments",SUMIFS('Segment Data'!$G$6:$G$305,'Segment Data'!$B$6:$B$305,$C$5,'Segment Data'!$A$6:$A$305,">="&$F$5,'Segment Data'!$A$6:$A$305,"<="&$I$5),SUMIFS('Segment Data'!$G$6:$G$305,'Segment Data'!$B$6:$B$305,$C$5,'Segment Data'!$A$6:$A$305,">="&$F$5,'Segment Data'!$A$6:$A$305,"<="&$I$5,'Segment Data'!$C$6:$C$305,$L$5)))+(IF($L$5="All Segments",SUMIFS('Segment Data'!$H$6:$H$305,'Segment Data'!$B$6:$B$305,$C$5,'Segment Data'!$A$6:$A$305,">="&$F$5,'Segment Data'!$A$6:$A$305,"<="&$I$5),SUMIFS('Segment Data'!$H$6:$H$305,'Segment Data'!$B$6:$B$305,$C$5,'Segment Data'!$A$6:$A$305,">="&$F$5,'Segment Data'!$A$6:$A$305,"<="&$I$5,'Segment Data'!$C$6:$C$305,$L$5))),0)
A11: Net Segment Revenue | C11: Net ADR | E11: Acquisition Cost Percentage | G11: Room Revenue Budget Variance | I11: Cancellation Rate | K11: No-Show Rate
A12: =IFERROR((IF($L$5="All Segments",SUMIFS('Segment Data'!$F$6:$F$305,'Segment Data'!$B$6:$B$305,$C$5,'Segment Data'!$A$6:$A$305,">="&$F$5,'Segment Data'!$A$6:$A$305,"<="&$I$5),SUMIFS('Segment Data'!$F$6:$F$305,'Segment Data'!$B$6:$B$305,$C$5,'Segment Data'!$A$6:$A$305,">="&$F$5,'Segment Data'!$A$6:$A$305,"<="&$I$5,'Segment Data'!$C$6:$C$305,$L$5)))+(IF($L$5="All Segments",SUMIFS('Segment Data'!$G$6:$G$305,'Segment Data'!$B$6:$B$305,$C$5,'Segment Data'!$A$6:$A$305,">="&$F$5,'Segment Data'!$A$6:$A$305,"<="&$I$5),SUMIFS('Segment Data'!$G$6:$G$305,'Segment Data'!$B$6:$B$305,$C$5,'Segment Data'!$A$6:$A$305,">="&$F$5,'Segment Data'!$A$6:$A$305,"<="&$I$5,'Segment Data'!$C$6:$C$305,$L$5)))+(IF($L$5="All Segments",SUMIFS('Segment Data'!$H$6:$H$305,'Segment Data'!$B$6:$B$305,$C$5,'Segment Data'!$A$6:$A$305,">="&$F$5,'Segment Data'!$A$6:$A$305,"<="&$I$5),SUMIFS('Segment Data'!$H$6:$H$305,'Segment Data'!$B$6:$B$305,$C$5,'Segment Data'!$A$6:$A$305,">="&$F$5,'Segment Data'!$A$6:$A$305,"<="&$I$5,'Segment Data'!$C$6:$C$305,$L$5)))-(IF($L$5="All Segments",SUMIFS('Segment Data'!$K$6:$K$305,'Segment Data'!$B$6:$B$305,$C$5,'Segment Data'!$A$6:$A$305,">="&$F$5,'Segment Data'!$A$6:$A$305,"<="&$I$5),SUMIFS('Segment Data'!$K$6:$K$305,'Segment Data'!$B$6:$B$305,$C$5,'Segment Data'!$A$6:$A$305,">="&$F$5,'Segment Data'!$A$6:$A$305,"<="&$I$5,'Segment Data'!$C$6:$C$305,$L$5)))-(IF($L$5="All Segments",SUMIFS('Segment Data'!$L$6:$L$305,'Segment Data'!$B$6:$B$305,$C$5,'Segment Data'!$A$6:$A$305,">="&$F$5,'Segment Data'!$A$6:$A$305,"<="&$I$5),SUMIFS('Segment Data'!$L$6:$L$305,'Segment Data'!$B$6:$B$305,$C$5,'Segment Data'!$A$6:$A$305,">="&$F$5,'Segment Data'!$A$6:$A$305,"<="&$I$5,'Segment Data'!$C$6:$C$305,$L$5)))-(IF($L$5="All Segments",SUMIFS('Segment Data'!$M$6:$M$305,'Segment Data'!$B$6:$B$305,$C$5,'Segment Data'!$A$6:$A$305,">="&$F$5,'Segment Data'!$A$6:$A$305,"<="&$I$5),SUMIFS('Segment Data'!$M$6:$M$305,'Segment Data'!$B$6:$B$305,$C$5,'Segment Data'!$A$6:$A$305,">="&$F$5,'Segment Data'!$A$6:$A$305,"<="&$I$5,'Segment Data'!$C$6:$C$305,$L$5))),0) | C12: =IFERROR(((IF($L$5="All Segments",SUMIFS('Segment Data'!$F$6:$F$305,'Segment Data'!$B$6:$B$305,$C$5,'Segment Data'!$A$6:$A$305,">="&$F$5,'Segment Data'!$A$6:$A$305,"<="&$I$5),SUMIFS('Segment Data'!$F$6:$F$305,'Segment Data'!$B$6:$B$305,$C$5,'Segment Data'!$A$6:$A$305,">="&$F$5,'Segment Data'!$A$6:$A$305,"<="&$I$5,'Segment Data'!$C$6:$C$305,$L$5)))+(IF($L$5="All Segments",SUMIFS('Segment Data'!$G$6:$G$305,'Segment Data'!$B$6:$B$305,$C$5,'Segment Data'!$A$6:$A$305,">="&$F$5,'Segment Data'!$A$6:$A$305,"<="&$I$5),SUMIFS('Segment Data'!$G$6:$G$305,'Segment Data'!$B$6:$B$305,$C$5,'Segment Data'!$A$6:$A$305,">="&$F$5,'Segment Data'!$A$6:$A$305,"<="&$I$5,'Segment Data'!$C$6:$C$305,$L$5)))+(IF($L$5="All Segments",SUMIFS('Segment Data'!$H$6:$H$305,'Segment Data'!$B$6:$B$305,$C$5,'Segment Data'!$A$6:$A$305,">="&$F$5,'Segment Data'!$A$6:$A$305,"<="&$I$5),SUMIFS('Segment Data'!$H$6:$H$305,'Segment Data'!$B$6:$B$305,$C$5,'Segment Data'!$A$6:$A$305,">="&$F$5,'Segment Data'!$A$6:$A$305,"<="&$I$5,'Segment Data'!$C$6:$C$305,$L$5)))-(IF($L$5="All Segments",SUMIFS('Segment Data'!$K$6:$K$305,'Segment Data'!$B$6:$B$305,$C$5,'Segment Data'!$A$6:$A$305,">="&$F$5,'Segment Data'!$A$6:$A$305,"<="&$I$5),SUMIFS('Segment Data'!$K$6:$K$305,'Segment Data'!$B$6:$B$305,$C$5,'Segment Data'!$A$6:$A$305,">="&$F$5,'Segment Data'!$A$6:$A$305,"<="&$I$5,'Segment Data'!$C$6:$C$305,$L$5)))-(IF($L$5="All Segments",SUMIFS('Segment Data'!$L$6:$L$305,'Segment Data'!$B$6:$B$305,$C$5,'Segment Data'!$A$6:$A$305,">="&$F$5,'Segment Data'!$A$6:$A$305,"<="&$I$5),SUMIFS('Segment Data'!$L$6:$L$305,'Segment Data'!$B$6:$B$305,$C$5,'Segment Data'!$A$6:$A$305,">="&$F$5,'Segment Data'!$A$6:$A$305,"<="&$I$5,'Segment Data'!$C$6:$C$305,$L$5)))-(IF($L$5="All Segments",SUMIFS('Segment Data'!$M$6:$M$305,'Segment Data'!$B$6:$B$305,$C$5,'Segment Data'!$A$6:$A$305,">="&$F$5,'Segment Data'!$A$6:$A$305,"<="&$I$5),SUMIFS('Segment Data'!$M$6:$M$305,'Segment Data'!$B$6:$B$305,$C$5,'Segment Data'!$A$6:$A$305,">="&$F$5,'Segment Data'!$A$6:$A$305,"<="&$I$5,'Segment Data'!$C$6:$C$305,$L$5))))/(IF($L$5="All Segments",SUMIFS('Segment Data'!$E$6:$E$305,'Segment Data'!$B$6:$B$305,$C$5,'Segment Data'!$A$6:$A$305,">="&$F$5,'Segment Data'!$A$6:$A$305,"<="&$I$5),SUMIFS('Segment Data'!$E$6:$E$305,'Segment Data'!$B$6:$B$305,$C$5,'Segment Data'!$A$6:$A$305,">="&$F$5,'Segment Data'!$A$6:$A$305,"<="&$I$5,'Segment Data'!$C$6:$C$305,$L$5))),0) | E12: =IFERROR(((IF($L$5="All Segments",SUMIFS('Segment Data'!$K$6:$K$305,'Segment Data'!$B$6:$B$305,$C$5,'Segment Data'!$A$6:$A$305,">="&$F$5,'Segment Data'!$A$6:$A$305,"<="&$I$5),SUMIFS('Segment Data'!$K$6:$K$305,'Segment Data'!$B$6:$B$305,$C$5,'Segment Data'!$A$6:$A$305,">="&$F$5,'Segment Data'!$A$6:$A$305,"<="&$I$5,'Segment Data'!$C$6:$C$305,$L$5)))+(IF($L$5="All Segments",SUMIFS('Segment Data'!$L$6:$L$305,'Segment Data'!$B$6:$B$305,$C$5,'Segment Data'!$A$6:$A$305,">="&$F$5,'Segment Data'!$A$6:$A$305,"<="&$I$5),SUMIFS('Segment Data'!$L$6:$L$305,'Segment Data'!$B$6:$B$305,$C$5,'Segment Data'!$A$6:$A$305,">="&$F$5,'Segment Data'!$A$6:$A$305,"<="&$I$5,'Segment Data'!$C$6:$C$305,$L$5)))+(IF($L$5="All Segments",SUMIFS('Segment Data'!$M$6:$M$305,'Segment Data'!$B$6:$B$305,$C$5,'Segment Data'!$A$6:$A$305,">="&$F$5,'Segment Data'!$A$6:$A$305,"<="&$I$5),SUMIFS('Segment Data'!$M$6:$M$305,'Segment Data'!$B$6:$B$305,$C$5,'Segment Data'!$A$6:$A$305,">="&$F$5,'Segment Data'!$A$6:$A$305,"<="&$I$5,'Segment Data'!$C$6:$C$305,$L$5))))/((IF($L$5="All Segments",SUMIFS('Segment Data'!$F$6:$F$305,'Segment Data'!$B$6:$B$305,$C$5,'Segment Data'!$A$6:$A$305,">="&$F$5,'Segment Data'!$A$6:$A$305,"<="&$I$5),SUMIFS('Segment Data'!$F$6:$F$305,'Segment Data'!$B$6:$B$305,$C$5,'Segment Data'!$A$6:$A$305,">="&$F$5,'Segment Data'!$A$6:$A$305,"<="&$I$5,'Segment Data'!$C$6:$C$305,$L$5)))+(IF($L$5="All Segments",SUMIFS('Segment Data'!$G$6:$G$305,'Segment Data'!$B$6:$B$305,$C$5,'Segment Data'!$A$6:$A$305,">="&$F$5,'Segment Data'!$A$6:$A$305,"<="&$I$5),SUMIFS('Segment Data'!$G$6:$G$305,'Segment Data'!$B$6:$B$305,$C$5,'Segment Data'!$A$6:$A$305,">="&$F$5,'Segment Data'!$A$6:$A$305,"<="&$I$5,'Segment Data'!$C$6:$C$305,$L$5)))+(IF($L$5="All Segments",SUMIFS('Segment Data'!$H$6:$H$305,'Segment Data'!$B$6:$B$305,$C$5,'Segment Data'!$A$6:$A$305,">="&$F$5,'Segment Data'!$A$6:$A$305,"<="&$I$5),SUMIFS('Segment Data'!$H$6:$H$305,'Segment Data'!$B$6:$B$305,$C$5,'Segment Data'!$A$6:$A$305,">="&$F$5,'Segment Data'!$A$6:$A$305,"<="&$I$5,'Segment Data'!$C$6:$C$305,$L$5)))),0) | G12: =IFERROR((IF($L$5="All Segments",SUMIFS('Segment Data'!$F$6:$F$305,'Segment Data'!$B$6:$B$305,$C$5,'Segment Data'!$A$6:$A$305,">="&$F$5,'Segment Data'!$A$6:$A$305,"<="&$I$5),SUMIFS('Segment Data'!$F$6:$F$305,'Segment Data'!$B$6:$B$305,$C$5,'Segment Data'!$A$6:$A$305,">="&$F$5,'Segment Data'!$A$6:$A$305,"<="&$I$5,'Segment Data'!$C$6:$C$305,$L$5)))-(IF($L$5="All Segments",SUMIFS('Segment Data'!$O$6:$O$305,'Segment Data'!$B$6:$B$305,$C$5,'Segment Data'!$A$6:$A$305,">="&$F$5,'Segment Data'!$A$6:$A$305,"<="&$I$5),SUMIFS('Segment Data'!$O$6:$O$305,'Segment Data'!$B$6:$B$305,$C$5,'Segment Data'!$A$6:$A$305,">="&$F$5,'Segment Data'!$A$6:$A$305,"<="&$I$5,'Segment Data'!$C$6:$C$305,$L$5))),0) | I12: =IFERROR((IF($L$5="All Segments",SUMIFS('Segment Data'!$I$6:$I$305,'Segment Data'!$B$6:$B$305,$C$5,'Segment Data'!$A$6:$A$305,">="&$F$5,'Segment Data'!$A$6:$A$305,"<="&$I$5),SUMIFS('Segment Data'!$I$6:$I$305,'Segment Data'!$B$6:$B$305,$C$5,'Segment Data'!$A$6:$A$305,">="&$F$5,'Segment Data'!$A$6:$A$305,"<="&$I$5,'Segment Data'!$C$6:$C$305,$L$5)))/(IF($L$5="All Segments",SUMIFS('Segment Data'!$D$6:$D$305,'Segment Data'!$B$6:$B$305,$C$5,'Segment Data'!$A$6:$A$305,">="&$F$5,'Segment Data'!$A$6:$A$305,"<="&$I$5),SUMIFS('Segment Data'!$D$6:$D$305,'Segment Data'!$B$6:$B$305,$C$5,'Segment Data'!$A$6:$A$305,">="&$F$5,'Segment Data'!$A$6:$A$305,"<="&$I$5,'Segment Data'!$C$6:$C$305,$L$5))),0) | K12: =IFERROR((IF($L$5="All Segments",SUMIFS('Segment Data'!$J$6:$J$305,'Segment Data'!$B$6:$B$305,$C$5,'Segment Data'!$A$6:$A$305,">="&$F$5,'Segment Data'!$A$6:$A$305,"<="&$I$5),SUMIFS('Segment Data'!$J$6:$J$305,'Segment Data'!$B$6:$B$305,$C$5,'Segment Data'!$A$6:$A$305,">="&$F$5,'Segment Data'!$A$6:$A$305,"<="&$I$5,'Segment Data'!$C$6:$C$305,$L$5)))/(IF($L$5="All Segments",SUMIFS('Segment Data'!$D$6:$D$305,'Segment Data'!$B$6:$B$305,$C$5,'Segment Data'!$A$6:$A$305,">="&$F$5,'Segment Data'!$A$6:$A$305,"<="&$I$5),SUMIFS('Segment Data'!$D$6:$D$305,'Segment Data'!$B$6:$B$305,$C$5,'Segment Data'!$A$6:$A$305,">="&$F$5,'Segment Data'!$A$6:$A$305,"<="&$I$5,'Segment Data'!$C$6:$C$305,$L$5))),0)
A19: Market Segment | B19: Rooms Sold | C19: Room Mix | D19: Room Revenue | E19: ADR | F19: Total Revenue | G19: Acquisition Costs | H19: Acquisition Cost % | I19: Net Segment Revenue | J19: Budget Room Revenue | K19: Revenue Variance | L19: Revenue Variance % | M19: Cancellation Rate | N19: Performance Flag | O19: Net ADR
A20: Retail Transient | B20: =IFERROR(SUMIFS('Segment Data'!$E$6:$E$305,'Segment Data'!$B$6:$B$305,$C$5,'Segment Data'!$A$6:$A$305,">="&$F$5,'Segment Data'!$A$6:$A$305,"<="&$I$5,'Segment Data'!$C$6:$C$305,$A20),0) | C20: =IFERROR(B20/SUM($B$20:$B$29),0) | D20: =IFERROR(SUMIFS('Segment Data'!$F$6:$F$305,'Segment Data'!$B$6:$B$305,$C$5,'Segment Data'!$A$6:$A$305,">="&$F$5,'Segment Data'!$A$6:$A$305,"<="&$I$5,'Segment Data'!$C$6:$C$305,$A20),0) | E20: =IFERROR(D20/B20,0) | F20: =IFERROR(SUMIFS('Segment Data'!$R$6:$R$305,'Segment Data'!$B$6:$B$305,$C$5,'Segment Data'!$A$6:$A$305,">="&$F$5,'Segment Data'!$A$6:$A$305,"<="&$I$5,'Segment Data'!$C$6:$C$305,$A20),0) | G20: =IFERROR(SUMIFS('Segment Data'!$S$6:$S$305,'Segment Data'!$B$6:$B$305,$C$5,'Segment Data'!$A$6:$A$305,">="&$F$5,'Segment Data'!$A$6:$A$305,"<="&$I$5,'Segment Data'!$C$6:$C$305,$A20),0) | H20: =IFERROR(G20/F20,0) | I20: =IFERROR(SUMIFS('Segment Data'!$T$6:$T$305,'Segment Data'!$B$6:$B$305,$C$5,'Segment Data'!$A$6:$A$305,">="&$F$5,'Segment Data'!$A$6:$A$305,"<="&$I$5,'Segment Data'!$C$6:$C$305,$A20),0) | J20: =IFERROR(SUMIFS('Segment Data'!$O$6:$O$305,'Segment Data'!$B$6:$B$305,$C$5,'Segment Data'!$A$6:$A$305,">="&$F$5,'Segment Data'!$A$6:$A$305,"<="&$I$5,'Segment Data'!$C$6:$C$305,$A20),0) | K20: =IFERROR(D20-J20,0) | L20: =IFERROR(K20/J20,0) | M20: =IFERROR(SUMIFS('Segment Data'!$I$6:$I$305,'Segment Data'!$B$6:$B$305,$C$5,'Segment Data'!$A$6:$A$305,">="&$F$5,'Segment Data'!$A$6:$A$305,"<="&$I$5,'Segment Data'!$C$6:$C$305,$A20)/SUMIFS('Segment Data'!$D$6:$D$305,'Segment Data'!$B$6:$B$305,$C$5,'Segment Data'!$A$6:$A$305,">="&$F$5,'Segment Data'!$A$6:$A$305,"<="&$I$5,'Segment Data'!$C$6:$C$305,$A20),0) | N20: =IFERROR(IF(AND(B20=0,D20=0),"No Activity",IF(H20>Assumptions!$B$5,"Review Cost",IF(L20<Assumptions!$B$6,"Below Budget",IF(AND(C20<Assumptions!$B$7,B20>0),"Low Mix","On Track")))),"") | O20: =IFERROR(I20/B20,0)
A21: Corporate Negotiated | B21: =IFERROR(SUMIFS('Segment Data'!$E$6:$E$305,'Segment Data'!$B$6:$B$305,$C$5,'Segment Data'!$A$6:$A$305,">="&$F$5,'Segment Data'!$A$6:$A$305,"<="&$I$5,'Segment Data'!$C$6:$C$305,$A21),0) | C21: =IFERROR(B21/SUM($B$20:$B$29),0) | D21: =IFERROR(SUMIFS('Segment Data'!$F$6:$F$305,'Segment Data'!$B$6:$B$305,$C$5,'Segment Data'!$A$6:$A$305,">="&$F$5,'Segment Data'!$A$6:$A$305,"<="&$I$5,'Segment Data'!$C$6:$C$305,$A21),0) | E21: =IFERROR(D21/B21,0) | F21: =IFERROR(SUMIFS('Segment Data'!$R$6:$R$305,'Segment Data'!$B$6:$B$305,$C$5,'Segment Data'!$A$6:$A$305,">="&$F$5,'Segment Data'!$A$6:$A$305,"<="&$I$5,'Segment Data'!$C$6:$C$305,$A21),0) | G21: =IFERROR(SUMIFS('Segment Data'!$S$6:$S$305,'Segment Data'!$B$6:$B$305,$C$5,'Segment Data'!$A$6:$A$305,">="&$F$5,'Segment Data'!$A$6:$A$305,"<="&$I$5,'Segment Data'!$C$6:$C$305,$A21),0) | H21: =IFERROR(G21/F21,0) | I21: =IFERROR(SUMIFS('Segment Data'!$T$6:$T$305,'Segment Data'!$B$6:$B$305,$C$5,'Segment Data'!$A$6:$A$305,">="&$F$5,'Segment Data'!$A$6:$A$305,"<="&$I$5,'Segment Data'!$C$6:$C$305,$A21),0) | J21: =IFERROR(SUMIFS('Segment Data'!$O$6:$O$305,'Segment Data'!$B$6:$B$305,$C$5,'Segment Data'!$A$6:$A$305,">="&$F$5,'Segment Data'!$A$6:$A$305,"<="&$I$5,'Segment Data'!$C$6:$C$305,$A21),0) | K21: =IFERROR(D21-J21,0) | L21: =IFERROR(K21/J21,0) | M21: =IFERROR(SUMIFS('Segment Data'!$I$6:$I$305,'Segment Data'!$B$6:$B$305,$C$5,'Segment Data'!$A$6:$A$305,">="&$F$5,'Segment Data'!$A$6:$A$305,"<="&$I$5,'Segment Data'!$C$6:$C$305,$A21)/SUMIFS('Segment Data'!$D$6:$D$305,'Segment Data'!$B$6:$B$305,$C$5,'Segment Data'!$A$6:$A$305,">="&$F$5,'Segment Data'!$A$6:$A$305,"<="&$I$5,'Segment Data'!$C$6:$C$305,$A21),0) | N21: =IFERROR(IF(AND(B21=0,D21=0),"No Activity",IF(H21>Assumptions!$B$5,"Review Cost",IF(L21<Assumptions!$B$6,"Below Budget",IF(AND(C21<Assumptions!$B$7,B21>0),"Low Mix","On Track")))),"") | O21: =IFERROR(I21/B21,0)
A22: Government | B22: =IFERROR(SUMIFS('Segment Data'!$E$6:$E$305,'Segment Data'!$B$6:$B$305,$C$5,'Segment Data'!$A$6:$A$305,">="&$F$5,'Segment Data'!$A$6:$A$305,"<="&$I$5,'Segment Data'!$C$6:$C$305,$A22),0) | C22: =IFERROR(B22/SUM($B$20:$B$29),0) | D22: =IFERROR(SUMIFS('Segment Data'!$F$6:$F$305,'Segment Data'!$B$6:$B$305,$C$5,'Segment Data'!$A$6:$A$305,">="&$F$5,'Segment Data'!$A$6:$A$305,"<="&$I$5,'Segment Data'!$C$6:$C$305,$A22),0) | E22: =IFERROR(D22/B22,0) | F22: =IFERROR(SUMIFS('Segment Data'!$R$6:$R$305,'Segment Data'!$B$6:$B$305,$C$5,'Segment Data'!$A$6:$A$305,">="&$F$5,'Segment Data'!$A$6:$A$305,"<="&$I$5,'Segment Data'!$C$6:$C$305,$A22),0) | G22: =IFERROR(SUMIFS('Segment Data'!$S$6:$S$305,'Segment Data'!$B$6:$B$305,$C$5,'Segment Data'!$A$6:$A$305,">="&$F$5,'Segment Data'!$A$6:$A$305,"<="&$I$5,'Segment Data'!$C$6:$C$305,$A22),0) | H22: =IFERROR(G22/F22,0) | I22: =IFERROR(SUMIFS('Segment Data'!$T$6:$T$305,'Segment Data'!$B$6:$B$305,$C$5,'Segment Data'!$A$6:$A$305,">="&$F$5,'Segment Data'!$A$6:$A$305,"<="&$I$5,'Segment Data'!$C$6:$C$305,$A22),0) | J22: =IFERROR(SUMIFS('Segment Data'!$O$6:$O$305,'Segment Data'!$B$6:$B$305,$C$5,'Segment Data'!$A$6:$A$305,">="&$F$5,'Segment Data'!$A$6:$A$305,"<="&$I$5,'Segment Data'!$C$6:$C$305,$A22),0) | K22: =IFERROR(D22-J22,0) | L22: =IFERROR(K22/J22,0) | M22: =IFERROR(SUMIFS('Segment Data'!$I$6:$I$305,'Segment Data'!$B$6:$B$305,$C$5,'Segment Data'!$A$6:$A$305,">="&$F$5,'Segment Data'!$A$6:$A$305,"<="&$I$5,'Segment Data'!$C$6:$C$305,$A22)/SUMIFS('Segment Data'!$D$6:$D$305,'Segment Data'!$B$6:$B$305,$C$5,'Segment Data'!$A$6:$A$305,">="&$F$5,'Segment Data'!$A$6:$A$305,"<="&$I$5,'Segment Data'!$C$6:$C$305,$A22),0) | N22: =IFERROR(IF(AND(B22=0,D22=0),"No Activity",IF(H22>Assumptions!$B$5,"Review Cost",IF(L22<Assumptions!$B$6,"Below Budget",IF(AND(C22<Assumptions!$B$7,B22>0),"Low Mix","On Track")))),"") | O22: =IFERROR(I22/B22,0)
A23: Online Travel Agency | B23: =IFERROR(SUMIFS('Segment Data'!$E$6:$E$305,'Segment Data'!$B$6:$B$305,$C$5,'Segment Data'!$A$6:$A$305,">="&$F$5,'Segment Data'!$A$6:$A$305,"<="&$I$5,'Segment Data'!$C$6:$C$305,$A23),0) | C23: =IFERROR(B23/SUM($B$20:$B$29),0) | D23: =IFERROR(SUMIFS('Segment Data'!$F$6:$F$305,'Segment Data'!$B$6:$B$305,$C$5,'Segment Data'!$A$6:$A$305,">="&$F$5,'Segment Data'!$A$6:$A$305,"<="&$I$5,'Segment Data'!$C$6:$C$305,$A23),0) | E23: =IFERROR(D23/B23,0) | F23: =IFERROR(SUMIFS('Segment Data'!$R$6:$R$305,'Segment Data'!$B$6:$B$305,$C$5,'Segment Data'!$A$6:$A$305,">="&$F$5,'Segment Data'!$A$6:$A$305,"<="&$I$5,'Segment Data'!$C$6:$C$305,$A23),0) | G23: =IFERROR(SUMIFS('Segment Data'!$S$6:$S$305,'Segment Data'!$B$6:$B$305,$C$5,'Segment Data'!$A$6:$A$305,">="&$F$5,'Segment Data'!$A$6:$A$305,"<="&$I$5,'Segment Data'!$C$6:$C$305,$A23),0) | H23: =IFERROR(G23/F23,0) | I23: =IFERROR(SUMIFS('Segment Data'!$T$6:$T$305,'Segment Data'!$B$6:$B$305,$C$5,'Segment Data'!$A$6:$A$305,">="&$F$5,'Segment Data'!$A$6:$A$305,"<="&$I$5,'Segment Data'!$C$6:$C$305,$A23),0) | J23: =IFERROR(SUMIFS('Segment Data'!$O$6:$O$305,'Segment Data'!$B$6:$B$305,$C$5,'Segment Data'!$A$6:$A$305,">="&$F$5,'Segment Data'!$A$6:$A$305,"<="&$I$5,'Segment Data'!$C$6:$C$305,$A23),0) | K23: =IFERROR(D23-J23,0) | L23: =IFERROR(K23/J23,0) | M23: =IFERROR(SUMIFS('Segment Data'!$I$6:$I$305,'Segment Data'!$B$6:$B$305,$C$5,'Segment Data'!$A$6:$A$305,">="&$F$5,'Segment Data'!$A$6:$A$305,"<="&$I$5,'Segment Data'!$C$6:$C$305,$A23)/SUMIFS('Segment Data'!$D$6:$D$305,'Segment Data'!$B$6:$B$305,$C$5,'Segment Data'!$A$6:$A$305,">="&$F$5,'Segment Data'!$A$6:$A$305,"<="&$I$5,'Segment Data'!$C$6:$C$305,$A23),0) | N23: =IFERROR(IF(AND(B23=0,D23=0),"No Activity",IF(H23>Assumptions!$B$5,"Review Cost",IF(L23<Assumptions!$B$6,"Below Budget",IF(AND(C23<Assumptions!$B$7,B23>0),"Low Mix","On Track")))),"") | O23: =IFERROR(I23/B23,0)
A24: Wholesale | B24: =IFERROR(SUMIFS('Segment Data'!$E$6:$E$305,'Segment Data'!$B$6:$B$305,$C$5,'Segment Data'!$A$6:$A$305,">="&$F$5,'Segment Data'!$A$6:$A$305,"<="&$I$5,'Segment Data'!$C$6:$C$305,$A24),0) | C24: =IFERROR(B24/SUM($B$20:$B$29),0) | D24: =IFERROR(SUMIFS('Segment Data'!$F$6:$F$305,'Segment Data'!$B$6:$B$305,$C$5,'Segment Data'!$A$6:$A$305,">="&$F$5,'Segment Data'!$A$6:$A$305,"<="&$I$5,'Segment Data'!$C$6:$C$305,$A24),0) | E24: =IFERROR(D24/B24,0) | F24: =IFERROR(SUMIFS('Segment Data'!$R$6:$R$305,'Segment Data'!$B$6:$B$305,$C$5,'Segment Data'!$A$6:$A$305,">="&$F$5,'Segment Data'!$A$6:$A$305,"<="&$I$5,'Segment Data'!$C$6:$C$305,$A24),0) | G24: =IFERROR(SUMIFS('Segment Data'!$S$6:$S$305,'Segment Data'!$B$6:$B$305,$C$5,'Segment Data'!$A$6:$A$305,">="&$F$5,'Segment Data'!$A$6:$A$305,"<="&$I$5,'Segment Data'!$C$6:$C$305,$A24),0) | H24: =IFERROR(G24/F24,0) | I24: =IFERROR(SUMIFS('Segment Data'!$T$6:$T$305,'Segment Data'!$B$6:$B$305,$C$5,'Segment Data'!$A$6:$A$305,">="&$F$5,'Segment Data'!$A$6:$A$305,"<="&$I$5,'Segment Data'!$C$6:$C$305,$A24),0) | J24: =IFERROR(SUMIFS('Segment Data'!$O$6:$O$305,'Segment Data'!$B$6:$B$305,$C$5,'Segment Data'!$A$6:$A$305,">="&$F$5,'Segment Data'!$A$6:$A$305,"<="&$I$5,'Segment Data'!$C$6:$C$305,$A24),0) | K24: =IFERROR(D24-J24,0) | L24: =IFERROR(K24/J24,0) | M24: =IFERROR(SUMIFS('Segment Data'!$I$6:$I$305,'Segment Data'!$B$6:$B$305,$C$5,'Segment Data'!$A$6:$A$305,">="&$F$5,'Segment Data'!$A$6:$A$305,"<="&$I$5,'Segment Data'!$C$6:$C$305,$A24)/SUMIFS('Segment Data'!$D$6:$D$305,'Segment Data'!$B$6:$B$305,$C$5,'Segment Data'!$A$6:$A$305,">="&$F$5,'Segment Data'!$A$6:$A$305,"<="&$I$5,'Segment Data'!$C$6:$C$305,$A24),0) | N24: =IFERROR(IF(AND(B24=0,D24=0),"No Activity",IF(H24>Assumptions!$B$5,"Review Cost",IF(L24<Assumptions!$B$6,"Below Budget",IF(AND(C24<Assumptions!$B$7,B24>0),"Low Mix","On Track")))),"") | O24: =IFERROR(I24/B24,0)
A25: Group Corporate | B25: =IFERROR(SUMIFS('Segment Data'!$E$6:$E$305,'Segment Data'!$B$6:$B$305,$C$5,'Segment Data'!$A$6:$A$305,">="&$F$5,'Segment Data'!$A$6:$A$305,"<="&$I$5,'Segment Data'!$C$6:$C$305,$A25),0) | C25: =IFERROR(B25/SUM($B$20:$B$29),0) | D25: =IFERROR(SUMIFS('Segment Data'!$F$6:$F$305,'Segment Data'!$B$6:$B$305,$C$5,'Segment Data'!$A$6:$A$305,">="&$F$5,'Segment Data'!$A$6:$A$305,"<="&$I$5,'Segment Data'!$C$6:$C$305,$A25),0) | E25: =IFERROR(D25/B25,0) | F25: =IFERROR(SUMIFS('Segment Data'!$R$6:$R$305,'Segment Data'!$B$6:$B$305,$C$5,'Segment Data'!$A$6:$A$305,">="&$F$5,'Segment Data'!$A$6:$A$305,"<="&$I$5,'Segment Data'!$C$6:$C$305,$A25),0) | G25: =IFERROR(SUMIFS('Segment Data'!$S$6:$S$305,'Segment Data'!$B$6:$B$305,$C$5,'Segment Data'!$A$6:$A$305,">="&$F$5,'Segment Data'!$A$6:$A$305,"<="&$I$5,'Segment Data'!$C$6:$C$305,$A25),0) | H25: =IFERROR(G25/F25,0) | I25: =IFERROR(SUMIFS('Segment Data'!$T$6:$T$305,'Segment Data'!$B$6:$B$305,$C$5,'Segment Data'!$A$6:$A$305,">="&$F$5,'Segment Data'!$A$6:$A$305,"<="&$I$5,'Segment Data'!$C$6:$C$305,$A25),0) | J25: =IFERROR(SUMIFS('Segment Data'!$O$6:$O$305,'Segment Data'!$B$6:$B$305,$C$5,'Segment Data'!$A$6:$A$305,">="&$F$5,'Segment Data'!$A$6:$A$305,"<="&$I$5,'Segment Data'!$C$6:$C$305,$A25),0) | K25: =IFERROR(D25-J25,0) | L25: =IFERROR(K25/J25,0) | M25: =IFERROR(SUMIFS('Segment Data'!$I$6:$I$305,'Segment Data'!$B$6:$B$305,$C$5,'Segment Data'!$A$6:$A$305,">="&$F$5,'Segment Data'!$A$6:$A$305,"<="&$I$5,'Segment Data'!$C$6:$C$305,$A25)/SUMIFS('Segment Data'!$D$6:$D$305,'Segment Data'!$B$6:$B$305,$C$5,'Segment Data'!$A$6:$A$305,">="&$F$5,'Segment Data'!$A$6:$A$305,"<="&$I$5,'Segment Data'!$C$6:$C$305,$A25),0) | N25: =IFERROR(IF(AND(B25=0,D25=0),"No Activity",IF(H25>Assumptions!$B$5,"Review Cost",IF(L25<Assumptions!$B$6,"Below Budget",IF(AND(C25<Assumptions!$B$7,B25>0),"Low Mix","On Track")))),"") | O25: =IFERROR(I25/B25,0)
A26: Group Association | B26: =IFERROR(SUMIFS('Segment Data'!$E$6:$E$305,'Segment Data'!$B$6:$B$305,$C$5,'Segment Data'!$A$6:$A$305,">="&$F$5,'Segment Data'!$A$6:$A$305,"<="&$I$5,'Segment Data'!$C$6:$C$305,$A26),0) | C26: =IFERROR(B26/SUM($B$20:$B$29),0) | D26: =IFERROR(SUMIFS('Segment Data'!$F$6:$F$305,'Segment Data'!$B$6:$B$305,$C$5,'Segment Data'!$A$6:$A$305,">="&$F$5,'Segment Data'!$A$6:$A$305,"<="&$I$5,'Segment Data'!$C$6:$C$305,$A26),0) | E26: =IFERROR(D26/B26,0) | F26: =IFERROR(SUMIFS('Segment Data'!$R$6:$R$305,'Segment Data'!$B$6:$B$305,$C$5,'Segment Data'!$A$6:$A$305,">="&$F$5,'Segment Data'!$A$6:$A$305,"<="&$I$5,'Segment Data'!$C$6:$C$305,$A26),0) | G26: =IFERROR(SUMIFS('Segment Data'!$S$6:$S$305,'Segment Data'!$B$6:$B$305,$C$5,'Segment Data'!$A$6:$A$305,">="&$F$5,'Segment Data'!$A$6:$A$305,"<="&$I$5,'Segment Data'!$C$6:$C$305,$A26),0) | H26: =IFERROR(G26/F26,0) | I26: =IFERROR(SUMIFS('Segment Data'!$T$6:$T$305,'Segment Data'!$B$6:$B$305,$C$5,'Segment Data'!$A$6:$A$305,">="&$F$5,'Segment Data'!$A$6:$A$305,"<="&$I$5,'Segment Data'!$C$6:$C$305,$A26),0) | J26: =IFERROR(SUMIFS('Segment Data'!$O$6:$O$305,'Segment Data'!$B$6:$B$305,$C$5,'Segment Data'!$A$6:$A$305,">="&$F$5,'Segment Data'!$A$6:$A$305,"<="&$I$5,'Segment Data'!$C$6:$C$305,$A26),0) | K26: =IFERROR(D26-J26,0) | L26: =IFERROR(K26/J26,0) | M26: =IFERROR(SUMIFS('Segment Data'!$I$6:$I$305,'Segment Data'!$B$6:$B$305,$C$5,'Segment Data'!$A$6:$A$305,">="&$F$5,'Segment Data'!$A$6:$A$305,"<="&$I$5,'Segment Data'!$C$6:$C$305,$A26)/SUMIFS('Segment Data'!$D$6:$D$305,'Segment Data'!$B$6:$B$305,$C$5,'Segment Data'!$A$6:$A$305,">="&$F$5,'Segment Data'!$A$6:$A$305,"<="&$I$5,'Segment Data'!$C$6:$C$305,$A26),0) | N26: =IFERROR(IF(AND(B26=0,D26=0),"No Activity",IF(H26>Assumptions!$B$5,"Review Cost",IF(L26<Assumptions!$B$6,"Below Budget",IF(AND(C26<Assumptions!$B$7,B26>0),"Low Mix","On Track")))),"") | O26: =IFERROR(I26/B26,0)
A27: Group SMERF | B27: =IFERROR(SUMIFS('Segment Data'!$E$6:$E$305,'Segment Data'!$B$6:$B$305,$C$5,'Segment Data'!$A$6:$A$305,">="&$F$5,'Segment Data'!$A$6:$A$305,"<="&$I$5,'Segment Data'!$C$6:$C$305,$A27),0) | C27: =IFERROR(B27/SUM($B$20:$B$29),0) | D27: =IFERROR(SUMIFS('Segment Data'!$F$6:$F$305,'Segment Data'!$B$6:$B$305,$C$5,'Segment Data'!$A$6:$A$305,">="&$F$5,'Segment Data'!$A$6:$A$305,"<="&$I$5,'Segment Data'!$C$6:$C$305,$A27),0) | E27: =IFERROR(D27/B27,0) | F27: =IFERROR(SUMIFS('Segment Data'!$R$6:$R$305,'Segment Data'!$B$6:$B$305,$C$5,'Segment Data'!$A$6:$A$305,">="&$F$5,'Segment Data'!$A$6:$A$305,"<="&$I$5,'Segment Data'!$C$6:$C$305,$A27),0) | G27: =IFERROR(SUMIFS('Segment Data'!$S$6:$S$305,'Segment Data'!$B$6:$B$305,$C$5,'Segment Data'!$A$6:$A$305,">="&$F$5,'Segment Data'!$A$6:$A$305,"<="&$I$5,'Segment Data'!$C$6:$C$305,$A27),0) | H27: =IFERROR(G27/F27,0) | I27: =IFERROR(SUMIFS('Segment Data'!$T$6:$T$305,'Segment Data'!$B$6:$B$305,$C$5,'Segment Data'!$A$6:$A$305,">="&$F$5,'Segment Data'!$A$6:$A$305,"<="&$I$5,'Segment Data'!$C$6:$C$305,$A27),0) | J27: =IFERROR(SUMIFS('Segment Data'!$O$6:$O$305,'Segment Data'!$B$6:$B$305,$C$5,'Segment Data'!$A$6:$A$305,">="&$F$5,'Segment Data'!$A$6:$A$305,"<="&$I$5,'Segment Data'!$C$6:$C$305,$A27),0) | K27: =IFERROR(D27-J27,0) | L27: =IFERROR(K27/J27,0) | M27: =IFERROR(SUMIFS('Segment Data'!$I$6:$I$305,'Segment Data'!$B$6:$B$305,$C$5,'Segment Data'!$A$6:$A$305,">="&$F$5,'Segment Data'!$A$6:$A$305,"<="&$I$5,'Segment Data'!$C$6:$C$305,$A27)/SUMIFS('Segment Data'!$D$6:$D$305,'Segment Data'!$B$6:$B$305,$C$5,'Segment Data'!$A$6:$A$305,">="&$F$5,'Segment Data'!$A$6:$A$305,"<="&$I$5,'Segment Data'!$C$6:$C$305,$A27),0) | N27: =IFERROR(IF(AND(B27=0,D27=0),"No Activity",IF(H27>Assumptions!$B$5,"Review Cost",IF(L27<Assumptions!$B$6,"Below Budget",IF(AND(C27<Assumptions!$B$7,B27>0),"Low Mix","On Track")))),"") | O27: =IFERROR(I27/B27,0)
A28: Crew | B28: =IFERROR(SUMIFS('Segment Data'!$E$6:$E$305,'Segment Data'!$B$6:$B$305,$C$5,'Segment Data'!$A$6:$A$305,">="&$F$5,'Segment Data'!$A$6:$A$305,"<="&$I$5,'Segment Data'!$C$6:$C$305,$A28),0) | C28: =IFERROR(B28/SUM($B$20:$B$29),0) | D28: =IFERROR(SUMIFS('Segment Data'!$F$6:$F$305,'Segment Data'!$B$6:$B$305,$C$5,'Segment Data'!$A$6:$A$305,">="&$F$5,'Segment Data'!$A$6:$A$305,"<="&$I$5,'Segment Data'!$C$6:$C$305,$A28),0) | E28: =IFERROR(D28/B28,0) | F28: =IFERROR(SUMIFS('Segment Data'!$R$6:$R$305,'Segment Data'!$B$6:$B$305,$C$5,'Segment Data'!$A$6:$A$305,">="&$F$5,'Segment Data'!$A$6:$A$305,"<="&$I$5,'Segment Data'!$C$6:$C$305,$A28),0) | G28: =IFERROR(SUMIFS('Segment Data'!$S$6:$S$305,'Segment Data'!$B$6:$B$305,$C$5,'Segment Data'!$A$6:$A$305,">="&$F$5,'Segment Data'!$A$6:$A$305,"<="&$I$5,'Segment Data'!$C$6:$C$305,$A28),0) | H28: =IFERROR(G28/F28,0) | I28: =IFERROR(SUMIFS('Segment Data'!$T$6:$T$305,'Segment Data'!$B$6:$B$305,$C$5,'Segment Data'!$A$6:$A$305,">="&$F$5,'Segment Data'!$A$6:$A$305,"<="&$I$5,'Segment Data'!$C$6:$C$305,$A28),0) | J28: =IFERROR(SUMIFS('Segment Data'!$O$6:$O$305,'Segment Data'!$B$6:$B$305,$C$5,'Segment Data'!$A$6:$A$305,">="&$F$5,'Segment Data'!$A$6:$A$305,"<="&$I$5,'Segment Data'!$C$6:$C$305,$A28),0) | K28: =IFERROR(D28-J28,0) | L28: =IFERROR(K28/J28,0) | M28: =IFERROR(SUMIFS('Segment Data'!$I$6:$I$305,'Segment Data'!$B$6:$B$305,$C$5,'Segment Data'!$A$6:$A$305,">="&$F$5,'Segment Data'!$A$6:$A$305,"<="&$I$5,'Segment Data'!$C$6:$C$305,$A28)/SUMIFS('Segment Data'!$D$6:$D$305,'Segment Data'!$B$6:$B$305,$C$5,'Segment Data'!$A$6:$A$305,">="&$F$5,'Segment Data'!$A$6:$A$305,"<="&$I$5,'Segment Data'!$C$6:$C$305,$A28),0) | N28: =IFERROR(IF(AND(B28=0,D28=0),"No Activity",IF(H28>Assumptions!$B$5,"Review Cost",IF(L28<Assumptions!$B$6,"Below Budget",IF(AND(C28<Assumptions!$B$7,B28>0),"Low Mix","On Track")))),"") | O28: =IFERROR(I28/B28,0)
A29: Complimentary | B29: =IFERROR(SUMIFS('Segment Data'!$E$6:$E$305,'Segment Data'!$B$6:$B$305,$C$5,'Segment Data'!$A$6:$A$305,">="&$F$5,'Segment Data'!$A$6:$A$305,"<="&$I$5,'Segment Data'!$C$6:$C$305,$A29),0) | C29: =IFERROR(B29/SUM($B$20:$B$29),0) | D29: =IFERROR(SUMIFS('Segment Data'!$F$6:$F$305,'Segment Data'!$B$6:$B$305,$C$5,'Segment Data'!$A$6:$A$305,">="&$F$5,'Segment Data'!$A$6:$A$305,"<="&$I$5,'Segment Data'!$C$6:$C$305,$A29),0) | E29: =IFERROR(D29/B29,0) | F29: =IFERROR(SUMIFS('Segment Data'!$R$6:$R$305,'Segment Data'!$B$6:$B$305,$C$5,'Segment Data'!$A$6:$A$305,">="&$F$5,'Segment Data'!$A$6:$A$305,"<="&$I$5,'Segment Data'!$C$6:$C$305,$A29),0) | G29: =IFERROR(SUMIFS('Segment Data'!$S$6:$S$305,'Segment Data'!$B$6:$B$305,$C$5,'Segment Data'!$A$6:$A$305,">="&$F$5,'Segment Data'!$A$6:$A$305,"<="&$I$5,'Segment Data'!$C$6:$C$305,$A29),0) | H29: =IFERROR(G29/F29,0) | I29: =IFERROR(SUMIFS('Segment Data'!$T$6:$T$305,'Segment Data'!$B$6:$B$305,$C$5,'Segment Data'!$A$6:$A$305,">="&$F$5,'Segment Data'!$A$6:$A$305,"<="&$I$5,'Segment Data'!$C$6:$C$305,$A29),0) | J29: =IFERROR(SUMIFS('Segment Data'!$O$6:$O$305,'Segment Data'!$B$6:$B$305,$C$5,'Segment Data'!$A$6:$A$305,">="&$F$5,'Segment Data'!$A$6:$A$305,"<="&$I$5,'Segment Data'!$C$6:$C$305,$A29),0) | K29: =IFERROR(D29-J29,0) | L29: =IFERROR(K29/J29,0) | M29: =IFERROR(SUMIFS('Segment Data'!$I$6:$I$305,'Segment Data'!$B$6:$B$305,$C$5,'Segment Data'!$A$6:$A$305,">="&$F$5,'Segment Data'!$A$6:$A$305,"<="&$I$5,'Segment Data'!$C$6:$C$305,$A29)/SUMIFS('Segment Data'!$D$6:$D$305,'Segment Data'!$B$6:$B$305,$C$5,'Segment Data'!$A$6:$A$305,">="&$F$5,'Segment Data'!$A$6:$A$305,"<="&$I$5,'Segment Data'!$C$6:$C$305,$A29),0) | N29: =IFERROR(IF(AND(B29=0,D29=0),"No Activity",IF(H29>Assumptions!$B$5,"Review Cost",IF(L29<Assumptions!$B$6,"Below Budget",IF(AND(C29<Assumptions!$B$7,B29>0),"Low Mix","On Track")))),"") | O29: =IFERROR(I29/B29,0)
H30: ="" | I30: ="" | J30: ="" | K30: ="" | L30: ="" | M30: ="" | N30: ="" | O30: =""
H31: ="" | I31: ="" | J31: ="" | K31: ="" | L31: ="" | M31: ="" | N31: ="" | O31: =""
H32: ="" | I32: ="" | J32: ="" | K32: ="" | L32: ="" | M32: ="" | N32: ="" | O32: =""
H33: ="" | I33: ="" | J33: ="" | K33: ="" | L33: ="" | M33: ="" | N33: ="" | O33: =""
A34: Monthly Trend — 2026 | H34: ="" | I34: ="" | J34: ="" | K34: ="" | L34: ="" | M34: ="" | N34: ="" | O34: =""
A35: Month | B35: Available Room Nights | C35: Rooms Sold | D35: Occupancy | E35: Room Revenue | F35: ADR | G35: Net Segment Revenue | H35: ="" | I35: ="" | J35: ="" | K35: ="" | L35: ="" | M35: ="" | N35: ="" | O35: =""
A36: January | B36: =IFERROR(IF(AND($AB36>=$F$5,$AB36<=$I$5),SUMIFS(Assumptions!$E$19:$E$138,Assumptions!$B$19:$B$138,$C$5,Assumptions!$A$19:$A$138,$AB36),""),"") | C36: =IFERROR(IF(AND($AB36>=$F$5,$AB36<=$I$5),SUMIFS('Segment Data'!$E$6:$E$305,'Segment Data'!$B$6:$B$305,$C$5,'Segment Data'!$A$6:$A$305,$AB36),""),"") | D36: =IFERROR(IF(AND($AB36>=$F$5,$AB36<=$I$5),C36/B36,""),"") | E36: =IFERROR(IF(AND($AB36>=$F$5,$AB36<=$I$5),SUMIFS('Segment Data'!$F$6:$F$305,'Segment Data'!$B$6:$B$305,$C$5,'Segment Data'!$A$6:$A$305,$AB36),""),"") | F36: =IFERROR(IF(AND($AB36>=$F$5,$AB36<=$I$5),E36/C36,""),"") | G36: =IFERROR(IF(AND($AB36>=$F$5,$AB36<=$I$5),SUMIFS('Segment Data'!$T$6:$T$305,'Segment Data'!$B$6:$B$305,$C$5,'Segment Data'!$A$6:$A$305,$AB36),""),"") | H36: ="" | I36: ="" | J36: ="" | K36: ="" | L36: ="" | M36: ="" | N36: ="" | O36: ="" | AB36: 46023
A37: February | B37: =IFERROR(IF(AND($AB37>=$F$5,$AB37<=$I$5),SUMIFS(Assumptions!$E$19:$E$138,Assumptions!$B$19:$B$138,$C$5,Assumptions!$A$19:$A$138,$AB37),""),"") | C37: =IFERROR(IF(AND($AB37>=$F$5,$AB37<=$I$5),SUMIFS('Segment Data'!$E$6:$E$305,'Segment Data'!$B$6:$B$305,$C$5,'Segment Data'!$A$6:$A$305,$AB37),""),"") | D37: =IFERROR(IF(AND($AB37>=$F$5,$AB37<=$I$5),C37/B37,""),"") | E37: =IFERROR(IF(AND($AB37>=$F$5,$AB37<=$I$5),SUMIFS('Segment Data'!$F$6:$F$305,'Segment Data'!$B$6:$B$305,$C$5,'Segment Data'!$A$6:$A$305,$AB37),""),"") | F37: =IFERROR(IF(AND($AB37>=$F$5,$AB37<=$I$5),E37/C37,""),"") | G37: =IFERROR(IF(AND($AB37>=$F$5,$AB37<=$I$5),SUMIFS('Segment Data'!$T$6:$T$305,'Segment Data'!$B$6:$B$305,$C$5,'Segment Data'!$A$6:$A$305,$AB37),""),"") | H37: ="" | I37: ="" | J37: ="" | K37: ="" | L37: ="" | M37: ="" | N37: ="" | O37: ="" | AB37: 46054
A38: March | B38: =IFERROR(IF(AND($AB38>=$F$5,$AB38<=$I$5),SUMIFS(Assumptions!$E$19:$E$138,Assumptions!$B$19:$B$138,$C$5,Assumptions!$A$19:$A$138,$AB38),""),"") | C38: =IFERROR(IF(AND($AB38>=$F$5,$AB38<=$I$5),SUMIFS('Segment Data'!$E$6:$E$305,'Segment Data'!$B$6:$B$305,$C$5,'Segment Data'!$A$6:$A$305,$AB38),""),"") | D38: =IFERROR(IF(AND($AB38>=$F$5,$AB38<=$I$5),C38/B38,""),"") | E38: =IFERROR(IF(AND($AB38>=$F$5,$AB38<=$I$5),SUMIFS('Segment Data'!$F$6:$F$305,'Segment Data'!$B$6:$B$305,$C$5,'Segment Data'!$A$6:$A$305,$AB38),""),"") | F38: =IFERROR(IF(AND($AB38>=$F$5,$AB38<=$I$5),E38/C38,""),"") | G38: =IFERROR(IF(AND($AB38>=$F$5,$AB38<=$I$5),SUMIFS('Segment Data'!$T$6:$T$305,'Segment Data'!$B$6:$B$305,$C$5,'Segment Data'!$A$6:$A$305,$AB38),""),"") | H38: ="" | I38: ="" | J38: ="" | K38: ="" | L38: ="" | M38: ="" | N38: ="" | O38: ="" | AB38: 46082
A39: April | B39: =IFERROR(IF(AND($AB39>=$F$5,$AB39<=$I$5),SUMIFS(Assumptions!$E$19:$E$138,Assumptions!$B$19:$B$138,$C$5,Assumptions!$A$19:$A$138,$AB39),""),"") | C39: =IFERROR(IF(AND($AB39>=$F$5,$AB39<=$I$5),SUMIFS('Segment Data'!$E$6:$E$305,'Segment Data'!$B$6:$B$305,$C$5,'Segment Data'!$A$6:$A$305,$AB39),""),"") | D39: =IFERROR(IF(AND($AB39>=$F$5,$AB39<=$I$5),C39/B39,""),"") | E39: =IFERROR(IF(AND($AB39>=$F$5,$AB39<=$I$5),SUMIFS('Segment Data'!$F$6:$F$305,'Segment Data'!$B$6:$B$305,$C$5,'Segment Data'!$A$6:$A$305,$AB39),""),"") | F39: =IFERROR(IF(AND($AB39>=$F$5,$AB39<=$I$5),E39/C39,""),"") | G39: =IFERROR(IF(AND($AB39>=$F$5,$AB39<=$I$5),SUMIFS('Segment Data'!$T$6:$T$305,'Segment Data'!$B$6:$B$305,$C$5,'Segment Data'!$A$6:$A$305,$AB39),""),"") | H39: ="" | I39: ="" | J39: ="" | K39: ="" | L39: ="" | M39: ="" | N39: ="" | O39: ="" | AB39: 46113
A40: May | B40: =IFERROR(IF(AND($AB40>=$F$5,$AB40<=$I$5),SUMIFS(Assumptions!$E$19:$E$138,Assumptions!$B$19:$B$138,$C$5,Assumptions!$A$19:$A$138,$AB40),""),"") | C40: =IFERROR(IF(AND($AB40>=$F$5,$AB40<=$I$5),SUMIFS('Segment Data'!$E$6:$E$305,'Segment Data'!$B$6:$B$305,$C$5,'Segment Data'!$A$6:$A$305,$AB40),""),"") | D40: =IFERROR(IF(AND($AB40>=$F$5,$AB40<=$I$5),C40/B40,""),"") | E40: =IFERROR(IF(AND($AB40>=$F$5,$AB40<=$I$5),SUMIFS('Segment Data'!$F$6:$F$305,'Segment Data'!$B$6:$B$305,$C$5,'Segment Data'!$A$6:$A$305,$AB40),""),"") | F40: =IFERROR(IF(AND($AB40>=$F$5,$AB40<=$I$5),E40/C40,""),"") | G40: =IFERROR(IF(AND($AB40>=$F$5,$AB40<=$I$5),SUMIFS('Segment Data'!$T$6:$T$305,'Segment Data'!$B$6:$B$305,$C$5,'Segment Data'!$A$6:$A$305,$AB40),""),"") | H40: ="" | I40: ="" | J40: ="" | K40: ="" | L40: ="" | M40: ="" | N40: ="" | O40: ="" | AB40: 46143
A41: June | B41: =IFERROR(IF(AND($AB41>=$F$5,$AB41<=$I$5),SUMIFS(Assumptions!$E$19:$E$138,Assumptions!$B$19:$B$138,$C$5,Assumptions!$A$19:$A$138,$AB41),""),"") | C41: =IFERROR(IF(AND($AB41>=$F$5,$AB41<=$I$5),SUMIFS('Segment Data'!$E$6:$E$305,'Segment Data'!$B$6:$B$305,$C$5,'Segment Data'!$A$6:$A$305,$AB41),""),"") | D41: =IFERROR(IF(AND($AB41>=$F$5,$AB41<=$I$5),C41/B41,""),"") | E41: =IFERROR(IF(AND($AB41>=$F$5,$AB41<=$I$5),SUMIFS('Segment Data'!$F$6:$F$305,'Segment Data'!$B$6:$B$305,$C$5,'Segment Data'!$A$6:$A$305,$AB41),""),"") | F41: =IFERROR(IF(AND($AB41>=$F$5,$AB41<=$I$5),E41/C41,""),"") | G41: =IFERROR(IF(AND($AB41>=$F$5,$AB41<=$I$5),SUMIFS('Segment Data'!$T$6:$T$305,'Segment Data'!$B$6:$B$305,$C$5,'Segment Data'!$A$6:$A$305,$AB41),""),"") | H41: ="" | I41: ="" | J41: ="" | K41: ="" | L41: ="" | M41: ="" | N41: ="" | O41: ="" | AB41: 46174
A42: July | B42: =IFERROR(IF(AND($AB42>=$F$5,$AB42<=$I$5),SUMIFS(Assumptions!$E$19:$E$138,Assumptions!$B$19:$B$138,$C$5,Assumptions!$A$19:$A$138,$AB42),""),"") | C42: =IFERROR(IF(AND($AB42>=$F$5,$AB42<=$I$5),SUMIFS('Segment Data'!$E$6:$E$305,'Segment Data'!$B$6:$B$305,$C$5,'Segment Data'!$A$6:$A$305,$AB42),""),"") | D42: =IFERROR(IF(AND($AB42>=$F$5,$AB42<=$I$5),C42/B42,""),"") | E42: =IFERROR(IF(AND($AB42>=$F$5,$AB42<=$I$5),SUMIFS('Segment Data'!$F$6:$F$305,'Segment Data'!$B$6:$B$305,$C$5,'Segment Data'!$A$6:$A$305,$AB42),""),"") | F42: =IFERROR(IF(AND($AB42>=$F$5,$AB42<=$I$5),E42/C42,""),"") | G42: =IFERROR(IF(AND($AB42>=$F$5,$AB42<=$I$5),SUMIFS('Segment Data'!$T$6:$T$305,'Segment Data'!$B$6:$B$305,$C$5,'Segment Data'!$A$6:$A$305,$AB42),""),"") | H42: ="" | I42: ="" | J42: ="" | K42: ="" | L42: ="" | M42: ="" | N42: ="" | O42: ="" | AB42: 46204
A43: August | B43: =IFERROR(IF(AND($AB43>=$F$5,$AB43<=$I$5),SUMIFS(Assumptions!$E$19:$E$138,Assumptions!$B$19:$B$138,$C$5,Assumptions!$A$19:$A$138,$AB43),""),"") | C43: =IFERROR(IF(AND($AB43>=$F$5,$AB43<=$I$5),SUMIFS('Segment Data'!$E$6:$E$305,'Segment Data'!$B$6:$B$305,$C$5,'Segment Data'!$A$6:$A$305,$AB43),""),"") | D43: =IFERROR(IF(AND($AB43>=$F$5,$AB43<=$I$5),C43/B43,""),"") | E43: =IFERROR(IF(AND($AB43>=$F$5,$AB43<=$I$5),SUMIFS('Segment Data'!$F$6:$F$305,'Segment Data'!$B$6:$B$305,$C$5,'Segment Data'!$A$6:$A$305,$AB43),""),"") | F43: =IFERROR(IF(AND($AB43>=$F$5,$AB43<=$I$5),E43/C43,""),"") | G43: =IFERROR(IF(AND($AB43>=$F$5,$AB43<=$I$5),SUMIFS('Segment Data'!$T$6:$T$305,'Segment Data'!$B$6:$B$305,$C$5,'Segment Data'!$A$6:$A$305,$AB43),""),"") | H43: ="" | I43: ="" | J43: ="" | K43: ="" | L43: ="" | M43: ="" | N43: ="" | O43: ="" | AB43: 46235
A44: September | B44: =IFERROR(IF(AND($AB44>=$F$5,$AB44<=$I$5),SUMIFS(Assumptions!$E$19:$E$138,Assumptions!$B$19:$B$138,$C$5,Assumptions!$A$19:$A$138,$AB44),""),"") | C44: =IFERROR(IF(AND($AB44>=$F$5,$AB44<=$I$5),SUMIFS('Segment Data'!$E$6:$E$305,'Segment Data'!$B$6:$B$305,$C$5,'Segment Data'!$A$6:$A$305,$AB44),""),"") | D44: =IFERROR(IF(AND($AB44>=$F$5,$AB44<=$I$5),C44/B44,""),"") | E44: =IFERROR(IF(AND($AB44>=$F$5,$AB44<=$I$5),SUMIFS('Segment Data'!$F$6:$F$305,'Segment Data'!$B$6:$B$305,$C$5,'Segment Data'!$A$6:$A$305,$AB44),""),"") | F44: =IFERROR(IF(AND($AB44>=$F$5,$AB44<=$I$5),E44/C44,""),"") | G44: =IFERROR(IF(AND($AB44>=$F$5,$AB44<=$I$5),SUMIFS('Segment Data'!$T$6:$T$305,'Segment Data'!$B$6:$B$305,$C$5,'Segment Data'!$A$6:$A$305,$AB44),""),"") | H44: ="" | I44: ="" | J44: ="" | K44: ="" | L44: ="" | M44: ="" | N44: ="" | O44: ="" | AB44: 46266
A45: October | B45: =IFERROR(IF(AND($AB45>=$F$5,$AB45<=$I$5),SUMIFS(Assumptions!$E$19:$E$138,Assumptions!$B$19:$B$138,$C$5,Assumptions!$A$19:$A$138,$AB45),""),"") | C45: =IFERROR(IF(AND($AB45>=$F$5,$AB45<=$I$5),SUMIFS('Segment Data'!$E$6:$E$305,'Segment Data'!$B$6:$B$305,$C$5,'Segment Data'!$A$6:$A$305,$AB45),""),"") | D45: =IFERROR(IF(AND($AB45>=$F$5,$AB45<=$I$5),C45/B45,""),"") | E45: =IFERROR(IF(AND($AB45>=$F$5,$AB45<=$I$5),SUMIFS('Segment Data'!$F$6:$F$305,'Segment Data'!$B$6:$B$305,$C$5,'Segment Data'!$A$6:$A$305,$AB45),""),"") | F45: =IFERROR(IF(AND($AB45>=$F$5,$AB45<=$I$5),E45/C45,""),"") | G45: =IFERROR(IF(AND($AB45>=$F$5,$AB45<=$I$5),SUMIFS('Segment Data'!$T$6:$T$305,'Segment Data'!$B$6:$B$305,$C$5,'Segment Data'!$A$6:$A$305,$AB45),""),"") | H45: ="" | I45: ="" | J45: ="" | K45: ="" | L45: ="" | M45: ="" | N45: ="" | O45: ="" | AB45: 46296
A46: November | B46: =IFERROR(IF(AND($AB46>=$F$5,$AB46<=$I$5),SUMIFS(Assumptions!$E$19:$E$138,Assumptions!$B$19:$B$138,$C$5,Assumptions!$A$19:$A$138,$AB46),""),"") | C46: =IFERROR(IF(AND($AB46>=$F$5,$AB46<=$I$5),SUMIFS('Segment Data'!$E$6:$E$305,'Segment Data'!$B$6:$B$305,$C$5,'Segment Data'!$A$6:$A$305,$AB46),""),"") | D46: =IFERROR(IF(AND($AB46>=$F$5,$AB46<=$I$5),C46/B46,""),"") | E46: =IFERROR(IF(AND($AB46>=$F$5,$AB46<=$I$5),SUMIFS('Segment Data'!$F$6:$F$305,'Segment Data'!$B$6:$B$305,$C$5,'Segment Data'!$A$6:$A$305,$AB46),""),"") | F46: =IFERROR(IF(AND($AB46>=$F$5,$AB46<=$I$5),E46/C46,""),"") | G46: =IFERROR(IF(AND($AB46>=$F$5,$AB46<=$I$5),SUMIFS('Segment Data'!$T$6:$T$305,'Segment Data'!$B$6:$B$305,$C$5,'Segment Data'!$A$6:$A$305,$AB46),""),"") | H46: ="" | I46: ="" | J46: ="" | K46: ="" | L46: ="" | M46: ="" | N46: ="" | O46: ="" | AB46: 46327
A47: December | B47: =IFERROR(IF(AND($AB47>=$F$5,$AB47<=$I$5),SUMIFS(Assumptions!$E$19:$E$138,Assumptions!$B$19:$B$138,$C$5,Assumptions!$A$19:$A$138,$AB47),""),"") | C47: =IFERROR(IF(AND($AB47>=$F$5,$AB47<=$I$5),SUMIFS('Segment Data'!$E$6:$E$305,'Segment Data'!$B$6:$B$305,$C$5,'Segment Data'!$A$6:$A$305,$AB47),""),"") | D47: =IFERROR(IF(AND($AB47>=$F$5,$AB47<=$I$5),C47/B47,""),"") | E47: =IFERROR(IF(AND($AB47>=$F$5,$AB47<=$I$5),SUMIFS('Segment Data'!$F$6:$F$305,'Segment Data'!$B$6:$B$305,$C$5,'Segment Data'!$A$6:$A$305,$AB47),""),"") | F47: =IFERROR(IF(AND($AB47>=$F$5,$AB47<=$I$5),E47/C47,""),"") | G47: =IFERROR(IF(AND($AB47>=$F$5,$AB47<=$I$5),SUMIFS('Segment Data'!$T$6:$T$305,'Segment Data'!$B$6:$B$305,$C$5,'Segment Data'!$A$6:$A$305,$AB47),""),"") | H47: ="" | I47: ="" | J47: ="" | K47: ="" | L47: ="" | M47: ="" | N47: ="" | O47: ="" | AB47: 46357
B48: ="" | C48: ="" | D48: ="" | E48: ="" | F48: ="" | G48: ="" | H48: ="" | I48: ="" | ... O48: =""
B49: ="" | C49: ="" | D49: ="" | E49: ="" | F49: ="" | G49: ="" | H49: ="" | I49: ="" | ... O49: =""
B50: ="" | C50: ="" | D50: ="" | E50: ="" | F50: ="" | G50: ="" | H50: ="" | I50: ="" | ... O50: =""
B51: ="" | C51: ="" | D51: ="" | E51: ="" | F51: ="" | G51: ="" | H51: ="" | I51: ="" | ... O51: =""
B52: ="" | C52: ="" | D52: ="" | E52: ="" | F52: ="" | G52: ="" | H52: ="" | I52: ="" | ... O52: =""
B53: ="" | C53: ="" | D53: ="" | E53: ="" | F53: ="" | G53: ="" | H53: ="" | I53: ="" | ... O53: =""
B54: ="" | C54: ="" | D54: ="" | E54: ="" | F54: ="" | G54: ="" | H54: ="" | I54: ="" | ... O54: =""
B55: ="" | C55: ="" | D55: ="" | E55: ="" | F55: ="" | G55: ="" | H55: ="" | I55: ="" | ... O55: =""
B56: ="" | C56: ="" | D56: ="" | E56: ="" | F56: ="" | G56: ="" | H56: ="" | I56: ="" | ... O56: =""
B57: ="" | C57: ="" | D57: ="" | E57: ="" | F57: ="" | G57: ="" | H57: ="" | I57: ="" | ... O57: =""
B58: ="" | C58: ="" | D58: ="" | E58: ="" | F58: ="" | G58: ="" | H58: ="" | I58: ="" | ... O58: =""
B59: ="" | C59: ="" | D59: ="" | E59: ="" | F59: ="" | G59: ="" | H59: ="" | I59: ="" | ... O59: =""
... B101: ="" | C101: ="" | D101: ="" | E101: ="" | F101: ="" | G101: ="" | H101: ="" | I101: ="" | ... O101: =""

Sheet Segment Data
A1: Monthly Market Segment Production
A2: Enter one row per property, month, and market segment. Use the first day of the month as the Period Start Date.
A5: Period Start Date | B5: Property | C5: Market Segment | D5: Bookings Created | E5: Rooms Sold | F5: Room Revenue | G5: Food and Beverage Revenue | H5: Other Revenue | I5: Cancellations | J5: No-Shows | K5: Channel Commission | L5: Other Acquisition Cost | M5: Segment Marketing Spend | N5: Budget Rooms Sold | O5: Budget Room Revenue | P5: Source Reference | Q5: Notes | R5: Total Revenue | S5: Acquisition Costs | T5: Net Segment Revenue | U5: ADR | V5: Net ADR | W5: Average Length of Stay | X5: Acquisition Cost % | Y5: Room Revenue Variance | Z5: Room Revenue Variance % | AA5: Available Room Nights | AB5: Segment Occupancy Contribution | AC5: Duplicate Check | AD5: Row Check
A6: 46023 | B6: Harbor Point Hotel | C6: Retail Transient | D6: 298 | E6: 505 | F6: 103525 | G6: 8320 | H6: 4180 | I6: 31 | J6: 6 | K6: 2484.6 | L6: 620 | M6: 1250 | N6: 480 | O6: 96000 | P6: January 2026 segment report | Q6: Strong weekend demand | R6: =IF(A6="","",SUM(F6:H6)) | S6: =IF(A6="","",SUM(K6:M6)) | T6: =IF(A6="","",R6-S6) | U6: =IFERROR(IF(A6="","",F6/E6),"") | V6: =IFERROR(IF(A6="","",T6/E6),"") | W6: =IFERROR(IF(A6="","",E6/(D6-I6-J6)),"") | X6: =IFERROR(IF(A6="","",S6/R6),"") | Y6: =IF(A6="","",F6-O6) | Z6: =IFERROR(IF(A6="","",Y6/O6),"") | AA6: =IFERROR(IF(A6="","",SUMIFS(Assumptions!$E$19:$E$138,Assumptions!$B$19:$B$138,B6,Assumptions!$A$19:$A$138,A6)),"") | AB6: =IFERROR(IF(A6="","",E6/AA6),"") | AC6: =IF(A6="","",IF(COUNTIFS($A$6:$A$305,A6,$B$6:$B$305,B6,$C$6:$C$305,C6)>1,"Duplicate","")) | AD6: =IFERROR(IF(A6="","",IF(OR(B6="",C6=""),"Missing Required Field",IF(DAY(A6)<>1,"Date Must Be First of Month",IF(I6>D6,"Cancellations Exceed Bookings",IF(J6>D6,"No-Shows Exceed Bookings",IF(I6+J6>D6,"Combined Exceptions Exceed Bookings",IF(AND(AA6>0,E6>AA6),"Rooms Sold Exceed Available Inventory",IF(T6<0,"Negative Net Revenue",IF(X6>Assumptions!$B$5,"High Acquisition Cost",IF(OR(N6="",O6=""),"Missing Budget","OK")))))))))),"")
A7: 46023 | B7: Harbor Point Hotel | C7: Corporate Negotiated | D7: 174 | E7: 392 | F7: 68208 | G7: 5120 | H7: 1960 | I7: 12 | J7: 2 | K7: 1023.12 | L7: 410 | M7: 700 | N7: 410 | O7: 69700 | P7: January 2026 segment report | Q7: Midweek production below plan | R7: =IF(A7="","",SUM(F7:H7)) | S7: =IF(A7="","",SUM(K7:M7)) | T7: =IF(A7="","",R7-S7) | U7: =IFERROR(IF(A7="","",F7/E7),"") | V7: =IFERROR(IF(A7="","",T7/E7),"") | W7: =IFERROR(IF(A7="","",E7/(D7-I7-J7)),"") | X7: =IFERROR(IF(A7="","",S7/R7),"") | Y7: =IF(A7="","",F7-O7) | Z7: =IFERROR(IF(A7="","",Y7/O7),"") | AA7: =IFERROR(IF(A7="","",SUMIFS(Assumptions!$E$19:$E$138,Assumptions!$B$19:$B$138,B7,Assumptions!$A$19:$A$138,A7)),"") | AB7: =IFERROR(IF(A7="","",E7/AA7),"") | AC7: =IF(A7="","",IF(COUNTIFS($A$6:$A$305,A7,$B$6:$B$305,B7,$C$6:$C$305,C7)>1,"Duplicate","")) | AD7: =IFERROR(IF(A7="","",IF(OR(B7="",C7=""),"Missing Required Field",IF(DAY(A7)<>1,"Date Must Be First of Month",IF(I7>D7,"Cancellations Exceed Bookings",IF(J7>D7,"No-Shows Exceed Bookings",IF(I7+J7>D7,"Combined Exceptions Exceed Bookings",IF(AND(AA7>0,E7>AA7),"Rooms Sold Exceed Available Inventory",IF(T7<0,"Negative Net Revenue",IF(X7>Assumptions!$B$5,"High Acquisition Cost",IF(OR(N7="",O7=""),"Missing Budget","OK")))))))))),"")
A8: 46023 | B8: Harbor Point Hotel | C8: Group Corporate | D8: 7 | E8: 286 | F8: 48906 | G8: 24150 | H8: 1450 | I8: 1 | J8: 0 | K8: 0 | L8: 975 | M8: 600 | N8: 250 | O8: 41250 | P8: January 2026 group recap | Q8: Includes two training groups | R8: =IF(A8="","",SUM(F8:H8)) | S8: =IF(A8="","",SUM(K8:M8)) | T8: =IF(A8="","",R8-S8) | U8: =IFERROR(IF(A8="","",F8/E8),"") | V8: =IFERROR(IF(A8="","",T8/E8),"") | W8: =IFERROR(IF(A8="","",E8/(D8-I8-J8)),"") | X8: =IFERROR(IF(A8="","",S8/R8),"") | Y8: =IF(A8="","",F8-O8) | Z8: =IFERROR(IF(A8="","",Y8/O8),"") | AA8: =IFERROR(IF(A8="","",SUMIFS(Assumptions!$E$19:$E$138,Assumptions!$B$19:$B$138,B8,Assumptions!$A$19:$A$138,A8)),"") | AB8: =IFERROR(IF(A8="","",E8/AA8),"") | AC8: =IF(A8="","",IF(COUNTIFS($A$6:$A$305,A8,$B$6:$B$305,B8,$C$6:$C$305,C8)>1,"Duplicate","")) | AD8: =IFERROR(IF(A8="","",IF(OR(B8="",C8=""),"Missing Required Field",IF(DAY(A8)<>1,"Date Must Be First of Month",IF(I8>D8,"Cancellations Exceed Bookings",IF(J8>D8,"No-Shows Exceed Bookings",IF(I8+J8>D8,"Combined Exceptions Exceed Bookings",IF(AND(AA8>0,E8>AA8),"Rooms Sold Exceed Available Inventory",IF(T8<0,"Negative Net Revenue",IF(X8>Assumptions!$B$5,"High Acquisition Cost",IF(OR(N8="",O8=""),"Missing Budget","OK")))))))))),"")
A9: 46054 | B9: Harbor Point Hotel | C9: Retail Transient | D9: 315 | E9: 548 | F9: 117820 | G9: 9260 | H9: 4640 | I9: 29 | J9: 5 | K9: 2827.68 | L9: 670 | M9: 1400 | N9: 520 | O9: 109200 | P9: February 2026 segment report | Q9: Holiday weekend lifted ADR | R9: =IF(A9="","",SUM(F9:H9)) | S9: =IF(A9="","",SUM(K9:M9)) | T9: =IF(A9="","",R9-S9) | U9: =IFERROR(IF(A9="","",F9/E9),"") | V9: =IFERROR(IF(A9="","",T9/E9),"") | W9: =IFERROR(IF(A9="","",E9/(D9-I9-J9)),"") | X9: =IFERROR(IF(A9="","",S9/R9),"") | Y9: =IF(A9="","",F9-O9) | Z9: =IFERROR(IF(A9="","",Y9/O9),"") | AA9: =IFERROR(IF(A9="","",SUMIFS(Assumptions!$E$19:$E$138,Assumptions!$B$19:$B$138,B9,Assumptions!$A$19:$A$138,A9)),"") | AB9: =IFERROR(IF(A9="","",E9/AA9),"") | AC9: =IF(A9="","",IF(COUNTIFS($A$6:$A$305,A9,$B$6:$B$305,B9,$C$6:$C$305,C9)>1,"Duplicate","")) | AD9: =IFERROR(IF(A9="","",IF(OR(B9="",C9=""),"Missing Required Field",IF(DAY(A9)<>1,"Date Must Be First of Month",IF(I9>D9,"Cancellations Exceed Bookings",IF(J9>D9,"No-Shows Exceed Bookings",IF(I9+J9>D9,"Combined Exceptions Exceed Bookings",IF(AND(AA9>0,E9>AA9),"Rooms Sold Exceed Available Inventory",IF(T9<0,"Negative Net Revenue",IF(X9>Assumptions!$B$5,"High Acquisition Cost",IF(OR(N9="",O9=""),"Missing Budget","OK")))))))))),"")
A10: 46054 | B10: Harbor Point Hotel | C10: Corporate Negotiated | D10: 186 | E10: 426 | F10: 75828 | G10: 5540 | H10: 2130 | I10: 14 | J10: 3 | K10: 1137.42 | L10: 460 | M10: 700 | N10: 430 | O10: 75250 | P10: February 2026 segment report | Q10: Production aligned with budget | R10: =IF(A10="","",SUM(F10:H10)) | S10: =IF(A10="","",SUM(K10:M10)) | T10: =IF(A10="","",R10-S10) | U10: =IFERROR(IF(A10="","",F10/E10),"") | V10: =IFERROR(IF(A10="","",T10/E10),"") | W10: =IFERROR(IF(A10="","",E10/(D10-I10-J10)),"") | X10: =IFERROR(IF(A10="","",S10/R10),"") | Y10: =IF(A10="","",F10-O10) | Z10: =IFERROR(IF(A10="","",Y10/O10),"") | AA10: =IFERROR(IF(A10="","",SUMIFS(Assumptions!$E$19:$E$138,Assumptions!$B$19:$B$138,B10,Assumptions!$A$19:$A$138,A10)),"") | AB10: =IFERROR(IF(A10="","",E10/AA10),"") | AC10: =IF(A10="","",IF(COUNTIFS($A$6:$A$305,A10,$B$6:$B$305,B10,$C$6:$C$305,C10)>1,"Duplicate","")) | AD10: =IFERROR(IF(A10="","",IF(OR(B10="",C10=""),"Missing Required Field",IF(DAY(A10)<>1,"Date Must Be First of Month",IF(I10>D10,"Cancellations Exceed Bookings",IF(J10>D10,"No-Shows Exceed Bookings",IF(I10+J10>D10,"Combined Exceptions Exceed Bookings",IF(AND(AA10>0,E10>AA10),"Rooms Sold Exceed Available Inventory",IF(T10<0,"Negative Net Revenue",IF(X10>Assumptions!$B$5,"High Acquisition Cost",IF(OR(N10="",O10=""),"Missing Budget","OK")))))))))),"")
R11: =IF(A11="","",SUM(F11:H11)) | S11: =IF(A11="","",SUM(K11:M11)) | T11: =IF(A11="","",R11-S11) | U11: =IFERROR(IF(A11="","",F11/E11),"") | V11: =IFERROR(IF(A11="","",T11/E11),"") | W11: =IFERROR(IF(A11="","",E11/(D11-I11-J11)),"") | X11: =IFERROR(IF(A11="","",S11/R11),"") | Y11: =IF(A11="","",F11-O11) | Z11: =IFERROR(IF(A11="","",Y11/O11),"") | AA11: =IFERROR(IF(A11="","",SUMIFS(Assumptions!$E$19:$E$138,Assumptions!$B$19:$B$138,B11,Assumptions!$A$19:$A$138,A11)),"") | AB11: =IFERROR(IF(A11="","",E11/AA11),"") | AC11: =IF(A11="","",IF(COUNTIFS($A$6:$A$305,A11,$B$6:$B$305,B11,$C$6:$C$305,C11)>1,"Duplicate","")) | AD11: =IFERROR(IF(A11="","",IF(OR(B11="",C11=""),"Missing Required Field",IF(DAY(A11)<>1,"Date Must Be First of Month",IF(I11>D11,"Cancellations Exceed Bookings",IF(J11>D11,"No-Shows Exceed Bookings",IF(I11+J11>D11,"Combined Exceptions Exceed Bookings",IF(AND(AA11>0,E11>AA11),"Rooms Sold Exceed Available Inventory",IF(T11<0,"Negative Net Revenue",IF(X11>Assumptions!$B$5,"High Acquisition Cost",IF(OR(N11="",O11=""),"Missing Budget","OK")))))))))),"")
R12: =IF(A12="","",SUM(F12:H12)) | S12: =IF(A12="","",SUM(K12:M12)) | T12: =IF(A12="","",R12-S12) | U12: =IFERROR(IF(A12="","",F12/E12),"") | V12: =IFERROR(IF(A12="","",T12/E12),"") | W12: =IFERROR(IF(A12="","",E12/(D12-I12-J12)),"") | X12: =IFERROR(IF(A12="","",S12/R12),"") | Y12: =IF(A12="","",F12-O12) | Z12: =IFERROR(IF(A12="","",Y12/O12),"") | AA12: =IFERROR(IF(A12="","",SUMIFS(Assumptions!$E$19:$E$138,Assumptions!$B$19:$B$138,B12,Assumptions!$A$19:$A$138,A12)),"") | AB12: =IFERROR(IF(A12="","",E12/AA12),"") | AC12: =IF(A12="","",IF(COUNTIFS($A$6:$A$305,A12,$B$6:$B$305,B12,$C$6:$C$305,C12)>1,"Duplicate","")) | AD12: =IFERROR(IF(A12="","",IF(OR(B12="",C12=""),"Missing Required Field",IF(DAY(A12)<>1,"Date Must Be First of Month",IF(I12>D12,"Cancellations Exceed Bookings",IF(J12>D12,"No-Shows Exceed Bookings",IF(I12+J12>D12,"Combined Exceptions Exceed Bookings",IF(AND(AA12>0,E12>AA12),"Rooms Sold Exceed Available Inventory",IF(T12<0,"Negative Net Revenue",IF(X12>Assumptions!$B$5,"High Acquisition Cost",IF(OR(N12="",O12=""),"Missing Budget","OK")))))))))),"")
R13: =IF(A13="","",SUM(F13:H13)) | S13: =IF(A13="","",SUM(K13:M13)) | T13: =IF(A13="","",R13-S13) | U13: =IFERROR(IF(A13="","",F13/E13),"") | V13: =IFERROR(IF(A13="","",T13/E13),"") | W13: =IFERROR(IF(A13="","",E13/(D13-I13-J13)),"") | X13: =IFERROR(IF(A13="","",S13/R13),"") | Y13: =IF(A13="","",F13-O13) | Z13: =IFERROR(IF(A13="","",Y13/O13),"") | AA13: =IFERROR(IF(A13="","",SUMIFS(Assumptions!$E$19:$E$138,Assumptions!$B$19:$B$138,B13,Assumptions!$A$19:$A$138,A13)),"") | AB13: =IFERROR(IF(A13="","",E13/AA13),"") | AC13: =IF(A13="","",IF(COUNTIFS($A$6:$A$305,A13,$B$6:$B$305,B13,$C$6:$C$305,C13)>1,"Duplicate","")) | AD13: =IFERROR(IF(A13="","",IF(OR(B13="",C13=""),"Missing Required Field",IF(DAY(A13)<>1,"Date Must Be First of Month",IF(I13>D13,"Cancellations Exceed Bookings",IF(J13>D13,"No-Shows Exceed Bookings",IF(I13+J13>D13,"Combined Exceptions Exceed Bookings",IF(AND(AA13>0,E13>AA13),"Rooms Sold Exceed Available Inventory",IF(T13<0,"Negative Net Revenue",IF(X13>Assumptions!$B$5,"High Acquisition Cost",IF(OR(N13="",O13=""),"Missing Budget","OK")))))))))),"")
R14: =IF(A14="","",SUM(F14:H14)) | S14: =IF(A14="","",SUM(K14:M14)) | T14: =IF(A14="","",R14-S14) | U14: =IFERROR(IF(A14="","",F14/E14),"") | V14: =IFERROR(IF(A14="","",T14/E14),"") | W14: =IFERROR(IF(A14="","",E14/(D14-I14-J14)),"") | X14: =IFERROR(IF(A14="","",S14/R14),"") | Y14: =IF(A14="","",F14-O14) | Z14: =IFERROR(IF(A14="","",Y14/O14),"") | AA14: =IFERROR(IF(A14="","",SUMIFS(Assumptions!$E$19:$E$138,Assumptions!$B$19:$B$138,B14,Assumptions!$A$19:$A$138,A14)),"") | AB14: =IFERROR(IF(A14="","",E14/AA14),"") | AC14: =IF(A14="","",IF(COUNTIFS($A$6:$A$305,A14,$B$6:$B$305,B14,$C$6:$C$305,C14)>1,"Duplicate","")) | AD14: =IFERROR(IF(A14="","",IF(OR(B14="",C14=""),"Missing Required Field",IF(DAY(A14)<>1,"Date Must Be First of Month",IF(I14>D14,"Cancellations Exceed Bookings",IF(J14>D14,"No-Shows Exceed Bookings",IF(I14+J14>D14,"Combined Exceptions Exceed Bookings",IF(AND(AA14>0,E14>AA14),"Rooms Sold Exceed Available Inventory",IF(T14<0,"Negative Net Revenue",IF(X14>Assumptions!$B$5,"High Acquisition Cost",IF(OR(N14="",O14=""),"Missing Budget","OK")))))))))),"")
R15: =IF(A15="","",SUM(F15:H15)) | S15: =IF(A15="","",SUM(K15:M15)) | T15: =IF(A15="","",R15-S15) | U15: =IFERROR(IF(A15="","",F15/E15),"") | V15: =IFERROR(IF(A15="","",T15/E15),"") | W15: =IFERROR(IF(A15="","",E15/(D15-I15-J15)),"") | X15: =IFERROR(IF(A15="","",S15/R15),"") | Y15: =IF(A15="","",F15-O15) | Z15: =IFERROR(IF(A15="","",Y15/O15),"") | AA15: =IFERROR(IF(A15="","",SUMIFS(Assumptions!$E$19:$E$138,Assumptions!$B$19:$B$138,B15,Assumptions!$A$19:$A$138,A15)),"") | AB15: =IFERROR(IF(A15="","",E15/AA15),"") | AC15: =IF(A15="","",IF(COUNTIFS($A$6:$A$305,A15,$B$6:$B$305,B15,$C$6:$C$305,C15)>1,"Duplicate","")) | AD15: =IFERROR(IF(A15="","",IF(OR(B15="",C15=""),"Missing Required Field",IF(DAY(A15)<>1,"Date Must Be First of Month",IF(I15>D15,"Cancellations Exceed Bookings",IF(J15>D15,"No-Shows Exceed Bookings",IF(I15+J15>D15,"Combined Exceptions Exceed Bookings",IF(AND(AA15>0,E15>AA15),"Rooms Sold Exceed Available Inventory",IF(T15<0,"Negative Net Revenue",IF(X15>Assumptions!$B$5,"High Acquisition Cost",IF(OR(N15="",O15=""),"Missing Budget","OK")))))))))),"")
R16: =IF(A16="","",SUM(F16:H16)) | S16: =IF(A16="","",SUM(K16:M16)) | T16: =IF(A16="","",R16-S16) | U16: =IFERROR(IF(A16="","",F16/E16),"") | V16: =IFERROR(IF(A16="","",T16/E16),"") | W16: =IFERROR(IF(A16="","",E16/(D16-I16-J16)),"") | X16: =IFERROR(IF(A16="","",S16/R16),"") | Y16: =IF(A16="","",F16-O16) | Z16: =IFERROR(IF(A16="","",Y16/O16),"") | AA16: =IFERROR(IF(A16="","",SUMIFS(Assumptions!$E$19:$E$138,Assumptions!$B$19:$B$138,B16,Assumptions!$A$19:$A$138,A16)),"") | AB16: =IFERROR(IF(A16="","",E16/AA16),"") | AC16: =IF(A16="","",IF(COUNTIFS($A$6:$A$305,A16,$B$6:$B$305,B16,$C$6:$C$305,C16)>1,"Duplicate","")) | AD16: =IFERROR(IF(A16="","",IF(OR(B16="",C16=""),"Missing Required Field",IF(DAY(A16)<>1,"Date Must Be First of Month",IF(I16>D16,"Cancellations Exceed Bookings",IF(J16>D16,"No-Shows Exceed Bookings",IF(I16+J16>D16,"Combined Exceptions Exceed Bookings",IF(AND(AA16>0,E16>AA16),"Rooms Sold Exceed Available Inventory",IF(T16<0,"Negative Net Revenue",IF(X16>Assumptions!$B$5,"High Acquisition Cost",IF(OR(N16="",O16=""),"Missing Budget","OK")))))))))),"")
R17: =IF(A17="","",SUM(F17:H17)) | S17: =IF(A17="","",SUM(K17:M17)) | T17: =IF(A17="","",R17-S17) | U17: =IFERROR(IF(A17="","",F17/E17),"") | V17: =IFERROR(IF(A17="","",T17/E17),"") | W17: =IFERROR(IF(A17="","",E17/(D17-I17-J17)),"") | X17: =IFERROR(IF(A17="","",S17/R17),"") | Y17: =IF(A17="","",F17-O17) | Z17: =IFERROR(IF(A17="","",Y17/O17),"") | AA17: =IFERROR(IF(A17="","",SUMIFS(Assumptions!$E$19:$E$138,Assumptions!$B$19:$B$138,B17,Assumptions!$A$19:$A$138,A17)),"") | AB17: =IFERROR(IF(A17="","",E17/AA17),"") | AC17: =IF(A17="","",IF(COUNTIFS($A$6:$A$305,A17,$B$6:$B$305,B17,$C$6:$C$305,C17)>1,"Duplicate","")) | AD17: =IFERROR(IF(A17="","",IF(OR(B17="",C17=""),"Missing Required Field",IF(DAY(A17)<>1,"Date Must Be First of Month",IF(I17>D17,"Cancellations Exceed Bookings",IF(J17>D17,"No-Shows Exceed Bookings",IF(I17+J17>D17,"Combined Exceptions Exceed Bookings",IF(AND(AA17>0,E17>AA17),"Rooms Sold Exceed Available Inventory",IF(T17<0,"Negative Net Revenue",IF(X17>Assumptions!$B$5,"High Acquisition Cost",IF(OR(N17="",O17=""),"Missing Budget","OK")))))))))),"")
R18: =IF(A18="","",SUM(F18:H18)) | S18: =IF(A18="","",SUM(K18:M18)) | T18: =IF(A18="","",R18-S18) | U18: =IFERROR(IF(A18="","",F18/E18),"") | V18: =IFERROR(IF(A18="","",T18/E18),"") | W18: =IFERROR(IF(A18="","",E18/(D18-I18-J18)),"") | X18: =IFERROR(IF(A18="","",S18/R18),"") | Y18: =IF(A18="","",F18-O18) | Z18: =IFERROR(IF(A18="","",Y18/O18),"") | AA18: =IFERROR(IF(A18="","",SUMIFS(Assumptions!$E$19:$E$138,Assumptions!$B$19:$B$138,B18,Assumptions!$A$19:$A$138,A18)),"") | AB18: =IFERROR(IF(A18="","",E18/AA18),"") | AC18: =IF(A18="","",IF(COUNTIFS($A$6:$A$305,A18,$B$6:$B$305,B18,$C$6:$C$305,C18)>1,"Duplicate","")) | AD18: =IFERROR(IF(A18="","",IF(OR(B18="",C18=""),"Missing Required Field",IF(DAY(A18)<>1,"Date Must Be First of Month",IF(I18>D18,"Cancellations Exceed Bookings",IF(J18>D18,"No-Shows Exceed Bookings",IF(I18+J18>D18,"Combined Exceptions Exceed Bookings",IF(AND(AA18>0,E18>AA18),"Rooms Sold Exceed Available Inventory",IF(T18<0,"Negative Net Revenue",IF(X18>Assumptions!$B$5,"High Acquisition Cost",IF(OR(N18="",O18=""),"Missing Budget","OK")))))))))),"")
R19: =IF(A19="","",SUM(F19:H19)) | S19: =IF(A19="","",SUM(K19:M19)) | T19: =IF(A19="","",R19-S19) | U19: =IFERROR(IF(A19="","",F19/E19),"") | V19: =IFERROR(IF(A19="","",T19/E19),"") | W19: =IFERROR(IF(A19="","",E19/(D19-I19-J19)),"") | X19: =IFERROR(IF(A19="","",S19/R19),"") | Y19: =IF(A19="","",F19-O19) | Z19: =IFERROR(IF(A19="","",Y19/O19),"") | AA19: =IFERROR(IF(A19="","",SUMIFS(Assumptions!$E$19:$E$138,Assumptions!$B$19:$B$138,B19,Assumptions!$A$19:$A$138,A19)),"") | AB19: =IFERROR(IF(A19="","",E19/AA19),"") | AC19: =IF(A19="","",IF(COUNTIFS($A$6:$A$305,A19,$B$6:$B$305,B19,$C$6:$C$305,C19)>1,"Duplicate","")) | AD19: =IFERROR(IF(A19="","",IF(OR(B19="",C19=""),"Missing Required Field",IF(DAY(A19)<>1,"Date Must Be First of Month",IF(I19>D19,"Cancellations Exceed Bookings",IF(J19>D19,"No-Shows Exceed Bookings",IF(I19+J19>D19,"Combined Exceptions Exceed Bookings",IF(AND(AA19>0,E19>AA19),"Rooms Sold Exceed Available Inventory",IF(T19<0,"Negative Net Revenue",IF(X19>Assumptions!$B$5,"High Acquisition Cost",IF(OR(N19="",O19=""),"Missing Budget","OK")))))))))),"")
R20: =IF(A20="","",SUM(F20:H20)) | S20: =IF(A20="","",SUM(K20:M20)) | T20: =IF(A20="","",R20-S20) | U20: =IFERROR(IF(A20="","",F20/E20),"") | V20: =IFERROR(IF(A20="","",T20/E20),"") | W20: =IFERROR(IF(A20="","",E20/(D20-I20-J20)),"") | X20: =IFERROR(IF(A20="","",S20/R20),"") | Y20: =IF(A20="","",F20-O20) | Z20: =IFERROR(IF(A20="","",Y20/O20),"") | AA20: =IFERROR(IF(A20="","",SUMIFS(Assumptions!$E$19:$E$138,Assumptions!$B$19:$B$138,B20,Assumptions!$A$19:$A$138,A20)),"") | AB20: =IFERROR(IF(A20="","",E20/AA20),"") | AC20: =IF(A20="","",IF(COUNTIFS($A$6:$A$305,A20,$B$6:$B$305,B20,$C$6:$C$305,C20)>1,"Duplicate","")) | AD20: =IFERROR(IF(A20="","",IF(OR(B20="",C20=""),"Missing Required Field",IF(DAY(A20)<>1,"Date Must Be First of Month",IF(I20>D20,"Cancellations Exceed Bookings",IF(J20>D20,"No-Shows Exceed Bookings",IF(I20+J20>D20,"Combined Exceptions Exceed Bookings",IF(AND(AA20>0,E20>AA20),"Rooms Sold Exceed Available Inventory",IF(T20<0,"Negative Net Revenue",IF(X20>Assumptions!$B$5,"High Acquisition Cost",IF(OR(N20="",O20=""),"Missing Budget","OK")))))))))),"")
R21: =IF(A21="","",SUM(F21:H21)) | S21: =IF(A21="","",SUM(K21:M21)) | T21: =IF(A21="","",R21-S21) | U21: =IFERROR(IF(A21="","",F21/E21),"") | V21: =IFERROR(IF(A21="","",T21/E21),"") | W21: =IFERROR(IF(A21="","",E21/(D21-I21-J21)),"") | X21: =IFERROR(IF(A21="","",S21/R21),"") | Y21: =IF(A21="","",F21-O21) | Z21: =IFERROR(IF(A21="","",Y21/O21),"") | AA21: =IFERROR(IF(A21="","",SUMIFS(Assumptions!$E$19:$E$138,Assumptions!$B$19:$B$138,B21,Assumptions!$A$19:$A$138,A21)),"") | AB21: =IFERROR(IF(A21="","",E21/AA21),"") | AC21: =IF(A21="","",IF(COUNTIFS($A$6:$A$305,A21,$B$6:$B$305,B21,$C$6:$C$305,C21)>1,"Duplicate","")) | AD21: =IFERROR(IF(A21="","",IF(OR(B21="",C21=""),"Missing Required Field",IF(DAY(A21)<>1,"Date Must Be First of Month",IF(I21>D21,"Cancellations Exceed Bookings",IF(J21>D21,"No-Shows Exceed Bookings",IF(I21+J21>D21,"Combined Exceptions Exceed Bookings",IF(AND(AA21>0,E21>AA21),"Rooms Sold Exceed Available Inventory",IF(T21<0,"Negative Net Revenue",IF(X21>Assumptions!$B$5,"High Acquisition Cost",IF(OR(N21="",O21=""),"Missing Budget","OK")))))))))),"")
R22: =IF(A22="","",SUM(F22:H22)) | S22: =IF(A22="","",SUM(K22:M22)) | T22: =IF(A22="","",R22-S22) | U22: =IFERROR(IF(A22="","",F22/E22),"") | V22: =IFERROR(IF(A22="","",T22/E22),"") | W22: =IFERROR(IF(A22="","",E22/(D22-I22-J22)),"") | X22: =IFERROR(IF(A22="","",S22/R22),"") | Y22: =IF(A22="","",F22-O22) | Z22: =IFERROR(IF(A22="","",Y22/O22),"") | AA22: =IFERROR(IF(A22="","",SUMIFS(Assumptions!$E$19:$E$138,Assumptions!$B$19:$B$138,B22,Assumptions!$A$19:$A$138,A22)),"") | AB22: =IFERROR(IF(A22="","",E22/AA22),"") | AC22: =IF(A22="","",IF(COUNTIFS($A$6:$A$305,A22,$B$6:$B$305,B22,$C$6:$C$305,C22)>1,"Duplicate","")) | AD22: =IFERROR(IF(A22="","",IF(OR(B22="",C22=""),"Missing Required Field",IF(DAY(A22)<>1,"Date Must Be First of Month",IF(I22>D22,"Cancellations Exceed Bookings",IF(J22>D22,"No-Shows Exceed Bookings",IF(I22+J22>D22,"Combined Exceptions Exceed Bookings",IF(AND(AA22>0,E22>AA22),"Rooms Sold Exceed Available Inventory",IF(T22<0,"Negative Net Revenue",IF(X22>Assumptions!$B$5,"High Acquisition Cost",IF(OR(N22="",O22=""),"Missing Budget","OK")))))))))),"")
... R305: =IF(A305="","",SUM(F305:H305)) | S305: =IF(A305="","",SUM(K305:M305)) | T305: =IF(A305="","",R305-S305) | U305: =IFERROR(IF(A305="","",F305/E305),"") | V305: =IFERROR(IF(A305="","",T305/E305),"") | W305: =IFERROR(IF(A305="","",E305/(D305-I305-J305)),"") | X305: =IFERROR(IF(A305="","",S305/R305),"") | Y305: =IF(A305="","",F305-O305) | Z305: =IFERROR(IF(A305="","",Y305/O305),"") | AA305: =IFERROR(IF(A305="","",SUMIFS(Assumptions!$E$19:$E$138,Assumptions!$B$19:$B$138,B305,Assumptions!$A$19:$A$138,A305)),"") | AB305: =IFERROR(IF(A305="","",E305/AA305),"") | AC305: =IF(A305="","",IF(COUNTIFS($A$6:$A$305,A305,$B$6:$B$305,B305,$C$6:$C$305,C305)>1,"Duplicate","")) | AD305: =IFERROR(IF(A305="","",IF(OR(B305="",C305=""),"Missing Required Field",IF(DAY(A305)<>1,"Date Must Be First of Month",IF(I305>D305,"Cancellations Exceed Bookings",IF(J305>D305,"No-Shows Exceed Bookings",IF(I305+J305>D305,"Combined Exceptions Exceed Bookings",IF(AND(AA305>0,E305>AA305),"Rooms Sold Exceed Available Inventory",IF(T305<0,"Negative Net Revenue",IF(X305>Assumptions!$B$5,"High Acquisition Cost",IF(OR(N305="",O305=""),"Missing Budget","OK")))))))))),"")

Sheet Assumptions
A1: Assumptions, Validation Lists, and Monthly Room Inventory
A2: Editable values are internal management assumptions and are not legal requirements.
A4: Assumption | B4: Sample Value | C4: Format | D4: Purpose | H4: Property List | J4: Standard Market Segment | K4: Workbook Classification Description | M4: Dashboard Segment List
A5: High Acquisition Cost Threshold | B5: 0.15 | C5: Percentage | D5: Flags segments with high acquisition costs | H5: Harbor Point Hotel | J5: Retail Transient | K5: Publicly available transient rates booked directly | M5: All Segments | N5: 1 | O5: 31
A6: Negative Budget Variance Threshold | B6: -0.1 | C6: Percentage | D6: Flags unfavorable room revenue variance | H6: Lakeside Conference Resort | J6: Corporate Negotiated | K6: Contracted business account rates | M6: Retail Transient | N6: 2 | O6: 28
A7: Minimum Segment Mix Threshold | B7: 0.03 | C7: Percentage | D7: Flags low room-night mix | H7: Downtown Garden Inn | J7: Government | K7: Qualified government-related business | M7: Corporate Negotiated | N7: 3 | O7: 31
A8: Occupancy Warning Threshold | B8: 0.85 | C8: Percentage | D8: Optional occupancy reference | J8: Online Travel Agency | K8: Third-party online agency bookings | M8: Government | N8: 4 | O8: 30
A9: Maximum Cancellation Rate | B9: 0.12 | C9: Percentage | D9: Operational review threshold | J9: Wholesale | K9: Tour operator or packaged inventory | M9: Online Travel Agency | N9: 5 | O9: 31
A10: Maximum No-Show Rate | B10: 0.03 | C10: Percentage | D10: Operational review threshold | J10: Group Corporate | K10: Corporate meetings and business groups | M10: Wholesale | N10: 6 | O10: 30
J11: Group Association | K11: Association and convention groups | M11: Group Corporate | N11: 7 | O11: 31
J12: Group SMERF | K12: Social, military, educational, religious, and fraternal groups | M12: Group Association | N12: 8 | O12: 31
J13: Crew | K13: Airline or transportation crew business | M13: Group SMERF | N13: 9 | O13: 30
J14: Complimentary | K14: Occupied rooms with no room charge | M14: Crew | N14: 10 | O14: 31
M15: Complimentary | N15: 11 | O15: 30
A16: Monthly Room Inventory | N16: 12 | O16: 31
A17: Available Room Nights equals total rooms multiplied by calendar days in the month, less out-of-order room nights.
A18: Month Start | B18: Property | C18: Total Rooms | D18: Out of Order Room Nights | E18: Available Room Nights | F18: Inventory Check
A19: 46023 | B19: Harbor Point Hotel | C19: 120 | D19: 48 | E19: =IFERROR(IF(A19="","",MAX(0,C19*DAY(EOMONTH(A19,0))-D19)),"") | F19: =IFERROR(IF(A19="","",IF(DAY(A19)<>1,"Date Must Be First of Month",IF(C19<=0,"Invalid Room Count",IF(D19>C19*DAY(EOMONTH(A19,0)),"Out of Order Exceeds Gross Inventory",IF(COUNTIFS($A$19:$A$138,A19,$B$19:$B$138,B19)>1,"Duplicate Inventory Row","OK"))))),"")
A20: 46054 | B20: Harbor Point Hotel | C20: 120 | D20: 24 | E20: =IFERROR(IF(A20="","",MAX(0,C20*DAY(EOMONTH(A20,0))-D20)),"") | F20: =IFERROR(IF(A20="","",IF(DAY(A20)<>1,"Date Must Be First of Month",IF(C20<=0,"Invalid Room Count",IF(D20>C20*DAY(EOMONTH(A20,0)),"Out of Order Exceeds Gross Inventory",IF(COUNTIFS($A$19:$A$138,A20,$B$19:$B$138,B20)>1,"Duplicate Inventory Row","OK"))))),"")
A21: 46082 | B21: Harbor Point Hotel | C21: 120 | D21: 36 | E21: =IFERROR(IF(A21="","",MAX(0,C21*DAY(EOMONTH(A21,0))-D21)),"") | F21: =IFERROR(IF(A21="","",IF(DAY(A21)<>1,"Date Must Be First of Month",IF(C21<=0,"Invalid Room Count",IF(D21>C21*DAY(EOMONTH(A21,0)),"Out of Order Exceeds Gross Inventory",IF(COUNTIFS($A$19:$A$138,A21,$B$19:$B$138,B21)>1,"Duplicate Inventory Row","OK"))))),"")
A22: 46113 | B22: Harbor Point Hotel | C22: 120 | D22: 30 | E22: =IFERROR(IF(A22="","",MAX(0,C22*DAY(EOMONTH(A22,0))-D22)),"") | F22: =IFERROR(IF(A22="","",IF(DAY(A22)<>1,"Date Must Be First of Month",IF(C22<=0,"Invalid Room Count",IF(D22>C22*DAY(EOMONTH(A22,0)),"Out of Order Exceeds Gross Inventory",IF(COUNTIFS($A$19:$A$138,A22,$B$19:$B$138,B22)>1,"Duplicate Inventory Row","OK"))))),"")
A23: 46143 | B23: Harbor Point Hotel | C23: 120 | D23: 18 | E23: =IFERROR(IF(A23="","",MAX(0,C23*DAY(EOMONTH(A23,0))-D23)),"") | F23: =IFERROR(IF(A23="","",IF(DAY(A23)<>1,"Date Must Be First of Month",IF(C23<=0,"Invalid Room Count",IF(D23>C23*DAY(EOMONTH(A23,0)),"Out of Order Exceeds Gross Inventory",IF(COUNTIFS($A$19:$A$138,A23,$B$19:$B$138,B23)>1,"Duplicate Inventory Row","OK"))))),"")
A24: 46174 | B24: Harbor Point Hotel | C24: 120 | D24: 24 | E24: =IFERROR(IF(A24="","",MAX(0,C24*DAY(EOMONTH(A24,0))-D24)),"") | F24: =IFERROR(IF(A24="","",IF(DAY(A24)<>1,"Date Must Be First of Month",IF(C24<=0,"Invalid Room Count",IF(D24>C24*DAY(EOMONTH(A24,0)),"Out of Order Exceeds Gross Inventory",IF(COUNTIFS($A$19:$A$138,A24,$B$19:$B$138,B24)>1,"Duplicate Inventory Row","OK"))))),"")
A25: 46204 | B25: Harbor Point Hotel | C25: 120 | D25: 12 | E25: =IFERROR(IF(A25="","",MAX(0,C25*DAY(EOMONTH(A25,0))-D25)),"") | F25: =IFERROR(IF(A25="","",IF(DAY(A25)<>1,"Date Must Be First of Month",IF(C25<=0,"Invalid Room Count",IF(D25>C25*DAY(EOMONTH(A25,0)),"Out of Order Exceeds Gross Inventory",IF(COUNTIFS($A$19:$A$138,A25,$B$19:$B$138,B25)>1,"Duplicate Inventory Row","OK"))))),"")
A26: 46235 | B26: Harbor Point Hotel | C26: 120 | D26: 18 | E26: =IFERROR(IF(A26="","",MAX(0,C26*DAY(EOMONTH(A26,0))-D26)),"") | F26: =IFERROR(IF(A26="","",IF(DAY(A26)<>1,"Date Must Be First of Month",IF(C26<=0,"Invalid Room Count",IF(D26>C26*DAY(EOMONTH(A26,0)),"Out of Order Exceeds Gross Inventory",IF(COUNTIFS($A$19:$A$138,A26,$B$19:$B$138,B26)>1,"Duplicate Inventory Row","OK"))))),"")
A27: 46266 | B27: Harbor Point Hotel | C27: 120 | D27: 30 | E27: =IFERROR(IF(A27="","",MAX(0,C27*DAY(EOMONTH(A27,0))-D27)),"") | F27: =IFERROR(IF(A27="","",IF(DAY(A27)<>1,"Date Must Be First of Month",IF(C27<=0,"Invalid Room Count",IF(D27>C27*DAY(EOMONTH(A27,0)),"Out of Order Exceeds Gross Inventory",IF(COUNTIFS($A$19:$A$138,A27,$B$19:$B$138,B27)>1,"Duplicate Inventory Row","OK"))))),"")
A28: 46296 | B28: Harbor Point Hotel | C28: 120 | D28: 24 | E28: =IFERROR(IF(A28="","",MAX(0,C28*DAY(EOMONTH(A28,0))-D28)),"") | F28: =IFERROR(IF(A28="","",IF(DAY(A28)<>1,"Date Must Be First of Month",IF(C28<=0,"Invalid Room Count",IF(D28>C28*DAY(EOMONTH(A28,0)),"Out of Order Exceeds Gross Inventory",IF(COUNTIFS($A$19:$A$138,A28,$B$19:$B$138,B28)>1,"Duplicate Inventory Row","OK"))))),"")
A29: 46327 | B29: Harbor Point Hotel | C29: 120 | D29: 36 | E29: =IFERROR(IF(A29="","",MAX(0,C29*DAY(EOMONTH(A29,0))-D29)),"") | F29: =IFERROR(IF(A29="","",IF(DAY(A29)<>1,"Date Must Be First of Month",IF(C29<=0,"Invalid Room Count",IF(D29>C29*DAY(EOMONTH(A29,0)),"Out of Order Exceeds Gross Inventory",IF(COUNTIFS($A$19:$A$138,A29,$B$19:$B$138,B29)>1,"Duplicate Inventory Row","OK"))))),"")
A30: 46357 | B30: Harbor Point Hotel | C30: 120 | D30: 48 | E30: =IFERROR(IF(A30="","",MAX(0,C30*DAY(EOMONTH(A30,0))-D30)),"") | F30: =IFERROR(IF(A30="","",IF(DAY(A30)<>1,"Date Must Be First of Month",IF(C30<=0,"Invalid Room Count",IF(D30>C30*DAY(EOMONTH(A30,0)),"Out of Order Exceeds Gross Inventory",IF(COUNTIFS($A$19:$A$138,A30,$B$19:$B$138,B30)>1,"Duplicate Inventory Row","OK"))))),"")
E31: =IFERROR(IF(A31="","",MAX(0,C31*DAY(EOMONTH(A31,0))-D31)),"") | F31: =IFERROR(IF(A31="","",IF(DAY(A31)<>1,"Date Must Be First of Month",IF(C31<=0,"Invalid Room Count",IF(D31>C31*DAY(EOMONTH(A31,0)),"Out of Order Exceeds Gross Inventory",IF(COUNTIFS($A$19:$A$138,A31,$B$19:$B$138,B31)>1,"Duplicate Inventory Row","OK"))))),"")
E32: =IFERROR(IF(A32="","",MAX(0,C32*DAY(EOMONTH(A32,0))-D32)),"") | F32: =IFERROR(IF(A32="","",IF(DAY(A32)<>1,"Date Must Be First of Month",IF(C32<=0,"Invalid Room Count",IF(D32>C32*DAY(EOMONTH(A32,0)),"Out of Order Exceeds Gross Inventory",IF(COUNTIFS($A$19:$A$138,A32,$B$19:$B$138,B32)>1,"Duplicate Inventory Row","OK"))))),"")
E33: =IFERROR(IF(A33="","",MAX(0,C33*DAY(EOMONTH(A33,0))-D33)),"") | F33: =IFERROR(IF(A33="","",IF(DAY(A33)<>1,"Date Must Be First of Month",IF(C33<=0,"Invalid Room Count",IF(D33>C33*DAY(EOMONTH(A33,0)),"Out of Order Exceeds Gross Inventory",IF(COUNTIFS($A$19:$A$138,A33,$B$19:$B$138,B33)>1,"Duplicate Inventory Row","OK"))))),"")
E34: =IFERROR(IF(A34="","",MAX(0,C34*DAY(EOMONTH(A34,0))-D34)),"") | F34: =IFERROR(IF(A34="","",IF(DAY(A34)<>1,"Date Must Be First of Month",IF(C34<=0,"Invalid Room Count",IF(D34>C34*DAY(EOMONTH(A34,0)),"Out of Order Exceeds Gross Inventory",IF(COUNTIFS($A$19:$A$138,A34,$B$19:$B$138,B34)>1,"Duplicate Inventory Row","OK"))))),"")
E35: =IFERROR(IF(A35="","",MAX(0,C35*DAY(EOMONTH(A35,0))-D35)),"") | F35: =IFERROR(IF(A35="","",IF(DAY(A35)<>1,"Date Must Be First of Month",IF(C35<=0,"Invalid Room Count",IF(D35>C35*DAY(EOMONTH(A35,0)),"Out of Order Exceeds Gross Inventory",IF(COUNTIFS($A$19:$A$138,A35,$B$19:$B$138,B35)>1,"Duplicate Inventory Row","OK"))))),"")
E36: =IFERROR(IF(A36="","",MAX(0,C36*DAY(EOMONTH(A36,0))-D36)),"") | F36: =IFERROR(IF(A36="","",IF(DAY(A36)<>1,"Date Must Be First of Month",IF(C36<=0,"Invalid Room Count",IF(D36>C36*DAY(EOMONTH(A36,0)),"Out of Order Exceeds Gross Inventory",IF(COUNTIFS($A$19:$A$138,A36,$B$19:$B$138,B36)>1,"Duplicate Inventory Row","OK"))))),"")
E37: =IFERROR(IF(A37="","",MAX(0,C37*DAY(EOMONTH(A37,0))-D37)),"") | F37: =IFERROR(IF(A37="","",IF(DAY(A37)<>1,"Date Must Be First of Month",IF(C37<=0,"Invalid Room Count",IF(D37>C37*DAY(EOMONTH(A37,0)),"Out of Order Exceeds Gross Inventory",IF(COUNTIFS($A$19:$A$138,A37,$B$19:$B$138,B37)>1,"Duplicate Inventory Row","OK"))))),"")
E38: =IFERROR(IF(A38="","",MAX(0,C38*DAY(EOMONTH(A38,0))-D38)),"") | F38: =IFERROR(IF(A38="","",IF(DAY(A38)<>1,"Date Must Be First of Month",IF(C38<=0,"Invalid Room Count",IF(D38>C38*DAY(EOMONTH(A38,0)),"Out of Order Exceeds Gross Inventory",IF(COUNTIFS($A$19:$A$138,A38,$B$19:$B$138,B38)>1,"Duplicate Inventory Row","OK"))))),"")
E39: =IFERROR(IF(A39="","",MAX(0,C39*DAY(EOMONTH(A39,0))-D39)),"") | F39: =IFERROR(IF(A39="","",IF(DAY(A39)<>1,"Date Must Be First of Month",IF(C39<=0,"Invalid Room Count",IF(D39>C39*DAY(EOMONTH(A39,0)),"Out of Order Exceeds Gross Inventory",IF(COUNTIFS($A$19:$A$138,A39,$B$19:$B$138,B39)>1,"Duplicate Inventory Row","OK"))))),"")
E40: =IFERROR(IF(A40="","",MAX(0,C40*DAY(EOMONTH(A40,0))-D40)),"") | F40: =IFERROR(IF(A40="","",IF(DAY(A40)<>1,"Date Must Be First of Month",IF(C40<=0,"Invalid Room Count",IF(D40>C40*DAY(EOMONTH(A40,0)),"Out of Order Exceeds Gross Inventory",IF(COUNTIFS($A$19:$A$138,A40,$B$19:$B$138,B40)>1,"Duplicate Inventory Row","OK"))))),"")
E41: =IFERROR(IF(A41="","",MAX(0,C41*DAY(EOMONTH(A41,0))-D41)),"") | F41: =IFERROR(IF(A41="","",IF(DAY(A41)<>1,"Date Must Be First of Month",IF(C41<=0,"Invalid Room Count",IF(D41>C41*DAY(EOMONTH(A41,0)),"Out of Order Exceeds Gross Inventory",IF(COUNTIFS($A$19:$A$138,A41,$B$19:$B$138,B41)>1,"Duplicate Inventory Row","OK"))))),"")
E42: =IFERROR(IF(A42="","",MAX(0,C42*DAY(EOMONTH(A42,0))-D42)),"") | F42: =IFERROR(IF(A42="","",IF(DAY(A42)<>1,"Date Must Be First of Month",IF(C42<=0,"Invalid Room Count",IF(D42>C42*DAY(EOMONTH(A42,0)),"Out of Order Exceeds Gross Inventory",IF(COUNTIFS($A$19:$A$138,A42,$B$19:$B$138,B42)>1,"Duplicate Inventory Row","OK"))))),"")
... E138: =IFERROR(IF(A138="","",MAX(0,C138*DAY(EOMONTH(A138,0))-D138)),"") | F138: =IFERROR(IF(A138="","",IF(DAY(A138)<>1,"Date Must Be First of Month",IF(C138<=0,"Invalid Room Count",IF(D138>C138*DAY(EOMONTH(A138,0)),"Out of Order Exceeds Gross Inventory",IF(COUNTIFS($A$19:$A$138,A138,$B$19:$B$138,B138)>1,"Duplicate Inventory Row","OK"))))),"")

Sheet Instructions
A1: Hotel Market Segment Analysis — Instructions
A3: Quick Start
A4: 1. Review the thresholds and property inventory on the Assumptions worksheet.
A5: 2. Enter one Segment Data row for each property, month, and market segment.
A6: 3. Enter the first day of the reporting month.
A7: 4. Enter room nights in Rooms Sold.
A8: 5. Enter revenue before subtracting acquisition costs.
A9: 6. Review the Row Check and Duplicate Check columns.
A10: 7. Select the property, date range, and segment on the Dashboard.
A12: Data Definitions
A13: Rooms Sold: Occupied room nights attributed to the segment.
A14: Total Revenue: Room revenue plus attributed food and beverage and other revenue.
... A24: Save a dated copy according to the property's document-retention practice.
