Workbook

Sheet Dashboard
A1: Hotel Housekeeping Productivity Dashboard
A2: Track room completion, labor efficiency, inspection quality, and daily exceptions. | J2: =TODAY()
A4: Start Date | B4: 46023 | C4: End Date | D4: 46053 | E4: Employee Filter | F4: All Employees | G4: Section Filter | H4: All Sections
A6: Key Performance Indicators
A8: Rooms Completed | C8: Room Credits Completed | E8: Paid Hours | G8: Credits per Paid Hour
A9: =COUNTIFS('Housekeeping Log'!$A$2:$A$501,">="&$B$4,'Housekeeping Log'!$A$2:$A$501,"<="&$D$4,'Housekeeping Log'!$M$2:$M$501,"Completed") | C9: =SUMIFS('Housekeeping Log'!$J$2:$J$501,'Housekeeping Log'!$A$2:$A$501,">="&$B$4,'Housekeeping Log'!$A$2:$A$501,"<="&$D$4,'Housekeeping Log'!$M$2:$M$501,"Completed") | E9: =SUMIFS('Housekeeping Log'!$P$2:$P$501,'Housekeeping Log'!$A$2:$A$501,">="&$B$4,'Housekeeping Log'!$A$2:$A$501,"<="&$D$4)/60 | G9: =IFERROR(C9/E9,0)
A12: Average Minutes per Room | C12: Productivity Attainment | E12: Inspection Pass Rate | G12: Estimated Labor Cost
A13: =IFERROR(SUMIFS('Housekeeping Log'!$N$2:$N$501,'Housekeeping Log'!$A$2:$A$501,">="&$B$4,'Housekeeping Log'!$A$2:$A$501,"<="&$D$4)/A9,0) | C13: =IFERROR(C9/SUMIFS('Housekeeping Log'!$R$2:$R$501,'Housekeeping Log'!$A$2:$A$501,">="&$B$4,'Housekeeping Log'!$A$2:$A$501,"<="&$D$4),0) | E13: =IFERROR((COUNTIFS('Housekeeping Log'!$U$2:$U$501,"Passed")+COUNTIFS('Housekeeping Log'!$U$2:$U$501,"Recheck Passed"))/(COUNTIFS('Housekeeping Log'!$U$2:$U$501,"Passed")+COUNTIFS('Housekeeping Log'!$U$2:$U$501,"Recheck Passed")+COUNTIFS('Housekeeping Log'!$U$2:$U$501,"Failed")),0) | G13: =SUMIFS('Housekeeping Log'!$Z$2:$Z$501,'Housekeeping Log'!$A$2:$A$501,">="&$B$4,'Housekeeping Log'!$A$2:$A$501,"<="&$D$4)
A16: Daily Performance Summary
A17: Date | B17: Rooms Completed | C17: Room Credits | D17: Paid Hours | E17: Credits per Paid Hour | F17: Productivity Attainment | G17: Inspection Pass Rate | H17: Labor Cost | I17: Target Room Credits
A18: =IF($B$4+0<=$D$4,$B$4+0,"") | B18: =IF($A18="","",COUNTIFS('Housekeeping Log'!$A$2:$A$501,$A18,'Housekeeping Log'!$M$2:$M$501,"Completed")) | C18: =IF($A18="","",SUMIFS('Housekeeping Log'!$J$2:$J$501,'Housekeeping Log'!$A$2:$A$501,$A18,'Housekeeping Log'!$M$2:$M$501,"Completed")) | D18: =IF($A18="","",SUMIFS('Housekeeping Log'!$P$2:$P$501,'Housekeeping Log'!$A$2:$A$501,$A18)/60) | E18: =IFERROR(C18/D18,0) | F18: =IFERROR(C18/I18,0) | G18: =IFERROR((COUNTIFS('Housekeeping Log'!$A$2:$A$501,$A18,'Housekeeping Log'!$U$2:$U$501,"Passed")+COUNTIFS('Housekeeping Log'!$A$2:$A$501,$A18,'Housekeeping Log'!$U$2:$U$501,"Recheck Passed"))/(COUNTIFS('Housekeeping Log'!$A$2:$A$501,$A18,'Housekeeping Log'!$U$2:$U$501,"Passed")+COUNTIFS('Housekeeping Log'!$A$2:$A$501,$A18,'Housekeeping Log'!$U$2:$U$501,"Recheck Passed")+COUNTIFS('Housekeeping Log'!$A$2:$A$501,$A18,'Housekeeping Log'!$U$2:$U$501,"Failed")),0) | H18: =IF($A18="","",SUMIFS('Housekeeping Log'!$Z$2:$Z$501,'Housekeeping Log'!$A$2:$A$501,$A18)) | I18: =IF($A18="","",SUMIFS('Housekeeping Log'!$R$2:$R$501,'Housekeeping Log'!$A$2:$A$501,$A18))
A19: =IF($B$4+1<=$D$4,$B$4+1,"") | B19: =IF($A19="","",COUNTIFS('Housekeeping Log'!$A$2:$A$501,$A19,'Housekeeping Log'!$M$2:$M$501,"Completed")) | C19: =IF($A19="","",SUMIFS('Housekeeping Log'!$J$2:$J$501,'Housekeeping Log'!$A$2:$A$501,$A19,'Housekeeping Log'!$M$2:$M$501,"Completed")) | D19: =IF($A19="","",SUMIFS('Housekeeping Log'!$P$2:$P$501,'Housekeeping Log'!$A$2:$A$501,$A19)/60) | E19: =IFERROR(C19/D19,0) | F19: =IFERROR(C19/I19,0) | G19: =IFERROR((COUNTIFS('Housekeeping Log'!$A$2:$A$501,$A19,'Housekeeping Log'!$U$2:$U$501,"Passed")+COUNTIFS('Housekeeping Log'!$A$2:$A$501,$A19,'Housekeeping Log'!$U$2:$U$501,"Recheck Passed"))/(COUNTIFS('Housekeeping Log'!$A$2:$A$501,$A19,'Housekeeping Log'!$U$2:$U$501,"Passed")+COUNTIFS('Housekeeping Log'!$A$2:$A$501,$A19,'Housekeeping Log'!$U$2:$U$501,"Recheck Passed")+COUNTIFS('Housekeeping Log'!$A$2:$A$501,$A19,'Housekeeping Log'!$U$2:$U$501,"Failed")),0) | H19: =IF($A19="","",SUMIFS('Housekeeping Log'!$Z$2:$Z$501,'Housekeeping Log'!$A$2:$A$501,$A19)) | I19: =IF($A19="","",SUMIFS('Housekeeping Log'!$R$2:$R$501,'Housekeeping Log'!$A$2:$A$501,$A19))
A20: =IF($B$4+2<=$D$4,$B$4+2,"") | B20: =IF($A20="","",COUNTIFS('Housekeeping Log'!$A$2:$A$501,$A20,'Housekeeping Log'!$M$2:$M$501,"Completed")) | C20: =IF($A20="","",SUMIFS('Housekeeping Log'!$J$2:$J$501,'Housekeeping Log'!$A$2:$A$501,$A20,'Housekeeping Log'!$M$2:$M$501,"Completed")) | D20: =IF($A20="","",SUMIFS('Housekeeping Log'!$P$2:$P$501,'Housekeeping Log'!$A$2:$A$501,$A20)/60) | E20: =IFERROR(C20/D20,0) | F20: =IFERROR(C20/I20,0) | G20: =IFERROR((COUNTIFS('Housekeeping Log'!$A$2:$A$501,$A20,'Housekeeping Log'!$U$2:$U$501,"Passed")+COUNTIFS('Housekeeping Log'!$A$2:$A$501,$A20,'Housekeeping Log'!$U$2:$U$501,"Recheck Passed"))/(COUNTIFS('Housekeeping Log'!$A$2:$A$501,$A20,'Housekeeping Log'!$U$2:$U$501,"Passed")+COUNTIFS('Housekeeping Log'!$A$2:$A$501,$A20,'Housekeeping Log'!$U$2:$U$501,"Recheck Passed")+COUNTIFS('Housekeeping Log'!$A$2:$A$501,$A20,'Housekeeping Log'!$U$2:$U$501,"Failed")),0) | H20: =IF($A20="","",SUMIFS('Housekeeping Log'!$Z$2:$Z$501,'Housekeeping Log'!$A$2:$A$501,$A20)) | I20: =IF($A20="","",SUMIFS('Housekeeping Log'!$R$2:$R$501,'Housekeeping Log'!$A$2:$A$501,$A20))
A21: =IF($B$4+3<=$D$4,$B$4+3,"") | B21: =IF($A21="","",COUNTIFS('Housekeeping Log'!$A$2:$A$501,$A21,'Housekeeping Log'!$M$2:$M$501,"Completed")) | C21: =IF($A21="","",SUMIFS('Housekeeping Log'!$J$2:$J$501,'Housekeeping Log'!$A$2:$A$501,$A21,'Housekeeping Log'!$M$2:$M$501,"Completed")) | D21: =IF($A21="","",SUMIFS('Housekeeping Log'!$P$2:$P$501,'Housekeeping Log'!$A$2:$A$501,$A21)/60) | E21: =IFERROR(C21/D21,0) | F21: =IFERROR(C21/I21,0) | G21: =IFERROR((COUNTIFS('Housekeeping Log'!$A$2:$A$501,$A21,'Housekeeping Log'!$U$2:$U$501,"Passed")+COUNTIFS('Housekeeping Log'!$A$2:$A$501,$A21,'Housekeeping Log'!$U$2:$U$501,"Recheck Passed"))/(COUNTIFS('Housekeeping Log'!$A$2:$A$501,$A21,'Housekeeping Log'!$U$2:$U$501,"Passed")+COUNTIFS('Housekeeping Log'!$A$2:$A$501,$A21,'Housekeeping Log'!$U$2:$U$501,"Recheck Passed")+COUNTIFS('Housekeeping Log'!$A$2:$A$501,$A21,'Housekeeping Log'!$U$2:$U$501,"Failed")),0) | H21: =IF($A21="","",SUMIFS('Housekeeping Log'!$Z$2:$Z$501,'Housekeeping Log'!$A$2:$A$501,$A21)) | I21: =IF($A21="","",SUMIFS('Housekeeping Log'!$R$2:$R$501,'Housekeeping Log'!$A$2:$A$501,$A21))
A22: =IF($B$4+4<=$D$4,$B$4+4,"") | B22: =IF($A22="","",COUNTIFS('Housekeeping Log'!$A$2:$A$501,$A22,'Housekeeping Log'!$M$2:$M$501,"Completed")) | C22: =IF($A22="","",SUMIFS('Housekeeping Log'!$J$2:$J$501,'Housekeeping Log'!$A$2:$A$501,$A22,'Housekeeping Log'!$M$2:$M$501,"Completed")) | D22: =IF($A22="","",SUMIFS('Housekeeping Log'!$P$2:$P$501,'Housekeeping Log'!$A$2:$A$501,$A22)/60) | E22: =IFERROR(C22/D22,0) | F22: =IFERROR(C22/I22,0) | G22: =IFERROR((COUNTIFS('Housekeeping Log'!$A$2:$A$501,$A22,'Housekeeping Log'!$U$2:$U$501,"Passed")+COUNTIFS('Housekeeping Log'!$A$2:$A$501,$A22,'Housekeeping Log'!$U$2:$U$501,"Recheck Passed"))/(COUNTIFS('Housekeeping Log'!$A$2:$A$501,$A22,'Housekeeping Log'!$U$2:$U$501,"Passed")+COUNTIFS('Housekeeping Log'!$A$2:$A$501,$A22,'Housekeeping Log'!$U$2:$U$501,"Recheck Passed")+COUNTIFS('Housekeeping Log'!$A$2:$A$501,$A22,'Housekeeping Log'!$U$2:$U$501,"Failed")),0) | H22: =IF($A22="","",SUMIFS('Housekeeping Log'!$Z$2:$Z$501,'Housekeeping Log'!$A$2:$A$501,$A22)) | I22: =IF($A22="","",SUMIFS('Housekeeping Log'!$R$2:$R$501,'Housekeeping Log'!$A$2:$A$501,$A22))
A23: =IF($B$4+5<=$D$4,$B$4+5,"") | B23: =IF($A23="","",COUNTIFS('Housekeeping Log'!$A$2:$A$501,$A23,'Housekeeping Log'!$M$2:$M$501,"Completed")) | C23: =IF($A23="","",SUMIFS('Housekeeping Log'!$J$2:$J$501,'Housekeeping Log'!$A$2:$A$501,$A23,'Housekeeping Log'!$M$2:$M$501,"Completed")) | D23: =IF($A23="","",SUMIFS('Housekeeping Log'!$P$2:$P$501,'Housekeeping Log'!$A$2:$A$501,$A23)/60) | E23: =IFERROR(C23/D23,0) | F23: =IFERROR(C23/I23,0) | G23: =IFERROR((COUNTIFS('Housekeeping Log'!$A$2:$A$501,$A23,'Housekeeping Log'!$U$2:$U$501,"Passed")+COUNTIFS('Housekeeping Log'!$A$2:$A$501,$A23,'Housekeeping Log'!$U$2:$U$501,"Recheck Passed"))/(COUNTIFS('Housekeeping Log'!$A$2:$A$501,$A23,'Housekeeping Log'!$U$2:$U$501,"Passed")+COUNTIFS('Housekeeping Log'!$A$2:$A$501,$A23,'Housekeeping Log'!$U$2:$U$501,"Recheck Passed")+COUNTIFS('Housekeeping Log'!$A$2:$A$501,$A23,'Housekeeping Log'!$U$2:$U$501,"Failed")),0) | H23: =IF($A23="","",SUMIFS('Housekeeping Log'!$Z$2:$Z$501,'Housekeeping Log'!$A$2:$A$501,$A23)) | I23: =IF($A23="","",SUMIFS('Housekeeping Log'!$R$2:$R$501,'Housekeeping Log'!$A$2:$A$501,$A23))
A24: =IF($B$4+6<=$D$4,$B$4+6,"") | B24: =IF($A24="","",COUNTIFS('Housekeeping Log'!$A$2:$A$501,$A24,'Housekeeping Log'!$M$2:$M$501,"Completed")) | C24: =IF($A24="","",SUMIFS('Housekeeping Log'!$J$2:$J$501,'Housekeeping Log'!$A$2:$A$501,$A24,'Housekeeping Log'!$M$2:$M$501,"Completed")) | D24: =IF($A24="","",SUMIFS('Housekeeping Log'!$P$2:$P$501,'Housekeeping Log'!$A$2:$A$501,$A24)/60) | E24: =IFERROR(C24/D24,0) | F24: =IFERROR(C24/I24,0) | G24: =IFERROR((COUNTIFS('Housekeeping Log'!$A$2:$A$501,$A24,'Housekeeping Log'!$U$2:$U$501,"Passed")+COUNTIFS('Housekeeping Log'!$A$2:$A$501,$A24,'Housekeeping Log'!$U$2:$U$501,"Recheck Passed"))/(COUNTIFS('Housekeeping Log'!$A$2:$A$501,$A24,'Housekeeping Log'!$U$2:$U$501,"Passed")+COUNTIFS('Housekeeping Log'!$A$2:$A$501,$A24,'Housekeeping Log'!$U$2:$U$501,"Recheck Passed")+COUNTIFS('Housekeeping Log'!$A$2:$A$501,$A24,'Housekeeping Log'!$U$2:$U$501,"Failed")),0) | H24: =IF($A24="","",SUMIFS('Housekeeping Log'!$Z$2:$Z$501,'Housekeeping Log'!$A$2:$A$501,$A24)) | I24: =IF($A24="","",SUMIFS('Housekeeping Log'!$R$2:$R$501,'Housekeeping Log'!$A$2:$A$501,$A24))
A25: =IF($B$4+7<=$D$4,$B$4+7,"") | B25: =IF($A25="","",COUNTIFS('Housekeeping Log'!$A$2:$A$501,$A25,'Housekeeping Log'!$M$2:$M$501,"Completed")) | C25: =IF($A25="","",SUMIFS('Housekeeping Log'!$J$2:$J$501,'Housekeeping Log'!$A$2:$A$501,$A25,'Housekeeping Log'!$M$2:$M$501,"Completed")) | D25: =IF($A25="","",SUMIFS('Housekeeping Log'!$P$2:$P$501,'Housekeeping Log'!$A$2:$A$501,$A25)/60) | E25: =IFERROR(C25/D25,0) | F25: =IFERROR(C25/I25,0) | G25: =IFERROR((COUNTIFS('Housekeeping Log'!$A$2:$A$501,$A25,'Housekeeping Log'!$U$2:$U$501,"Passed")+COUNTIFS('Housekeeping Log'!$A$2:$A$501,$A25,'Housekeeping Log'!$U$2:$U$501,"Recheck Passed"))/(COUNTIFS('Housekeeping Log'!$A$2:$A$501,$A25,'Housekeeping Log'!$U$2:$U$501,"Passed")+COUNTIFS('Housekeeping Log'!$A$2:$A$501,$A25,'Housekeeping Log'!$U$2:$U$501,"Recheck Passed")+COUNTIFS('Housekeeping Log'!$A$2:$A$501,$A25,'Housekeeping Log'!$U$2:$U$501,"Failed")),0) | H25: =IF($A25="","",SUMIFS('Housekeeping Log'!$Z$2:$Z$501,'Housekeeping Log'!$A$2:$A$501,$A25)) | I25: =IF($A25="","",SUMIFS('Housekeeping Log'!$R$2:$R$501,'Housekeeping Log'!$A$2:$A$501,$A25))
A26: =IF($B$4+8<=$D$4,$B$4+8,"") | B26: =IF($A26="","",COUNTIFS('Housekeeping Log'!$A$2:$A$501,$A26,'Housekeeping Log'!$M$2:$M$501,"Completed")) | C26: =IF($A26="","",SUMIFS('Housekeeping Log'!$J$2:$J$501,'Housekeeping Log'!$A$2:$A$501,$A26,'Housekeeping Log'!$M$2:$M$501,"Completed")) | D26: =IF($A26="","",SUMIFS('Housekeeping Log'!$P$2:$P$501,'Housekeeping Log'!$A$2:$A$501,$A26)/60) | E26: =IFERROR(C26/D26,0) | F26: =IFERROR(C26/I26,0) | G26: =IFERROR((COUNTIFS('Housekeeping Log'!$A$2:$A$501,$A26,'Housekeeping Log'!$U$2:$U$501,"Passed")+COUNTIFS('Housekeeping Log'!$A$2:$A$501,$A26,'Housekeeping Log'!$U$2:$U$501,"Recheck Passed"))/(COUNTIFS('Housekeeping Log'!$A$2:$A$501,$A26,'Housekeeping Log'!$U$2:$U$501,"Passed")+COUNTIFS('Housekeeping Log'!$A$2:$A$501,$A26,'Housekeeping Log'!$U$2:$U$501,"Recheck Passed")+COUNTIFS('Housekeeping Log'!$A$2:$A$501,$A26,'Housekeeping Log'!$U$2:$U$501,"Failed")),0) | H26: =IF($A26="","",SUMIFS('Housekeeping Log'!$Z$2:$Z$501,'Housekeeping Log'!$A$2:$A$501,$A26)) | I26: =IF($A26="","",SUMIFS('Housekeeping Log'!$R$2:$R$501,'Housekeeping Log'!$A$2:$A$501,$A26))
A27: =IF($B$4+9<=$D$4,$B$4+9,"") | B27: =IF($A27="","",COUNTIFS('Housekeeping Log'!$A$2:$A$501,$A27,'Housekeeping Log'!$M$2:$M$501,"Completed")) | C27: =IF($A27="","",SUMIFS('Housekeeping Log'!$J$2:$J$501,'Housekeeping Log'!$A$2:$A$501,$A27,'Housekeeping Log'!$M$2:$M$501,"Completed")) | D27: =IF($A27="","",SUMIFS('Housekeeping Log'!$P$2:$P$501,'Housekeeping Log'!$A$2:$A$501,$A27)/60) | E27: =IFERROR(C27/D27,0) | F27: =IFERROR(C27/I27,0) | G27: =IFERROR((COUNTIFS('Housekeeping Log'!$A$2:$A$501,$A27,'Housekeeping Log'!$U$2:$U$501,"Passed")+COUNTIFS('Housekeeping Log'!$A$2:$A$501,$A27,'Housekeeping Log'!$U$2:$U$501,"Recheck Passed"))/(COUNTIFS('Housekeeping Log'!$A$2:$A$501,$A27,'Housekeeping Log'!$U$2:$U$501,"Passed")+COUNTIFS('Housekeeping Log'!$A$2:$A$501,$A27,'Housekeeping Log'!$U$2:$U$501,"Recheck Passed")+COUNTIFS('Housekeeping Log'!$A$2:$A$501,$A27,'Housekeeping Log'!$U$2:$U$501,"Failed")),0) | H27: =IF($A27="","",SUMIFS('Housekeeping Log'!$Z$2:$Z$501,'Housekeeping Log'!$A$2:$A$501,$A27)) | I27: =IF($A27="","",SUMIFS('Housekeeping Log'!$R$2:$R$501,'Housekeeping Log'!$A$2:$A$501,$A27))
A28: =IF($B$4+10<=$D$4,$B$4+10,"") | B28: =IF($A28="","",COUNTIFS('Housekeeping Log'!$A$2:$A$501,$A28,'Housekeeping Log'!$M$2:$M$501,"Completed")) | C28: =IF($A28="","",SUMIFS('Housekeeping Log'!$J$2:$J$501,'Housekeeping Log'!$A$2:$A$501,$A28,'Housekeeping Log'!$M$2:$M$501,"Completed")) | D28: =IF($A28="","",SUMIFS('Housekeeping Log'!$P$2:$P$501,'Housekeeping Log'!$A$2:$A$501,$A28)/60) | E28: =IFERROR(C28/D28,0) | F28: =IFERROR(C28/I28,0) | G28: =IFERROR((COUNTIFS('Housekeeping Log'!$A$2:$A$501,$A28,'Housekeeping Log'!$U$2:$U$501,"Passed")+COUNTIFS('Housekeeping Log'!$A$2:$A$501,$A28,'Housekeeping Log'!$U$2:$U$501,"Recheck Passed"))/(COUNTIFS('Housekeeping Log'!$A$2:$A$501,$A28,'Housekeeping Log'!$U$2:$U$501,"Passed")+COUNTIFS('Housekeeping Log'!$A$2:$A$501,$A28,'Housekeeping Log'!$U$2:$U$501,"Recheck Passed")+COUNTIFS('Housekeeping Log'!$A$2:$A$501,$A28,'Housekeeping Log'!$U$2:$U$501,"Failed")),0) | H28: =IF($A28="","",SUMIFS('Housekeeping Log'!$Z$2:$Z$501,'Housekeeping Log'!$A$2:$A$501,$A28)) | I28: =IF($A28="","",SUMIFS('Housekeeping Log'!$R$2:$R$501,'Housekeeping Log'!$A$2:$A$501,$A28))
A29: =IF($B$4+11<=$D$4,$B$4+11,"") | B29: =IF($A29="","",COUNTIFS('Housekeeping Log'!$A$2:$A$501,$A29,'Housekeeping Log'!$M$2:$M$501,"Completed")) | C29: =IF($A29="","",SUMIFS('Housekeeping Log'!$J$2:$J$501,'Housekeeping Log'!$A$2:$A$501,$A29,'Housekeeping Log'!$M$2:$M$501,"Completed")) | D29: =IF($A29="","",SUMIFS('Housekeeping Log'!$P$2:$P$501,'Housekeeping Log'!$A$2:$A$501,$A29)/60) | E29: =IFERROR(C29/D29,0) | F29: =IFERROR(C29/I29,0) | G29: =IFERROR((COUNTIFS('Housekeeping Log'!$A$2:$A$501,$A29,'Housekeeping Log'!$U$2:$U$501,"Passed")+COUNTIFS('Housekeeping Log'!$A$2:$A$501,$A29,'Housekeeping Log'!$U$2:$U$501,"Recheck Passed"))/(COUNTIFS('Housekeeping Log'!$A$2:$A$501,$A29,'Housekeeping Log'!$U$2:$U$501,"Passed")+COUNTIFS('Housekeeping Log'!$A$2:$A$501,$A29,'Housekeeping Log'!$U$2:$U$501,"Recheck Passed")+COUNTIFS('Housekeeping Log'!$A$2:$A$501,$A29,'Housekeeping Log'!$U$2:$U$501,"Failed")),0) | H29: =IF($A29="","",SUMIFS('Housekeeping Log'!$Z$2:$Z$501,'Housekeeping Log'!$A$2:$A$501,$A29)) | I29: =IF($A29="","",SUMIFS('Housekeeping Log'!$R$2:$R$501,'Housekeeping Log'!$A$2:$A$501,$A29))
A30: =IF($B$4+12<=$D$4,$B$4+12,"") | B30: =IF($A30="","",COUNTIFS('Housekeeping Log'!$A$2:$A$501,$A30,'Housekeeping Log'!$M$2:$M$501,"Completed")) | C30: =IF($A30="","",SUMIFS('Housekeeping Log'!$J$2:$J$501,'Housekeeping Log'!$A$2:$A$501,$A30,'Housekeeping Log'!$M$2:$M$501,"Completed")) | D30: =IF($A30="","",SUMIFS('Housekeeping Log'!$P$2:$P$501,'Housekeeping Log'!$A$2:$A$501,$A30)/60) | E30: =IFERROR(C30/D30,0) | F30: =IFERROR(C30/I30,0) | G30: =IFERROR((COUNTIFS('Housekeeping Log'!$A$2:$A$501,$A30,'Housekeeping Log'!$U$2:$U$501,"Passed")+COUNTIFS('Housekeeping Log'!$A$2:$A$501,$A30,'Housekeeping Log'!$U$2:$U$501,"Recheck Passed"))/(COUNTIFS('Housekeeping Log'!$A$2:$A$501,$A30,'Housekeeping Log'!$U$2:$U$501,"Passed")+COUNTIFS('Housekeeping Log'!$A$2:$A$501,$A30,'Housekeeping Log'!$U$2:$U$501,"Recheck Passed")+COUNTIFS('Housekeeping Log'!$A$2:$A$501,$A30,'Housekeeping Log'!$U$2:$U$501,"Failed")),0) | H30: =IF($A30="","",SUMIFS('Housekeeping Log'!$Z$2:$Z$501,'Housekeeping Log'!$A$2:$A$501,$A30)) | I30: =IF($A30="","",SUMIFS('Housekeeping Log'!$R$2:$R$501,'Housekeeping Log'!$A$2:$A$501,$A30))
A31: =IF($B$4+13<=$D$4,$B$4+13,"") | B31: =IF($A31="","",COUNTIFS('Housekeeping Log'!$A$2:$A$501,$A31,'Housekeeping Log'!$M$2:$M$501,"Completed")) | C31: =IF($A31="","",SUMIFS('Housekeeping Log'!$J$2:$J$501,'Housekeeping Log'!$A$2:$A$501,$A31,'Housekeeping Log'!$M$2:$M$501,"Completed")) | D31: =IF($A31="","",SUMIFS('Housekeeping Log'!$P$2:$P$501,'Housekeeping Log'!$A$2:$A$501,$A31)/60) | E31: =IFERROR(C31/D31,0) | F31: =IFERROR(C31/I31,0) | G31: =IFERROR((COUNTIFS('Housekeeping Log'!$A$2:$A$501,$A31,'Housekeeping Log'!$U$2:$U$501,"Passed")+COUNTIFS('Housekeeping Log'!$A$2:$A$501,$A31,'Housekeeping Log'!$U$2:$U$501,"Recheck Passed"))/(COUNTIFS('Housekeeping Log'!$A$2:$A$501,$A31,'Housekeeping Log'!$U$2:$U$501,"Passed")+COUNTIFS('Housekeeping Log'!$A$2:$A$501,$A31,'Housekeeping Log'!$U$2:$U$501,"Recheck Passed")+COUNTIFS('Housekeeping Log'!$A$2:$A$501,$A31,'Housekeeping Log'!$U$2:$U$501,"Failed")),0) | H31: =IF($A31="","",SUMIFS('Housekeeping Log'!$Z$2:$Z$501,'Housekeeping Log'!$A$2:$A$501,$A31)) | I31: =IF($A31="","",SUMIFS('Housekeeping Log'!$R$2:$R$501,'Housekeeping Log'!$A$2:$A$501,$A31))
I32: =""
I33: =""
A34: Employee Performance Summary | I34: =""
A35: Employee Name | B35: Rooms Completed | C35: Room Credits | D35: Paid Hours | E35: Credits per Paid Hour | F35: Productivity Attainment | G35: Inspection Pass Rate | H35: Exception Count | I35: =""
A36: =IFERROR('Standards & Staff'!B15,"") | B36: =COUNTIFS('Housekeeping Log'!$D$2:$D$501,$A36,'Housekeeping Log'!$M$2:$M$501,"Completed") | C36: =SUMIFS('Housekeeping Log'!$J$2:$J$501,'Housekeeping Log'!$D$2:$D$501,$A36,'Housekeeping Log'!$M$2:$M$501,"Completed") | D36: =SUMIFS('Housekeeping Log'!$P$2:$P$501,'Housekeeping Log'!$D$2:$D$501,$A36)/60 | E36: =IFERROR(C36/D36,0) | F36: =IFERROR(C36/SUMIFS('Housekeeping Log'!$R$2:$R$501,'Housekeeping Log'!$D$2:$D$501,$A36),0) | G36: =IFERROR((COUNTIFS('Housekeeping Log'!$D$2:$D$501,$A36,'Housekeeping Log'!$U$2:$U$501,"Passed")+COUNTIFS('Housekeeping Log'!$D$2:$D$501,$A36,'Housekeeping Log'!$U$2:$U$501,"Recheck Passed"))/(COUNTIFS('Housekeeping Log'!$D$2:$D$501,$A36,'Housekeeping Log'!$U$2:$U$501,"Passed")+COUNTIFS('Housekeeping Log'!$D$2:$D$501,$A36,'Housekeeping Log'!$U$2:$U$501,"Recheck Passed")+COUNTIFS('Housekeeping Log'!$D$2:$D$501,$A36,'Housekeeping Log'!$U$2:$U$501,"Failed")),0) | H36: =COUNTIFS('Housekeeping Log'!$D$2:$D$501,$A36,'Housekeeping Log'!$AB$2:$AB$501,"Yes") | I36: =""
A37: =IFERROR('Standards & Staff'!B16,"") | B37: =COUNTIFS('Housekeeping Log'!$D$2:$D$501,$A37,'Housekeeping Log'!$M$2:$M$501,"Completed") | C37: =SUMIFS('Housekeeping Log'!$J$2:$J$501,'Housekeeping Log'!$D$2:$D$501,$A37,'Housekeeping Log'!$M$2:$M$501,"Completed") | D37: =SUMIFS('Housekeeping Log'!$P$2:$P$501,'Housekeeping Log'!$D$2:$D$501,$A37)/60 | E37: =IFERROR(C37/D37,0) | F37: =IFERROR(C37/SUMIFS('Housekeeping Log'!$R$2:$R$501,'Housekeeping Log'!$D$2:$D$501,$A37),0) | G37: =IFERROR((COUNTIFS('Housekeeping Log'!$D$2:$D$501,$A37,'Housekeeping Log'!$U$2:$U$501,"Passed")+COUNTIFS('Housekeeping Log'!$D$2:$D$501,$A37,'Housekeeping Log'!$U$2:$U$501,"Recheck Passed"))/(COUNTIFS('Housekeeping Log'!$D$2:$D$501,$A37,'Housekeeping Log'!$U$2:$U$501,"Passed")+COUNTIFS('Housekeeping Log'!$D$2:$D$501,$A37,'Housekeeping Log'!$U$2:$U$501,"Recheck Passed")+COUNTIFS('Housekeeping Log'!$D$2:$D$501,$A37,'Housekeeping Log'!$U$2:$U$501,"Failed")),0) | H37: =COUNTIFS('Housekeeping Log'!$D$2:$D$501,$A37,'Housekeeping Log'!$AB$2:$AB$501,"Yes") | I37: =""
A38: =IFERROR('Standards & Staff'!B17,"") | B38: =COUNTIFS('Housekeeping Log'!$D$2:$D$501,$A38,'Housekeeping Log'!$M$2:$M$501,"Completed") | C38: =SUMIFS('Housekeeping Log'!$J$2:$J$501,'Housekeeping Log'!$D$2:$D$501,$A38,'Housekeeping Log'!$M$2:$M$501,"Completed") | D38: =SUMIFS('Housekeeping Log'!$P$2:$P$501,'Housekeeping Log'!$D$2:$D$501,$A38)/60 | E38: =IFERROR(C38/D38,0) | F38: =IFERROR(C38/SUMIFS('Housekeeping Log'!$R$2:$R$501,'Housekeeping Log'!$D$2:$D$501,$A38),0) | G38: =IFERROR((COUNTIFS('Housekeeping Log'!$D$2:$D$501,$A38,'Housekeeping Log'!$U$2:$U$501,"Passed")+COUNTIFS('Housekeeping Log'!$D$2:$D$501,$A38,'Housekeeping Log'!$U$2:$U$501,"Recheck Passed"))/(COUNTIFS('Housekeeping Log'!$D$2:$D$501,$A38,'Housekeeping Log'!$U$2:$U$501,"Passed")+COUNTIFS('Housekeeping Log'!$D$2:$D$501,$A38,'Housekeeping Log'!$U$2:$U$501,"Recheck Passed")+COUNTIFS('Housekeeping Log'!$D$2:$D$501,$A38,'Housekeeping Log'!$U$2:$U$501,"Failed")),0) | H38: =COUNTIFS('Housekeeping Log'!$D$2:$D$501,$A38,'Housekeeping Log'!$AB$2:$AB$501,"Yes") | I38: =""
A39: =IFERROR('Standards & Staff'!B18,"") | B39: =COUNTIFS('Housekeeping Log'!$D$2:$D$501,$A39,'Housekeeping Log'!$M$2:$M$501,"Completed") | C39: =SUMIFS('Housekeeping Log'!$J$2:$J$501,'Housekeeping Log'!$D$2:$D$501,$A39,'Housekeeping Log'!$M$2:$M$501,"Completed") | D39: =SUMIFS('Housekeeping Log'!$P$2:$P$501,'Housekeeping Log'!$D$2:$D$501,$A39)/60 | E39: =IFERROR(C39/D39,0) | F39: =IFERROR(C39/SUMIFS('Housekeeping Log'!$R$2:$R$501,'Housekeeping Log'!$D$2:$D$501,$A39),0) | G39: =IFERROR((COUNTIFS('Housekeeping Log'!$D$2:$D$501,$A39,'Housekeeping Log'!$U$2:$U$501,"Passed")+COUNTIFS('Housekeeping Log'!$D$2:$D$501,$A39,'Housekeeping Log'!$U$2:$U$501,"Recheck Passed"))/(COUNTIFS('Housekeeping Log'!$D$2:$D$501,$A39,'Housekeeping Log'!$U$2:$U$501,"Passed")+COUNTIFS('Housekeeping Log'!$D$2:$D$501,$A39,'Housekeeping Log'!$U$2:$U$501,"Recheck Passed")+COUNTIFS('Housekeeping Log'!$D$2:$D$501,$A39,'Housekeeping Log'!$U$2:$U$501,"Failed")),0) | H39: =COUNTIFS('Housekeeping Log'!$D$2:$D$501,$A39,'Housekeeping Log'!$AB$2:$AB$501,"Yes") | I39: =""
A40: =IFERROR('Standards & Staff'!B19,"") | B40: =COUNTIFS('Housekeeping Log'!$D$2:$D$501,$A40,'Housekeeping Log'!$M$2:$M$501,"Completed") | C40: =SUMIFS('Housekeeping Log'!$J$2:$J$501,'Housekeeping Log'!$D$2:$D$501,$A40,'Housekeeping Log'!$M$2:$M$501,"Completed") | D40: =SUMIFS('Housekeeping Log'!$P$2:$P$501,'Housekeeping Log'!$D$2:$D$501,$A40)/60 | E40: =IFERROR(C40/D40,0) | F40: =IFERROR(C40/SUMIFS('Housekeeping Log'!$R$2:$R$501,'Housekeeping Log'!$D$2:$D$501,$A40),0) | G40: =IFERROR((COUNTIFS('Housekeeping Log'!$D$2:$D$501,$A40,'Housekeeping Log'!$U$2:$U$501,"Passed")+COUNTIFS('Housekeeping Log'!$D$2:$D$501,$A40,'Housekeeping Log'!$U$2:$U$501,"Recheck Passed"))/(COUNTIFS('Housekeeping Log'!$D$2:$D$501,$A40,'Housekeeping Log'!$U$2:$U$501,"Passed")+COUNTIFS('Housekeeping Log'!$D$2:$D$501,$A40,'Housekeeping Log'!$U$2:$U$501,"Recheck Passed")+COUNTIFS('Housekeeping Log'!$D$2:$D$501,$A40,'Housekeeping Log'!$U$2:$U$501,"Failed")),0) | H40: =COUNTIFS('Housekeeping Log'!$D$2:$D$501,$A40,'Housekeeping Log'!$AB$2:$AB$501,"Yes") | I40: =""
A41: =IFERROR('Standards & Staff'!B20,"") | B41: =COUNTIFS('Housekeeping Log'!$D$2:$D$501,$A41,'Housekeeping Log'!$M$2:$M$501,"Completed") | C41: =SUMIFS('Housekeeping Log'!$J$2:$J$501,'Housekeeping Log'!$D$2:$D$501,$A41,'Housekeeping Log'!$M$2:$M$501,"Completed") | D41: =SUMIFS('Housekeeping Log'!$P$2:$P$501,'Housekeeping Log'!$D$2:$D$501,$A41)/60 | E41: =IFERROR(C41/D41,0) | F41: =IFERROR(C41/SUMIFS('Housekeeping Log'!$R$2:$R$501,'Housekeeping Log'!$D$2:$D$501,$A41),0) | G41: =IFERROR((COUNTIFS('Housekeeping Log'!$D$2:$D$501,$A41,'Housekeeping Log'!$U$2:$U$501,"Passed")+COUNTIFS('Housekeeping Log'!$D$2:$D$501,$A41,'Housekeeping Log'!$U$2:$U$501,"Recheck Passed"))/(COUNTIFS('Housekeeping Log'!$D$2:$D$501,$A41,'Housekeeping Log'!$U$2:$U$501,"Passed")+COUNTIFS('Housekeeping Log'!$D$2:$D$501,$A41,'Housekeeping Log'!$U$2:$U$501,"Recheck Passed")+COUNTIFS('Housekeeping Log'!$D$2:$D$501,$A41,'Housekeeping Log'!$U$2:$U$501,"Failed")),0) | H41: =COUNTIFS('Housekeeping Log'!$D$2:$D$501,$A41,'Housekeeping Log'!$AB$2:$AB$501,"Yes") | I41: =""
A42: =IFERROR('Standards & Staff'!B21,"") | B42: =COUNTIFS('Housekeeping Log'!$D$2:$D$501,$A42,'Housekeeping Log'!$M$2:$M$501,"Completed") | C42: =SUMIFS('Housekeeping Log'!$J$2:$J$501,'Housekeeping Log'!$D$2:$D$501,$A42,'Housekeeping Log'!$M$2:$M$501,"Completed") | D42: =SUMIFS('Housekeeping Log'!$P$2:$P$501,'Housekeeping Log'!$D$2:$D$501,$A42)/60 | E42: =IFERROR(C42/D42,0) | F42: =IFERROR(C42/SUMIFS('Housekeeping Log'!$R$2:$R$501,'Housekeeping Log'!$D$2:$D$501,$A42),0) | G42: =IFERROR((COUNTIFS('Housekeeping Log'!$D$2:$D$501,$A42,'Housekeeping Log'!$U$2:$U$501,"Passed")+COUNTIFS('Housekeeping Log'!$D$2:$D$501,$A42,'Housekeeping Log'!$U$2:$U$501,"Recheck Passed"))/(COUNTIFS('Housekeeping Log'!$D$2:$D$501,$A42,'Housekeeping Log'!$U$2:$U$501,"Passed")+COUNTIFS('Housekeeping Log'!$D$2:$D$501,$A42,'Housekeeping Log'!$U$2:$U$501,"Recheck Passed")+COUNTIFS('Housekeeping Log'!$D$2:$D$501,$A42,'Housekeeping Log'!$U$2:$U$501,"Failed")),0) | H42: =COUNTIFS('Housekeeping Log'!$D$2:$D$501,$A42,'Housekeeping Log'!$AB$2:$AB$501,"Yes") | I42: =""
A43: =IFERROR('Standards & Staff'!B22,"") | B43: =COUNTIFS('Housekeeping Log'!$D$2:$D$501,$A43,'Housekeeping Log'!$M$2:$M$501,"Completed") | C43: =SUMIFS('Housekeeping Log'!$J$2:$J$501,'Housekeeping Log'!$D$2:$D$501,$A43,'Housekeeping Log'!$M$2:$M$501,"Completed") | D43: =SUMIFS('Housekeeping Log'!$P$2:$P$501,'Housekeeping Log'!$D$2:$D$501,$A43)/60 | E43: =IFERROR(C43/D43,0) | F43: =IFERROR(C43/SUMIFS('Housekeeping Log'!$R$2:$R$501,'Housekeeping Log'!$D$2:$D$501,$A43),0) | G43: =IFERROR((COUNTIFS('Housekeeping Log'!$D$2:$D$501,$A43,'Housekeeping Log'!$U$2:$U$501,"Passed")+COUNTIFS('Housekeeping Log'!$D$2:$D$501,$A43,'Housekeeping Log'!$U$2:$U$501,"Recheck Passed"))/(COUNTIFS('Housekeeping Log'!$D$2:$D$501,$A43,'Housekeeping Log'!$U$2:$U$501,"Passed")+COUNTIFS('Housekeeping Log'!$D$2:$D$501,$A43,'Housekeeping Log'!$U$2:$U$501,"Recheck Passed")+COUNTIFS('Housekeeping Log'!$D$2:$D$501,$A43,'Housekeeping Log'!$U$2:$U$501,"Failed")),0) | H43: =COUNTIFS('Housekeeping Log'!$D$2:$D$501,$A43,'Housekeeping Log'!$AB$2:$AB$501,"Yes") | I43: =""
A44: ="" | B44: ="" | C44: ="" | E44: ="" | F44: ="" | G44: ="" | H44: ="" | I44: =""
A45: ="" | B45: ="" | C45: ="" | E45: ="" | F45: ="" | G45: ="" | H45: ="" | I45: =""
A46: Operational Alerts | B46: ="" | C46: ="" | E46: ="" | F46: ="" | G46: ="" | H46: ="" | I46: =""
A47: Entries Below Productivity Threshold | B47: ="" | C47: ="" | D47: =COUNTIFS('Housekeeping Log'!$T$2:$T$501,"<"&'Standards & Staff'!$D$2,'Housekeeping Log'!$T$2:$T$501,">0") | E47: ="" | F47: ="" | G47: ="" | H47: ="" | I47: =""
...

Sheet Housekeeping Log
A1: Work Date | B1: Shift | C1: Employee ID | D1: Employee Name | E1: Job Role | F1: Hotel Section | G1: Room Number | H1: Room Type | I1: Cleaning Type | J1: Room Credits | K1: Start Time | L1: End Time | M1: Completion Status | N1: Productive Minutes | O1: Non-Room Task Minutes | P1: Total Paid Minutes | Q1: Target Minutes | R1: Target Room Credits | S1: Minutes Variance | T1: Productivity Attainment | U1: Inspection Result | V1: Inspection Score | W1: Inspector | X1: Rework Minutes | Y1: Hourly Wage | Z1: Estimated Labor Cost | AA1: Overtime Minutes | AB1: Manager Review | AC1: Exception Reason | AD1: Notes | AE1: Source Reference | AF1: Record Status
A2: 46027 | B2: Day | C2: HK-1001 | D2: =IFERROR(INDEX('Standards & Staff'!$B$15:$B$114,MATCH($C2,'Standards & Staff'!$A$15:$A$114,0)),"") | E2: =IFERROR(INDEX('Standards & Staff'!$C$15:$C$114,MATCH($C2,'Standards & Staff'!$A$15:$A$114,0)),"") | F2: North | G2: 312 | H2: Standard King | I2: Stayover | J2: =IFERROR(IF($M2="Completed",INDEX('Standards & Staff'!$B$5:$B$11,MATCH($I2,'Standards & Staff'!$A$5:$A$11,0)),0),"") | K2: 0.33680556 | L2: 0.34652778 | M2: Completed | N2: =IFERROR(IF(OR($K2="",$L2=""),"",MOD($L2-$K2,1)*1440),"") | O2: 0 | P2: =IF(COUNTA($N2,$O2)=0,"",SUM($N2:$O2)) | Q2: =IFERROR(INDEX('Standards & Staff'!$C$5:$C$11,MATCH($I2,'Standards & Staff'!$A$5:$A$11,0)),"") | R2: =IFERROR(($P2/60)*INDEX('Standards & Staff'!$G$15:$G$114,MATCH($C2,'Standards & Staff'!$A$15:$A$114,0)),"") | S2: =IFERROR($N2-$Q2,"") | T2: =IFERROR($J2/$R2,"") | U2: Passed | V2: 96 | W2: Evelyn Reed | X2: 0 | Y2: =IFERROR(INDEX('Standards & Staff'!$F$15:$F$114,MATCH($C2,'Standards & Staff'!$A$15:$A$114,0)),"") | Z2: =IFERROR(($P2/60)*$Y2,"") | AA2: 0 | AB2: =IF($A2="","",IF(OR($M2="Not Completed",$U2="Failed",AND($T2<>"",$T2<'Standards & Staff'!$D$2),$AA2>'Standards & Staff'!$F$2),"Yes","No")) | AC2: =IF($A2="","",IF($M2="Not Completed","Room Not Completed",IF($U2="Failed","Failed Inspection",IF(AND($T2<>"",$T2<'Standards & Staff'!$D$2),"Productivity Below Threshold",IF($AA2>'Standards & Staff'!$F$2,"Overtime Above Threshold",""))))) | AD2: Routine occupied-room service. | AE2: Manual room assignment sheet | AF2: Approved
A3: 46028 | B3: Day | C3: HK-1002 | D3: =IFERROR(INDEX('Standards & Staff'!$B$15:$B$114,MATCH($C3,'Standards & Staff'!$A$15:$A$114,0)),"") | E3: =IFERROR(INDEX('Standards & Staff'!$C$15:$C$114,MATCH($C3,'Standards & Staff'!$A$15:$A$114,0)),"") | F3: South | G3: 428 | H3: Double Queen | I3: Checkout | J3: =IFERROR(IF($M3="Completed",INDEX('Standards & Staff'!$B$5:$B$11,MATCH($I3,'Standards & Staff'!$A$5:$A$11,0)),0),"") | K3: 0.34722222 | L3: 0.37083333 | M3: Completed | N3: =IFERROR(IF(OR($K3="",$L3=""),"",MOD($L3-$K3,1)*1440),"") | O3: 5 | P3: =IF(COUNTA($N3,$O3)=0,"",SUM($N3:$O3)) | Q3: =IFERROR(INDEX('Standards & Staff'!$C$5:$C$11,MATCH($I3,'Standards & Staff'!$A$5:$A$11,0)),"") | R3: =IFERROR(($P3/60)*INDEX('Standards & Staff'!$G$15:$G$114,MATCH($C3,'Standards & Staff'!$A$15:$A$114,0)),"") | S3: =IFERROR($N3-$Q3,"") | T3: =IFERROR($J3/$R3,"") | U3: Passed | V3: 92 | W3: Evelyn Reed | X3: 0 | Y3: =IFERROR(INDEX('Standards & Staff'!$F$15:$F$114,MATCH($C3,'Standards & Staff'!$A$15:$A$114,0)),"") | Z3: =IFERROR(($P3/60)*$Y3,"") | AA3: 0 | AB3: =IF($A3="","",IF(OR($M3="Not Completed",$U3="Failed",AND($T3<>"",$T3<'Standards & Staff'!$D$2),$AA3>'Standards & Staff'!$F$2),"Yes","No")) | AC3: =IF($A3="","",IF($M3="Not Completed","Room Not Completed",IF($U3="Failed","Failed Inspection",IF(AND($T3<>"",$T3<'Standards & Staff'!$D$2),"Productivity Below Threshold",IF($AA3>'Standards & Staff'!$F$2,"Overtime Above Threshold",""))))) | AD3: Extra bedding requested; slightly above standard. | AE3: Supervisor inspection log | AF3: Reviewed
A4: 46029 | B4: Day | C4: HK-1003 | D4: =IFERROR(INDEX('Standards & Staff'!$B$15:$B$114,MATCH($C4,'Standards & Staff'!$A$15:$A$114,0)),"") | E4: =IFERROR(INDEX('Standards & Staff'!$C$15:$C$114,MATCH($C4,'Standards & Staff'!$A$15:$A$114,0)),"") | F4: Suites | G4: 1102 | H4: Suite | I4: Checkout | J4: =IFERROR(IF($M4="Completed",INDEX('Standards & Staff'!$B$5:$B$11,MATCH($I4,'Standards & Staff'!$A$5:$A$11,0)),0),"") | K4: 0.375 | L4: 0.40763889 | M4: Completed | N4: =IFERROR(IF(OR($K4="",$L4=""),"",MOD($L4-$K4,1)*1440),"") | O4: 0 | P4: =IF(COUNTA($N4,$O4)=0,"",SUM($N4:$O4)) | Q4: =IFERROR(INDEX('Standards & Staff'!$C$5:$C$11,MATCH($I4,'Standards & Staff'!$A$5:$A$11,0)),"") | R4: =IFERROR(($P4/60)*INDEX('Standards & Staff'!$G$15:$G$114,MATCH($C4,'Standards & Staff'!$A$15:$A$114,0)),"") | S4: =IFERROR($N4-$Q4,"") | T4: =IFERROR($J4/$R4,"") | U4: Passed | V4: 98 | W4: Evelyn Reed | X4: 0 | Y4: =IFERROR(INDEX('Standards & Staff'!$F$15:$F$114,MATCH($C4,'Standards & Staff'!$A$15:$A$114,0)),"") | Z4: =IFERROR(($P4/60)*$Y4,"") | AA4: 0 | AB4: =IF($A4="","",IF(OR($M4="Not Completed",$U4="Failed",AND($T4<>"",$T4<'Standards & Staff'!$D$2),$AA4>'Standards & Staff'!$F$2),"Yes","No")) | AC4: =IF($A4="","",IF($M4="Not Completed","Room Not Completed",IF($U4="Failed","Failed Inspection",IF(AND($T4<>"",$T4<'Standards & Staff'!$D$2),"Productivity Below Threshold",IF($AA4>'Standards & Staff'!$F$2,"Overtime Above Threshold",""))))) | AD4: Suite checkout completed to standard. | AE4: Manual room assignment sheet | AF4: Approved
A5: 46030 | B5: Day | C5: HK-1004 | D5: =IFERROR(INDEX('Standards & Staff'!$B$15:$B$114,MATCH($C5,'Standards & Staff'!$A$15:$A$114,0)),"") | E5: =IFERROR(INDEX('Standards & Staff'!$C$15:$C$114,MATCH($C5,'Standards & Staff'!$A$15:$A$114,0)),"") | F5: North | G5: 315 | H5: Standard King | I5: Stayover | J5: =IFERROR(IF($M5="Completed",INDEX('Standards & Staff'!$B$5:$B$11,MATCH($I5,'Standards & Staff'!$A$5:$A$11,0)),0),"") | K5: 0.42361111 | L5: 0.42638889 | M5: Guest Refused | N5: =IFERROR(IF(OR($K5="",$L5=""),"",MOD($L5-$K5,1)*1440),"") | O5: 0 | P5: =IF(COUNTA($N5,$O5)=0,"",SUM($N5:$O5)) | Q5: =IFERROR(INDEX('Standards & Staff'!$C$5:$C$11,MATCH($I5,'Standards & Staff'!$A$5:$A$11,0)),"") | R5: =IFERROR(($P5/60)*INDEX('Standards & Staff'!$G$15:$G$114,MATCH($C5,'Standards & Staff'!$A$15:$A$114,0)),"") | S5: =IFERROR($N5-$Q5,"") | T5: =IFERROR($J5/$R5,"") | U5: Not Inspected | X5: 0 | Y5: =IFERROR(INDEX('Standards & Staff'!$F$15:$F$114,MATCH($C5,'Standards & Staff'!$A$15:$A$114,0)),"") | Z5: =IFERROR(($P5/60)*$Y5,"") | AA5: 0 | AB5: =IF($A5="","",IF(OR($M5="Not Completed",$U5="Failed",AND($T5<>"",$T5<'Standards & Staff'!$D$2),$AA5>'Standards & Staff'!$F$2),"Yes","No")) | AC5: =IF($A5="","",IF($M5="Not Completed","Room Not Completed",IF($U5="Failed","Failed Inspection",IF(AND($T5<>"",$T5<'Standards & Staff'!$D$2),"Productivity Below Threshold",IF($AA5>'Standards & Staff'!$F$2,"Overtime Above Threshold",""))))) | AD5: Guest declined service at door. | AE5: Manual room assignment sheet | AF5: Reviewed
A6: 46031 | B6: Day | C6: HK-1001 | D6: =IFERROR(INDEX('Standards & Staff'!$B$15:$B$114,MATCH($C6,'Standards & Staff'!$A$15:$A$114,0)),"") | E6: =IFERROR(INDEX('Standards & Staff'!$C$15:$C$114,MATCH($C6,'Standards & Staff'!$A$15:$A$114,0)),"") | F6: North | G6: 318 | H6: Accessible Room | I6: Touch-Up | J6: =IFERROR(IF($M6="Completed",INDEX('Standards & Staff'!$B$5:$B$11,MATCH($I6,'Standards & Staff'!$A$5:$A$11,0)),0),"") | K6: 0.46180556 | L6: 0.46805556 | M6: Completed | N6: =IFERROR(IF(OR($K6="",$L6=""),"",MOD($L6-$K6,1)*1440),"") | O6: 0 | P6: =IF(COUNTA($N6,$O6)=0,"",SUM($N6:$O6)) | Q6: =IFERROR(INDEX('Standards & Staff'!$C$5:$C$11,MATCH($I6,'Standards & Staff'!$A$5:$A$11,0)),"") | R6: =IFERROR(($P6/60)*INDEX('Standards & Staff'!$G$15:$G$114,MATCH($C6,'Standards & Staff'!$A$15:$A$114,0)),"") | S6: =IFERROR($N6-$Q6,"") | T6: =IFERROR($J6/$R6,"") | U6: Passed | V6: 95 | W6: Evelyn Reed | X6: 0 | Y6: =IFERROR(INDEX('Standards & Staff'!$F$15:$F$114,MATCH($C6,'Standards & Staff'!$A$15:$A$114,0)),"") | Z6: =IFERROR(($P6/60)*$Y6,"") | AA6: 0 | AB6: =IF($A6="","",IF(OR($M6="Not Completed",$U6="Failed",AND($T6<>"",$T6<'Standards & Staff'!$D$2),$AA6>'Standards & Staff'!$F$2),"Yes","No")) | AC6: =IF($A6="","",IF($M6="Not Completed","Room Not Completed",IF($U6="Failed","Failed Inspection",IF(AND($T6<>"",$T6<'Standards & Staff'!$D$2),"Productivity Below Threshold",IF($AA6>'Standards & Staff'!$F$2,"Overtime Above Threshold",""))))) | AD6: Touch-up after maintenance release. | AE6: Supervisor inspection log | AF6: Approved
A7: 46032 | B7: Day | C7: HK-1002 | D7: =IFERROR(INDEX('Standards & Staff'!$B$15:$B$114,MATCH($C7,'Standards & Staff'!$A$15:$A$114,0)),"") | E7: =IFERROR(INDEX('Standards & Staff'!$C$15:$C$114,MATCH($C7,'Standards & Staff'!$A$15:$A$114,0)),"") | F7: South | G7: 431 | H7: Double Queen | I7: Checkout | J7: =IFERROR(IF($M7="Completed",INDEX('Standards & Staff'!$B$5:$B$11,MATCH($I7,'Standards & Staff'!$A$5:$A$11,0)),0),"") | K7: 0.34027778 | L7: 0.36458333 | M7: Completed | N7: =IFERROR(IF(OR($K7="",$L7=""),"",MOD($L7-$K7,1)*1440),"") | O7: 0 | P7: =IF(COUNTA($N7,$O7)=0,"",SUM($N7:$O7)) | Q7: =IFERROR(INDEX('Standards & Staff'!$C$5:$C$11,MATCH($I7,'Standards & Staff'!$A$5:$A$11,0)),"") | R7: =IFERROR(($P7/60)*INDEX('Standards & Staff'!$G$15:$G$114,MATCH($C7,'Standards & Staff'!$A$15:$A$114,0)),"") | S7: =IFERROR($N7-$Q7,"") | T7: =IFERROR($J7/$R7,"") | U7: Failed | V7: 82 | W7: Evelyn Reed | X7: 12 | Y7: =IFERROR(INDEX('Standards & Staff'!$F$15:$F$114,MATCH($C7,'Standards & Staff'!$A$15:$A$114,0)),"") | Z7: =IFERROR(($P7/60)*$Y7,"") | AA7: 0 | AB7: =IF($A7="","",IF(OR($M7="Not Completed",$U7="Failed",AND($T7<>"",$T7<'Standards & Staff'!$D$2),$AA7>'Standards & Staff'!$F$2),"Yes","No")) | AC7: =IF($A7="","",IF($M7="Not Completed","Room Not Completed",IF($U7="Failed","Failed Inspection",IF(AND($T7<>"",$T7<'Standards & Staff'!$D$2),"Productivity Below Threshold",IF($AA7>'Standards & Staff'!$F$2,"Overtime Above Threshold",""))))) | AD7: Bathroom mirror and floor required correction. | AE7: Supervisor inspection log | AF7: Reviewed
A8: 46033 | B8: Day | C8: HK-1003 | D8: =IFERROR(INDEX('Standards & Staff'!$B$15:$B$114,MATCH($C8,'Standards & Staff'!$A$15:$A$114,0)),"") | E8: =IFERROR(INDEX('Standards & Staff'!$C$15:$C$114,MATCH($C8,'Standards & Staff'!$A$15:$A$114,0)),"") | F8: Suites | G8: 1201 | H8: Suite | I8: Deep Clean | J8: =IFERROR(IF($M8="Completed",INDEX('Standards & Staff'!$B$5:$B$11,MATCH($I8,'Standards & Staff'!$A$5:$A$11,0)),0),"") | K8: 0.35416667 | L8: 0.39444444 | M8: Completed | N8: =IFERROR(IF(OR($K8="",$L8=""),"",MOD($L8-$K8,1)*1440),"") | O8: 8 | P8: =IF(COUNTA($N8,$O8)=0,"",SUM($N8:$O8)) | Q8: =IFERROR(INDEX('Standards & Staff'!$C$5:$C$11,MATCH($I8,'Standards & Staff'!$A$5:$A$11,0)),"") | R8: =IFERROR(($P8/60)*INDEX('Standards & Staff'!$G$15:$G$114,MATCH($C8,'Standards & Staff'!$A$15:$A$114,0)),"") | S8: =IFERROR($N8-$Q8,"") | T8: =IFERROR($J8/$R8,"") | U8: Recheck Passed | V8: 94 | W8: Evelyn Reed | X8: 5 | Y8: =IFERROR(INDEX('Standards & Staff'!$F$15:$F$114,MATCH($C8,'Standards & Staff'!$A$15:$A$114,0)),"") | Z8: =IFERROR(($P8/60)*$Y8,"") | AA8: 0 | AB8: =IF($A8="","",IF(OR($M8="Not Completed",$U8="Failed",AND($T8<>"",$T8<'Standards & Staff'!$D$2),$AA8>'Standards & Staff'!$F$2),"Yes","No")) | AC8: =IF($A8="","",IF($M8="Not Completed","Room Not Completed",IF($U8="Failed","Failed Inspection",IF(AND($T8<>"",$T8<'Standards & Staff'!$D$2),"Productivity Below Threshold",IF($AA8>'Standards & Staff'!$F$2,"Overtime Above Threshold",""))))) | AD8: Approved additional time for upholstery detail. | AE8: Supervisor inspection log | AF8: Approved
A9: 46034 | B9: Day | C9: HK-1005 | D9: =IFERROR(INDEX('Standards & Staff'!$B$15:$B$114,MATCH($C9,'Standards & Staff'!$A$15:$A$114,0)),"") | E9: =IFERROR(INDEX('Standards & Staff'!$C$15:$C$114,MATCH($C9,'Standards & Staff'!$A$15:$A$114,0)),"") | F9: Public Areas | H9: Other | I9: Public Area | J9: =IFERROR(IF($M9="Completed",INDEX('Standards & Staff'!$B$5:$B$11,MATCH($I9,'Standards & Staff'!$A$5:$A$11,0)),0),"") | M9: Completed | N9: =IFERROR(IF(OR($K9="",$L9=""),"",MOD($L9-$K9,1)*1440),"") | O9: 180 | P9: =IF(COUNTA($N9,$O9)=0,"",SUM($N9:$O9)) | Q9: =IFERROR(INDEX('Standards & Staff'!$C$5:$C$11,MATCH($I9,'Standards & Staff'!$A$5:$A$11,0)),"") | R9: =IFERROR(($P9/60)*INDEX('Standards & Staff'!$G$15:$G$114,MATCH($C9,'Standards & Staff'!$A$15:$A$114,0)),"") | S9: =IFERROR($N9-$Q9,"") | T9: =IFERROR($J9/$R9,"") | U9: Not Inspected | X9: 0 | Y9: =IFERROR(INDEX('Standards & Staff'!$F$15:$F$114,MATCH($C9,'Standards & Staff'!$A$15:$A$114,0)),"") | Z9: =IFERROR(($P9/60)*$Y9,"") | AA9: 0 | AB9: =IF($A9="","",IF(OR($M9="Not Completed",$U9="Failed",AND($T9<>"",$T9<'Standards & Staff'!$D$2),$AA9>'Standards & Staff'!$F$2),"Yes","No")) | AC9: =IF($A9="","",IF($M9="Not Completed","Room Not Completed",IF($U9="Failed","Failed Inspection",IF(AND($T9<>"",$T9<'Standards & Staff'!$D$2),"Productivity Below Threshold",IF($AA9>'Standards & Staff'!$F$2,"Overtime Above Threshold",""))))) | AD9: Lobby and corridor support assignment. | AE9: Manual task assignment sheet | AF9: Reviewed
A10: 46035 | B10: Day | C10: HK-1004 | D10: =IFERROR(INDEX('Standards & Staff'!$B$15:$B$114,MATCH($C10,'Standards & Staff'!$A$15:$A$114,0)),"") | E10: =IFERROR(INDEX('Standards & Staff'!$C$15:$C$114,MATCH($C10,'Standards & Staff'!$A$15:$A$114,0)),"") | F10: North | G10: 322 | H10: Standard King | I10: Checkout | J10: =IFERROR(IF($M10="Completed",INDEX('Standards & Staff'!$B$5:$B$11,MATCH($I10,'Standards & Staff'!$A$5:$A$11,0)),0),"") | K10: 0.38541667 | M10: Not Completed | N10: =IFERROR(IF(OR($K10="",$L10=""),"",MOD($L10-$K10,1)*1440),"") | O10: 10 | P10: =IF(COUNTA($N10,$O10)=0,"",SUM($N10:$O10)) | Q10: =IFERROR(INDEX('Standards & Staff'!$C$5:$C$11,MATCH($I10,'Standards & Staff'!$A$5:$A$11,0)),"") | R10: =IFERROR(($P10/60)*INDEX('Standards & Staff'!$G$15:$G$114,MATCH($C10,'Standards & Staff'!$A$15:$A$114,0)),"") | S10: =IFERROR($N10-$Q10,"") | T10: =IFERROR($J10/$R10,"") | U10: Not Inspected | X10: 0 | Y10: =IFERROR(INDEX('Standards & Staff'!$F$15:$F$114,MATCH($C10,'Standards & Staff'!$A$15:$A$114,0)),"") | Z10: =IFERROR(($P10/60)*$Y10,"") | AA10: 35 | AB10: =IF($A10="","",IF(OR($M10="Not Completed",$U10="Failed",AND($T10<>"",$T10<'Standards & Staff'!$D$2),$AA10>'Standards & Staff'!$F$2),"Yes","No")) | AC10: =IF($A10="","",IF($M10="Not Completed","Room Not Completed",IF($U10="Failed","Failed Inspection",IF(AND($T10<>"",$T10<'Standards & Staff'!$D$2),"Productivity Below Threshold",IF($AA10>'Standards & Staff'!$F$2,"Overtime Above Threshold",""))))) | AD10: Room access unavailable due to maintenance hold. | AE10: Manual room assignment sheet | AF10: Draft
A11: 46036 | B11: Evening | C11: HK-1001 | D11: =IFERROR(INDEX('Standards & Staff'!$B$15:$B$114,MATCH($C11,'Standards & Staff'!$A$15:$A$114,0)),"") | E11: =IFERROR(INDEX('Standards & Staff'!$C$15:$C$114,MATCH($C11,'Standards & Staff'!$A$15:$A$114,0)),"") | F11: North | G11: 410 | H11: Standard King | I11: Turndown | J11: =IFERROR(IF($M11="Completed",INDEX('Standards & Staff'!$B$5:$B$11,MATCH($I11,'Standards & Staff'!$A$5:$A$11,0)),0),"") | K11: 0.75347222 | L11: 0.76111111 | M11: Completed | N11: =IFERROR(IF(OR($K11="",$L11=""),"",MOD($L11-$K11,1)*1440),"") | O11: 0 | P11: =IF(COUNTA($N11,$O11)=0,"",SUM($N11:$O11)) | Q11: =IFERROR(INDEX('Standards & Staff'!$C$5:$C$11,MATCH($I11,'Standards & Staff'!$A$5:$A$11,0)),"") | R11: =IFERROR(($P11/60)*INDEX('Standards & Staff'!$G$15:$G$114,MATCH($C11,'Standards & Staff'!$A$15:$A$114,0)),"") | S11: =IFERROR($N11-$Q11,"") | T11: =IFERROR($J11/$R11,"") | U11: Passed | V11: 97 | W11: Marcus Hill | X11: 0 | Y11: =IFERROR(INDEX('Standards & Staff'!$F$15:$F$114,MATCH($C11,'Standards & Staff'!$A$15:$A$114,0)),"") | Z11: =IFERROR(($P11/60)*$Y11,"") | AA11: 0 | AB11: =IF($A11="","",IF(OR($M11="Not Completed",$U11="Failed",AND($T11<>"",$T11<'Standards & Staff'!$D$2),$AA11>'Standards & Staff'!$F$2),"Yes","No")) | AC11: =IF($A11="","",IF($M11="Not Completed","Room Not Completed",IF($U11="Failed","Failed Inspection",IF(AND($T11<>"",$T11<'Standards & Staff'!$D$2),"Productivity Below Threshold",IF($AA11>'Standards & Staff'!$F$2,"Overtime Above Threshold",""))))) | AD11: Evening turndown completed. | AE11: Supervisor inspection log | AF11: Approved
D12: =IFERROR(INDEX('Standards & Staff'!$B$15:$B$114,MATCH($C12,'Standards & Staff'!$A$15:$A$114,0)),"") | E12: =IFERROR(INDEX('Standards & Staff'!$C$15:$C$114,MATCH($C12,'Standards & Staff'!$A$15:$A$114,0)),"") | J12: =IFERROR(IF($M12="Completed",INDEX('Standards & Staff'!$B$5:$B$11,MATCH($I12,'Standards & Staff'!$A$5:$A$11,0)),0),"") | N12: =IFERROR(IF(OR($K12="",$L12=""),"",MOD($L12-$K12,1)*1440),"") | P12: =IF(COUNTA($N12,$O12)=0,"",SUM($N12:$O12)) | Q12: =IFERROR(INDEX('Standards & Staff'!$C$5:$C$11,MATCH($I12,'Standards & Staff'!$A$5:$A$11,0)),"") | R12: =IFERROR(($P12/60)*INDEX('Standards & Staff'!$G$15:$G$114,MATCH($C12,'Standards & Staff'!$A$15:$A$114,0)),"") | S12: =IFERROR($N12-$Q12,"") | T12: =IFERROR($J12/$R12,"") | Y12: =IFERROR(INDEX('Standards & Staff'!$F$15:$F$114,MATCH($C12,'Standards & Staff'!$A$15:$A$114,0)),"") | Z12: =IFERROR(($P12/60)*$Y12,"") | AB12: =IF($A12="","",IF(OR($M12="Not Completed",$U12="Failed",AND($T12<>"",$T12<'Standards & Staff'!$D$2),$AA12>'Standards & Staff'!$F$2),"Yes","No")) | AC12: =IF($A12="","",IF($M12="Not Completed","Room Not Completed",IF($U12="Failed","Failed Inspection",IF(AND($T12<>"",$T12<'Standards & Staff'!$D$2),"Productivity Below Threshold",IF($AA12>'Standards & Staff'!$F$2,"Overtime Above Threshold","")))))
D13: =IFERROR(INDEX('Standards & Staff'!$B$15:$B$114,MATCH($C13,'Standards & Staff'!$A$15:$A$114,0)),"") | E13: =IFERROR(INDEX('Standards & Staff'!$C$15:$C$114,MATCH($C13,'Standards & Staff'!$A$15:$A$114,0)),"") | J13: =IFERROR(IF($M13="Completed",INDEX('Standards & Staff'!$B$5:$B$11,MATCH($I13,'Standards & Staff'!$A$5:$A$11,0)),0),"") | N13: =IFERROR(IF(OR($K13="",$L13=""),"",MOD($L13-$K13,1)*1440),"") | P13: =IF(COUNTA($N13,$O13)=0,"",SUM($N13:$O13)) | Q13: =IFERROR(INDEX('Standards & Staff'!$C$5:$C$11,MATCH($I13,'Standards & Staff'!$A$5:$A$11,0)),"") | R13: =IFERROR(($P13/60)*INDEX('Standards & Staff'!$G$15:$G$114,MATCH($C13,'Standards & Staff'!$A$15:$A$114,0)),"") | S13: =IFERROR($N13-$Q13,"") | T13: =IFERROR($J13/$R13,"") | Y13: =IFERROR(INDEX('Standards & Staff'!$F$15:$F$114,MATCH($C13,'Standards & Staff'!$A$15:$A$114,0)),"") | Z13: =IFERROR(($P13/60)*$Y13,"") | AB13: =IF($A13="","",IF(OR($M13="Not Completed",$U13="Failed",AND($T13<>"",$T13<'Standards & Staff'!$D$2),$AA13>'Standards & Staff'!$F$2),"Yes","No")) | AC13: =IF($A13="","",IF($M13="Not Completed","Room Not Completed",IF($U13="Failed","Failed Inspection",IF(AND($T13<>"",$T13<'Standards & Staff'!$D$2),"Productivity Below Threshold",IF($AA13>'Standards & Staff'!$F$2,"Overtime Above Threshold","")))))
D14: =IFERROR(INDEX('Standards & Staff'!$B$15:$B$114,MATCH($C14,'Standards & Staff'!$A$15:$A$114,0)),"") | E14: =IFERROR(INDEX('Standards & Staff'!$C$15:$C$114,MATCH($C14,'Standards & Staff'!$A$15:$A$114,0)),"") | J14: =IFERROR(IF($M14="Completed",INDEX('Standards & Staff'!$B$5:$B$11,MATCH($I14,'Standards & Staff'!$A$5:$A$11,0)),0),"") | N14: =IFERROR(IF(OR($K14="",$L14=""),"",MOD($L14-$K14,1)*1440),"") | P14: =IF(COUNTA($N14,$O14)=0,"",SUM($N14:$O14)) | Q14: =IFERROR(INDEX('Standards & Staff'!$C$5:$C$11,MATCH($I14,'Standards & Staff'!$A$5:$A$11,0)),"") | R14: =IFERROR(($P14/60)*INDEX('Standards & Staff'!$G$15:$G$114,MATCH($C14,'Standards & Staff'!$A$15:$A$114,0)),"") | S14: =IFERROR($N14-$Q14,"") | T14: =IFERROR($J14/$R14,"") | Y14: =IFERROR(INDEX('Standards & Staff'!$F$15:$F$114,MATCH($C14,'Standards & Staff'!$A$15:$A$114,0)),"") | Z14: =IFERROR(($P14/60)*$Y14,"") | AB14: =IF($A14="","",IF(OR($M14="Not Completed",$U14="Failed",AND($T14<>"",$T14<'Standards & Staff'!$D$2),$AA14>'Standards & Staff'!$F$2),"Yes","No")) | AC14: =IF($A14="","",IF($M14="Not Completed","Room Not Completed",IF($U14="Failed","Failed Inspection",IF(AND($T14<>"",$T14<'Standards & Staff'!$D$2),"Productivity Below Threshold",IF($AA14>'Standards & Staff'!$F$2,"Overtime Above Threshold","")))))
D15: =IFERROR(INDEX('Standards & Staff'!$B$15:$B$114,MATCH($C15,'Standards & Staff'!$A$15:$A$114,0)),"") | E15: =IFERROR(INDEX('Standards & Staff'!$C$15:$C$114,MATCH($C15,'Standards & Staff'!$A$15:$A$114,0)),"") | J15: =IFERROR(IF($M15="Completed",INDEX('Standards & Staff'!$B$5:$B$11,MATCH($I15,'Standards & Staff'!$A$5:$A$11,0)),0),"") | N15: =IFERROR(IF(OR($K15="",$L15=""),"",MOD($L15-$K15,1)*1440),"") | P15: =IF(COUNTA($N15,$O15)=0,"",SUM($N15:$O15)) | Q15: =IFERROR(INDEX('Standards & Staff'!$C$5:$C$11,MATCH($I15,'Standards & Staff'!$A$5:$A$11,0)),"") | R15: =IFERROR(($P15/60)*INDEX('Standards & Staff'!$G$15:$G$114,MATCH($C15,'Standards & Staff'!$A$15:$A$114,0)),"") | S15: =IFERROR($N15-$Q15,"") | T15: =IFERROR($J15/$R15,"") | Y15: =IFERROR(INDEX('Standards & Staff'!$F$15:$F$114,MATCH($C15,'Standards & Staff'!$A$15:$A$114,0)),"") | Z15: =IFERROR(($P15/60)*$Y15,"") | AB15: =IF($A15="","",IF(OR($M15="Not Completed",$U15="Failed",AND($T15<>"",$T15<'Standards & Staff'!$D$2),$AA15>'Standards & Staff'!$F$2),"Yes","No")) | AC15: =IF($A15="","",IF($M15="Not Completed","Room Not Completed",IF($U15="Failed","Failed Inspection",IF(AND($T15<>"",$T15<'Standards & Staff'!$D$2),"Productivity Below Threshold",IF($AA15>'Standards & Staff'!$F$2,"Overtime Above Threshold","")))))
D16: =IFERROR(INDEX('Standards & Staff'!$B$15:$B$114,MATCH($C16,'Standards & Staff'!$A$15:$A$114,0)),"") | E16: =IFERROR(INDEX('Standards & Staff'!$C$15:$C$114,MATCH($C16,'Standards & Staff'!$A$15:$A$114,0)),"") | J16: =IFERROR(IF($M16="Completed",INDEX('Standards & Staff'!$B$5:$B$11,MATCH($I16,'Standards & Staff'!$A$5:$A$11,0)),0),"") | N16: =IFERROR(IF(OR($K16="",$L16=""),"",MOD($L16-$K16,1)*1440),"") | P16: =IF(COUNTA($N16,$O16)=0,"",SUM($N16:$O16)) | Q16: =IFERROR(INDEX('Standards & Staff'!$C$5:$C$11,MATCH($I16,'Standards & Staff'!$A$5:$A$11,0)),"") | R16: =IFERROR(($P16/60)*INDEX('Standards & Staff'!$G$15:$G$114,MATCH($C16,'Standards & Staff'!$A$15:$A$114,0)),"") | S16: =IFERROR($N16-$Q16,"") | T16: =IFERROR($J16/$R16,"") | Y16: =IFERROR(INDEX('Standards & Staff'!$F$15:$F$114,MATCH($C16,'Standards & Staff'!$A$15:$A$114,0)),"") | Z16: =IFERROR(($P16/60)*$Y16,"") | AB16: =IF($A16="","",IF(OR($M16="Not Completed",$U16="Failed",AND($T16<>"",$T16<'Standards & Staff'!$D$2),$AA16>'Standards & Staff'!$F$2),"Yes","No")) | AC16: =IF($A16="","",IF($M16="Not Completed","Room Not Completed",IF($U16="Failed","Failed Inspection",IF(AND($T16<>"",$T16<'Standards & Staff'!$D$2),"Productivity Below Threshold",IF($AA16>'Standards & Staff'!$F$2,"Overtime Above Threshold","")))))
D17: =IFERROR(INDEX('Standards & Staff'!$B$15:$B$114,MATCH($C17,'Standards & Staff'!$A$15:$A$114,0)),"") | E17: =IFERROR(INDEX('Standards & Staff'!$C$15:$C$114,MATCH($C17,'Standards & Staff'!$A$15:$A$114,0)),"") | J17: =IFERROR(IF($M17="Completed",INDEX('Standards & Staff'!$B$5:$B$11,MATCH($I17,'Standards & Staff'!$A$5:$A$11,0)),0),"") | N17: =IFERROR(IF(OR($K17="",$L17=""),"",MOD($L17-$K17,1)*1440),"") | P17: =IF(COUNTA($N17,$O17)=0,"",SUM($N17:$O17)) | Q17: =IFERROR(INDEX('Standards & Staff'!$C$5:$C$11,MATCH($I17,'Standards & Staff'!$A$5:$A$11,0)),"") | R17: =IFERROR(($P17/60)*INDEX('Standards & Staff'!$G$15:$G$114,MATCH($C17,'Standards & Staff'!$A$15:$A$114,0)),"") | S17: =IFERROR($N17-$Q17,"") | T17: =IFERROR($J17/$R17,"") | Y17: =IFERROR(INDEX('Standards & Staff'!$F$15:$F$114,MATCH($C17,'Standards & Staff'!$A$15:$A$114,0)),"") | Z17: =IFERROR(($P17/60)*$Y17,"") | AB17: =IF($A17="","",IF(OR($M17="Not Completed",$U17="Failed",AND($T17<>"",$T17<'Standards & Staff'!$D$2),$AA17>'Standards & Staff'!$F$2),"Yes","No")) | AC17: =IF($A17="","",IF($M17="Not Completed","Room Not Completed",IF($U17="Failed","Failed Inspection",IF(AND($T17<>"",$T17<'Standards & Staff'!$D$2),"Productivity Below Threshold",IF($AA17>'Standards & Staff'!$F$2,"Overtime Above Threshold","")))))
D18: =IFERROR(INDEX('Standards & Staff'!$B$15:$B$114,MATCH($C18,'Standards & Staff'!$A$15:$A$114,0)),"") | E18: =IFERROR(INDEX('Standards & Staff'!$C$15:$C$114,MATCH($C18,'Standards & Staff'!$A$15:$A$114,0)),"") | J18: =IFERROR(IF($M18="Completed",INDEX('Standards & Staff'!$B$5:$B$11,MATCH($I18,'Standards & Staff'!$A$5:$A$11,0)),0),"") | N18: =IFERROR(IF(OR($K18="",$L18=""),"",MOD($L18-$K18,1)*1440),"") | P18: =IF(COUNTA($N18,$O18)=0,"",SUM($N18:$O18)) | Q18: =IFERROR(INDEX('Standards & Staff'!$C$5:$C$11,MATCH($I18,'Standards & Staff'!$A$5:$A$11,0)),"") | R18: =IFERROR(($P18/60)*INDEX('Standards & Staff'!$G$15:$G$114,MATCH($C18,'Standards & Staff'!$A$15:$A$114,0)),"") | S18: =IFERROR($N18-$Q18,"") | T18: =IFERROR($J18/$R18,"") | Y18: =IFERROR(INDEX('Standards & Staff'!$F$15:$F$114,MATCH($C18,'Standards & Staff'!$A$15:$A$114,0)),"") | Z18: =IFERROR(($P18/60)*$Y18,"") | AB18: =IF($A18="","",IF(OR($M18="Not Completed",$U18="Failed",AND($T18<>"",$T18<'Standards & Staff'!$D$2),$AA18>'Standards & Staff'!$F$2),"Yes","No")) | AC18: =IF($A18="","",IF($M18="Not Completed","Room Not Completed",IF($U18="Failed","Failed Inspection",IF(AND($T18<>"",$T18<'Standards & Staff'!$D$2),"Productivity Below Threshold",IF($AA18>'Standards & Staff'!$F$2,"Overtime Above Threshold","")))))
D19: =IFERROR(INDEX('Standards & Staff'!$B$15:$B$114,MATCH($C19,'Standards & Staff'!$A$15:$A$114,0)),"") | E19: =IFERROR(INDEX('Standards & Staff'!$C$15:$C$114,MATCH($C19,'Standards & Staff'!$A$15:$A$114,0)),"") | J19: =IFERROR(IF($M19="Completed",INDEX('Standards & Staff'!$B$5:$B$11,MATCH($I19,'Standards & Staff'!$A$5:$A$11,0)),0),"") | N19: =IFERROR(IF(OR($K19="",$L19=""),"",MOD($L19-$K19,1)*1440),"") | P19: =IF(COUNTA($N19,$O19)=0,"",SUM($N19:$O19)) | Q19: =IFERROR(INDEX('Standards & Staff'!$C$5:$C$11,MATCH($I19,'Standards & Staff'!$A$5:$A$11,0)),"") | R19: =IFERROR(($P19/60)*INDEX('Standards & Staff'!$G$15:$G$114,MATCH($C19,'Standards & Staff'!$A$15:$A$114,0)),"") | S19: =IFERROR($N19-$Q19,"") | T19: =IFERROR($J19/$R19,"") | Y19: =IFERROR(INDEX('Standards & Staff'!$F$15:$F$114,MATCH($C19,'Standards & Staff'!$A$15:$A$114,0)),"") | Z19: =IFERROR(($P19/60)*$Y19,"") | AB19: =IF($A19="","",IF(OR($M19="Not Completed",$U19="Failed",AND($T19<>"",$T19<'Standards & Staff'!$D$2),$AA19>'Standards & Staff'!$F$2),"Yes","No")) | AC19: =IF($A19="","",IF($M19="Not Completed","Room Not Completed",IF($U19="Failed","Failed Inspection",IF(AND($T19<>"",$T19<'Standards & Staff'!$D$2),"Productivity Below Threshold",IF($AA19>'Standards & Staff'!$F$2,"Overtime Above Threshold","")))))
D20: =IFERROR(INDEX('Standards & Staff'!$B$15:$B$114,MATCH($C20,'Standards & Staff'!$A$15:$A$114,0)),"") | E20: =IFERROR(INDEX('Standards & Staff'!$C$15:$C$114,MATCH($C20,'Standards & Staff'!$A$15:$A$114,0)),"") | J20: =IFERROR(IF($M20="Completed",INDEX('Standards & Staff'!$B$5:$B$11,MATCH($I20,'Standards & Staff'!$A$5:$A$11,0)),0),"") | N20: =IFERROR(IF(OR($K20="",$L20=""),"",MOD($L20-$K20,1)*1440),"") | P20: =IF(COUNTA($N20,$O20)=0,"",SUM($N20:$O20)) | Q20: =IFERROR(INDEX('Standards & Staff'!$C$5:$C$11,MATCH($I20,'Standards & Staff'!$A$5:$A$11,0)),"") | R20: =IFERROR(($P20/60)*INDEX('Standards & Staff'!$G$15:$G$114,MATCH($C20,'Standards & Staff'!$A$15:$A$114,0)),"") | S20: =IFERROR($N20-$Q20,"") | T20: =IFERROR($J20/$R20,"") | Y20: =IFERROR(INDEX('Standards & Staff'!$F$15:$F$114,MATCH($C20,'Standards & Staff'!$A$15:$A$114,0)),"") | Z20: =IFERROR(($P20/60)*$Y20,"") | AB20: =IF($A20="","",IF(OR($M20="Not Completed",$U20="Failed",AND($T20<>"",$T20<'Standards & Staff'!$D$2),$AA20>'Standards & Staff'!$F$2),"Yes","No")) | AC20: =IF($A20="","",IF($M20="Not Completed","Room Not Completed",IF($U20="Failed","Failed Inspection",IF(AND($T20<>"",$T20<'Standards & Staff'!$D$2),"Productivity Below Threshold",IF($AA20>'Standards & Staff'!$F$2,"Overtime Above Threshold","")))))
D21: =IFERROR(INDEX('Standards & Staff'!$B$15:$B$114,MATCH($C21,'Standards & Staff'!$A$15:$A$114,0)),"") | E21: =IFERROR(INDEX('Standards & Staff'!$C$15:$C$114,MATCH($C21,'Standards & Staff'!$A$15:$A$114,0)),"") | J21: =IFERROR(IF($M21="Completed",INDEX('Standards & Staff'!$B$5:$B$11,MATCH($I21,'Standards & Staff'!$A$5:$A$11,0)),0),"") | N21: =IFERROR(IF(OR($K21="",$L21=""),"",MOD($L21-$K21,1)*1440),"") | P21: =IF(COUNTA($N21,$O21)=0,"",SUM($N21:$O21)) | Q21: =IFERROR(INDEX('Standards & Staff'!$C$5:$C$11,MATCH($I21,'Standards & Staff'!$A$5:$A$11,0)),"") | R21: =IFERROR(($P21/60)*INDEX('Standards & Staff'!$G$15:$G$114,MATCH($C21,'Standards & Staff'!$A$15:$A$114,0)),"") | S21: =IFERROR($N21-$Q21,"") | T21: =IFERROR($J21/$R21,"") | Y21: =IFERROR(INDEX('Standards & Staff'!$F$15:$F$114,MATCH($C21,'Standards & Staff'!$A$15:$A$114,0)),"") | Z21: =IFERROR(($P21/60)*$Y21,"") | AB21: =IF($A21="","",IF(OR($M21="Not Completed",$U21="Failed",AND($T21<>"",$T21<'Standards & Staff'!$D$2),$AA21>'Standards & Staff'!$F$2),"Yes","No")) | AC21: =IF($A21="","",IF($M21="Not Completed","Room Not Completed",IF($U21="Failed","Failed Inspection",IF(AND($T21<>"",$T21<'Standards & Staff'!$D$2),"Productivity Below Threshold",IF($AA21>'Standards & Staff'!$F$2,"Overtime Above Threshold","")))))
D22: =IFERROR(INDEX('Standards & Staff'!$B$15:$B$114,MATCH($C22,'Standards & Staff'!$A$15:$A$114,0)),"") | E22: =IFERROR(INDEX('Standards & Staff'!$C$15:$C$114,MATCH($C22,'Standards & Staff'!$A$15:$A$114,0)),"") | J22: =IFERROR(IF($M22="Completed",INDEX('Standards & Staff'!$B$5:$B$11,MATCH($I22,'Standards & Staff'!$A$5:$A$11,0)),0),"") | N22: =IFERROR(IF(OR($K22="",$L22=""),"",MOD($L22-$K22,1)*1440),"") | P22: =IF(COUNTA($N22,$O22)=0,"",SUM($N22:$O22)) | Q22: =IFERROR(INDEX('Standards & Staff'!$C$5:$C$11,MATCH($I22,'Standards & Staff'!$A$5:$A$11,0)),"") | R22: =IFERROR(($P22/60)*INDEX('Standards & Staff'!$G$15:$G$114,MATCH($C22,'Standards & Staff'!$A$15:$A$114,0)),"") | S22: =IFERROR($N22-$Q22,"") | T22: =IFERROR($J22/$R22,"") | Y22: =IFERROR(INDEX('Standards & Staff'!$F$15:$F$114,MATCH($C22,'Standards & Staff'!$A$15:$A$114,0)),"") | Z22: =IFERROR(($P22/60)*$Y22,"") | AB22: =IF($A22="","",IF(OR($M22="Not Completed",$U22="Failed",AND($T22<>"",$T22<'Standards & Staff'!$D$2),$AA22>'Standards & Staff'!$F$2),"Yes","No")) | AC22: =IF($A22="","",IF($M22="Not Completed","Room Not Completed",IF($U22="Failed","Failed Inspection",IF(AND($T22<>"",$T22<'Standards & Staff'!$D$2),"Productivity Below Threshold",IF($AA22>'Standards & Staff'!$F$2,"Overtime Above Threshold","")))))
D23: =IFERROR(INDEX('Standards & Staff'!$B$15:$B$114,MATCH($C23,'Standards & Staff'!$A$15:$A$114,0)),"") | E23: =IFERROR(INDEX('Standards & Staff'!$C$15:$C$114,MATCH($C23,'Standards & Staff'!$A$15:$A$114,0)),"") | J23: =IFERROR(IF($M23="Completed",INDEX('Standards & Staff'!$B$5:$B$11,MATCH($I23,'Standards & Staff'!$A$5:$A$11,0)),0),"") | N23: =IFERROR(IF(OR($K23="",$L23=""),"",MOD($L23-$K23,1)*1440),"") | P23: =IF(COUNTA($N23,$O23)=0,"",SUM($N23:$O23)) | Q23: =IFERROR(INDEX('Standards & Staff'!$C$5:$C$11,MATCH($I23,'Standards & Staff'!$A$5:$A$11,0)),"") | R23: =IFERROR(($P23/60)*INDEX('Standards & Staff'!$G$15:$G$114,MATCH($C23,'Standards & Staff'!$A$15:$A$114,0)),"") | S23: =IFERROR($N23-$Q23,"") | T23: =IFERROR($J23/$R23,"") | Y23: =IFERROR(INDEX('Standards & Staff'!$F$15:$F$114,MATCH($C23,'Standards & Staff'!$A$15:$A$114,0)),"") | Z23: =IFERROR(($P23/60)*$Y23,"") | AB23: =IF($A23="","",IF(OR($M23="Not Completed",$U23="Failed",AND($T23<>"",$T23<'Standards & Staff'!$D$2),$AA23>'Standards & Staff'!$F$2),"Yes","No")) | AC23: =IF($A23="","",IF($M23="Not Completed","Room Not Completed",IF($U23="Failed","Failed Inspection",IF(AND($T23<>"",$T23<'Standards & Staff'!$D$2),"Productivity Below Threshold",IF($AA23>'Standards & Staff'!$F$2,"Overtime Above Threshold","")))))
... D501: =IFERROR(INDEX('Standards & Staff'!$B$15:$B$114,MATCH($C501,'Standards & Staff'!$A$15:$A$114,0)),"") | E501: =IFERROR(INDEX('Standards & Staff'!$C$15:$C$114,MATCH($C501,'Standards & Staff'!$A$15:$A$114,0)),"") | J501: =IFERROR(IF($M501="Completed",INDEX('Standards & Staff'!$B$5:$B$11,MATCH($I501,'Standards & Staff'!$A$5:$A$11,0)),0),"") | N501: =IFERROR(IF(OR($K501="",$L501=""),"",MOD($L501-$K501,1)*1440),"") | P501: =IF(COUNTA($N501,$O501)=0,"",SUM($N501:$O501)) | Q501: =IFERROR(INDEX('Standards & Staff'!$C$5:$C$11,MATCH($I501,'Standards & Staff'!$A$5:$A$11,0)),"") | R501: =IFERROR(($P501/60)*INDEX('Standards & Staff'!$G$15:$G$114,MATCH($C501,'Standards & Staff'!$A$15:$A$114,0)),"") | S501: =IFERROR($N501-$Q501,"") | T501: =IFERROR($J501/$R501,"") | Y501: =IFERROR(INDEX('Standards & Staff'!$F$15:$F$114,MATCH($C501,'Standards & Staff'!$A$15:$A$114,0)),"") | Z501: =IFERROR(($P501/60)*$Y501,"") | AB501: =IF($A501="","",IF(OR($M501="Not Completed",$U501="Failed",AND($T501<>"",$T501<'Standards & Staff'!$D$2),$AA501>'Standards & Staff'!$F$2),"Yes","No")) | AC501: =IF($A501="","",IF($M501="Not Completed","Room Not Completed",IF($U501="Failed","Failed Inspection",IF(AND($T501<>"",$T501<'Standards & Staff'!$D$2),"Productivity Below Threshold",IF($AA501>'Standards & Staff'!$F$2,"Overtime Above Threshold","")))))

Sheet Standards & Staff
A1: Housekeeping Standards, Staff, and Validation Lists
A2: Inspection Passing Score | B2: 90 | C2: Productivity Review Threshold | D2: 0.85 | E2: Overtime Review Threshold in Minutes | F2: 30 | G2: Minutes Variance Review Threshold | H2: 10 | I2: Standard Shift Hours | J2: 8
A4: Cleaning Type | B4: Room Credits | C4: Target Minutes | D4: Requires Room Number | E4: Active
A5: Stayover | B5: 0.5 | C5: 15 | D5: Yes | E5: Yes
A6: Checkout | B6: 1 | C6: 30 | D6: Yes | E6: Yes
