Workbook

Sheet Dashboard
A1: Hotel Group Displacement Analysis
A2: Group contribution compared with expected displaced transient contribution | G2: As of Date | H2: =IFERROR(TODAY(),"")
A3: Recommendations are based on entered forecasts and assumptions. Review demand, pricing, operating capacity, and contract terms before making a final decision.
A4: Event Start From | C4: Event Start Through | E4: Sales Manager | G4: Opportunity Status | I4: Property
A5: 46023 | C5: 46387 | E5: All | G5: All | I5: =IFERROR(VLOOKUP($I$4,'Assumptions'!$A$2:$B$17,2,0),"")
A6: Open Opportunities | D6: Requested Room Nights | G6: Expected Picked-Up Room Nights
A7: =IFERROR(SUM(COUNTIF('Group Analysis'!$G$2:$G$151,"Prospect"),COUNTIF('Group Analysis'!$G$2:$G$151,"Tentative")),0) | D7: =IFERROR(SUM(SUMIFS('Group Analysis'!$M$2:$M$151,'Group Analysis'!$G$2:$G$151,"Prospect"),SUMIFS('Group Analysis'!$M$2:$M$151,'Group Analysis'!$G$2:$G$151,"Tentative")),0) | G7: =IFERROR(SUM(SUMIFS('Group Analysis'!$P$2:$P$151,'Group Analysis'!$G$2:$G$151,"Prospect"),SUMIFS('Group Analysis'!$P$2:$P$151,'Group Analysis'!$G$2:$G$151,"Tentative")),0)
A9: Expected Displaced Room Nights | D9: Total Group Contribution | G9: Displaced Transient Contribution
A10: =IFERROR(SUM(SUMIFS('Group Analysis'!$X$2:$X$151,'Group Analysis'!$G$2:$G$151,"Prospect"),SUMIFS('Group Analysis'!$X$2:$X$151,'Group Analysis'!$G$2:$G$151,"Tentative")),0) | D10: =IFERROR(SUM(SUMIFS('Group Analysis'!$AN$2:$AN$151,'Group Analysis'!$G$2:$G$151,"Prospect"),SUMIFS('Group Analysis'!$AN$2:$AN$151,'Group Analysis'!$G$2:$G$151,"Tentative")),0) | G10: =IFERROR(SUM(SUMIFS('Group Analysis'!$AA$2:$AA$151,'Group Analysis'!$G$2:$G$151,"Prospect"),SUMIFS('Group Analysis'!$AA$2:$AA$151,'Group Analysis'!$G$2:$G$151,"Tentative")),0)
A12: Net Contribution Advantage | D12: Opportunities Recommended to Accept | G12: Decisions Due or Overdue
A13: =IFERROR(SUM(SUMIFS('Group Analysis'!$AO$2:$AO$151,'Group Analysis'!$G$2:$G$151,"Prospect"),SUMIFS('Group Analysis'!$AO$2:$AO$151,'Group Analysis'!$G$2:$G$151,"Tentative")),0) | D13: =IFERROR(SUM(COUNTIFS('Group Analysis'!$G$2:$G$151,"Prospect",'Group Analysis'!$AU$2:$AU$151,"Accept"),COUNTIFS('Group Analysis'!$G$2:$G$151,"Tentative",'Group Analysis'!$AU$2:$AU$151,"Accept")),0) | G13: =IFERROR(SUM(COUNTIFS('Group Analysis'!$G$2:$G$151,"Prospect",'Group Analysis'!$I$2:$I$151,"<="&TODAY()),COUNTIFS('Group Analysis'!$G$2:$G$151,"Tentative",'Group Analysis'!$I$2:$I$151,"<="&TODAY())),0)
A15: Average Group ADR | F15: Operational Alerts | G15: Count
A16: =IFERROR(SUM(SUMIFS('Group Analysis'!$Q$2:$Q$151,'Group Analysis'!$G$2:$G$151,"Prospect"),SUMIFS('Group Analysis'!$Q$2:$Q$151,'Group Analysis'!$G$2:$G$151,"Tentative"))/SUM(SUMIFS('Group Analysis'!$P$2:$P$151,'Group Analysis'!$G$2:$G$151,"Prospect"),SUMIFS('Group Analysis'!$P$2:$P$151,'Group Analysis'!$G$2:$G$151,"Tentative")),0) | F16: Incomplete analyses | G16: =IFERROR(COUNTIF('Group Analysis'!$AX$2:$AX$151,"<>OK")-COUNTIF('Group Analysis'!$AX$2:$AX$151,""),0)
A17: ="" | F17: Capacity exceptions | G17: =IFERROR(COUNTIF('Group Analysis'!$AW$2:$AW$151,"<>OK")-COUNTIF('Group Analysis'!$AW$2:$AW$151,""),0)
A18: ="" | F18: Negative net contribution | G18: =IFERROR(COUNTIF('Group Analysis'!$AO$2:$AO$151,"<0"),0)
A19: ="" | F19: Low-profit opportunities | G19: =IFERROR(SUM(COUNTIFS('Group Analysis'!$G$2:$G$151,"Prospect",'Group Analysis'!$AN$2:$AN$151,"<"&'Assumptions'!$B$16),COUNTIFS('Group Analysis'!$G$2:$G$151,"Tentative",'Group Analysis'!$AN$2:$AN$151,"<"&'Assumptions'!$B$16)),0)
A20: ="" | F20: Overdue decisions | G20: =IFERROR(COUNTIF('Group Analysis'!$AV$2:$AV$151,"Overdue"),0)
A21: ="" | F21: Definite groups with incomplete data | G21: =IFERROR(COUNTIFS('Group Analysis'!$G$2:$G$151,"Definite",'Group Analysis'!$AX$2:$AX$151,"<>OK"),0)
A22: =""
A23: ="" | F23: Recommendation | G23: Opportunity Count | H23: Picked-Up Room Nights | I23: Net Contribution Advantage
A24: ="" | F24: Accept | G24: =IFERROR(SUM(COUNTIFS('Group Analysis'!$G$2:$G$151,"Prospect",'Group Analysis'!$AU$2:$AU$151,$F24),COUNTIFS('Group Analysis'!$G$2:$G$151,"Tentative",'Group Analysis'!$AU$2:$AU$151,$F24)),0) | H24: =IFERROR(SUM(SUMIFS('Group Analysis'!$P$2:$P$151,'Group Analysis'!$G$2:$G$151,"Prospect",'Group Analysis'!$AU$2:$AU$151,$F24),SUMIFS('Group Analysis'!$P$2:$P$151,'Group Analysis'!$G$2:$G$151,"Tentative",'Group Analysis'!$AU$2:$AU$151,$F24)),0) | I24: =IFERROR(SUM(SUMIFS('Group Analysis'!$AO$2:$AO$151,'Group Analysis'!$G$2:$G$151,"Prospect",'Group Analysis'!$AU$2:$AU$151,$F24),SUMIFS('Group Analysis'!$AO$2:$AO$151,'Group Analysis'!$G$2:$G$151,"Tentative",'Group Analysis'!$AU$2:$AU$151,$F24)),0)
A25: ="" | F25: Review | G25: =IFERROR(SUM(COUNTIFS('Group Analysis'!$G$2:$G$151,"Prospect",'Group Analysis'!$AU$2:$AU$151,$F25),COUNTIFS('Group Analysis'!$G$2:$G$151,"Tentative",'Group Analysis'!$AU$2:$AU$151,$F25)),0) | H25: =IFERROR(SUM(SUMIFS('Group Analysis'!$P$2:$P$151,'Group Analysis'!$G$2:$G$151,"Prospect",'Group Analysis'!$AU$2:$AU$151,$F25),SUMIFS('Group Analysis'!$P$2:$P$151,'Group Analysis'!$G$2:$G$151,"Tentative",'Group Analysis'!$AU$2:$AU$151,$F25)),0) | I25: =IFERROR(SUM(SUMIFS('Group Analysis'!$AO$2:$AO$151,'Group Analysis'!$G$2:$G$151,"Prospect",'Group Analysis'!$AU$2:$AU$151,$F25),SUMIFS('Group Analysis'!$AO$2:$AO$151,'Group Analysis'!$G$2:$G$151,"Tentative",'Group Analysis'!$AU$2:$AU$151,$F25)),0)
A26: ="" | F26: Decline | G26: =IFERROR(SUM(COUNTIFS('Group Analysis'!$G$2:$G$151,"Prospect",'Group Analysis'!$AU$2:$AU$151,$F26),COUNTIFS('Group Analysis'!$G$2:$G$151,"Tentative",'Group Analysis'!$AU$2:$AU$151,$F26)),0) | H26: =IFERROR(SUM(SUMIFS('Group Analysis'!$P$2:$P$151,'Group Analysis'!$G$2:$G$151,"Prospect",'Group Analysis'!$AU$2:$AU$151,$F26),SUMIFS('Group Analysis'!$P$2:$P$151,'Group Analysis'!$G$2:$G$151,"Tentative",'Group Analysis'!$AU$2:$AU$151,$F26)),0) | I26: =IFERROR(SUM(SUMIFS('Group Analysis'!$AO$2:$AO$151,'Group Analysis'!$G$2:$G$151,"Prospect",'Group Analysis'!$AU$2:$AU$151,$F26),SUMIFS('Group Analysis'!$AO$2:$AO$151,'Group Analysis'!$G$2:$G$151,"Tentative",'Group Analysis'!$AU$2:$AU$151,$F26)),0)
A27: ="" | F27: Hold / Incomplete | G27: =IFERROR(SUM(COUNTIFS('Group Analysis'!$G$2:$G$151,"Prospect",'Group Analysis'!$AU$2:$AU$151,$F27),COUNTIFS('Group Analysis'!$G$2:$G$151,"Tentative",'Group Analysis'!$AU$2:$AU$151,$F27)),0) | H27: =IFERROR(SUM(SUMIFS('Group Analysis'!$P$2:$P$151,'Group Analysis'!$G$2:$G$151,"Prospect",'Group Analysis'!$AU$2:$AU$151,$F27),SUMIFS('Group Analysis'!$P$2:$P$151,'Group Analysis'!$G$2:$G$151,"Tentative",'Group Analysis'!$AU$2:$AU$151,$F27)),0) | I27: =IFERROR(SUM(SUMIFS('Group Analysis'!$AO$2:$AO$151,'Group Analysis'!$G$2:$G$151,"Prospect",'Group Analysis'!$AU$2:$AU$151,$F27),SUMIFS('Group Analysis'!$AO$2:$AO$151,'Group Analysis'!$G$2:$G$151,"Tentative",'Group Analysis'!$AU$2:$AU$151,$F27)),0)
A28: ="" | G28: ="" | I28: =""
A29: ="" | G29: ="" | I29: =""
A30: Month | B30: Expected Picked-Up Room Nights | C30: Expected Displaced Room Nights | D30: Group Contribution | E30: Displaced Transient Contribution | F30: Net Contribution Advantage | G30: ="" | H30: Next Month | I30: =""
A31: 46023 | B31: =IFERROR(SUMIFS('Group Analysis'!$P$2:$P$151,'Group Analysis'!$J$2:$J$151,">="&$A31,'Group Analysis'!$J$2:$J$151,"<"&$H31),0) | C31: =IFERROR(SUMIFS('Group Analysis'!$X$2:$X$151,'Group Analysis'!$J$2:$J$151,">="&$A31,'Group Analysis'!$J$2:$J$151,"<"&$H31),0) | D31: =IFERROR(SUMIFS('Group Analysis'!$AN$2:$AN$151,'Group Analysis'!$J$2:$J$151,">="&$A31,'Group Analysis'!$J$2:$J$151,"<"&$H31),0) | E31: =IFERROR(SUMIFS('Group Analysis'!$AA$2:$AA$151,'Group Analysis'!$J$2:$J$151,">="&$A31,'Group Analysis'!$J$2:$J$151,"<"&$H31),0) | F31: =IFERROR(SUMIFS('Group Analysis'!$AO$2:$AO$151,'Group Analysis'!$J$2:$J$151,">="&$A31,'Group Analysis'!$J$2:$J$151,"<"&$H31),0) | G31: ="" | H31: =IFERROR($A31+31-DAY($A31+31)+1,"") | I31: =""
A32: 46054 | B32: =IFERROR(SUMIFS('Group Analysis'!$P$2:$P$151,'Group Analysis'!$J$2:$J$151,">="&$A32,'Group Analysis'!$J$2:$J$151,"<"&$H32),0) | C32: =IFERROR(SUMIFS('Group Analysis'!$X$2:$X$151,'Group Analysis'!$J$2:$J$151,">="&$A32,'Group Analysis'!$J$2:$J$151,"<"&$H32),0) | D32: =IFERROR(SUMIFS('Group Analysis'!$AN$2:$AN$151,'Group Analysis'!$J$2:$J$151,">="&$A32,'Group Analysis'!$J$2:$J$151,"<"&$H32),0) | E32: =IFERROR(SUMIFS('Group Analysis'!$AA$2:$AA$151,'Group Analysis'!$J$2:$J$151,">="&$A32,'Group Analysis'!$J$2:$J$151,"<"&$H32),0) | F32: =IFERROR(SUMIFS('Group Analysis'!$AO$2:$AO$151,'Group Analysis'!$J$2:$J$151,">="&$A32,'Group Analysis'!$J$2:$J$151,"<"&$H32),0) | G32: ="" | H32: =IFERROR($A32+31-DAY($A32+31)+1,"") | I32: =""
A33: 46082 | B33: =IFERROR(SUMIFS('Group Analysis'!$P$2:$P$151,'Group Analysis'!$J$2:$J$151,">="&$A33,'Group Analysis'!$J$2:$J$151,"<"&$H33),0) | C33: =IFERROR(SUMIFS('Group Analysis'!$X$2:$X$151,'Group Analysis'!$J$2:$J$151,">="&$A33,'Group Analysis'!$J$2:$J$151,"<"&$H33),0) | D33: =IFERROR(SUMIFS('Group Analysis'!$AN$2:$AN$151,'Group Analysis'!$J$2:$J$151,">="&$A33,'Group Analysis'!$J$2:$J$151,"<"&$H33),0) | E33: =IFERROR(SUMIFS('Group Analysis'!$AA$2:$AA$151,'Group Analysis'!$J$2:$J$151,">="&$A33,'Group Analysis'!$J$2:$J$151,"<"&$H33),0) | F33: =IFERROR(SUMIFS('Group Analysis'!$AO$2:$AO$151,'Group Analysis'!$J$2:$J$151,">="&$A33,'Group Analysis'!$J$2:$J$151,"<"&$H33),0) | G33: ="" | H33: =IFERROR($A33+31-DAY($A33+31)+1,"") | I33: =""
A34: 46113 | B34: =IFERROR(SUMIFS('Group Analysis'!$P$2:$P$151,'Group Analysis'!$J$2:$J$151,">="&$A34,'Group Analysis'!$J$2:$J$151,"<"&$H34),0) | C34: =IFERROR(SUMIFS('Group Analysis'!$X$2:$X$151,'Group Analysis'!$J$2:$J$151,">="&$A34,'Group Analysis'!$J$2:$J$151,"<"&$H34),0) | D34: =IFERROR(SUMIFS('Group Analysis'!$AN$2:$AN$151,'Group Analysis'!$J$2:$J$151,">="&$A34,'Group Analysis'!$J$2:$J$151,"<"&$H34),0) | E34: =IFERROR(SUMIFS('Group Analysis'!$AA$2:$AA$151,'Group Analysis'!$J$2:$J$151,">="&$A34,'Group Analysis'!$J$2:$J$151,"<"&$H34),0) | F34: =IFERROR(SUMIFS('Group Analysis'!$AO$2:$AO$151,'Group Analysis'!$J$2:$J$151,">="&$A34,'Group Analysis'!$J$2:$J$151,"<"&$H34),0) | G34: ="" | H34: =IFERROR($A34+31-DAY($A34+31)+1,"") | I34: =""
A35: 46143 | B35: =IFERROR(SUMIFS('Group Analysis'!$P$2:$P$151,'Group Analysis'!$J$2:$J$151,">="&$A35,'Group Analysis'!$J$2:$J$151,"<"&$H35),0) | C35: =IFERROR(SUMIFS('Group Analysis'!$X$2:$X$151,'Group Analysis'!$J$2:$J$151,">="&$A35,'Group Analysis'!$J$2:$J$151,"<"&$H35),0) | D35: =IFERROR(SUMIFS('Group Analysis'!$AN$2:$AN$151,'Group Analysis'!$J$2:$J$151,">="&$A35,'Group Analysis'!$J$2:$J$151,"<"&$H35),0) | E35: =IFERROR(SUMIFS('Group Analysis'!$AA$2:$AA$151,'Group Analysis'!$J$2:$J$151,">="&$A35,'Group Analysis'!$J$2:$J$151,"<"&$H35),0) | F35: =IFERROR(SUMIFS('Group Analysis'!$AO$2:$AO$151,'Group Analysis'!$J$2:$J$151,">="&$A35,'Group Analysis'!$J$2:$J$151,"<"&$H35),0) | G35: ="" | H35: =IFERROR($A35+31-DAY($A35+31)+1,"") | I35: =""
A36: 46174 | B36: =IFERROR(SUMIFS('Group Analysis'!$P$2:$P$151,'Group Analysis'!$J$2:$J$151,">="&$A36,'Group Analysis'!$J$2:$J$151,"<"&$H36),0) | C36: =IFERROR(SUMIFS('Group Analysis'!$X$2:$X$151,'Group Analysis'!$J$2:$J$151,">="&$A36,'Group Analysis'!$J$2:$J$151,"<"&$H36),0) | D36: =IFERROR(SUMIFS('Group Analysis'!$AN$2:$AN$151,'Group Analysis'!$J$2:$J$151,">="&$A36,'Group Analysis'!$J$2:$J$151,"<"&$H36),0) | E36: =IFERROR(SUMIFS('Group Analysis'!$AA$2:$AA$151,'Group Analysis'!$J$2:$J$151,">="&$A36,'Group Analysis'!$J$2:$J$151,"<"&$H36),0) | F36: =IFERROR(SUMIFS('Group Analysis'!$AO$2:$AO$151,'Group Analysis'!$J$2:$J$151,">="&$A36,'Group Analysis'!$J$2:$J$151,"<"&$H36),0) | G36: ="" | H36: =IFERROR($A36+31-DAY($A36+31)+1,"") | I36: =""
A37: 46204 | B37: =IFERROR(SUMIFS('Group Analysis'!$P$2:$P$151,'Group Analysis'!$J$2:$J$151,">="&$A37,'Group Analysis'!$J$2:$J$151,"<"&$H37),0) | C37: =IFERROR(SUMIFS('Group Analysis'!$X$2:$X$151,'Group Analysis'!$J$2:$J$151,">="&$A37,'Group Analysis'!$J$2:$J$151,"<"&$H37),0) | D37: =IFERROR(SUMIFS('Group Analysis'!$AN$2:$AN$151,'Group Analysis'!$J$2:$J$151,">="&$A37,'Group Analysis'!$J$2:$J$151,"<"&$H37),0) | E37: =IFERROR(SUMIFS('Group Analysis'!$AA$2:$AA$151,'Group Analysis'!$J$2:$J$151,">="&$A37,'Group Analysis'!$J$2:$J$151,"<"&$H37),0) | F37: =IFERROR(SUMIFS('Group Analysis'!$AO$2:$AO$151,'Group Analysis'!$J$2:$J$151,">="&$A37,'Group Analysis'!$J$2:$J$151,"<"&$H37),0) | G37: ="" | H37: =IFERROR($A37+31-DAY($A37+31)+1,"") | I37: =""
A38: 46235 | B38: =IFERROR(SUMIFS('Group Analysis'!$P$2:$P$151,'Group Analysis'!$J$2:$J$151,">="&$A38,'Group Analysis'!$J$2:$J$151,"<"&$H38),0) | C38: =IFERROR(SUMIFS('Group Analysis'!$X$2:$X$151,'Group Analysis'!$J$2:$J$151,">="&$A38,'Group Analysis'!$J$2:$J$151,"<"&$H38),0) | D38: =IFERROR(SUMIFS('Group Analysis'!$AN$2:$AN$151,'Group Analysis'!$J$2:$J$151,">="&$A38,'Group Analysis'!$J$2:$J$151,"<"&$H38),0) | E38: =IFERROR(SUMIFS('Group Analysis'!$AA$2:$AA$151,'Group Analysis'!$J$2:$J$151,">="&$A38,'Group Analysis'!$J$2:$J$151,"<"&$H38),0) | F38: =IFERROR(SUMIFS('Group Analysis'!$AO$2:$AO$151,'Group Analysis'!$J$2:$J$151,">="&$A38,'Group Analysis'!$J$2:$J$151,"<"&$H38),0) | G38: ="" | H38: =IFERROR($A38+31-DAY($A38+31)+1,"") | I38: =""
A39: 46266 | B39: =IFERROR(SUMIFS('Group Analysis'!$P$2:$P$151,'Group Analysis'!$J$2:$J$151,">="&$A39,'Group Analysis'!$J$2:$J$151,"<"&$H39),0) | C39: =IFERROR(SUMIFS('Group Analysis'!$X$2:$X$151,'Group Analysis'!$J$2:$J$151,">="&$A39,'Group Analysis'!$J$2:$J$151,"<"&$H39),0) | D39: =IFERROR(SUMIFS('Group Analysis'!$AN$2:$AN$151,'Group Analysis'!$J$2:$J$151,">="&$A39,'Group Analysis'!$J$2:$J$151,"<"&$H39),0) | E39: =IFERROR(SUMIFS('Group Analysis'!$AA$2:$AA$151,'Group Analysis'!$J$2:$J$151,">="&$A39,'Group Analysis'!$J$2:$J$151,"<"&$H39),0) | F39: =IFERROR(SUMIFS('Group Analysis'!$AO$2:$AO$151,'Group Analysis'!$J$2:$J$151,">="&$A39,'Group Analysis'!$J$2:$J$151,"<"&$H39),0) | G39: ="" | H39: =IFERROR($A39+31-DAY($A39+31)+1,"") | I39: =""
A40: 46296 | B40: =IFERROR(SUMIFS('Group Analysis'!$P$2:$P$151,'Group Analysis'!$J$2:$J$151,">="&$A40,'Group Analysis'!$J$2:$J$151,"<"&$H40),0) | C40: =IFERROR(SUMIFS('Group Analysis'!$X$2:$X$151,'Group Analysis'!$J$2:$J$151,">="&$A40,'Group Analysis'!$J$2:$J$151,"<"&$H40),0) | D40: =IFERROR(SUMIFS('Group Analysis'!$AN$2:$AN$151,'Group Analysis'!$J$2:$J$151,">="&$A40,'Group Analysis'!$J$2:$J$151,"<"&$H40),0) | E40: =IFERROR(SUMIFS('Group Analysis'!$AA$2:$AA$151,'Group Analysis'!$J$2:$J$151,">="&$A40,'Group Analysis'!$J$2:$J$151,"<"&$H40),0) | F40: =IFERROR(SUMIFS('Group Analysis'!$AO$2:$AO$151,'Group Analysis'!$J$2:$J$151,">="&$A40,'Group Analysis'!$J$2:$J$151,"<"&$H40),0) | G40: ="" | H40: =IFERROR($A40+31-DAY($A40+31)+1,"") | I40: =""
A41: 46327 | B41: =IFERROR(SUMIFS('Group Analysis'!$P$2:$P$151,'Group Analysis'!$J$2:$J$151,">="&$A41,'Group Analysis'!$J$2:$J$151,"<"&$H41),0) | C41: =IFERROR(SUMIFS('Group Analysis'!$X$2:$X$151,'Group Analysis'!$J$2:$J$151,">="&$A41,'Group Analysis'!$J$2:$J$151,"<"&$H41),0) | D41: =IFERROR(SUMIFS('Group Analysis'!$AN$2:$AN$151,'Group Analysis'!$J$2:$J$151,">="&$A41,'Group Analysis'!$J$2:$J$151,"<"&$H41),0) | E41: =IFERROR(SUMIFS('Group Analysis'!$AA$2:$AA$151,'Group Analysis'!$J$2:$J$151,">="&$A41,'Group Analysis'!$J$2:$J$151,"<"&$H41),0) | F41: =IFERROR(SUMIFS('Group Analysis'!$AO$2:$AO$151,'Group Analysis'!$J$2:$J$151,">="&$A41,'Group Analysis'!$J$2:$J$151,"<"&$H41),0) | G41: ="" | H41: =IFERROR($A41+31-DAY($A41+31)+1,"") | I41: =""
A42: 46357 | B42: =IFERROR(SUMIFS('Group Analysis'!$P$2:$P$151,'Group Analysis'!$J$2:$J$151,">="&$A42,'Group Analysis'!$J$2:$J$151,"<"&$H42),0) | C42: =IFERROR(SUMIFS('Group Analysis'!$X$2:$X$151,'Group Analysis'!$J$2:$J$151,">="&$A42,'Group Analysis'!$J$2:$J$151,"<"&$H42),0) | D42: =IFERROR(SUMIFS('Group Analysis'!$AN$2:$AN$151,'Group Analysis'!$J$2:$J$151,">="&$A42,'Group Analysis'!$J$2:$J$151,"<"&$H42),0) | E42: =IFERROR(SUMIFS('Group Analysis'!$AA$2:$AA$151,'Group Analysis'!$J$2:$J$151,">="&$A42,'Group Analysis'!$J$2:$J$151,"<"&$H42),0) | F42: =IFERROR(SUMIFS('Group Analysis'!$AO$2:$AO$151,'Group Analysis'!$J$2:$J$151,">="&$A42,'Group Analysis'!$J$2:$J$151,"<"&$H42),0) | G42: ="" | H42: =IFERROR($A42+31-DAY($A42+31)+1,"") | I42: =""
A43: ="" | B43: ="" | C43: ="" | D43: ="" | E43: ="" | F43: ="" | G43: ="" | H43: ="" | I43: =""
...

Sheet Group Analysis
A1: Analysis ID | B1: External Reference | C1: Group Name | D1: Organization | E1: Event Type | F1: Sales Manager | G1: Opportunity Status | H1: Inquiry Date | I1: Decision Due Date | J1: Event Start Date | K1: Event End Date | L1: Peak Rooms | M1: Requested Room Nights | N1: Group ADR | O1: Expected Wash % | P1: Expected Picked-Up Room Nights | Q1: Group Room Revenue | R1: Room Variable Cost per Occupied Room | S1: Group Room Variable Cost | T1: Available Room Nights Before Group | U1: Forecast Transient Demand Room Nights | V1: Forecast Transient ADR | W1: Transient Variable Cost per Occupied Room | X1: Expected Displaced Room Nights | Y1: Displaced Transient Room Revenue | Z1: Avoided Transient Variable Cost | AA1: Displaced Transient Contribution | AB1: Food and Beverage Revenue | AC1: Meeting Room Rental | AD1: Other Group Revenue | AE1: Service Charge Rate | AF1: Service Charge Revenue Included | AG1: Food and Beverage Cost % | AH1: Food and Beverage Cost | AI1: Other Direct Group Costs | AJ1: Concessions Value | AK1: Incremental Labor Cost | AL1: Total Group Revenue | AM1: Total Group Direct Costs | AN1: Group Contribution | AO1: Net Contribution Advantage | AP1: Contribution per Picked-Up Room Night | AQ1: Group ADR Premium / (Discount) | AR1: Group ADR Index | AS1: Displacement Ratio | AT1: Contribution Margin | AU1: Recommendation | AV1: Decision Timing | AW1: Capacity Check | AX1: Data Check | AY1: Decision Notes | AZ1: Last Reviewed Date
A2: GDA-2026-001 | B2: SC-HPH-6101 | C2: Apex Medical Leadership Summit | D2: Apex Medical Collaborative | E2: Corporate Meeting | F2: Jordan Lee | G2: Tentative | H2: 46030 | I2: 46266 | J2: 46062 | K2: 46064 | L2: 52 | M2: 140 | N2: 219 | O2: 0.06 | P2: =IFERROR(IF($A2="","",ROUND($M2*(1-$O2),0)),"") | Q2: =IFERROR(IF($A2="","",$P2*$N2),"") | R2: 22 | S2: =IFERROR(IF($A2="","",$P2*$R2),"") | T2: 660 | U2: 430 | V2: 249 | W2: 20 | X2: =IFERROR(IF($A2="","",MIN($P2,MAX(0,$U2+$P2-$T2))),"") | Y2: =IFERROR(IF($A2="","",$X2*$V2),"") | Z2: =IFERROR(IF($A2="","",$X2*$W2),"") | AA2: =IFERROR(IF($A2="","",$Y2-$Z2),"") | AB2: 24000 | AC2: 9000 | AD2: 1800 | AE2: 0.24 | AF2: =IFERROR(IF($A2="","",$AB2*$AE2),"") | AG2: 0.32 | AH2: =IFERROR(IF($A2="","",$AB2*$AG2),"") | AI2: 1500 | AJ2: 600 | AK2: 2300 | AL2: =IFERROR(IF($A2="","",SUM($Q2,$AB2,$AC2,$AD2,$AF2)),"") | AM2: =IFERROR(IF($A2="","",SUM($S2,$AH2,$AI2,$AJ2,$AK2)),"") | AN2: =IFERROR(IF($A2="","",$AL2-$AM2),"") | AO2: =IFERROR(IF($A2="","",$AN2-$AA2),"") | AP2: =IFERROR(IF($A2="","",$AN2/$P2),"") | AQ2: =IFERROR(IF($A2="","",$N2-$V2),"") | AR2: =IFERROR(IF($A2="","",$N2/$V2),"") | AS2: =IFERROR(IF($A2="","",$X2/$P2),"") | AT2: =IFERROR(IF($A2="","",$AN2/$AL2),"") | AU2: =IFERROR(IF($A2="","",IF($AX2<>"OK","Hold / Incomplete",IF($AO2>='Assumptions'!$B$14,"Accept",IF($AO2>='Assumptions'!$B$15,"Review","Decline")))),"Hold / Incomplete") | AV2: =IFERROR(IF($A2="","",IF(OR($G2="Lost",$G2="Canceled"),"Closed",IF($I2="","Missing Due Date",IF($I2<TODAY(),"Overdue",IF($I2=TODAY(),"Due Today",IF($I2<=TODAY()+7,"Due Within 7 Days","Future")))))),"") | AW2: =IFERROR(IF($A2="","",IF(OR($L2="",$M2="",$T2="",$U2=""),"Missing Inputs",IF($P2>$T2,"Capacity Exceeded",IF($L2>'Assumptions'!$B$3,"Peak Review",IF($O2>'Assumptions'!$B$17,"Wash Alert","OK"))))),"Missing Inputs") | AX2: =IFERROR(IF($A2="","",IF($A2="","Missing ID",IF(OR($J2="",$K2=""),"Missing Dates",IF($K2<$J2,"End Before Start",IF(OR($M2="",$T2=""),"Missing Room Nights",IF($N2="","Missing Group ADR",IF(OR($U2="",$V2=""),"Missing Transient Forecast",IF(COUNTIF($A$2:$A$151,$A2)>1,"Duplicate ID",IF($AW2<>"OK","Capacity Issue","OK"))))))))),"Missing Inputs") | AY2: Strong shoulder-night meeting value and flexible setup. | AZ2: 46034
A3: GDA-2026-002 | B3: SC-HPH-6118 | C3: Midwest Builders Annual Conference | D3: Midwest Builders Forum | E3: Association Meeting | F3: Morgan Reed | G3: Prospect | H3: 46042 | I3: 46275 | J3: 46096 | K3: 46099 | L3: 95 | M3: 330 | N3: 205 | O3: 0.08 | P3: =IFERROR(IF($A3="","",ROUND($M3*(1-$O3),0)),"") | Q3: =IFERROR(IF($A3="","",$P3*$N3),"") | R3: 22 | S3: =IFERROR(IF($A3="","",$P3*$R3),"") | T3: 880 | U3: 700 | V3: 238 | W3: 20 | X3: =IFERROR(IF($A3="","",MIN($P3,MAX(0,$U3+$P3-$T3))),"") | Y3: =IFERROR(IF($A3="","",$X3*$V3),"") | Z3: =IFERROR(IF($A3="","",$X3*$W3),"") | AA3: =IFERROR(IF($A3="","",$Y3-$Z3),"") | AB3: 52000 | AC3: 12000 | AD3: 3500 | AE3: 0.24 | AF3: =IFERROR(IF($A3="","",$AB3*$AE3),"") | AG3: 0.32 | AH3: =IFERROR(IF($A3="","",$AB3*$AG3),"") | AI3: 4200 | AJ3: 1800 | AK3: 6800 | AL3: =IFERROR(IF($A3="","",SUM($Q3,$AB3,$AC3,$AD3,$AF3)),"") | AM3: =IFERROR(IF($A3="","",SUM($S3,$AH3,$AI3,$AJ3,$AK3)),"") | AN3: =IFERROR(IF($A3="","",$AL3-$AM3),"") | AO3: =IFERROR(IF($A3="","",$AN3-$AA3),"") | AP3: =IFERROR(IF($A3="","",$AN3/$P3),"") | AQ3: =IFERROR(IF($A3="","",$N3-$V3),"") | AR3: =IFERROR(IF($A3="","",$N3/$V3),"") | AS3: =IFERROR(IF($A3="","",$X3/$P3),"") | AT3: =IFERROR(IF($A3="","",$AN3/$AL3),"") | AU3: =IFERROR(IF($A3="","",IF($AX3<>"OK","Hold / Incomplete",IF($AO3>='Assumptions'!$B$14,"Accept",IF($AO3>='Assumptions'!$B$15,"Review","Decline")))),"Hold / Incomplete") | AV3: =IFERROR(IF($A3="","",IF(OR($G3="Lost",$G3="Canceled"),"Closed",IF($I3="","Missing Due Date",IF($I3<TODAY(),"Overdue",IF($I3=TODAY(),"Due Today",IF($I3<=TODAY()+7,"Due Within 7 Days","Future")))))),"") | AW3: =IFERROR(IF($A3="","",IF(OR($L3="",$M3="",$T3="",$U3=""),"Missing Inputs",IF($P3>$T3,"Capacity Exceeded",IF($L3>'Assumptions'!$B$3,"Peak Review",IF($O3>'Assumptions'!$B$17,"Wash Alert","OK"))))),"Missing Inputs") | AX3: =IFERROR(IF($A3="","",IF($A3="","Missing ID",IF(OR($J3="",$K3=""),"Missing Dates",IF($K3<$J3,"End Before Start",IF(OR($M3="",$T3=""),"Missing Room Nights",IF($N3="","Missing Group ADR",IF(OR($U3="",$V3=""),"Missing Transient Forecast",IF(COUNTIF($A$2:$A$151,$A3)>1,"Duplicate ID",IF($AW3<>"OK","Capacity Issue","OK"))))))))),"Missing Inputs") | AY3: 46055
A4: GDA-2026-003 | B4: EVT-6264 | C4: Rivera-Wilson Wedding Weekend | D4: Rivera-Wilson Celebration | E4: Wedding | F4: Casey Bennett | G4: Tentative | H4: 46063 | I4: 46113 | J4: 46164 | K4: 46166 | L4: 58 | M4: 135 | N4: 229 | O4: 0.12 | P4: =IFERROR(IF($A4="","",ROUND($M4*(1-$O4),0)),"") | Q4: =IFERROR(IF($A4="","",$P4*$N4),"") | R4: 22 | S4: =IFERROR(IF($A4="","",$P4*$R4),"") | T4: 660 | U4: 610 | V4: 289 | W4: 20 | X4: =IFERROR(IF($A4="","",MIN($P4,MAX(0,$U4+$P4-$T4))),"") | Y4: =IFERROR(IF($A4="","",$X4*$V4),"") | Z4: =IFERROR(IF($A4="","",$X4*$W4),"") | AA4: =IFERROR(IF($A4="","",$Y4-$Z4),"") | AB4: 48000 | AC4: 4500 | AD4: 2500 | AE4: 0.24 | AF4: =IFERROR(IF($A4="","",$AB4*$AE4),"") | AG4: 0.34 | AH4: =IFERROR(IF($A4="","",$AB4*$AG4),"") | AI4: 3800 | AJ4: 2200 | AK4: 5200 | AL4: =IFERROR(IF($A4="","",SUM($Q4,$AB4,$AC4,$AD4,$AF4)),"") | AM4: =IFERROR(IF($A4="","",SUM($S4,$AH4,$AI4,$AJ4,$AK4)),"") | AN4: =IFERROR(IF($A4="","",$AL4-$AM4),"") | AO4: =IFERROR(IF($A4="","",$AN4-$AA4),"") | AP4: =IFERROR(IF($A4="","",$AN4/$P4),"") | AQ4: =IFERROR(IF($A4="","",$N4-$V4),"") | AR4: =IFERROR(IF($A4="","",$N4/$V4),"") | AS4: =IFERROR(IF($A4="","",$X4/$P4),"") | AT4: =IFERROR(IF($A4="","",$AN4/$AL4),"") | AU4: =IFERROR(IF($A4="","",IF($AX4<>"OK","Hold / Incomplete",IF($AO4>='Assumptions'!$B$14,"Accept",IF($AO4>='Assumptions'!$B$15,"Review","Decline")))),"Hold / Incomplete") | AV4: =IFERROR(IF($A4="","",IF(OR($G4="Lost",$G4="Canceled"),"Closed",IF($I4="","Missing Due Date",IF($I4<TODAY(),"Overdue",IF($I4=TODAY(),"Due Today",IF($I4<=TODAY()+7,"Due Within 7 Days","Future")))))),"") | AW4: =IFERROR(IF($A4="","",IF(OR($L4="",$M4="",$T4="",$U4=""),"Missing Inputs",IF($P4>$T4,"Capacity Exceeded",IF($L4>'Assumptions'!$B$3,"Peak Review",IF($O4>'Assumptions'!$B$17,"Wash Alert","OK"))))),"Missing Inputs") | AX4: =IFERROR(IF($A4="","",IF($A4="","Missing ID",IF(OR($J4="",$K4=""),"Missing Dates",IF($K4<$J4,"End Before Start",IF(OR($M4="",$T4=""),"Missing Room Nights",IF($N4="","Missing Group ADR",IF(OR($U4="",$V4=""),"Missing Transient Forecast",IF(COUNTIF($A$2:$A$151,$A4)>1,"Duplicate ID",IF($AW4<>"OK","Capacity Issue","OK"))))))))),"Missing Inputs") | AY4: 46082
A5: GDA-2026-004 | B5: SC-HPH-6340 | C5: Capital Tech Product Launch | D5: Capital Tech Labs | E5: Corporate Meeting | F5: Taylor Brooks | G5: Prospect | H5: 46086 | I5: 46152 | J5: 46189 | K5: 46191 | L5: 105 | M5: 300 | N5: 235 | O5: 0.05 | P5: =IFERROR(IF($A5="","",ROUND($M5*(1-$O5),0)),"") | Q5: =IFERROR(IF($A5="","",$P5*$N5),"") | R5: 22 | S5: =IFERROR(IF($A5="","",$P5*$R5),"") | T5: 660 | U5: 640 | V5: 389 | W5: 20 | X5: =IFERROR(IF($A5="","",MIN($P5,MAX(0,$U5+$P5-$T5))),"") | Y5: =IFERROR(IF($A5="","",$X5*$V5),"") | Z5: =IFERROR(IF($A5="","",$X5*$W5),"") | AA5: =IFERROR(IF($A5="","",$Y5-$Z5),"") | AB5: 18000 | AC5: 5000 | AD5: 2500 | AE5: 0.22 | AF5: =IFERROR(IF($A5="","",$AB5*$AE5),"") | AG5: 0.32 | AH5: =IFERROR(IF($A5="","",$AB5*$AG5),"") | AI5: 7000 | AJ5: 5000 | AK5: 9000 | AL5: =IFERROR(IF($A5="","",SUM($Q5,$AB5,$AC5,$AD5,$AF5)),"") | AM5: =IFERROR(IF($A5="","",SUM($S5,$AH5,$AI5,$AJ5,$AK5)),"") | AN5: =IFERROR(IF($A5="","",$AL5-$AM5),"") | AO5: =IFERROR(IF($A5="","",$AN5-$AA5),"") | AP5: =IFERROR(IF($A5="","",$AN5/$P5),"") | AQ5: =IFERROR(IF($A5="","",$N5-$V5),"") | AR5: =IFERROR(IF($A5="","",$N5/$V5),"") | AS5: =IFERROR(IF($A5="","",$X5/$P5),"") | AT5: =IFERROR(IF($A5="","",$AN5/$AL5),"") | AU5: =IFERROR(IF($A5="","",IF($AX5<>"OK","Hold / Incomplete",IF($AO5>='Assumptions'!$B$14,"Accept",IF($AO5>='Assumptions'!$B$15,"Review","Decline")))),"Hold / Incomplete") | AV5: =IFERROR(IF($A5="","",IF(OR($G5="Lost",$G5="Canceled"),"Closed",IF($I5="","Missing Due Date",IF($I5<TODAY(),"Overdue",IF($I5=TODAY(),"Due Today",IF($I5<=TODAY()+7,"Due Within 7 Days","Future")))))),"") | AW5: =IFERROR(IF($A5="","",IF(OR($L5="",$M5="",$T5="",$U5=""),"Missing Inputs",IF($P5>$T5,"Capacity Exceeded",IF($L5>'Assumptions'!$B$3,"Peak Review",IF($O5>'Assumptions'!$B$17,"Wash Alert","OK"))))),"Missing Inputs") | AX5: =IFERROR(IF($A5="","",IF($A5="","Missing ID",IF(OR($J5="",$K5=""),"Missing Dates",IF($K5<$J5,"End Before Start",IF(OR($M5="",$T5=""),"Missing Room Nights",IF($N5="","Missing Group ADR",IF(OR($U5="",$V5=""),"Missing Transient Forecast",IF(COUNTIF($A$2:$A$151,$A5)>1,"Duplicate ID",IF($AW5<>"OK","Capacity Issue","OK"))))))))),"Missing Inputs") | AY5: 46099
A6: GDA-2026-005 | B6: TEAM-2760 | C6: Lakeside Youth Soccer Club | D6: Lakeside Athletics Network | E6: Sports Group | F6: Avery Collins | G6: Prospect | H6: 46114 | I6: 46164 | J6: 46213 | K6: 46215 | L6: 88 | M6: 225 | N6: 159 | O6: 0.24 | P6: =IFERROR(IF($A6="","",ROUND($M6*(1-$O6),0)),"") | Q6: =IFERROR(IF($A6="","",$P6*$N6),"") | R6: 22 | S6: =IFERROR(IF($A6="","",$P6*$R6),"") | T6: 660 | U6: 600 | V6: 269 | W6: 20 | X6: =IFERROR(IF($A6="","",MIN($P6,MAX(0,$U6+$P6-$T6))),"") | Y6: =IFERROR(IF($A6="","",$X6*$V6),"") | Z6: =IFERROR(IF($A6="","",$X6*$W6),"") | AA6: =IFERROR(IF($A6="","",$Y6-$Z6),"") | AB6: 3500 | AC6: 0 | AD6: 500 | AE6: 0.1 | AF6: =IFERROR(IF($A6="","",$AB6*$AE6),"") | AG6: 0.35 | AH6: =IFERROR(IF($A6="","",$AB6*$AG6),"") | AI6: 4800 | AJ6: 2400 | AK6: 3200 | AL6: =IFERROR(IF($A6="","",SUM($Q6,$AB6,$AC6,$AD6,$AF6)),"") | AM6: =IFERROR(IF($A6="","",SUM($S6,$AH6,$AI6,$AJ6,$AK6)),"") | AN6: =IFERROR(IF($A6="","",$AL6-$AM6),"") | AO6: =IFERROR(IF($A6="","",$AN6-$AA6),"") | AP6: =IFERROR(IF($A6="","",$AN6/$P6),"") | AQ6: =IFERROR(IF($A6="","",$N6-$V6),"") | AR6: =IFERROR(IF($A6="","",$N6/$V6),"") | AS6: =IFERROR(IF($A6="","",$X6/$P6),"") | AT6: =IFERROR(IF($A6="","",$AN6/$AL6),"") | AU6: =IFERROR(IF($A6="","",IF($AX6<>"OK","Hold / Incomplete",IF($AO6>='Assumptions'!$B$14,"Accept",IF($AO6>='Assumptions'!$B$15,"Review","Decline")))),"Hold / Incomplete") | AV6: =IFERROR(IF($A6="","",IF(OR($G6="Lost",$G6="Canceled"),"Closed",IF($I6="","Missing Due Date",IF($I6<TODAY(),"Overdue",IF($I6=TODAY(),"Due Today",IF($I6<=TODAY()+7,"Due Within 7 Days","Future")))))),"") | AW6: =IFERROR(IF($A6="","",IF(OR($L6="",$M6="",$T6="",$U6=""),"Missing Inputs",IF($P6>$T6,"Capacity Exceeded",IF($L6>'Assumptions'!$B$3,"Peak Review",IF($O6>'Assumptions'!$B$17,"Wash Alert","OK"))))),"Missing Inputs") | AX6: =IFERROR(IF($A6="","",IF($A6="","Missing ID",IF(OR($J6="",$K6=""),"Missing Dates",IF($K6<$J6,"End Before Start",IF(OR($M6="",$T6=""),"Missing Room Nights",IF($N6="","Missing Group ADR",IF(OR($U6="",$V6=""),"Missing Transient Forecast",IF(COUNTIF($A$2:$A$151,$A6)>1,"Duplicate ID",IF($AW6<>"OK","Capacity Issue","OK"))))))))),"Missing Inputs") | AY6: 46127
A7: GDA-2026-006 | B7: GOV-8144 | C7: State Transportation Workshop | D7: Regional Transportation Council | E7: Government | F7: Jordan Lee | G7: Tentative | H7: 46146 | I7: 46188 | J7: 46237 | K7: 46239 | L7: 48 | M7: 128 | N7: 188 | O7: 0.05 | P7: =IFERROR(IF($A7="","",ROUND($M7*(1-$O7),0)),"") | Q7: =IFERROR(IF($A7="","",$P7*$N7),"") | R7: 22 | S7: =IFERROR(IF($A7="","",$P7*$R7),"") | T7: 660 | U7: 430 | V7: 209 | W7: 20 | X7: =IFERROR(IF($A7="","",MIN($P7,MAX(0,$U7+$P7-$T7))),"") | Y7: =IFERROR(IF($A7="","",$X7*$V7),"") | Z7: =IFERROR(IF($A7="","",$X7*$W7),"") | AA7: =IFERROR(IF($A7="","",$Y7-$Z7),"") | AB7: 16000 | AC7: 7500 | AD7: 900 | AE7: 0.18 | AF7: =IFERROR(IF($A7="","",$AB7*$AE7),"") | AG7: 0.31 | AH7: =IFERROR(IF($A7="","",$AB7*$AG7),"") | AI7: 1200 | AJ7: 300 | AK7: 1700 | AL7: =IFERROR(IF($A7="","",SUM($Q7,$AB7,$AC7,$AD7,$AF7)),"") | AM7: =IFERROR(IF($A7="","",SUM($S7,$AH7,$AI7,$AJ7,$AK7)),"") | AN7: =IFERROR(IF($A7="","",$AL7-$AM7),"") | AO7: =IFERROR(IF($A7="","",$AN7-$AA7),"") | AP7: =IFERROR(IF($A7="","",$AN7/$P7),"") | AQ7: =IFERROR(IF($A7="","",$N7-$V7),"") | AR7: =IFERROR(IF($A7="","",$N7/$V7),"") | AS7: =IFERROR(IF($A7="","",$X7/$P7),"") | AT7: =IFERROR(IF($A7="","",$AN7/$AL7),"") | AU7: =IFERROR(IF($A7="","",IF($AX7<>"OK","Hold / Incomplete",IF($AO7>='Assumptions'!$B$14,"Accept",IF($AO7>='Assumptions'!$B$15,"Review","Decline")))),"Hold / Incomplete") | AV7: =IFERROR(IF($A7="","",IF(OR($G7="Lost",$G7="Canceled"),"Closed",IF($I7="","Missing Due Date",IF($I7<TODAY(),"Overdue",IF($I7=TODAY(),"Due Today",IF($I7<=TODAY()+7,"Due Within 7 Days","Future")))))),"") | AW7: =IFERROR(IF($A7="","",IF(OR($L7="",$M7="",$T7="",$U7=""),"Missing Inputs",IF($P7>$T7,"Capacity Exceeded",IF($L7>'Assumptions'!$B$3,"Peak Review",IF($O7>'Assumptions'!$B$17,"Wash Alert","OK"))))),"Missing Inputs") | AX7: =IFERROR(IF($A7="","",IF($A7="","Missing ID",IF(OR($J7="",$K7=""),"Missing Dates",IF($K7<$J7,"End Before Start",IF(OR($M7="",$T7=""),"Missing Room Nights",IF($N7="","Missing Group ADR",IF(OR($U7="",$V7=""),"Missing Transient Forecast",IF(COUNTIF($A$2:$A$151,$A7)>1,"Duplicate ID",IF($AW7<>"OK","Capacity Issue","OK"))))))))),"Missing Inputs") | AY7: 46162
A8: GDA-2026-007 | B8: TOUR-9031 | C8: Heritage Coach Tour Series | D8: Heritage Journey Partners | E8: Tour Group | F8: Morgan Reed | G8: Definite | H8: 46167 | I8: 46204 | J8: 46278 | K8: 46280 | L8: 62 | M8: 180 | N8: 169 | O8: 0.04 | P8: =IFERROR(IF($A8="","",ROUND($M8*(1-$O8),0)),"") | Q8: =IFERROR(IF($A8="","",$P8*$N8),"") | R8: 22 | S8: =IFERROR(IF($A8="","",$P8*$R8),"") | T8: 660 | U8: 540 | V8: 219 | W8: 20 | X8: =IFERROR(IF($A8="","",MIN($P8,MAX(0,$U8+$P8-$T8))),"") | Y8: =IFERROR(IF($A8="","",$X8*$V8),"") | Z8: =IFERROR(IF($A8="","",$X8*$W8),"") | AA8: =IFERROR(IF($A8="","",$Y8-$Z8),"") | AB8: 6500 | AC8: 0 | AD8: 800 | AE8: 0.12 | AF8: =IFERROR(IF($A8="","",$AB8*$AE8),"") | AG8: 0.3 | AH8: =IFERROR(IF($A8="","",$AB8*$AG8),"") | AI8: 1800 | AJ8: 900 | AK8: 1400 | AL8: =IFERROR(IF($A8="","",SUM($Q8,$AB8,$AC8,$AD8,$AF8)),"") | AM8: =IFERROR(IF($A8="","",SUM($S8,$AH8,$AI8,$AJ8,$AK8)),"") | AN8: =IFERROR(IF($A8="","",$AL8-$AM8),"") | AO8: =IFERROR(IF($A8="","",$AN8-$AA8),"") | AP8: =IFERROR(IF($A8="","",$AN8/$P8),"") | AQ8: =IFERROR(IF($A8="","",$N8-$V8),"") | AR8: =IFERROR(IF($A8="","",$N8/$V8),"") | AS8: =IFERROR(IF($A8="","",$X8/$P8),"") | AT8: =IFERROR(IF($A8="","",$AN8/$AL8),"") | AU8: =IFERROR(IF($A8="","",IF($AX8<>"OK","Hold / Incomplete",IF($AO8>='Assumptions'!$B$14,"Accept",IF($AO8>='Assumptions'!$B$15,"Review","Decline")))),"Hold / Incomplete") | AV8: =IFERROR(IF($A8="","",IF(OR($G8="Lost",$G8="Canceled"),"Closed",IF($I8="","Missing Due Date",IF($I8<TODAY(),"Overdue",IF($I8=TODAY(),"Due Today",IF($I8<=TODAY()+7,"Due Within 7 Days","Future")))))),"") | AW8: =IFERROR(IF($A8="","",IF(OR($L8="",$M8="",$T8="",$U8=""),"Missing Inputs",IF($P8>$T8,"Capacity Exceeded",IF($L8>'Assumptions'!$B$3,"Peak Review",IF($O8>'Assumptions'!$B$17,"Wash Alert","OK"))))),"Missing Inputs") | AX8: =IFERROR(IF($A8="","",IF($A8="","Missing ID",IF(OR($J8="",$K8=""),"Missing Dates",IF($K8<$J8,"End Before Start",IF(OR($M8="",$T8=""),"Missing Room Nights",IF($N8="","Missing Group ADR",IF(OR($U8="",$V8=""),"Missing Transient Forecast",IF(COUNTIF($A$2:$A$151,$A8)>1,"Duplicate ID",IF($AW8<>"OK","Capacity Issue","OK"))))))))),"Missing Inputs") | AY8: 46181
A9: GDA-2026-008 | B9: SC-HPH-6498 | C9: National Retail Holiday Planning Meeting | D9: National Retail Strategy Group | E9: Corporate Meeting | F9: Taylor Brooks | G9: Tentative | H9: 46183 | I9: 46246 | J9: 46300 | K9: 46302 | L9: 82 | M9: 230 | N9: 249 | O9: 0.07 | P9: =IFERROR(IF($A9="","",ROUND($M9*(1-$O9),0)),"") | Q9: =IFERROR(IF($A9="","",$P9*$N9),"") | R9: 22 | S9: =IFERROR(IF($A9="","",$P9*$R9),"") | T9: 660 | U9: 590 | V9: 319 | W9: 20 | X9: =IFERROR(IF($A9="","",MIN($P9,MAX(0,$U9+$P9-$T9))),"") | Y9: =IFERROR(IF($A9="","",$X9*$V9),"") | Z9: =IFERROR(IF($A9="","",$X9*$W9),"") | AA9: =IFERROR(IF($A9="","",$Y9-$Z9),"") | AB9: 36000 | AC9: 9500 | AD9: 2200 | AE9: 0.24 | AF9: =IFERROR(IF($A9="","",$AB9*$AE9),"") | AG9: 0.32 | AH9: =IFERROR(IF($A9="","",$AB9*$AG9),"") | AI9: 3900 | AJ9: 1700 | AK9: 5600 | AL9: =IFERROR(IF($A9="","",SUM($Q9,$AB9,$AC9,$AD9,$AF9)),"") | AM9: =IFERROR(IF($A9="","",SUM($S9,$AH9,$AI9,$AJ9,$AK9)),"") | AN9: =IFERROR(IF($A9="","",$AL9-$AM9),"") | AO9: =IFERROR(IF($A9="","",$AN9-$AA9),"") | AP9: =IFERROR(IF($A9="","",$AN9/$P9),"") | AQ9: =IFERROR(IF($A9="","",$N9-$V9),"") | AR9: =IFERROR(IF($A9="","",$N9/$V9),"") | AS9: =IFERROR(IF($A9="","",$X9/$P9),"") | AT9: =IFERROR(IF($A9="","",$AN9/$AL9),"") | AU9: =IFERROR(IF($A9="","",IF($AX9<>"OK","Hold / Incomplete",IF($AO9>='Assumptions'!$B$14,"Accept",IF($AO9>='Assumptions'!$B$15,"Review","Decline")))),"Hold / Incomplete") | AV9: =IFERROR(IF($A9="","",IF(OR($G9="Lost",$G9="Canceled"),"Closed",IF($I9="","Missing Due Date",IF($I9<TODAY(),"Overdue",IF($I9=TODAY(),"Due Today",IF($I9<=TODAY()+7,"Due Within 7 Days","Future")))))),"") | AW9: =IFERROR(IF($A9="","",IF(OR($L9="",$M9="",$T9="",$U9=""),"Missing Inputs",IF($P9>$T9,"Capacity Exceeded",IF($L9>'Assumptions'!$B$3,"Peak Review",IF($O9>'Assumptions'!$B$17,"Wash Alert","OK"))))),"Missing Inputs") | AX9: =IFERROR(IF($A9="","",IF($A9="","Missing ID",IF(OR($J9="",$K9=""),"Missing Dates",IF($K9<$J9,"End Before Start",IF(OR($M9="",$T9=""),"Missing Room Nights",IF($N9="","Missing Group ADR",IF(OR($U9="",$V9=""),"Missing Transient Forecast",IF(COUNTIF($A$2:$A$151,$A9)>1,"Duplicate ID",IF($AW9<>"OK","Capacity Issue","OK"))))))))),"Missing Inputs") | AY9: 46198
A10: GDA-2026-009 | B10: EVT-6620 | C10: Community Health Foundation Gala | D10: Community Wellness Foundation | E10: Social Event | F10: Casey Bennett | G10: Prospect | H10: 46215 | I10: 46266 | J10: 46333 | K10: 46334 | L10: 28 | M10: 48 | N10: 239 | O10: 0.05 | P10: =IFERROR(IF($A10="","",ROUND($M10*(1-$O10),0)),"") | Q10: =IFERROR(IF($A10="","",$P10*$N10),"") | R10: 22 | S10: =IFERROR(IF($A10="","",$P10*$R10),"") | T10: 440 | U10: 310 | W10: 20 | X10: =IFERROR(IF($A10="","",MIN($P10,MAX(0,$U10+$P10-$T10))),"") | Y10: =IFERROR(IF($A10="","",$X10*$V10),"") | Z10: =IFERROR(IF($A10="","",$X10*$W10),"") | AA10: =IFERROR(IF($A10="","",$Y10-$Z10),"") | AB10: 68000 | AC10: 12000 | AD10: 4000 | AE10: 0.24 | AF10: =IFERROR(IF($A10="","",$AB10*$AE10),"") | AG10: 0.33 | AH10: =IFERROR(IF($A10="","",$AB10*$AG10),"") | AI10: 6500 | AJ10: 1800 | AK10: 8500 | AL10: =IFERROR(IF($A10="","",SUM($Q10,$AB10,$AC10,$AD10,$AF10)),"") | AM10: =IFERROR(IF($A10="","",SUM($S10,$AH10,$AI10,$AJ10,$AK10)),"") | AN10: =IFERROR(IF($A10="","",$AL10-$AM10),"") | AO10: =IFERROR(IF($A10="","",$AN10-$AA10),"") | AP10: =IFERROR(IF($A10="","",$AN10/$P10),"") | AQ10: =IFERROR(IF($A10="","",$N10-$V10),"") | AR10: =IFERROR(IF($A10="","",$N10/$V10),"") | AS10: =IFERROR(IF($A10="","",$X10/$P10),"") | AT10: =IFERROR(IF($A10="","",$AN10/$AL10),"") | AU10: =IFERROR(IF($A10="","",IF($AX10<>"OK","Hold / Incomplete",IF($AO10>='Assumptions'!$B$14,"Accept",IF($AO10>='Assumptions'!$B$15,"Review","Decline")))),"Hold / Incomplete") | AV10: =IFERROR(IF($A10="","",IF(OR($G10="Lost",$G10="Canceled"),"Closed",IF($I10="","Missing Due Date",IF($I10<TODAY(),"Overdue",IF($I10=TODAY(),"Due Today",IF($I10<=TODAY()+7,"Due Within 7 Days","Future")))))),"") | AW10: =IFERROR(IF($A10="","",IF(OR($L10="",$M10="",$T10="",$U10=""),"Missing Inputs",IF($P10>$T10,"Capacity Exceeded",IF($L10>'Assumptions'!$B$3,"Peak Review",IF($O10>'Assumptions'!$B$17,"Wash Alert","OK"))))),"Missing Inputs") | AX10: =IFERROR(IF($A10="","",IF($A10="","Missing ID",IF(OR($J10="",$K10=""),"Missing Dates",IF($K10<$J10,"End Before Start",IF(OR($M10="",$T10=""),"Missing Room Nights",IF($N10="","Missing Group ADR",IF(OR($U10="",$V10=""),"Missing Transient Forecast",IF(COUNTIF($A$2:$A$151,$A10)>1,"Duplicate ID",IF($AW10<>"OK","Capacity Issue","OK"))))))))),"Missing Inputs") | AY10: 46223
P11: =IFERROR(IF($A11="","",ROUND($M11*(1-$O11),0)),"") | Q11: =IFERROR(IF($A11="","",$P11*$N11),"") | S11: =IFERROR(IF($A11="","",$P11*$R11),"") | X11: =IFERROR(IF($A11="","",MIN($P11,MAX(0,$U11+$P11-$T11))),"") | Y11: =IFERROR(IF($A11="","",$X11*$V11),"") | Z11: =IFERROR(IF($A11="","",$X11*$W11),"") | AA11: =IFERROR(IF($A11="","",$Y11-$Z11),"") | AF11: =IFERROR(IF($A11="","",$AB11*$AE11),"") | AH11: =IFERROR(IF($A11="","",$AB11*$AG11),"") | AL11: =IFERROR(IF($A11="","",SUM($Q11,$AB11,$AC11,$AD11,$AF11)),"") | AM11: =IFERROR(IF($A11="","",SUM($S11,$AH11,$AI11,$AJ11,$AK11)),"") | AN11: =IFERROR(IF($A11="","",$AL11-$AM11),"") | AO11: =IFERROR(IF($A11="","",$AN11-$AA11),"") | AP11: =IFERROR(IF($A11="","",$AN11/$P11),"") | AQ11: =IFERROR(IF($A11="","",$N11-$V11),"") | AR11: =IFERROR(IF($A11="","",$N11/$V11),"") | AS11: =IFERROR(IF($A11="","",$X11/$P11),"") | AT11: =IFERROR(IF($A11="","",$AN11/$AL11),"") | AU11: =IFERROR(IF($A11="","",IF($AX11<>"OK","Hold / Incomplete",IF($AO11>='Assumptions'!$B$14,"Accept",IF($AO11>='Assumptions'!$B$15,"Review","Decline")))),"Hold / Incomplete") | AV11: =IFERROR(IF($A11="","",IF(OR($G11="Lost",$G11="Canceled"),"Closed",IF($I11="","Missing Due Date",IF($I11<TODAY(),"Overdue",IF($I11=TODAY(),"Due Today",IF($I11<=TODAY()+7,"Due Within 7 Days","Future")))))),"") | AW11: =IFERROR(IF($A11="","",IF(OR($L11="",$M11="",$T11="",$U11=""),"Missing Inputs",IF($P11>$T11,"Capacity Exceeded",IF($L11>'Assumptions'!$B$3,"Peak Review",IF($O11>'Assumptions'!$B$17,"Wash Alert","OK"))))),"Missing Inputs") | AX11: =IFERROR(IF($A11="","",IF($A11="","Missing ID",IF(OR($J11="",$K11=""),"Missing Dates",IF($K11<$J11,"End Before Start",IF(OR($M11="",$T11=""),"Missing Room Nights",IF($N11="","Missing Group ADR",IF(OR($U11="",$V11=""),"Missing Transient Forecast",IF(COUNTIF($A$2:$A$151,$A11)>1,"Duplicate ID",IF($AW11<>"OK","Capacity Issue","OK"))))))))),"Missing Inputs")
P12: =IFERROR(IF($A12="","",ROUND($M12*(1-$O12),0)),"") | Q12: =IFERROR(IF($A12="","",$P12*$N12),"") | S12: =IFERROR(IF($A12="","",$P12*$R12),"") | X12: =IFERROR(IF($A12="","",MIN($P12,MAX(0,$U12+$P12-$T12))),"") | Y12: =IFERROR(IF($A12="","",$X12*$V12),"") | Z12: =IFERROR(IF($A12="","",$X12*$W12),"") | AA12: =IFERROR(IF($A12="","",$Y12-$Z12),"") | AF12: =IFERROR(IF($A12="","",$AB12*$AE12),"") | AH12: =IFERROR(IF($A12="","",$AB12*$AG12),"") | AL12: =IFERROR(IF($A12="","",SUM($Q12,$AB12,$AC12,$AD12,$AF12)),"") | AM12: =IFERROR(IF($A12="","",SUM($S12,$AH12,$AI12,$AJ12,$AK12)),"") | AN12: =IFERROR(IF($A12="","",$AL12-$AM12),"") | AO12: =IFERROR(IF($A12="","",$AN12-$AA12),"") | AP12: =IFERROR(IF($A12="","",$AN12/$P12),"") | AQ12: =IFERROR(IF($A12="","",$N12-$V12),"") | AR12: =IFERROR(IF($A12="","",$N12/$V12),"") | AS12: =IFERROR(IF($A12="","",$X12/$P12),"") | AT12: =IFERROR(IF($A12="","",$AN12/$AL12),"") | AU12: =IFERROR(IF($A12="","",IF($AX12<>"OK","Hold / Incomplete",IF($AO12>='Assumptions'!$B$14,"Accept",IF($AO12>='Assumptions'!$B$15,"Review","Decline")))),"Hold / Incomplete") | AV12: =IFERROR(IF($A12="","",IF(OR($G12="Lost",$G12="Canceled"),"Closed",IF($I12="","Missing Due Date",IF($I12<TODAY(),"Overdue",IF($I12=TODAY(),"Due Today",IF($I12<=TODAY()+7,"Due Within 7 Days","Future")))))),"") | AW12: =IFERROR(IF($A12="","",IF(OR($L12="",$M12="",$T12="",$U12=""),"Missing Inputs",IF($P12>$T12,"Capacity Exceeded",IF($L12>'Assumptions'!$B$3,"Peak Review",IF($O12>'Assumptions'!$B$17,"Wash Alert","OK"))))),"Missing Inputs") | AX12: =IFERROR(IF($A12="","",IF($A12="","Missing ID",IF(OR($J12="",$K12=""),"Missing Dates",IF($K12<$J12,"End Before Start",IF(OR($M12="",$T12=""),"Missing Room Nights",IF($N12="","Missing Group ADR",IF(OR($U12="",$V12=""),"Missing Transient Forecast",IF(COUNTIF($A$2:$A$151,$A12)>1,"Duplicate ID",IF($AW12<>"OK","Capacity Issue","OK"))))))))),"Missing Inputs")
P13: =IFERROR(IF($A13="","",ROUND($M13*(1-$O13),0)),"") | Q13: =IFERROR(IF($A13="","",$P13*$N13),"") | S13: =IFERROR(IF($A13="","",$P13*$R13),"") | X13: =IFERROR(IF($A13="","",MIN($P13,MAX(0,$U13+$P13-$T13))),"") | Y13: =IFERROR(IF($A13="","",$X13*$V13),"") | Z13: =IFERROR(IF($A13="","",$X13*$W13),"") | AA13: =IFERROR(IF($A13="","",$Y13-$Z13),"") | AF13: =IFERROR(IF($A13="","",$AB13*$AE13),"") | AH13: =IFERROR(IF($A13="","",$AB13*$AG13),"") | AL13: =IFERROR(IF($A13="","",SUM($Q13,$AB13,$AC13,$AD13,$AF13)),"") | AM13: =IFERROR(IF($A13="","",SUM($S13,$AH13,$AI13,$AJ13,$AK13)),"") | AN13: =IFERROR(IF($A13="","",$AL13-$AM13),"") | AO13: =IFERROR(IF($A13="","",$AN13-$AA13),"") | AP13: =IFERROR(IF($A13="","",$AN13/$P13),"") | AQ13: =IFERROR(IF($A13="","",$N13-$V13),"") | AR13: =IFERROR(IF($A13="","",$N13/$V13),"") | AS13: =IFERROR(IF($A13="","",$X13/$P13),"") | AT13: =IFERROR(IF($A13="","",$AN13/$AL13),"") | AU13: =IFERROR(IF($A13="","",IF($AX13<>"OK","Hold / Incomplete",IF($AO13>='Assumptions'!$B$14,"Accept",IF($AO13>='Assumptions'!$B$15,"Review","Decline")))),"Hold / Incomplete") | AV13: =IFERROR(IF($A13="","",IF(OR($G13="Lost",$G13="Canceled"),"Closed",IF($I13="","Missing Due Date",IF($I13<TODAY(),"Overdue",IF($I13=TODAY(),"Due Today",IF($I13<=TODAY()+7,"Due Within 7 Days","Future")))))),"") | AW13: =IFERROR(IF($A13="","",IF(OR($L13="",$M13="",$T13="",$U13=""),"Missing Inputs",IF($P13>$T13,"Capacity Exceeded",IF($L13>'Assumptions'!$B$3,"Peak Review",IF($O13>'Assumptions'!$B$17,"Wash Alert","OK"))))),"Missing Inputs") | AX13: =IFERROR(IF($A13="","",IF($A13="","Missing ID",IF(OR($J13="",$K13=""),"Missing Dates",IF($K13<$J13,"End Before Start",IF(OR($M13="",$T13=""),"Missing Room Nights",IF($N13="","Missing Group ADR",IF(OR($U13="",$V13=""),"Missing Transient Forecast",IF(COUNTIF($A$2:$A$151,$A13)>1,"Duplicate ID",IF($AW13<>"OK","Capacity Issue","OK"))))))))),"Missing Inputs")
P14: =IFERROR(IF($A14="","",ROUND($M14*(1-$O14),0)),"") | Q14: =IFERROR(IF($A14="","",$P14*$N14),"") | S14: =IFERROR(IF($A14="","",$P14*$R14),"") | X14: =IFERROR(IF($A14="","",MIN($P14,MAX(0,$U14+$P14-$T14))),"") | Y14: =IFERROR(IF($A14="","",$X14*$V14),"") | Z14: =IFERROR(IF($A14="","",$X14*$W14),"") | AA14: =IFERROR(IF($A14="","",$Y14-$Z14),"") | AF14: =IFERROR(IF($A14="","",$AB14*$AE14),"") | AH14: =IFERROR(IF($A14="","",$AB14*$AG14),"") | AL14: =IFERROR(IF($A14="","",SUM($Q14,$AB14,$AC14,$AD14,$AF14)),"") | AM14: =IFERROR(IF($A14="","",SUM($S14,$AH14,$AI14,$AJ14,$AK14)),"") | AN14: =IFERROR(IF($A14="","",$AL14-$AM14),"") | AO14: =IFERROR(IF($A14="","",$AN14-$AA14),"") | AP14: =IFERROR(IF($A14="","",$AN14/$P14),"") | AQ14: =IFERROR(IF($A14="","",$N14-$V14),"") | AR14: =IFERROR(IF($A14="","",$N14/$V14),"") | AS14: =IFERROR(IF($A14="","",$X14/$P14),"") | AT14: =IFERROR(IF($A14="","",$AN14/$AL14),"") | AU14: =IFERROR(IF($A14="","",IF($AX14<>"OK","Hold / Incomplete",IF($AO14>='Assumptions'!$B$14,"Accept",IF($AO14>='Assumptions'!$B$15,"Review","Decline")))),"Hold / Incomplete") | AV14: =IFERROR(IF($A14="","",IF(OR($G14="Lost",$G14="Canceled"),"Closed",IF($I14="","Missing Due Date",IF($I14<TODAY(),"Overdue",IF($I14=TODAY(),"Due Today",IF($I14<=TODAY()+7,"Due Within 7 Days","Future")))))),"") | AW14: =IFERROR(IF($A14="","",IF(OR($L14="",$M14="",$T14="",$U14=""),"Missing Inputs",IF($P14>$T14,"Capacity Exceeded",IF($L14>'Assumptions'!$B$3,"Peak Review",IF($O14>'Assumptions'!$B$17,"Wash Alert","OK"))))),"Missing Inputs") | AX14: =IFERROR(IF($A14="","",IF($A14="","Missing ID",IF(OR($J14="",$K14=""),"Missing Dates",IF($K14<$J14,"End Before Start",IF(OR($M14="",$T14=""),"Missing Room Nights",IF($N14="","Missing Group ADR",IF(OR($U14="",$V14=""),"Missing Transient Forecast",IF(COUNTIF($A$2:$A$151,$A14)>1,"Duplicate ID",IF($AW14<>"OK","Capacity Issue","OK"))))))))),"Missing Inputs")
P15: =IFERROR(IF($A15="","",ROUND($M15*(1-$O15),0)),"") | Q15: =IFERROR(IF($A15="","",$P15*$N15),"") | S15: =IFERROR(IF($A15="","",$P15*$R15),"") | X15: =IFERROR(IF($A15="","",MIN($P15,MAX(0,$U15+$P15-$T15))),"") | Y15: =IFERROR(IF($A15="","",$X15*$V15),"") | Z15: =IFERROR(IF($A15="","",$X15*$W15),"") | AA15: =IFERROR(IF($A15="","",$Y15-$Z15),"") | AF15: =IFERROR(IF($A15="","",$AB15*$AE15),"") | AH15: =IFERROR(IF($A15="","",$AB15*$AG15),"") | AL15: =IFERROR(IF($A15="","",SUM($Q15,$AB15,$AC15,$AD15,$AF15)),"") | AM15: =IFERROR(IF($A15="","",SUM($S15,$AH15,$AI15,$AJ15,$AK15)),"") | AN15: =IFERROR(IF($A15="","",$AL15-$AM15),"") | AO15: =IFERROR(IF($A15="","",$AN15-$AA15),"") | AP15: =IFERROR(IF($A15="","",$AN15/$P15),"") | AQ15: =IFERROR(IF($A15="","",$N15-$V15),"") | AR15: =IFERROR(IF($A15="","",$N15/$V15),"") | AS15: =IFERROR(IF($A15="","",$X15/$P15),"") | AT15: =IFERROR(IF($A15="","",$AN15/$AL15),"") | AU15: =IFERROR(IF($A15="","",IF($AX15<>"OK","Hold / Incomplete",IF($AO15>='Assumptions'!$B$14,"Accept",IF($AO15>='Assumptions'!$B$15,"Review","Decline")))),"Hold / Incomplete") | AV15: =IFERROR(IF($A15="","",IF(OR($G15="Lost",$G15="Canceled"),"Closed",IF($I15="","Missing Due Date",IF($I15<TODAY(),"Overdue",IF($I15=TODAY(),"Due Today",IF($I15<=TODAY()+7,"Due Within 7 Days","Future")))))),"") | AW15: =IFERROR(IF($A15="","",IF(OR($L15="",$M15="",$T15="",$U15=""),"Missing Inputs",IF($P15>$T15,"Capacity Exceeded",IF($L15>'Assumptions'!$B$3,"Peak Review",IF($O15>'Assumptions'!$B$17,"Wash Alert","OK"))))),"Missing Inputs") | AX15: =IFERROR(IF($A15="","",IF($A15="","Missing ID",IF(OR($J15="",$K15=""),"Missing Dates",IF($K15<$J15,"End Before Start",IF(OR($M15="",$T15=""),"Missing Room Nights",IF($N15="","Missing Group ADR",IF(OR($U15="",$V15=""),"Missing Transient Forecast",IF(COUNTIF($A$2:$A$151,$A15)>1,"Duplicate ID",IF($AW15<>"OK","Capacity Issue","OK"))))))))),"Missing Inputs")
P16: =IFERROR(IF($A16="","",ROUND($M16*(1-$O16),0)),"") | Q16: =IFERROR(IF($A16="","",$P16*$N16),"") | S16: =IFERROR(IF($A16="","",$P16*$R16),"") | X16: =IFERROR(IF($A16="","",MIN($P16,MAX(0,$U16+$P16-$T16))),"") | Y16: =IFERROR(IF($A16="","",$X16*$V16),"") | Z16: =IFERROR(IF($A16="","",$X16*$W16),"") | AA16: =IFERROR(IF($A16="","",$Y16-$Z16),"") | AF16: =IFERROR(IF($A16="","",$AB16*$AE16),"") | AH16: =IFERROR(IF($A16="","",$AB16*$AG16),"") | AL16: =IFERROR(IF($A16="","",SUM($Q16,$AB16,$AC16,$AD16,$AF16)),"") | AM16: =IFERROR(IF($A16="","",SUM($S16,$AH16,$AI16,$AJ16,$AK16)),"") | AN16: =IFERROR(IF($A16="","",$AL16-$AM16),"") | AO16: =IFERROR(IF($A16="","",$AN16-$AA16),"") | AP16: =IFERROR(IF($A16="","",$AN16/$P16),"") | AQ16: =IFERROR(IF($A16="","",$N16-$V16),"") | AR16: =IFERROR(IF($A16="","",$N16/$V16),"") | AS16: =IFERROR(IF($A16="","",$X16/$P16),"") | AT16: =IFERROR(IF($A16="","",$AN16/$AL16),"") | AU16: =IFERROR(IF($A16="","",IF($AX16<>"OK","Hold / Incomplete",IF($AO16>='Assumptions'!$B$14,"Accept",IF($AO16>='Assumptions'!$B$15,"Review","Decline")))),"Hold / Incomplete") | AV16: =IFERROR(IF($A16="","",IF(OR($G16="Lost",$G16="Canceled"),"Closed",IF($I16="","Missing Due Date",IF($I16<TODAY(),"Overdue",IF($I16=TODAY(),"Due Today",IF($I16<=TODAY()+7,"Due Within 7 Days","Future")))))),"") | AW16: =IFERROR(IF($A16="","",IF(OR($L16="",$M16="",$T16="",$U16=""),"Missing Inputs",IF($P16>$T16,"Capacity Exceeded",IF($L16>'Assumptions'!$B$3,"Peak Review",IF($O16>'Assumptions'!$B$17,"Wash Alert","OK"))))),"Missing Inputs") | AX16: =IFERROR(IF($A16="","",IF($A16="","Missing ID",IF(OR($J16="",$K16=""),"Missing Dates",IF($K16<$J16,"End Before Start",IF(OR($M16="",$T16=""),"Missing Room Nights",IF($N16="","Missing Group ADR",IF(OR($U16="",$V16=""),"Missing Transient Forecast",IF(COUNTIF($A$2:$A$151,$A16)>1,"Duplicate ID",IF($AW16<>"OK","Capacity Issue","OK"))))))))),"Missing Inputs")
P17: =IFERROR(IF($A17="","",ROUND($M17*(1-$O17),0)),"") | Q17: =IFERROR(IF($A17="","",$P17*$N17),"") | S17: =IFERROR(IF($A17="","",$P17*$R17),"") | X17: =IFERROR(IF($A17="","",MIN($P17,MAX(0,$U17+$P17-$T17))),"") | Y17: =IFERROR(IF($A17="","",$X17*$V17),"") | Z17: =IFERROR(IF($A17="","",$X17*$W17),"") | AA17: =IFERROR(IF($A17="","",$Y17-$Z17),"") | AF17: =IFERROR(IF($A17="","",$AB17*$AE17),"") | AH17: =IFERROR(IF($A17="","",$AB17*$AG17),"") | AL17: =IFERROR(IF($A17="","",SUM($Q17,$AB17,$AC17,$AD17,$AF17)),"") | AM17: =IFERROR(IF($A17="","",SUM($S17,$AH17,$AI17,$AJ17,$AK17)),"") | AN17: =IFERROR(IF($A17="","",$AL17-$AM17),"") | AO17: =IFERROR(IF($A17="","",$AN17-$AA17),"") | AP17: =IFERROR(IF($A17="","",$AN17/$P17),"") | AQ17: =IFERROR(IF($A17="","",$N17-$V17),"") | AR17: =IFERROR(IF($A17="","",$N17/$V17),"") | AS17: =IFERROR(IF($A17="","",$X17/$P17),"") | AT17: =IFERROR(IF($A17="","",$AN17/$AL17),"") | AU17: =IFERROR(IF($A17="","",IF($AX17<>"OK","Hold / Incomplete",IF($AO17>='Assumptions'!$B$14,"Accept",IF($AO17>='Assumptions'!$B$15,"Review","Decline")))),"Hold / Incomplete") | AV17: =IFERROR(IF($A17="","",IF(OR($G17="Lost",$G17="Canceled"),"Closed",IF($I17="","Missing Due Date",IF($I17<TODAY(),"Overdue",IF($I17=TODAY(),"Due Today",IF($I17<=TODAY()+7,"Due Within 7 Days","Future")))))),"") | AW17: =IFERROR(IF($A17="","",IF(OR($L17="",$M17="",$T17="",$U17=""),"Missing Inputs",IF($P17>$T17,"Capacity Exceeded",IF($L17>'Assumptions'!$B$3,"Peak Review",IF($O17>'Assumptions'!$B$17,"Wash Alert","OK"))))),"Missing Inputs") | AX17: =IFERROR(IF($A17="","",IF($A17="","Missing ID",IF(OR($J17="",$K17=""),"Missing Dates",IF($K17<$J17,"End Before Start",IF(OR($M17="",$T17=""),"Missing Room Nights",IF($N17="","Missing Group ADR",IF(OR($U17="",$V17=""),"Missing Transient Forecast",IF(COUNTIF($A$2:$A$151,$A17)>1,"Duplicate ID",IF($AW17<>"OK","Capacity Issue","OK"))))))))),"Missing Inputs")
P18: =IFERROR(IF($A18="","",ROUND($M18*(1-$O18),0)),"") | Q18: =IFERROR(IF($A18="","",$P18*$N18),"") | S18: =IFERROR(IF($A18="","",$P18*$R18),"") | X18: =IFERROR(IF($A18="","",MIN($P18,MAX(0,$U18+$P18-$T18))),"") | Y18: =IFERROR(IF($A18="","",$X18*$V18),"") | Z18: =IFERROR(IF($A18="","",$X18*$W18),"") | AA18: =IFERROR(IF($A18="","",$Y18-$Z18),"") | AF18: =IFERROR(IF($A18="","",$AB18*$AE18),"") | AH18: =IFERROR(IF($A18="","",$AB18*$AG18),"") | AL18: =IFERROR(IF($A18="","",SUM($Q18,$AB18,$AC18,$AD18,$AF18)),"") | AM18: =IFERROR(IF($A18="","",SUM($S18,$AH18,$AI18,$AJ18,$AK18)),"") | AN18: =IFERROR(IF($A18="","",$AL18-$AM18),"") | AO18: =IFERROR(IF($A18="","",$AN18-$AA18),"") | AP18: =IFERROR(IF($A18="","",$AN18/$P18),"") | AQ18: =IFERROR(IF($A18="","",$N18-$V18),"") | AR18: =IFERROR(IF($A18="","",$N18/$V18),"") | AS18: =IFERROR(IF($A18="","",$X18/$P18),"") | AT18: =IFERROR(IF($A18="","",$AN18/$AL18),"") | AU18: =IFERROR(IF($A18="","",IF($AX18<>"OK","Hold / Incomplete",IF($AO18>='Assumptions'!$B$14,"Accept",IF($AO18>='Assumptions'!$B$15,"Review","Decline")))),"Hold / Incomplete") | AV18: =IFERROR(IF($A18="","",IF(OR($G18="Lost",$G18="Canceled"),"Closed",IF($I18="","Missing Due Date",IF($I18<TODAY(),"Overdue",IF($I18=TODAY(),"Due Today",IF($I18<=TODAY()+7,"Due Within 7 Days","Future")))))),"") | AW18: =IFERROR(IF($A18="","",IF(OR($L18="",$M18="",$T18="",$U18=""),"Missing Inputs",IF($P18>$T18,"Capacity Exceeded",IF($L18>'Assumptions'!$B$3,"Peak Review",IF($O18>'Assumptions'!$B$17,"Wash Alert","OK"))))),"Missing Inputs") | AX18: =IFERROR(IF($A18="","",IF($A18="","Missing ID",IF(OR($J18="",$K18=""),"Missing Dates",IF($K18<$J18,"End Before Start",IF(OR($M18="",$T18=""),"Missing Room Nights",IF($N18="","Missing Group ADR",IF(OR($U18="",$V18=""),"Missing Transient Forecast",IF(COUNTIF($A$2:$A$151,$A18)>1,"Duplicate ID",IF($AW18<>"OK","Capacity Issue","OK"))))))))),"Missing Inputs")
P19: =IFERROR(IF($A19="","",ROUND($M19*(1-$O19),0)),"") | Q19: =IFERROR(IF($A19="","",$P19*$N19),"") | S19: =IFERROR(IF($A19="","",$P19*$R19),"") | X19: =IFERROR(IF($A19="","",MIN($P19,MAX(0,$U19+$P19-$T19))),"") | Y19: =IFERROR(IF($A19="","",$X19*$V19),"") | Z19: =IFERROR(IF($A19="","",$X19*$W19),"") | AA19: =IFERROR(IF($A19="","",$Y19-$Z19),"") | AF19: =IFERROR(IF($A19="","",$AB19*$AE19),"") | AH19: =IFERROR(IF($A19="","",$AB19*$AG19),"") | AL19: =IFERROR(IF($A19="","",SUM($Q19,$AB19,$AC19,$AD19,$AF19)),"") | AM19: =IFERROR(IF($A19="","",SUM($S19,$AH19,$AI19,$AJ19,$AK19)),"") | AN19: =IFERROR(IF($A19="","",$AL19-$AM19),"") | AO19: =IFERROR(IF($A19="","",$AN19-$AA19),"") | AP19: =IFERROR(IF($A19="","",$AN19/$P19),"") | AQ19: =IFERROR(IF($A19="","",$N19-$V19),"") | AR19: =IFERROR(IF($A19="","",$N19/$V19),"") | AS19: =IFERROR(IF($A19="","",$X19/$P19),"") | AT19: =IFERROR(IF($A19="","",$AN19/$AL19),"") | AU19: =IFERROR(IF($A19="","",IF($AX19<>"OK","Hold / Incomplete",IF($AO19>='Assumptions'!$B$14,"Accept",IF($AO19>='Assumptions'!$B$15,"Review","Decline")))),"Hold / Incomplete") | AV19: =IFERROR(IF($A19="","",IF(OR($G19="Lost",$G19="Canceled"),"Closed",IF($I19="","Missing Due Date",IF($I19<TODAY(),"Overdue",IF($I19=TODAY(),"Due Today",IF($I19<=TODAY()+7,"Due Within 7 Days","Future")))))),"") | AW19: =IFERROR(IF($A19="","",IF(OR($L19="",$M19="",$T19="",$U19=""),"Missing Inputs",IF($P19>$T19,"Capacity Exceeded",IF($L19>'Assumptions'!$B$3,"Peak Review",IF($O19>'Assumptions'!$B$17,"Wash Alert","OK"))))),"Missing Inputs") | AX19: =IFERROR(IF($A19="","",IF($A19="","Missing ID",IF(OR($J19="",$K19=""),"Missing Dates",IF($K19<$J19,"End Before Start",IF(OR($M19="",$T19=""),"Missing Room Nights",IF($N19="","Missing Group ADR",IF(OR($U19="",$V19=""),"Missing Transient Forecast",IF(COUNTIF($A$2:$A$151,$A19)>1,"Duplicate ID",IF($AW19<>"OK","Capacity Issue","OK"))))))))),"Missing Inputs")
P20: =IFERROR(IF($A20="","",ROUND($M20*(1-$O20),0)),"") | Q20: =IFERROR(IF($A20="","",$P20*$N20),"") | S20: =IFERROR(IF($A20="","",$P20*$R20),"") | X20: =IFERROR(IF($A20="","",MIN($P20,MAX(0,$U20+$P20-$T20))),"") | Y20: =IFERROR(IF($A20="","",$X20*$V20),"") | Z20: =IFERROR(IF($A20="","",$X20*$W20),"") | AA20: =IFERROR(IF($A20="","",$Y20-$Z20),"") | AF20: =IFERROR(IF($A20="","",$AB20*$AE20),"") | AH20: =IFERROR(IF($A20="","",$AB20*$AG20),"") | AL20: =IFERROR(IF($A20="","",SUM($Q20,$AB20,$AC20,$AD20,$AF20)),"") | AM20: =IFERROR(IF($A20="","",SUM($S20,$AH20,$AI20,$AJ20,$AK20)),"") | AN20: =IFERROR(IF($A20="","",$AL20-$AM20),"") | AO20: =IFERROR(IF($A20="","",$AN20-$AA20),"") | AP20: =IFERROR(IF($A20="","",$AN20/$P20),"") | AQ20: =IFERROR(IF($A20="","",$N20-$V20),"") | AR20: =IFERROR(IF($A20="","",$N20/$V20),"") | AS20: =IFERROR(IF($A20="","",$X20/$P20),"") | AT20: =IFERROR(IF($A20="","",$AN20/$AL20),"") | AU20: =IFERROR(IF($A20="","",IF($AX20<>"OK","Hold / Incomplete",IF($AO20>='Assumptions'!$B$14,"Accept",IF($AO20>='Assumptions'!$B$15,"Review","Decline")))),"Hold / Incomplete") | AV20: =IFERROR(IF($A20="","",IF(OR($G20="Lost",$G20="Canceled"),"Closed",IF($I20="","Missing Due Date",IF($I20<TODAY(),"Overdue",IF($I20=TODAY(),"Due Today",IF($I20<=TODAY()+7,"Due Within 7 Days","Future")))))),"") | AW20: =IFERROR(IF($A20="","",IF(OR($L20="",$M20="",$T20="",$U20=""),"Missing Inputs",IF($P20>$T20,"Capacity Exceeded",IF($L20>'Assumptions'!$B$3,"Peak Review",IF($O20>'Assumptions'!$B$17,"Wash Alert","OK"))))),"Missing Inputs") | AX20: =IFERROR(IF($A20="","",IF($A20="","Missing ID",IF(OR($J20="",$K20=""),"Missing Dates",IF($K20<$J20,"End Before Start",IF(OR($M20="",$T20=""),"Missing Room Nights",IF($N20="","Missing Group ADR",IF(OR($U20="",$V20=""),"Missing Transient Forecast",IF(COUNTIF($A$2:$A$151,$A20)>1,"Duplicate ID",IF($AW20<>"OK","Capacity Issue","OK"))))))))),"Missing Inputs")
P21: =IFERROR(IF($A21="","",ROUND($M21*(1-$O21),0)),"") | Q21: =IFERROR(IF($A21="","",$P21*$N21),"") | S21: =IFERROR(IF($A21="","",$P21*$R21),"") | X21: =IFERROR(IF($A21="","",MIN($P21,MAX(0,$U21+$P21-$T21))),"") | Y21: =IFERROR(IF($A21="","",$X21*$V21),"") | Z21: =IFERROR(IF($A21="","",$X21*$W21),"") | AA21: =IFERROR(IF($A21="","",$Y21-$Z21),"") | AF21: =IFERROR(IF($A21="","",$AB21*$AE21),"") | AH21: =IFERROR(IF($A21="","",$AB21*$AG21),"") | AL21: =IFERROR(IF($A21="","",SUM($Q21,$AB21,$AC21,$AD21,$AF21)),"") | AM21: =IFERROR(IF($A21="","",SUM($S21,$AH21,$AI21,$AJ21,$AK21)),"") | AN21: =IFERROR(IF($A21="","",$AL21-$AM21),"") | AO21: =IFERROR(IF($A21="","",$AN21-$AA21),"") | AP21: =IFERROR(IF($A21="","",$AN21/$P21),"") | AQ21: =IFERROR(IF($A21="","",$N21-$V21),"") | AR21: =IFERROR(IF($A21="","",$N21/$V21),"") | AS21: =IFERROR(IF($A21="","",$X21/$P21),"") | AT21: =IFERROR(IF($A21="","",$AN21/$AL21),"") | AU21: =IFERROR(IF($A21="","",IF($AX21<>"OK","Hold / Incomplete",IF($AO21>='Assumptions'!$B$14,"Accept",IF($AO21>='Assumptions'!$B$15,"Review","Decline")))),"Hold / Incomplete") | AV21: =IFERROR(IF($A21="","",IF(OR($G21="Lost",$G21="Canceled"),"Closed",IF($I21="","Missing Due Date",IF($I21<TODAY(),"Overdue",IF($I21=TODAY(),"Due Today",IF($I21<=TODAY()+7,"Due Within 7 Days","Future")))))),"") | AW21: =IFERROR(IF($A21="","",IF(OR($L21="",$M21="",$T21="",$U21=""),"Missing Inputs",IF($P21>$T21,"Capacity Exceeded",IF($L21>'Assumptions'!$B$3,"Peak Review",IF($O21>'Assumptions'!$B$17,"Wash Alert","OK"))))),"Missing Inputs") | AX21: =IFERROR(IF($A21="","",IF($A21="","Missing ID",IF(OR($J21="",$K21=""),"Missing Dates",IF($K21<$J21,"End Before Start",IF(OR($M21="",$T21=""),"Missing Room Nights",IF($N21="","Missing Group ADR",IF(OR($U21="",$V21=""),"Missing Transient Forecast",IF(COUNTIF($A$2:$A$151,$A21)>1,"Duplicate ID",IF($AW21<>"OK","Capacity Issue","OK"))))))))),"Missing Inputs")
