Workbook

Sheet Dashboard
A1: Hotel Group Booking Tracker
A2: Group sales, room block pickup, cutoff, deposit, and revenue overview | G2: Report Date | H2: =IFERROR(TODAY(),"")
A4: Editable Planning Assumptions | D4: Active Group Bookings | F4: Definite Groups | H4: Blocked Room Nights
A5: Default Service Charge Rate | B5: 0.24 | D5: =IFERROR(COUNTIF('Group Bookings'!$E$2:$E$151,"Prospect")+COUNTIF('Group Bookings'!$E$2:$E$151,"Tentative")+COUNTIF('Group Bookings'!$E$2:$E$151,"Definite"),0) | F5: =IFERROR(COUNTIF('Group Bookings'!$E$2:$E$151,"Definite"),0) | H5: =IFERROR(SUMIF('Daily Room Blocks'!$B$2:$B$201,"<>",'Daily Room Blocks'!$I$2:$I$201),0)
A6: Default Sales Tax Rate | B6: 0.07
A7: Default Lodging Tax Rate | B7: 0.125 | D7: Picked-Up Room Nights | F7: Overall Pickup | H7: Estimated Total Revenue
A8: Cutoff Warning Window | B8: 14 | D8: =IFERROR(SUMIF('Daily Room Blocks'!$B$2:$B$201,"<>",'Daily Room Blocks'!$J$2:$J$201),0) | F8: =IFERROR(SUM('Daily Room Blocks'!$J$2:$J$201)/SUM('Daily Room Blocks'!$I$2:$I$201),0) | H8: =IFERROR(SUM('Group Bookings'!$AD$2:$AD$151),0)
A9: Follow-Up Overdue Threshold | B9: 7
A10: Low Pickup Warning Level | B10: 0.7 | D10: Outstanding Deposits | F10: Cutoffs in Warning Window | H10: Overdue Follow-Ups
A11: High Inventory Use Threshold | B11: 0.9 | D11: =IFERROR(SUM('Group Bookings'!$AG$2:$AG$151),0) | F11: =IFERROR(COUNTIFS('Group Bookings'!$L$2:$L$151,">="&TODAY(),'Group Bookings'!$L$2:$L$151,"<="&TODAY()+$B$8,'Group Bookings'!$AM$2:$AM$151,"<>Closed"),0) | H11: =IFERROR(COUNTIFS('Group Bookings'!$AK$2:$AK$151,"<"&TODAY(),'Group Bookings'!$AK$2:$AK$151,"<>",'Group Bookings'!$AM$2:$AM$151,"<>Closed"),0)
A12: Tax and service charge rules vary by property and jurisdiction. Enter rates and taxable treatment approved for your operation. This workbook provides planning estimates and does not determine legal tax requirements.
D13: Arrival Room Nights Next 30 Days
D14: =IFERROR(SUMIFS('Daily Room Blocks'!$J$2:$J$201,'Daily Room Blocks'!$E$2:$E$201,">="&TODAY(),'Daily Room Blocks'!$E$2:$E$201,"<="&TODAY()+30),0)
A36: Booking Status Summary | E36: 2026 Arrival Month Summary
A37: Booking Status | B37: Number of Groups | C37: Estimated Total Revenue | E37: Arrival Month | F37: Rooms Blocked | G37: Rooms Picked Up | H37: Estimated Pickup Revenue
A38: Prospect | B38: =IFERROR(COUNTIF('Group Bookings'!$E$2:$E$151,A38),0) | C38: =IFERROR(SUMIF('Group Bookings'!$E$2:$E$151,A38,'Group Bookings'!$AD$2:$AD$151),0) | E38: 46023 | F38: =IFERROR(SUMIFS('Daily Room Blocks'!$I$2:$I$201,'Daily Room Blocks'!$E$2:$E$201,">="&$E38,'Daily Room Blocks'!$E$2:$E$201,"<"&$E38+32-DAY($E38+32)),0) | G38: =IFERROR(SUMIFS('Daily Room Blocks'!$J$2:$J$201,'Daily Room Blocks'!$E$2:$E$201,">="&$E38,'Daily Room Blocks'!$E$2:$E$201,"<"&$E38+32-DAY($E38+32)),0) | H38: =IFERROR(SUMIFS('Daily Room Blocks'!$O$2:$O$201,'Daily Room Blocks'!$E$2:$E$201,">="&$E38,'Daily Room Blocks'!$E$2:$E$201,"<"&$E38+32-DAY($E38+32)),0)
A39: Tentative | B39: =IFERROR(COUNTIF('Group Bookings'!$E$2:$E$151,A39),0) | C39: =IFERROR(SUMIF('Group Bookings'!$E$2:$E$151,A39,'Group Bookings'!$AD$2:$AD$151),0) | E39: 46054 | F39: =IFERROR(SUMIFS('Daily Room Blocks'!$I$2:$I$201,'Daily Room Blocks'!$E$2:$E$201,">="&$E39,'Daily Room Blocks'!$E$2:$E$201,"<"&$E39+32-DAY($E39+32)),0) | G39: =IFERROR(SUMIFS('Daily Room Blocks'!$J$2:$J$201,'Daily Room Blocks'!$E$2:$E$201,">="&$E39,'Daily Room Blocks'!$E$2:$E$201,"<"&$E39+32-DAY($E39+32)),0) | H39: =IFERROR(SUMIFS('Daily Room Blocks'!$O$2:$O$201,'Daily Room Blocks'!$E$2:$E$201,">="&$E39,'Daily Room Blocks'!$E$2:$E$201,"<"&$E39+32-DAY($E39+32)),0)
A40: Definite | B40: =IFERROR(COUNTIF('Group Bookings'!$E$2:$E$151,A40),0) | C40: =IFERROR(SUMIF('Group Bookings'!$E$2:$E$151,A40,'Group Bookings'!$AD$2:$AD$151),0) | E40: 46082 | F40: =IFERROR(SUMIFS('Daily Room Blocks'!$I$2:$I$201,'Daily Room Blocks'!$E$2:$E$201,">="&$E40,'Daily Room Blocks'!$E$2:$E$201,"<"&$E40+32-DAY($E40+32)),0) | G40: =IFERROR(SUMIFS('Daily Room Blocks'!$J$2:$J$201,'Daily Room Blocks'!$E$2:$E$201,">="&$E40,'Daily Room Blocks'!$E$2:$E$201,"<"&$E40+32-DAY($E40+32)),0) | H40: =IFERROR(SUMIFS('Daily Room Blocks'!$O$2:$O$201,'Daily Room Blocks'!$E$2:$E$201,">="&$E40,'Daily Room Blocks'!$E$2:$E$201,"<"&$E40+32-DAY($E40+32)),0)
A41: Completed | B41: =IFERROR(COUNTIF('Group Bookings'!$E$2:$E$151,A41),0) | C41: =IFERROR(SUMIF('Group Bookings'!$E$2:$E$151,A41,'Group Bookings'!$AD$2:$AD$151),0) | E41: 46113 | F41: =IFERROR(SUMIFS('Daily Room Blocks'!$I$2:$I$201,'Daily Room Blocks'!$E$2:$E$201,">="&$E41,'Daily Room Blocks'!$E$2:$E$201,"<"&$E41+32-DAY($E41+32)),0) | G41: =IFERROR(SUMIFS('Daily Room Blocks'!$J$2:$J$201,'Daily Room Blocks'!$E$2:$E$201,">="&$E41,'Daily Room Blocks'!$E$2:$E$201,"<"&$E41+32-DAY($E41+32)),0) | H41: =IFERROR(SUMIFS('Daily Room Blocks'!$O$2:$O$201,'Daily Room Blocks'!$E$2:$E$201,">="&$E41,'Daily Room Blocks'!$E$2:$E$201,"<"&$E41+32-DAY($E41+32)),0)
A42: Canceled | B42: =IFERROR(COUNTIF('Group Bookings'!$E$2:$E$151,A42),0) | C42: =IFERROR(SUMIF('Group Bookings'!$E$2:$E$151,A42,'Group Bookings'!$AD$2:$AD$151),0) | E42: 46143 | F42: =IFERROR(SUMIFS('Daily Room Blocks'!$I$2:$I$201,'Daily Room Blocks'!$E$2:$E$201,">="&$E42,'Daily Room Blocks'!$E$2:$E$201,"<"&$E42+32-DAY($E42+32)),0) | G42: =IFERROR(SUMIFS('Daily Room Blocks'!$J$2:$J$201,'Daily Room Blocks'!$E$2:$E$201,">="&$E42,'Daily Room Blocks'!$E$2:$E$201,"<"&$E42+32-DAY($E42+32)),0) | H42: =IFERROR(SUMIFS('Daily Room Blocks'!$O$2:$O$201,'Daily Room Blocks'!$E$2:$E$201,">="&$E42,'Daily Room Blocks'!$E$2:$E$201,"<"&$E42+32-DAY($E42+32)),0)
A43: Lost | B43: =IFERROR(COUNTIF('Group Bookings'!$E$2:$E$151,A43),0) | C43: =IFERROR(SUMIF('Group Bookings'!$E$2:$E$151,A43,'Group Bookings'!$AD$2:$AD$151),0) | E43: 46174 | F43: =IFERROR(SUMIFS('Daily Room Blocks'!$I$2:$I$201,'Daily Room Blocks'!$E$2:$E$201,">="&$E43,'Daily Room Blocks'!$E$2:$E$201,"<"&$E43+32-DAY($E43+32)),0) | G43: =IFERROR(SUMIFS('Daily Room Blocks'!$J$2:$J$201,'Daily Room Blocks'!$E$2:$E$201,">="&$E43,'Daily Room Blocks'!$E$2:$E$201,"<"&$E43+32-DAY($E43+32)),0) | H43: =IFERROR(SUMIFS('Daily Room Blocks'!$O$2:$O$201,'Daily Room Blocks'!$E$2:$E$201,">="&$E43,'Daily Room Blocks'!$E$2:$E$201,"<"&$E43+32-DAY($E43+32)),0)
E44: 46204 | F44: =IFERROR(SUMIFS('Daily Room Blocks'!$I$2:$I$201,'Daily Room Blocks'!$E$2:$E$201,">="&$E44,'Daily Room Blocks'!$E$2:$E$201,"<"&$E44+32-DAY($E44+32)),0) | G44: =IFERROR(SUMIFS('Daily Room Blocks'!$J$2:$J$201,'Daily Room Blocks'!$E$2:$E$201,">="&$E44,'Daily Room Blocks'!$E$2:$E$201,"<"&$E44+32-DAY($E44+32)),0) | H44: =IFERROR(SUMIFS('Daily Room Blocks'!$O$2:$O$201,'Daily Room Blocks'!$E$2:$E$201,">="&$E44,'Daily Room Blocks'!$E$2:$E$201,"<"&$E44+32-DAY($E44+32)),0)
E45: 46235 | F45: =IFERROR(SUMIFS('Daily Room Blocks'!$I$2:$I$201,'Daily Room Blocks'!$E$2:$E$201,">="&$E45,'Daily Room Blocks'!$E$2:$E$201,"<"&$E45+32-DAY($E45+32)),0) | G45: =IFERROR(SUMIFS('Daily Room Blocks'!$J$2:$J$201,'Daily Room Blocks'!$E$2:$E$201,">="&$E45,'Daily Room Blocks'!$E$2:$E$201,"<"&$E45+32-DAY($E45+32)),0) | H45: =IFERROR(SUMIFS('Daily Room Blocks'!$O$2:$O$201,'Daily Room Blocks'!$E$2:$E$201,">="&$E45,'Daily Room Blocks'!$E$2:$E$201,"<"&$E45+32-DAY($E45+32)),0)
E46: 46266 | F46: =IFERROR(SUMIFS('Daily Room Blocks'!$I$2:$I$201,'Daily Room Blocks'!$E$2:$E$201,">="&$E46,'Daily Room Blocks'!$E$2:$E$201,"<"&$E46+32-DAY($E46+32)),0) | G46: =IFERROR(SUMIFS('Daily Room Blocks'!$J$2:$J$201,'Daily Room Blocks'!$E$2:$E$201,">="&$E46,'Daily Room Blocks'!$E$2:$E$201,"<"&$E46+32-DAY($E46+32)),0) | H46: =IFERROR(SUMIFS('Daily Room Blocks'!$O$2:$O$201,'Daily Room Blocks'!$E$2:$E$201,">="&$E46,'Daily Room Blocks'!$E$2:$E$201,"<"&$E46+32-DAY($E46+32)),0)
E47: 46296 | F47: =IFERROR(SUMIFS('Daily Room Blocks'!$I$2:$I$201,'Daily Room Blocks'!$E$2:$E$201,">="&$E47,'Daily Room Blocks'!$E$2:$E$201,"<"&$E47+32-DAY($E47+32)),0) | G47: =IFERROR(SUMIFS('Daily Room Blocks'!$J$2:$J$201,'Daily Room Blocks'!$E$2:$E$201,">="&$E47,'Daily Room Blocks'!$E$2:$E$201,"<"&$E47+32-DAY($E47+32)),0) | H47: =IFERROR(SUMIFS('Daily Room Blocks'!$O$2:$O$201,'Daily Room Blocks'!$E$2:$E$201,">="&$E47,'Daily Room Blocks'!$E$2:$E$201,"<"&$E47+32-DAY($E47+32)),0)
E48: 46327 | F48: =IFERROR(SUMIFS('Daily Room Blocks'!$I$2:$I$201,'Daily Room Blocks'!$E$2:$E$201,">="&$E48,'Daily Room Blocks'!$E$2:$E$201,"<"&$E48+32-DAY($E48+32)),0) | G48: =IFERROR(SUMIFS('Daily Room Blocks'!$J$2:$J$201,'Daily Room Blocks'!$E$2:$E$201,">="&$E48,'Daily Room Blocks'!$E$2:$E$201,"<"&$E48+32-DAY($E48+32)),0) | H48: =IFERROR(SUMIFS('Daily Room Blocks'!$O$2:$O$201,'Daily Room Blocks'!$E$2:$E$201,">="&$E48,'Daily Room Blocks'!$E$2:$E$201,"<"&$E48+32-DAY($E48+32)),0)
E49: 46357 | F49: =IFERROR(SUMIFS('Daily Room Blocks'!$I$2:$I$201,'Daily Room Blocks'!$E$2:$E$201,">="&$E49,'Daily Room Blocks'!$E$2:$E$201,"<"&$E49+32-DAY($E49+32)),0) | G49: =IFERROR(SUMIFS('Daily Room Blocks'!$J$2:$J$201,'Daily Room Blocks'!$E$2:$E$201,">="&$E49,'Daily Room Blocks'!$E$2:$E$201,"<"&$E49+32-DAY($E49+32)),0) | H49: =IFERROR(SUMIFS('Daily Room Blocks'!$O$2:$O$201,'Daily Room Blocks'!$E$2:$E$201,">="&$E49,'Daily Room Blocks'!$E$2:$E$201,"<"&$E49+32-DAY($E49+32)),0)
A52: Urgent Cutoff and Follow-Up Review
A53: Group ID | B53: Group Name | C53: Booking Status | D53: Arrival Date | E53: Cutoff Date | F53: Next Action Date | G53: Attention Flag | H53: Sales Manager
A54: =IFERROR(IF(OR('Group Bookings'!$AM$2="On Track",'Group Bookings'!$AM$2="Closed",'Group Bookings'!$AM$2=""),"",'Group Bookings'!$A$2),"") | B54: =IFERROR(IF(OR('Group Bookings'!$AM$2="On Track",'Group Bookings'!$AM$2="Closed",'Group Bookings'!$AM$2=""),"",'Group Bookings'!$C$2),"") | C54: =IFERROR(IF(OR('Group Bookings'!$AM$2="On Track",'Group Bookings'!$AM$2="Closed",'Group Bookings'!$AM$2=""),"",'Group Bookings'!$E$2),"") | D54: =IFERROR(IF(OR('Group Bookings'!$AM$2="On Track",'Group Bookings'!$AM$2="Closed",'Group Bookings'!$AM$2=""),"",'Group Bookings'!$J$2),"") | E54: =IFERROR(IF(OR('Group Bookings'!$AM$2="On Track",'Group Bookings'!$AM$2="Closed",'Group Bookings'!$AM$2=""),"",'Group Bookings'!$L$2),"") | F54: =IFERROR(IF(OR('Group Bookings'!$AM$2="On Track",'Group Bookings'!$AM$2="Closed",'Group Bookings'!$AM$2=""),"",'Group Bookings'!$AK$2),"") | G54: =IFERROR(IF(OR('Group Bookings'!$AM$2="On Track",'Group Bookings'!$AM$2="Closed",'Group Bookings'!$AM$2=""),"",'Group Bookings'!$AM$2),"") | H54: =IFERROR(IF(OR('Group Bookings'!$AM$2="On Track",'Group Bookings'!$AM$2="Closed",'Group Bookings'!$AM$2=""),"",'Group Bookings'!$F$2),"")
A55: =IFERROR(IF(OR('Group Bookings'!$AM$3="On Track",'Group Bookings'!$AM$3="Closed",'Group Bookings'!$AM$3=""),"",'Group Bookings'!$A$3),"") | B55: =IFERROR(IF(OR('Group Bookings'!$AM$3="On Track",'Group Bookings'!$AM$3="Closed",'Group Bookings'!$AM$3=""),"",'Group Bookings'!$C$3),"") | C55: =IFERROR(IF(OR('Group Bookings'!$AM$3="On Track",'Group Bookings'!$AM$3="Closed",'Group Bookings'!$AM$3=""),"",'Group Bookings'!$E$3),"") | D55: =IFERROR(IF(OR('Group Bookings'!$AM$3="On Track",'Group Bookings'!$AM$3="Closed",'Group Bookings'!$AM$3=""),"",'Group Bookings'!$J$3),"") | E55: =IFERROR(IF(OR('Group Bookings'!$AM$3="On Track",'Group Bookings'!$AM$3="Closed",'Group Bookings'!$AM$3=""),"",'Group Bookings'!$L$3),"") | F55: =IFERROR(IF(OR('Group Bookings'!$AM$3="On Track",'Group Bookings'!$AM$3="Closed",'Group Bookings'!$AM$3=""),"",'Group Bookings'!$AK$3),"") | G55: =IFERROR(IF(OR('Group Bookings'!$AM$3="On Track",'Group Bookings'!$AM$3="Closed",'Group Bookings'!$AM$3=""),"",'Group Bookings'!$AM$3),"") | H55: =IFERROR(IF(OR('Group Bookings'!$AM$3="On Track",'Group Bookings'!$AM$3="Closed",'Group Bookings'!$AM$3=""),"",'Group Bookings'!$F$3),"")
A56: =IFERROR(IF(OR('Group Bookings'!$AM$4="On Track",'Group Bookings'!$AM$4="Closed",'Group Bookings'!$AM$4=""),"",'Group Bookings'!$A$4),"") | B56: =IFERROR(IF(OR('Group Bookings'!$AM$4="On Track",'Group Bookings'!$AM$4="Closed",'Group Bookings'!$AM$4=""),"",'Group Bookings'!$C$4),"") | C56: =IFERROR(IF(OR('Group Bookings'!$AM$4="On Track",'Group Bookings'!$AM$4="Closed",'Group Bookings'!$AM$4=""),"",'Group Bookings'!$E$4),"") | D56: =IFERROR(IF(OR('Group Bookings'!$AM$4="On Track",'Group Bookings'!$AM$4="Closed",'Group Bookings'!$AM$4=""),"",'Group Bookings'!$J$4),"") | E56: =IFERROR(IF(OR('Group Bookings'!$AM$4="On Track",'Group Bookings'!$AM$4="Closed",'Group Bookings'!$AM$4=""),"",'Group Bookings'!$L$4),"") | F56: =IFERROR(IF(OR('Group Bookings'!$AM$4="On Track",'Group Bookings'!$AM$4="Closed",'Group Bookings'!$AM$4=""),"",'Group Bookings'!$AK$4),"") | G56: =IFERROR(IF(OR('Group Bookings'!$AM$4="On Track",'Group Bookings'!$AM$4="Closed",'Group Bookings'!$AM$4=""),"",'Group Bookings'!$AM$4),"") | H56: =IFERROR(IF(OR('Group Bookings'!$AM$4="On Track",'Group Bookings'!$AM$4="Closed",'Group Bookings'!$AM$4=""),"",'Group Bookings'!$F$4),"")
A57: =IFERROR(IF(OR('Group Bookings'!$AM$5="On Track",'Group Bookings'!$AM$5="Closed",'Group Bookings'!$AM$5=""),"",'Group Bookings'!$A$5),"") | B57: =IFERROR(IF(OR('Group Bookings'!$AM$5="On Track",'Group Bookings'!$AM$5="Closed",'Group Bookings'!$AM$5=""),"",'Group Bookings'!$C$5),"") | C57: =IFERROR(IF(OR('Group Bookings'!$AM$5="On Track",'Group Bookings'!$AM$5="Closed",'Group Bookings'!$AM$5=""),"",'Group Bookings'!$E$5),"") | D57: =IFERROR(IF(OR('Group Bookings'!$AM$5="On Track",'Group Bookings'!$AM$5="Closed",'Group Bookings'!$AM$5=""),"",'Group Bookings'!$J$5),"") | E57: =IFERROR(IF(OR('Group Bookings'!$AM$5="On Track",'Group Bookings'!$AM$5="Closed",'Group Bookings'!$AM$5=""),"",'Group Bookings'!$L$5),"") | F57: =IFERROR(IF(OR('Group Bookings'!$AM$5="On Track",'Group Bookings'!$AM$5="Closed",'Group Bookings'!$AM$5=""),"",'Group Bookings'!$AK$5),"") | G57: =IFERROR(IF(OR('Group Bookings'!$AM$5="On Track",'Group Bookings'!$AM$5="Closed",'Group Bookings'!$AM$5=""),"",'Group Bookings'!$AM$5),"") | H57: =IFERROR(IF(OR('Group Bookings'!$AM$5="On Track",'Group Bookings'!$AM$5="Closed",'Group Bookings'!$AM$5=""),"",'Group Bookings'!$F$5),"")
A58: =IFERROR(IF(OR('Group Bookings'!$AM$6="On Track",'Group Bookings'!$AM$6="Closed",'Group Bookings'!$AM$6=""),"",'Group Bookings'!$A$6),"") | B58: =IFERROR(IF(OR('Group Bookings'!$AM$6="On Track",'Group Bookings'!$AM$6="Closed",'Group Bookings'!$AM$6=""),"",'Group Bookings'!$C$6),"") | C58: =IFERROR(IF(OR('Group Bookings'!$AM$6="On Track",'Group Bookings'!$AM$6="Closed",'Group Bookings'!$AM$6=""),"",'Group Bookings'!$E$6),"") | D58: =IFERROR(IF(OR('Group Bookings'!$AM$6="On Track",'Group Bookings'!$AM$6="Closed",'Group Bookings'!$AM$6=""),"",'Group Bookings'!$J$6),"") | E58: =IFERROR(IF(OR('Group Bookings'!$AM$6="On Track",'Group Bookings'!$AM$6="Closed",'Group Bookings'!$AM$6=""),"",'Group Bookings'!$L$6),"") | F58: =IFERROR(IF(OR('Group Bookings'!$AM$6="On Track",'Group Bookings'!$AM$6="Closed",'Group Bookings'!$AM$6=""),"",'Group Bookings'!$AK$6),"") | G58: =IFERROR(IF(OR('Group Bookings'!$AM$6="On Track",'Group Bookings'!$AM$6="Closed",'Group Bookings'!$AM$6=""),"",'Group Bookings'!$AM$6),"") | H58: =IFERROR(IF(OR('Group Bookings'!$AM$6="On Track",'Group Bookings'!$AM$6="Closed",'Group Bookings'!$AM$6=""),"",'Group Bookings'!$F$6),"")
A59: =IFERROR(IF(OR('Group Bookings'!$AM$7="On Track",'Group Bookings'!$AM$7="Closed",'Group Bookings'!$AM$7=""),"",'Group Bookings'!$A$7),"") | B59: =IFERROR(IF(OR('Group Bookings'!$AM$7="On Track",'Group Bookings'!$AM$7="Closed",'Group Bookings'!$AM$7=""),"",'Group Bookings'!$C$7),"") | C59: =IFERROR(IF(OR('Group Bookings'!$AM$7="On Track",'Group Bookings'!$AM$7="Closed",'Group Bookings'!$AM$7=""),"",'Group Bookings'!$E$7),"") | D59: =IFERROR(IF(OR('Group Bookings'!$AM$7="On Track",'Group Bookings'!$AM$7="Closed",'Group Bookings'!$AM$7=""),"",'Group Bookings'!$J$7),"") | E59: =IFERROR(IF(OR('Group Bookings'!$AM$7="On Track",'Group Bookings'!$AM$7="Closed",'Group Bookings'!$AM$7=""),"",'Group Bookings'!$L$7),"") | F59: =IFERROR(IF(OR('Group Bookings'!$AM$7="On Track",'Group Bookings'!$AM$7="Closed",'Group Bookings'!$AM$7=""),"",'Group Bookings'!$AK$7),"") | G59: =IFERROR(IF(OR('Group Bookings'!$AM$7="On Track",'Group Bookings'!$AM$7="Closed",'Group Bookings'!$AM$7=""),"",'Group Bookings'!$AM$7),"") | H59: =IFERROR(IF(OR('Group Bookings'!$AM$7="On Track",'Group Bookings'!$AM$7="Closed",'Group Bookings'!$AM$7=""),"",'Group Bookings'!$F$7),"")
A60: =IFERROR(IF(OR('Group Bookings'!$AM$8="On Track",'Group Bookings'!$AM$8="Closed",'Group Bookings'!$AM$8=""),"",'Group Bookings'!$A$8),"") | B60: =IFERROR(IF(OR('Group Bookings'!$AM$8="On Track",'Group Bookings'!$AM$8="Closed",'Group Bookings'!$AM$8=""),"",'Group Bookings'!$C$8),"") | C60: =IFERROR(IF(OR('Group Bookings'!$AM$8="On Track",'Group Bookings'!$AM$8="Closed",'Group Bookings'!$AM$8=""),"",'Group Bookings'!$E$8),"") | D60: =IFERROR(IF(OR('Group Bookings'!$AM$8="On Track",'Group Bookings'!$AM$8="Closed",'Group Bookings'!$AM$8=""),"",'Group Bookings'!$J$8),"") | E60: =IFERROR(IF(OR('Group Bookings'!$AM$8="On Track",'Group Bookings'!$AM$8="Closed",'Group Bookings'!$AM$8=""),"",'Group Bookings'!$L$8),"") | F60: =IFERROR(IF(OR('Group Bookings'!$AM$8="On Track",'Group Bookings'!$AM$8="Closed",'Group Bookings'!$AM$8=""),"",'Group Bookings'!$AK$8),"") | G60: =IFERROR(IF(OR('Group Bookings'!$AM$8="On Track",'Group Bookings'!$AM$8="Closed",'Group Bookings'!$AM$8=""),"",'Group Bookings'!$AM$8),"") | H60: =IFERROR(IF(OR('Group Bookings'!$AM$8="On Track",'Group Bookings'!$AM$8="Closed",'Group Bookings'!$AM$8=""),"",'Group Bookings'!$F$8),"")
A61: =IFERROR(IF(OR('Group Bookings'!$AM$9="On Track",'Group Bookings'!$AM$9="Closed",'Group Bookings'!$AM$9=""),"",'Group Bookings'!$A$9),"") | B61: =IFERROR(IF(OR('Group Bookings'!$AM$9="On Track",'Group Bookings'!$AM$9="Closed",'Group Bookings'!$AM$9=""),"",'Group Bookings'!$C$9),"") | C61: =IFERROR(IF(OR('Group Bookings'!$AM$9="On Track",'Group Bookings'!$AM$9="Closed",'Group Bookings'!$AM$9=""),"",'Group Bookings'!$E$9),"") | D61: =IFERROR(IF(OR('Group Bookings'!$AM$9="On Track",'Group Bookings'!$AM$9="Closed",'Group Bookings'!$AM$9=""),"",'Group Bookings'!$J$9),"") | E61: =IFERROR(IF(OR('Group Bookings'!$AM$9="On Track",'Group Bookings'!$AM$9="Closed",'Group Bookings'!$AM$9=""),"",'Group Bookings'!$L$9),"") | F61: =IFERROR(IF(OR('Group Bookings'!$AM$9="On Track",'Group Bookings'!$AM$9="Closed",'Group Bookings'!$AM$9=""),"",'Group Bookings'!$AK$9),"") | G61: =IFERROR(IF(OR('Group Bookings'!$AM$9="On Track",'Group Bookings'!$AM$9="Closed",'Group Bookings'!$AM$9=""),"",'Group Bookings'!$AM$9),"") | H61: =IFERROR(IF(OR('Group Bookings'!$AM$9="On Track",'Group Bookings'!$AM$9="Closed",'Group Bookings'!$AM$9=""),"",'Group Bookings'!$F$9),"")
A62: =IFERROR(IF(OR('Group Bookings'!$AM$10="On Track",'Group Bookings'!$AM$10="Closed",'Group Bookings'!$AM$10=""),"",'Group Bookings'!$A$10),"") | B62: =IFERROR(IF(OR('Group Bookings'!$AM$10="On Track",'Group Bookings'!$AM$10="Closed",'Group Bookings'!$AM$10=""),"",'Group Bookings'!$C$10),"") | C62: =IFERROR(IF(OR('Group Bookings'!$AM$10="On Track",'Group Bookings'!$AM$10="Closed",'Group Bookings'!$AM$10=""),"",'Group Bookings'!$E$10),"") | D62: =IFERROR(IF(OR('Group Bookings'!$AM$10="On Track",'Group Bookings'!$AM$10="Closed",'Group Bookings'!$AM$10=""),"",'Group Bookings'!$J$10),"") | E62: =IFERROR(IF(OR('Group Bookings'!$AM$10="On Track",'Group Bookings'!$AM$10="Closed",'Group Bookings'!$AM$10=""),"",'Group Bookings'!$L$10),"") | F62: =IFERROR(IF(OR('Group Bookings'!$AM$10="On Track",'Group Bookings'!$AM$10="Closed",'Group Bookings'!$AM$10=""),"",'Group Bookings'!$AK$10),"") | G62: =IFERROR(IF(OR('Group Bookings'!$AM$10="On Track",'Group Bookings'!$AM$10="Closed",'Group Bookings'!$AM$10=""),"",'Group Bookings'!$AM$10),"") | H62: =IFERROR(IF(OR('Group Bookings'!$AM$10="On Track",'Group Bookings'!$AM$10="Closed",'Group Bookings'!$AM$10=""),"",'Group Bookings'!$F$10),"")
A63: =IFERROR(IF(OR('Group Bookings'!$AM$11="On Track",'Group Bookings'!$AM$11="Closed",'Group Bookings'!$AM$11=""),"",'Group Bookings'!$A$11),"") | B63: =IFERROR(IF(OR('Group Bookings'!$AM$11="On Track",'Group Bookings'!$AM$11="Closed",'Group Bookings'!$AM$11=""),"",'Group Bookings'!$C$11),"") | C63: =IFERROR(IF(OR('Group Bookings'!$AM$11="On Track",'Group Bookings'!$AM$11="Closed",'Group Bookings'!$AM$11=""),"",'Group Bookings'!$E$11),"") | D63: =IFERROR(IF(OR('Group Bookings'!$AM$11="On Track",'Group Bookings'!$AM$11="Closed",'Group Bookings'!$AM$11=""),"",'Group Bookings'!$J$11),"") | E63: =IFERROR(IF(OR('Group Bookings'!$AM$11="On Track",'Group Bookings'!$AM$11="Closed",'Group Bookings'!$AM$11=""),"",'Group Bookings'!$L$11),"") | F63: =IFERROR(IF(OR('Group Bookings'!$AM$11="On Track",'Group Bookings'!$AM$11="Closed",'Group Bookings'!$AM$11=""),"",'Group Bookings'!$AK$11),"") | G63: =IFERROR(IF(OR('Group Bookings'!$AM$11="On Track",'Group Bookings'!$AM$11="Closed",'Group Bookings'!$AM$11=""),"",'Group Bookings'!$AM$11),"") | H63: =IFERROR(IF(OR('Group Bookings'!$AM$11="On Track",'Group Bookings'!$AM$11="Closed",'Group Bookings'!$AM$11=""),"",'Group Bookings'!$F$11),"")
F64: ="" | G64: ="" | H64: =""
...

Sheet Group Bookings
A1: Group ID | B1: External System Reference | C1: Group Name | D1: Market Segment | E1: Booking Status | F1: Sales Manager | G1: Primary Contact | H1: Contact Email | I1: Contact Phone | J1: Arrival Date | K1: Departure Date | L1: Cutoff Date | M1: Peak Rooms | N1: Blocked Room Nights | O1: Picked-Up Room Nights | P1: Pickup Percentage | Q1: Average Picked-Up Rate | R1: Estimated Room Revenue | S1: Meeting Room Rental | T1: Food and Beverage Estimate | U1: Service Charge Rate Override | V1: Effective Service Charge Rate | W1: Sales Tax Rate Override | X1: Effective Sales Tax Rate | Y1: Lodging Tax Rate Override | Z1: Effective Lodging Tax Rate | AA1: Estimated Service Charge | AB1: Estimated Sales Tax | AC1: Estimated Lodging Tax | AD1: Estimated Total Revenue | AE1: Deposit Required | AF1: Deposit Paid | AG1: Deposit Balance | AH1: Deposit Due Date | AI1: Deposit Status | AJ1: Last Contact Date | AK1: Next Action Date | AL1: Next Action | AM1: Attention Flag | AN1: Notes
A2: GRP-26001 | B2: SALES-26001 | C2: Midwest Healthcare Leadership Summit | D2: Corporate Meeting | E2: Definite | F2: Jordan Lee | G2: Alex Rivera | H2: alex.rivera@example.com | I2: 312-555-0101 | J2: 46097 | K2: 46100 | L2: 46069 | M2: 42 | N2: =IFERROR(IF($A2="","",SUMIFS('Daily Room Blocks'!$I$2:$I$201,'Daily Room Blocks'!$B$2:$B$201,$A2)),"") | O2: =IFERROR(IF($A2="","",SUMIFS('Daily Room Blocks'!$J$2:$J$201,'Daily Room Blocks'!$B$2:$B$201,$A2)),"") | P2: =IFERROR(IF($A2="","",$O2/$N2),"") | Q2: =IFERROR(IF($A2="","",SUMIFS('Daily Room Blocks'!$O$2:$O$201,'Daily Room Blocks'!$B$2:$B$201,$A2)/$O2),"") | R2: =IFERROR(IF($A2="","",SUMIFS('Daily Room Blocks'!$O$2:$O$201,'Daily Room Blocks'!$B$2:$B$201,$A2)),"") | S2: 3500 | T2: 12000 | V2: =IFERROR(IF($A2="","",IF($U2="",'Dashboard'!$B$5,$U2)),"") | X2: =IFERROR(IF($A2="","",IF($W2="",'Dashboard'!$B$6,$W2)),"") | Z2: =IFERROR(IF($A2="","",IF($Y2="",'Dashboard'!$B$7,$Y2)),"") | AA2: =IFERROR(IF($A2="","",($S2+$T2)*$V2),"") | AB2: =IFERROR(IF($A2="","",($S2+$T2+$AA2)*$X2),"") | AC2: =IFERROR(IF($A2="","",$R2*$Z2),"") | AD2: =IFERROR(IF($A2="","",SUM($R2,$S2,$T2,$AA2,$AB2,$AC2)),"") | AE2: 5000 | AF2: 5000 | AG2: =IFERROR(IF($A2="","",MAX(0,$AE2-$AF2)),"") | AH2: 46054 | AI2: =IFERROR(IF($A2="","",IF($AE2<=0,"Not Required",IF($AG2<=0,"Paid",IF($AH2="","Due Date Needed",IF($AH2<TODAY(),"Overdue","Open"))))),"") | AJ2: 46254 | AK2: 46262 | AL2: Review final billing | AM2: =IFERROR(IF($A2="","",IF(OR($E2="Canceled",$E2="Lost",$E2="Completed"),"Closed",IF(AND($L2<>"",$L2<TODAY()),"Cutoff Passed",IF(AND($L2<>"",$L2>=TODAY(),$L2<=TODAY()+'Dashboard'!$B$8),"Cutoff Approaching",IF(AND($AK2<>"",$AK2<TODAY()),"Follow-Up Overdue",IF(AND($L2<>"",$L2<=TODAY()+'Dashboard'!$B$8,$N2>0,$P2<'Dashboard'!$B$10),"Low Pickup","On Track")))))),"") | AN2: Deposit paid in full; final billing review pending.
A3: GRP-26002 | B3: EVT-26002 | C3: Carter and Nguyen Wedding | D3: Wedding | E3: Definite | F3: Morgan Davis | G3: Jamie Carter | H3: jamie.carter@example.com | I3: 414-555-0102 | J3: 46150 | K3: 46152 | L3: 46120 | M3: 38 | N3: =IFERROR(IF($A3="","",SUMIFS('Daily Room Blocks'!$I$2:$I$201,'Daily Room Blocks'!$B$2:$B$201,$A3)),"") | O3: =IFERROR(IF($A3="","",SUMIFS('Daily Room Blocks'!$J$2:$J$201,'Daily Room Blocks'!$B$2:$B$201,$A3)),"") | P3: =IFERROR(IF($A3="","",$O3/$N3),"") | Q3: =IFERROR(IF($A3="","",SUMIFS('Daily Room Blocks'!$O$2:$O$201,'Daily Room Blocks'!$B$2:$B$201,$A3)/$O3),"") | R3: =IFERROR(IF($A3="","",SUMIFS('Daily Room Blocks'!$O$2:$O$201,'Daily Room Blocks'!$B$2:$B$201,$A3)),"") | S3: 4500 | T3: 18500 | U3: 0.22 | V3: =IFERROR(IF($A3="","",IF($U3="",'Dashboard'!$B$5,$U3)),"") | X3: =IFERROR(IF($A3="","",IF($W3="",'Dashboard'!$B$6,$W3)),"") | Z3: =IFERROR(IF($A3="","",IF($Y3="",'Dashboard'!$B$7,$Y3)),"") | AA3: =IFERROR(IF($A3="","",($S3+$T3)*$V3),"") | AB3: =IFERROR(IF($A3="","",($S3+$T3+$AA3)*$X3),"") | AC3: =IFERROR(IF($A3="","",$R3*$Z3),"") | AD3: =IFERROR(IF($A3="","",SUM($R3,$S3,$T3,$AA3,$AB3,$AC3)),"") | AE3: 7500 | AF3: 4000 | AG3: =IFERROR(IF($A3="","",MAX(0,$AE3-$AF3)),"") | AH3: 46259 | AI3: =IFERROR(IF($A3="","",IF($AE3<=0,"Not Required",IF($AG3<=0,"Paid",IF($AH3="","Due Date Needed",IF($AH3<TODAY(),"Overdue","Open"))))),"") | AJ3: 46252 | AK3: 46263 | AL3: Confirm final payment | AM3: =IFERROR(IF($A3="","",IF(OR($E3="Canceled",$E3="Lost",$E3="Completed"),"Closed",IF(AND($L3<>"",$L3<TODAY()),"Cutoff Passed",IF(AND($L3<>"",$L3>=TODAY(),$L3<=TODAY()+'Dashboard'!$B$8),"Cutoff Approaching",IF(AND($AK3<>"",$AK3<TODAY()),"Follow-Up Overdue",IF(AND($L3<>"",$L3<=TODAY()+'Dashboard'!$B$8,$N3>0,$P3<'Dashboard'!$B$10),"Low Pickup","On Track")))))),"") | AN3: Custom service charge per signed banquet agreement.
A4: GRP-26003 | C4: Great Lakes Youth Soccer | D4: Sports | E4: Tentative | F4: Taylor Brooks | G4: Riley Bennett | H4: riley.bennett@example.com | I4: 616-555-0103 | J4: 46185 | K4: 46188 | L4: 46155 | M4: 55 | N4: =IFERROR(IF($A4="","",SUMIFS('Daily Room Blocks'!$I$2:$I$201,'Daily Room Blocks'!$B$2:$B$201,$A4)),"") | O4: =IFERROR(IF($A4="","",SUMIFS('Daily Room Blocks'!$J$2:$J$201,'Daily Room Blocks'!$B$2:$B$201,$A4)),"") | P4: =IFERROR(IF($A4="","",$O4/$N4),"") | Q4: =IFERROR(IF($A4="","",SUMIFS('Daily Room Blocks'!$O$2:$O$201,'Daily Room Blocks'!$B$2:$B$201,$A4)/$O4),"") | R4: =IFERROR(IF($A4="","",SUMIFS('Daily Room Blocks'!$O$2:$O$201,'Daily Room Blocks'!$B$2:$B$201,$A4)),"") | S4: 500 | T4: 4200 | V4: =IFERROR(IF($A4="","",IF($U4="",'Dashboard'!$B$5,$U4)),"") | X4: =IFERROR(IF($A4="","",IF($W4="",'Dashboard'!$B$6,$W4)),"") | Z4: =IFERROR(IF($A4="","",IF($Y4="",'Dashboard'!$B$7,$Y4)),"") | AA4: =IFERROR(IF($A4="","",($S4+$T4)*$V4),"") | AB4: =IFERROR(IF($A4="","",($S4+$T4+$AA4)*$X4),"") | AC4: =IFERROR(IF($A4="","",$R4*$Z4),"") | AD4: =IFERROR(IF($A4="","",SUM($R4,$S4,$T4,$AA4,$AB4,$AC4)),"") | AE4: 2500 | AF4: 500 | AG4: =IFERROR(IF($A4="","",MAX(0,$AE4-$AF4)),"") | AH4: 46249 | AI4: =IFERROR(IF($A4="","",IF($AE4<=0,"Not Required",IF($AG4<=0,"Paid",IF($AH4="","Due Date Needed",IF($AH4<TODAY(),"Overdue","Open"))))),"") | AJ4: 46244 | AK4: 46260 | AL4: Review pickup and payment | AM4: =IFERROR(IF($A4="","",IF(OR($E4="Canceled",$E4="Lost",$E4="Completed"),"Closed",IF(AND($L4<>"",$L4<TODAY()),"Cutoff Passed",IF(AND($L4<>"",$L4>=TODAY(),$L4<=TODAY()+'Dashboard'!$B$8),"Cutoff Approaching",IF(AND($AK4<>"",$AK4<TODAY()),"Follow-Up Overdue",IF(AND($L4<>"",$L4<=TODAY()+'Dashboard'!$B$8,$N4>0,$P4<'Dashboard'!$B$10),"Low Pickup","On Track")))))),"") | AN4: Low pickup example for sales review.
A5: GRP-26004 | B5: MTG-26004 | C5: Regional Credit Union Planning Meeting | D5: Corporate Meeting | E5: Completed | F5: Jordan Lee | G5: Cameron Shaw | H5: cameron.shaw@example.com | I5: 773-555-0104 | J5: 46042 | K5: 46044 | L5: 46027 | M5: 24 | N5: =IFERROR(IF($A5="","",SUMIFS('Daily Room Blocks'!$I$2:$I$201,'Daily Room Blocks'!$B$2:$B$201,$A5)),"") | O5: =IFERROR(IF($A5="","",SUMIFS('Daily Room Blocks'!$J$2:$J$201,'Daily Room Blocks'!$B$2:$B$201,$A5)),"") | P5: =IFERROR(IF($A5="","",$O5/$N5),"") | Q5: =IFERROR(IF($A5="","",SUMIFS('Daily Room Blocks'!$O$2:$O$201,'Daily Room Blocks'!$B$2:$B$201,$A5)/$O5),"") | R5: =IFERROR(IF($A5="","",SUMIFS('Daily Room Blocks'!$O$2:$O$201,'Daily Room Blocks'!$B$2:$B$201,$A5)),"") | S5: 2200 | T5: 7800 | V5: =IFERROR(IF($A5="","",IF($U5="",'Dashboard'!$B$5,$U5)),"") | X5: =IFERROR(IF($A5="","",IF($W5="",'Dashboard'!$B$6,$W5)),"") | Z5: =IFERROR(IF($A5="","",IF($Y5="",'Dashboard'!$B$7,$Y5)),"") | AA5: =IFERROR(IF($A5="","",($S5+$T5)*$V5),"") | AB5: =IFERROR(IF($A5="","",($S5+$T5+$AA5)*$X5),"") | AC5: =IFERROR(IF($A5="","",$R5*$Z5),"") | AD5: =IFERROR(IF($A5="","",SUM($R5,$S5,$T5,$AA5,$AB5,$AC5)),"") | AE5: 3000 | AF5: 3000 | AG5: =IFERROR(IF($A5="","",MAX(0,$AE5-$AF5)),"") | AH5: 46027 | AI5: =IFERROR(IF($A5="","",IF($AE5<=0,"Not Required",IF($AG5<=0,"Paid",IF($AH5="","Due Date Needed",IF($AH5<TODAY(),"Overdue","Open"))))),"") | AJ5: 46050 | AK5: 46052 | AL5: Archive final documents | AM5: =IFERROR(IF($A5="","",IF(OR($E5="Canceled",$E5="Lost",$E5="Completed"),"Closed",IF(AND($L5<>"",$L5<TODAY()),"Cutoff Passed",IF(AND($L5<>"",$L5>=TODAY(),$L5<=TODAY()+'Dashboard'!$B$8),"Cutoff Approaching",IF(AND($AK5<>"",$AK5<TODAY()),"Follow-Up Overdue",IF(AND($L5<>"",$L5<=TODAY()+'Dashboard'!$B$8,$N5>0,$P5<'Dashboard'!$B$10),"Low Pickup","On Track")))))),"") | AN5: Completed group retained as a production example.
A6: GRP-26005 | C6: State Parks Training Workshop | D6: Government | E6: Prospect | F6: Casey Morgan | G6: Drew Parker | H6: drew.parker@example.com | I6: 517-555-0105 | J6: 46237 | K6: 46240 | L6: 46209 | M6: 30 | N6: =IFERROR(IF($A6="","",SUMIFS('Daily Room Blocks'!$I$2:$I$201,'Daily Room Blocks'!$B$2:$B$201,$A6)),"") | O6: =IFERROR(IF($A6="","",SUMIFS('Daily Room Blocks'!$J$2:$J$201,'Daily Room Blocks'!$B$2:$B$201,$A6)),"") | P6: =IFERROR(IF($A6="","",$O6/$N6),"") | Q6: =IFERROR(IF($A6="","",SUMIFS('Daily Room Blocks'!$O$2:$O$201,'Daily Room Blocks'!$B$2:$B$201,$A6)/$O6),"") | R6: =IFERROR(IF($A6="","",SUMIFS('Daily Room Blocks'!$O$2:$O$201,'Daily Room Blocks'!$B$2:$B$201,$A6)),"") | S6: 1800 | T6: 6200 | V6: =IFERROR(IF($A6="","",IF($U6="",'Dashboard'!$B$5,$U6)),"") | W6: 0.06 | X6: =IFERROR(IF($A6="","",IF($W6="",'Dashboard'!$B$6,$W6)),"") | Z6: =IFERROR(IF($A6="","",IF($Y6="",'Dashboard'!$B$7,$Y6)),"") | AA6: =IFERROR(IF($A6="","",($S6+$T6)*$V6),"") | AB6: =IFERROR(IF($A6="","",($S6+$T6+$AA6)*$X6),"") | AC6: =IFERROR(IF($A6="","",$R6*$Z6),"") | AD6: =IFERROR(IF($A6="","",SUM($R6,$S6,$T6,$AA6,$AB6,$AC6)),"") | AE6: 0 | AF6: 0 | AG6: =IFERROR(IF($A6="","",MAX(0,$AE6-$AF6)),"") | AI6: =IFERROR(IF($A6="","",IF($AE6<=0,"Not Required",IF($AG6<=0,"Paid",IF($AH6="","Due Date Needed",IF($AH6<TODAY(),"Overdue","Open"))))),"") | AJ6: 46258 | AK6: 46261 | AL6: Confirm procurement timeline | AM6: =IFERROR(IF($A6="","",IF(OR($E6="Canceled",$E6="Lost",$E6="Completed"),"Closed",IF(AND($L6<>"",$L6<TODAY()),"Cutoff Passed",IF(AND($L6<>"",$L6>=TODAY(),$L6<=TODAY()+'Dashboard'!$B$8),"Cutoff Approaching",IF(AND($AK6<>"",$AK6<TODAY()),"Follow-Up Overdue",IF(AND($L6<>"",$L6<=TODAY()+'Dashboard'!$B$8,$N6>0,$P6<'Dashboard'!$B$10),"Low Pickup","On Track")))))),"") | AN6: No deposit required at prospect stage; sales tax override under review.
A7: GRP-26006 | B7: ALUM-26006 | C7: Horizon University Alumni Weekend | D7: Education | E7: Definite | F7: Morgan Davis | G7: Sydney Grant | H7: sydney.grant@example.com | I7: 734-555-0106 | J7: 46290 | K7: 46292 | L7: 46260 | M7: 48 | N7: =IFERROR(IF($A7="","",SUMIFS('Daily Room Blocks'!$I$2:$I$201,'Daily Room Blocks'!$B$2:$B$201,$A7)),"") | O7: =IFERROR(IF($A7="","",SUMIFS('Daily Room Blocks'!$J$2:$J$201,'Daily Room Blocks'!$B$2:$B$201,$A7)),"") | P7: =IFERROR(IF($A7="","",$O7/$N7),"") | Q7: =IFERROR(IF($A7="","",SUMIFS('Daily Room Blocks'!$O$2:$O$201,'Daily Room Blocks'!$B$2:$B$201,$A7)/$O7),"") | R7: =IFERROR(IF($A7="","",SUMIFS('Daily Room Blocks'!$O$2:$O$201,'Daily Room Blocks'!$B$2:$B$201,$A7)),"") | S7: 6000 | T7: 21000 | V7: =IFERROR(IF($A7="","",IF($U7="",'Dashboard'!$B$5,$U7)),"") | X7: =IFERROR(IF($A7="","",IF($W7="",'Dashboard'!$B$6,$W7)),"") | Z7: =IFERROR(IF($A7="","",IF($Y7="",'Dashboard'!$B$7,$Y7)),"") | AA7: =IFERROR(IF($A7="","",($S7+$T7)*$V7),"") | AB7: =IFERROR(IF($A7="","",($S7+$T7+$AA7)*$X7),"") | AC7: =IFERROR(IF($A7="","",$R7*$Z7),"") | AD7: =IFERROR(IF($A7="","",SUM($R7,$S7,$T7,$AA7,$AB7,$AC7)),"") | AE7: 8000 | AF7: 3000 | AG7: =IFERROR(IF($A7="","",MAX(0,$AE7-$AF7)),"") | AH7: 46266 | AI7: =IFERROR(IF($A7="","",IF($AE7<=0,"Not Required",IF($AG7<=0,"Paid",IF($AH7="","Due Date Needed",IF($AH7<TODAY(),"Overdue","Open"))))),"") | AJ7: 46265 | AK7: 46273 | AL7: Confirm menus and rooming list | AM7: =IFERROR(IF($A7="","",IF(OR($E7="Canceled",$E7="Lost",$E7="Completed"),"Closed",IF(AND($L7<>"",$L7<TODAY()),"Cutoff Passed",IF(AND($L7<>"",$L7>=TODAY(),$L7<=TODAY()+'Dashboard'!$B$8),"Cutoff Approaching",IF(AND($AK7<>"",$AK7<TODAY()),"Follow-Up Overdue",IF(AND($L7<>"",$L7<=TODAY()+'Dashboard'!$B$8,$N7>0,$P7<'Dashboard'!$B$10),"Low Pickup","On Track")))))),"") | AN7: Uses Dashboard default planning rates.
A8: GRP-26007 | B8: TOUR-26007 | C8: Lakeside Motorcoach Tour | D8: Tour and Travel | E8: Canceled | F8: Taylor Brooks | G8: Quinn Foster | H8: quinn.foster@example.com | I8: 231-555-0107 | J8: 46126 | K8: 46128 | L8: 46096 | M8: 28 | N8: =IFERROR(IF($A8="","",SUMIFS('Daily Room Blocks'!$I$2:$I$201,'Daily Room Blocks'!$B$2:$B$201,$A8)),"") | O8: =IFERROR(IF($A8="","",SUMIFS('Daily Room Blocks'!$J$2:$J$201,'Daily Room Blocks'!$B$2:$B$201,$A8)),"") | P8: =IFERROR(IF($A8="","",$O8/$N8),"") | Q8: =IFERROR(IF($A8="","",SUMIFS('Daily Room Blocks'!$O$2:$O$201,'Daily Room Blocks'!$B$2:$B$201,$A8)/$O8),"") | R8: =IFERROR(IF($A8="","",SUMIFS('Daily Room Blocks'!$O$2:$O$201,'Daily Room Blocks'!$B$2:$B$201,$A8)),"") | S8: 0 | T8: 0 | V8: =IFERROR(IF($A8="","",IF($U8="",'Dashboard'!$B$5,$U8)),"") | X8: =IFERROR(IF($A8="","",IF($W8="",'Dashboard'!$B$6,$W8)),"") | Z8: =IFERROR(IF($A8="","",IF($Y8="",'Dashboard'!$B$7,$Y8)),"") | AA8: =IFERROR(IF($A8="","",($S8+$T8)*$V8),"") | AB8: =IFERROR(IF($A8="","",($S8+$T8+$AA8)*$X8),"") | AC8: =IFERROR(IF($A8="","",$R8*$Z8),"") | AD8: =IFERROR(IF($A8="","",SUM($R8,$S8,$T8,$AA8,$AB8,$AC8)),"") | AE8: 1500 | AF8: 0 | AG8: =IFERROR(IF($A8="","",MAX(0,$AE8-$AF8)),"") | AH8: 46082 | AI8: =IFERROR(IF($A8="","",IF($AE8<=0,"Not Required",IF($AG8<=0,"Paid",IF($AH8="","Due Date Needed",IF($AH8<TODAY(),"Overdue","Open"))))),"") | AJ8: 46099 | AK8: 46101 | AL8: Close canceled file | AM8: =IFERROR(IF($A8="","",IF(OR($E8="Canceled",$E8="Lost",$E8="Completed"),"Closed",IF(AND($L8<>"",$L8<TODAY()),"Cutoff Passed",IF(AND($L8<>"",$L8>=TODAY(),$L8<=TODAY()+'Dashboard'!$B$8),"Cutoff Approaching",IF(AND($AK8<>"",$AK8<TODAY()),"Follow-Up Overdue",IF(AND($L8<>"",$L8<=TODAY()+'Dashboard'!$B$8,$N8>0,$P8<'Dashboard'!$B$10),"Low Pickup","On Track")))))),"") | AN8: Canceled business shown as a closed-status example.
A9: GRP-26008 | B9: TECH-26008 | C9: Northstar Technology Sales Kickoff | D9: Corporate Meeting | E9: Tentative | F9: Jordan Lee | G9: Avery Chen | H9: avery.chen@example.com | I9: 312-555-0108 | J9: 46335 | K9: 46338 | L9: 46304 | M9: 62 | N9: =IFERROR(IF($A9="","",SUMIFS('Daily Room Blocks'!$I$2:$I$201,'Daily Room Blocks'!$B$2:$B$201,$A9)),"") | O9: =IFERROR(IF($A9="","",SUMIFS('Daily Room Blocks'!$J$2:$J$201,'Daily Room Blocks'!$B$2:$B$201,$A9)),"") | P9: =IFERROR(IF($A9="","",$O9/$N9),"") | Q9: =IFERROR(IF($A9="","",SUMIFS('Daily Room Blocks'!$O$2:$O$201,'Daily Room Blocks'!$B$2:$B$201,$A9)/$O9),"") | R9: =IFERROR(IF($A9="","",SUMIFS('Daily Room Blocks'!$O$2:$O$201,'Daily Room Blocks'!$B$2:$B$201,$A9)),"") | S9: 8500 | T9: 28000 | V9: =IFERROR(IF($A9="","",IF($U9="",'Dashboard'!$B$5,$U9)),"") | X9: =IFERROR(IF($A9="","",IF($W9="",'Dashboard'!$B$6,$W9)),"") | Y9: 0.11 | Z9: =IFERROR(IF($A9="","",IF($Y9="",'Dashboard'!$B$7,$Y9)),"") | AA9: =IFERROR(IF($A9="","",($S9+$T9)*$V9),"") | AB9: =IFERROR(IF($A9="","",($S9+$T9+$AA9)*$X9),"") | AC9: =IFERROR(IF($A9="","",$R9*$Z9),"") | AD9: =IFERROR(IF($A9="","",SUM($R9,$S9,$T9,$AA9,$AB9,$AC9)),"") | AE9: 10000 | AF9: 2500 | AG9: =IFERROR(IF($A9="","",MAX(0,$AE9-$AF9)),"") | AH9: 46285 | AI9: =IFERROR(IF($A9="","",IF($AE9<=0,"Not Required",IF($AG9<=0,"Paid",IF($AH9="","Due Date Needed",IF($AH9<TODAY(),"Overdue","Open"))))),"") | AJ9: 46259 | AK9: 46274 | AL9: Send revised contract | AM9: =IFERROR(IF($A9="","",IF(OR($E9="Canceled",$E9="Lost",$E9="Completed"),"Closed",IF(AND($L9<>"",$L9<TODAY()),"Cutoff Passed",IF(AND($L9<>"",$L9>=TODAY(),$L9<=TODAY()+'Dashboard'!$B$8),"Cutoff Approaching",IF(AND($AK9<>"",$AK9<TODAY()),"Follow-Up Overdue",IF(AND($L9<>"",$L9<=TODAY()+'Dashboard'!$B$8,$N9>0,$P9<'Dashboard'!$B$10),"Low Pickup","On Track")))))),"") | AN9: Lodging tax override entered for planning.
A10: GRP-26009 | C10: Coastal Arts Foundation Gala | D10: Social Event | E10: Lost | F10: Casey Morgan | G10: Peyton Ellis | H10: peyton.ellis@example.com | I10: 269-555-0109 | J10: 46312 | K10: 46313 | L10: 46282 | M10: 20 | N10: =IFERROR(IF($A10="","",SUMIFS('Daily Room Blocks'!$I$2:$I$201,'Daily Room Blocks'!$B$2:$B$201,$A10)),"") | O10: =IFERROR(IF($A10="","",SUMIFS('Daily Room Blocks'!$J$2:$J$201,'Daily Room Blocks'!$B$2:$B$201,$A10)),"") | P10: =IFERROR(IF($A10="","",$O10/$N10),"") | Q10: =IFERROR(IF($A10="","",SUMIFS('Daily Room Blocks'!$O$2:$O$201,'Daily Room Blocks'!$B$2:$B$201,$A10)/$O10),"") | R10: =IFERROR(IF($A10="","",SUMIFS('Daily Room Blocks'!$O$2:$O$201,'Daily Room Blocks'!$B$2:$B$201,$A10)),"") | S10: 7200 | T10: 26000 | V10: =IFERROR(IF($A10="","",IF($U10="",'Dashboard'!$B$5,$U10)),"") | X10: =IFERROR(IF($A10="","",IF($W10="",'Dashboard'!$B$6,$W10)),"") | Z10: =IFERROR(IF($A10="","",IF($Y10="",'Dashboard'!$B$7,$Y10)),"") | AA10: =IFERROR(IF($A10="","",($S10+$T10)*$V10),"") | AB10: =IFERROR(IF($A10="","",($S10+$T10+$AA10)*$X10),"") | AC10: =IFERROR(IF($A10="","",$R10*$Z10),"") | AD10: =IFERROR(IF($A10="","",SUM($R10,$S10,$T10,$AA10,$AB10,$AC10)),"") | AE10: 5000 | AF10: 0 | AG10: =IFERROR(IF($A10="","",MAX(0,$AE10-$AF10)),"") | AH10: 46266 | AI10: =IFERROR(IF($A10="","",IF($AE10<=0,"Not Required",IF($AG10<=0,"Paid",IF($AH10="","Due Date Needed",IF($AH10<TODAY(),"Overdue","Open"))))),"") | AJ10: 46256 | AK10: 46264 | AL10: Record lost-business reason | AM10: =IFERROR(IF($A10="","",IF(OR($E10="Canceled",$E10="Lost",$E10="Completed"),"Closed",IF(AND($L10<>"",$L10<TODAY()),"Cutoff Passed",IF(AND($L10<>"",$L10>=TODAY(),$L10<=TODAY()+'Dashboard'!$B$8),"Cutoff Approaching",IF(AND($AK10<>"",$AK10<TODAY()),"Follow-Up Overdue",IF(AND($L10<>"",$L10<=TODAY()+'Dashboard'!$B$8,$N10>0,$P10<'Dashboard'!$B$10),"Low Pickup","On Track")))))),"") | AN10: Opportunity selected another venue.
N11: =IFERROR(IF($A11="","",SUMIFS('Daily Room Blocks'!$I$2:$I$201,'Daily Room Blocks'!$B$2:$B$201,$A11)),"") | O11: =IFERROR(IF($A11="","",SUMIFS('Daily Room Blocks'!$J$2:$J$201,'Daily Room Blocks'!$B$2:$B$201,$A11)),"") | P11: =IFERROR(IF($A11="","",$O11/$N11),"") | Q11: =IFERROR(IF($A11="","",SUMIFS('Daily Room Blocks'!$O$2:$O$201,'Daily Room Blocks'!$B$2:$B$201,$A11)/$O11),"") | R11: =IFERROR(IF($A11="","",SUMIFS('Daily Room Blocks'!$O$2:$O$201,'Daily Room Blocks'!$B$2:$B$201,$A11)),"") | V11: =IFERROR(IF($A11="","",IF($U11="",'Dashboard'!$B$5,$U11)),"") | X11: =IFERROR(IF($A11="","",IF($W11="",'Dashboard'!$B$6,$W11)),"") | Z11: =IFERROR(IF($A11="","",IF($Y11="",'Dashboard'!$B$7,$Y11)),"") | AA11: =IFERROR(IF($A11="","",($S11+$T11)*$V11),"") | AB11: =IFERROR(IF($A11="","",($S11+$T11+$AA11)*$X11),"") | AC11: =IFERROR(IF($A11="","",$R11*$Z11),"") | AD11: =IFERROR(IF($A11="","",SUM($R11,$S11,$T11,$AA11,$AB11,$AC11)),"") | AG11: =IFERROR(IF($A11="","",MAX(0,$AE11-$AF11)),"") | AI11: =IFERROR(IF($A11="","",IF($AE11<=0,"Not Required",IF($AG11<=0,"Paid",IF($AH11="","Due Date Needed",IF($AH11<TODAY(),"Overdue","Open"))))),"") | AM11: =IFERROR(IF($A11="","",IF(OR($E11="Canceled",$E11="Lost",$E11="Completed"),"Closed",IF(AND($L11<>"",$L11<TODAY()),"Cutoff Passed",IF(AND($L11<>"",$L11>=TODAY(),$L11<=TODAY()+'Dashboard'!$B$8),"Cutoff Approaching",IF(AND($AK11<>"",$AK11<TODAY()),"Follow-Up Overdue",IF(AND($L11<>"",$L11<=TODAY()+'Dashboard'!$B$8,$N11>0,$P11<'Dashboard'!$B$10),"Low Pickup","On Track")))))),"")
N12: =IFERROR(IF($A12="","",SUMIFS('Daily Room Blocks'!$I$2:$I$201,'Daily Room Blocks'!$B$2:$B$201,$A12)),"") | O12: =IFERROR(IF($A12="","",SUMIFS('Daily Room Blocks'!$J$2:$J$201,'Daily Room Blocks'!$B$2:$B$201,$A12)),"") | P12: =IFERROR(IF($A12="","",$O12/$N12),"") | Q12: =IFERROR(IF($A12="","",SUMIFS('Daily Room Blocks'!$O$2:$O$201,'Daily Room Blocks'!$B$2:$B$201,$A12)/$O12),"") | R12: =IFERROR(IF($A12="","",SUMIFS('Daily Room Blocks'!$O$2:$O$201,'Daily Room Blocks'!$B$2:$B$201,$A12)),"") | V12: =IFERROR(IF($A12="","",IF($U12="",'Dashboard'!$B$5,$U12)),"") | X12: =IFERROR(IF($A12="","",IF($W12="",'Dashboard'!$B$6,$W12)),"") | Z12: =IFERROR(IF($A12="","",IF($Y12="",'Dashboard'!$B$7,$Y12)),"") | AA12: =IFERROR(IF($A12="","",($S12+$T12)*$V12),"") | AB12: =IFERROR(IF($A12="","",($S12+$T12+$AA12)*$X12),"") | AC12: =IFERROR(IF($A12="","",$R12*$Z12),"") | AD12: =IFERROR(IF($A12="","",SUM($R12,$S12,$T12,$AA12,$AB12,$AC12)),"") | AG12: =IFERROR(IF($A12="","",MAX(0,$AE12-$AF12)),"") | AI12: =IFERROR(IF($A12="","",IF($AE12<=0,"Not Required",IF($AG12<=0,"Paid",IF($AH12="","Due Date Needed",IF($AH12<TODAY(),"Overdue","Open"))))),"") | AM12: =IFERROR(IF($A12="","",IF(OR($E12="Canceled",$E12="Lost",$E12="Completed"),"Closed",IF(AND($L12<>"",$L12<TODAY()),"Cutoff Passed",IF(AND($L12<>"",$L12>=TODAY(),$L12<=TODAY()+'Dashboard'!$B$8),"Cutoff Approaching",IF(AND($AK12<>"",$AK12<TODAY()),"Follow-Up Overdue",IF(AND($L12<>"",$L12<=TODAY()+'Dashboard'!$B$8,$N12>0,$P12<'Dashboard'!$B$10),"Low Pickup","On Track")))))),"")
N13: =IFERROR(IF($A13="","",SUMIFS('Daily Room Blocks'!$I$2:$I$201,'Daily Room Blocks'!$B$2:$B$201,$A13)),"") | O13: =IFERROR(IF($A13="","",SUMIFS('Daily Room Blocks'!$J$2:$J$201,'Daily Room Blocks'!$B$2:$B$201,$A13)),"") | P13: =IFERROR(IF($A13="","",$O13/$N13),"") | Q13: =IFERROR(IF($A13="","",SUMIFS('Daily Room Blocks'!$O$2:$O$201,'Daily Room Blocks'!$B$2:$B$201,$A13)/$O13),"") | R13: =IFERROR(IF($A13="","",SUMIFS('Daily Room Blocks'!$O$2:$O$201,'Daily Room Blocks'!$B$2:$B$201,$A13)),"") | V13: =IFERROR(IF($A13="","",IF($U13="",'Dashboard'!$B$5,$U13)),"") | X13: =IFERROR(IF($A13="","",IF($W13="",'Dashboard'!$B$6,$W13)),"") | Z13: =IFERROR(IF($A13="","",IF($Y13="",'Dashboard'!$B$7,$Y13)),"") | AA13: =IFERROR(IF($A13="","",($S13+$T13)*$V13),"") | AB13: =IFERROR(IF($A13="","",($S13+$T13+$AA13)*$X13),"") | AC13: =IFERROR(IF($A13="","",$R13*$Z13),"") | AD13: =IFERROR(IF($A13="","",SUM($R13,$S13,$T13,$AA13,$AB13,$AC13)),"") | AG13: =IFERROR(IF($A13="","",MAX(0,$AE13-$AF13)),"") | AI13: =IFERROR(IF($A13="","",IF($AE13<=0,"Not Required",IF($AG13<=0,"Paid",IF($AH13="","Due Date Needed",IF($AH13<TODAY(),"Overdue","Open"))))),"") | AM13: =IFERROR(IF($A13="","",IF(OR($E13="Canceled",$E13="Lost",$E13="Completed"),"Closed",IF(AND($L13<>"",$L13<TODAY()),"Cutoff Passed",IF(AND($L13<>"",$L13>=TODAY(),$L13<=TODAY()+'Dashboard'!$B$8),"Cutoff Approaching",IF(AND($AK13<>"",$AK13<TODAY()),"Follow-Up Overdue",IF(AND($L13<>"",$L13<=TODAY()+'Dashboard'!$B$8,$N13>0,$P13<'Dashboard'!$B$10),"Low Pickup","On Track")))))),"")
N14: =IFERROR(IF($A14="","",SUMIFS('Daily Room Blocks'!$I$2:$I$201,'Daily Room Blocks'!$B$2:$B$201,$A14)),"") | O14: =IFERROR(IF($A14="","",SUMIFS('Daily Room Blocks'!$J$2:$J$201,'Daily Room Blocks'!$B$2:$B$201,$A14)),"") | P14: =IFERROR(IF($A14="","",$O14/$N14),"") | Q14: =IFERROR(IF($A14="","",SUMIFS('Daily Room Blocks'!$O$2:$O$201,'Daily Room Blocks'!$B$2:$B$201,$A14)/$O14),"") | R14: =IFERROR(IF($A14="","",SUMIFS('Daily Room Blocks'!$O$2:$O$201,'Daily Room Blocks'!$B$2:$B$201,$A14)),"") | V14: =IFERROR(IF($A14="","",IF($U14="",'Dashboard'!$B$5,$U14)),"") | X14: =IFERROR(IF($A14="","",IF($W14="",'Dashboard'!$B$6,$W14)),"") | Z14: =IFERROR(IF($A14="","",IF($Y14="",'Dashboard'!$B$7,$Y14)),"") | AA14: =IFERROR(IF($A14="","",($S14+$T14)*$V14),"") | AB14: =IFERROR(IF($A14="","",($S14+$T14+$AA14)*$X14),"") | AC14: =IFERROR(IF($A14="","",$R14*$Z14),"") | AD14: =IFERROR(IF($A14="","",SUM($R14,$S14,$T14,$AA14,$AB14,$AC14)),"") | AG14: =IFERROR(IF($A14="","",MAX(0,$AE14-$AF14)),"") | AI14: =IFERROR(IF($A14="","",IF($AE14<=0,"Not Required",IF($AG14<=0,"Paid",IF($AH14="","Due Date Needed",IF($AH14<TODAY(),"Overdue","Open"))))),"") | AM14: =IFERROR(IF($A14="","",IF(OR($E14="Canceled",$E14="Lost",$E14="Completed"),"Closed",IF(AND($L14<>"",$L14<TODAY()),"Cutoff Passed",IF(AND($L14<>"",$L14>=TODAY(),$L14<=TODAY()+'Dashboard'!$B$8),"Cutoff Approaching",IF(AND($AK14<>"",$AK14<TODAY()),"Follow-Up Overdue",IF(AND($L14<>"",$L14<=TODAY()+'Dashboard'!$B$8,$N14>0,$P14<'Dashboard'!$B$10),"Low Pickup","On Track")))))),"")
N15: =IFERROR(IF($A15="","",SUMIFS('Daily Room Blocks'!$I$2:$I$201,'Daily Room Blocks'!$B$2:$B$201,$A15)),"") | O15: =IFERROR(IF($A15="","",SUMIFS('Daily Room Blocks'!$J$2:$J$201,'Daily Room Blocks'!$B$2:$B$201,$A15)),"") | P15: =IFERROR(IF($A15="","",$O15/$N15),"") | Q15: =IFERROR(IF($A15="","",SUMIFS('Daily Room Blocks'!$O$2:$O$201,'Daily Room Blocks'!$B$2:$B$201,$A15)/$O15),"") | R15: =IFERROR(IF($A15="","",SUMIFS('Daily Room Blocks'!$O$2:$O$201,'Daily Room Blocks'!$B$2:$B$201,$A15)),"") | V15: =IFERROR(IF($A15="","",IF($U15="",'Dashboard'!$B$5,$U15)),"") | X15: =IFERROR(IF($A15="","",IF($W15="",'Dashboard'!$B$6,$W15)),"") | Z15: =IFERROR(IF($A15="","",IF($Y15="",'Dashboard'!$B$7,$Y15)),"") | AA15: =IFERROR(IF($A15="","",($S15+$T15)*$V15),"") | AB15: =IFERROR(IF($A15="","",($S15+$T15+$AA15)*$X15),"") | AC15: =IFERROR(IF($A15="","",$R15*$Z15),"") | AD15: =IFERROR(IF($A15="","",SUM($R15,$S15,$T15,$AA15,$AB15,$AC15)),"") | AG15: =IFERROR(IF($A15="","",MAX(0,$AE15-$AF15)),"") | AI15: =IFERROR(IF($A15="","",IF($AE15<=0,"Not Required",IF($AG15<=0,"Paid",IF($AH15="","Due Date Needed",IF($AH15<TODAY(),"Overdue","Open"))))),"") | AM15: =IFERROR(IF($A15="","",IF(OR($E15="Canceled",$E15="Lost",$E15="Completed"),"Closed",IF(AND($L15<>"",$L15<TODAY()),"Cutoff Passed",IF(AND($L15<>"",$L15>=TODAY(),$L15<=TODAY()+'Dashboard'!$B$8),"Cutoff Approaching",IF(AND($AK15<>"",$AK15<TODAY()),"Follow-Up Overdue",IF(AND($L15<>"",$L15<=TODAY()+'Dashboard'!$B$8,$N15>0,$P15<'Dashboard'!$B$10),"Low Pickup","On Track")))))),"")
N16: =IFERROR(IF($A16="","",SUMIFS('Daily Room Blocks'!$I$2:$I$201,'Daily Room Blocks'!$B$2:$B$201,$A16)),"") | O16: =IFERROR(IF($A16="","",SUMIFS('Daily Room Blocks'!$J$2:$J$201,'Daily Room Blocks'!$B$2:$B$201,$A16)),"") | P16: =IFERROR(IF($A16="","",$O16/$N16),"") | Q16: =IFERROR(IF($A16="","",SUMIFS('Daily Room Blocks'!$O$2:$O$201,'Daily Room Blocks'!$B$2:$B$201,$A16)/$O16),"") | R16: =IFERROR(IF($A16="","",SUMIFS('Daily Room Blocks'!$O$2:$O$201,'Daily Room Blocks'!$B$2:$B$201,$A16)),"") | V16: =IFERROR(IF($A16="","",IF($U16="",'Dashboard'!$B$5,$U16)),"") | X16: =IFERROR(IF($A16="","",IF($W16="",'Dashboard'!$B$6,$W16)),"") | Z16: =IFERROR(IF($A16="","",IF($Y16="",'Dashboard'!$B$7,$Y16)),"") | AA16: =IFERROR(IF($A16="","",($S16+$T16)*$V16),"") | AB16: =IFERROR(IF($A16="","",($S16+$T16+$AA16)*$X16),"") | AC16: =IFERROR(IF($A16="","",$R16*$Z16),"") | AD16: =IFERROR(IF($A16="","",SUM($R16,$S16,$T16,$AA16,$AB16,$AC16)),"") | AG16: =IFERROR(IF($A16="","",MAX(0,$AE16-$AF16)),"") | AI16: =IFERROR(IF($A16="","",IF($AE16<=0,"Not Required",IF($AG16<=0,"Paid",IF($AH16="","Due Date Needed",IF($AH16<TODAY(),"Overdue","Open"))))),"") | AM16: =IFERROR(IF($A16="","",IF(OR($E16="Canceled",$E16="Lost",$E16="Completed"),"Closed",IF(AND($L16<>"",$L16<TODAY()),"Cutoff Passed",IF(AND($L16<>"",$L16>=TODAY(),$L16<=TODAY()+'Dashboard'!$B$8),"Cutoff Approaching",IF(AND($AK16<>"",$AK16<TODAY()),"Follow-Up Overdue",IF(AND($L16<>"",$L16<=TODAY()+'Dashboard'!$B$8,$N16>0,$P16<'Dashboard'!$B$10),"Low Pickup","On Track")))))),"")
N17: =IFERROR(IF($A17="","",SUMIFS('Daily Room Blocks'!$I$2:$I$201,'Daily Room Blocks'!$B$2:$B$201,$A17)),"") | O17: =IFERROR(IF($A17="","",SUMIFS('Daily Room Blocks'!$J$2:$J$201,'Daily Room Blocks'!$B$2:$B$201,$A17)),"") | P17: =IFERROR(IF($A17="","",$O17/$N17),"") | Q17: =IFERROR(IF($A17="","",SUMIFS('Daily Room Blocks'!$O$2:$O$201,'Daily Room Blocks'!$B$2:$B$201,$A17)/$O17),"") | R17: =IFERROR(IF($A17="","",SUMIFS('Daily Room Blocks'!$O$2:$O$201,'Daily Room Blocks'!$B$2:$B$201,$A17)),"") | V17: =IFERROR(IF($A17="","",IF($U17="",'Dashboard'!$B$5,$U17)),"") | X17: =IFERROR(IF($A17="","",IF($W17="",'Dashboard'!$B$6,$W17)),"") | Z17: =IFERROR(IF($A17="","",IF($Y17="",'Dashboard'!$B$7,$Y17)),"") | AA17: =IFERROR(IF($A17="","",($S17+$T17)*$V17),"") | AB17: =IFERROR(IF($A17="","",($S17+$T17+$AA17)*$X17),"") | AC17: =IFERROR(IF($A17="","",$R17*$Z17),"") | AD17: =IFERROR(IF($A17="","",SUM($R17,$S17,$T17,$AA17,$AB17,$AC17)),"") | AG17: =IFERROR(IF($A17="","",MAX(0,$AE17-$AF17)),"") | AI17: =IFERROR(IF($A17="","",IF($AE17<=0,"Not Required",IF($AG17<=0,"Paid",IF($AH17="","Due Date Needed",IF($AH17<TODAY(),"Overdue","Open"))))),"") | AM17: =IFERROR(IF($A17="","",IF(OR($E17="Canceled",$E17="Lost",$E17="Completed"),"Closed",IF(AND($L17<>"",$L17<TODAY()),"Cutoff Passed",IF(AND($L17<>"",$L17>=TODAY(),$L17<=TODAY()+'Dashboard'!$B$8),"Cutoff Approaching",IF(AND($AK17<>"",$AK17<TODAY()),"Follow-Up Overdue",IF(AND($L17<>"",$L17<=TODAY()+'Dashboard'!$B$8,$N17>0,$P17<'Dashboard'!$B$10),"Low Pickup","On Track")))))),"")
N18: =IFERROR(IF($A18="","",SUMIFS('Daily Room Blocks'!$I$2:$I$201,'Daily Room Blocks'!$B$2:$B$201,$A18)),"") | O18: =IFERROR(IF($A18="","",SUMIFS('Daily Room Blocks'!$J$2:$J$201,'Daily Room Blocks'!$B$2:$B$201,$A18)),"") | P18: =IFERROR(IF($A18="","",$O18/$N18),"") | Q18: =IFERROR(IF($A18="","",SUMIFS('Daily Room Blocks'!$O$2:$O$201,'Daily Room Blocks'!$B$2:$B$201,$A18)/$O18),"") | R18: =IFERROR(IF($A18="","",SUMIFS('Daily Room Blocks'!$O$2:$O$201,'Daily Room Blocks'!$B$2:$B$201,$A18)),"") | V18: =IFERROR(IF($A18="","",IF($U18="",'Dashboard'!$B$5,$U18)),"") | X18: =IFERROR(IF($A18="","",IF($W18="",'Dashboard'!$B$6,$W18)),"") | Z18: =IFERROR(IF($A18="","",IF($Y18="",'Dashboard'!$B$7,$Y18)),"") | AA18: =IFERROR(IF($A18="","",($S18+$T18)*$V18),"") | AB18: =IFERROR(IF($A18="","",($S18+$T18+$AA18)*$X18),"") | AC18: =IFERROR(IF($A18="","",$R18*$Z18),"") | AD18: =IFERROR(IF($A18="","",SUM($R18,$S18,$T18,$AA18,$AB18,$AC18)),"") | AG18: =IFERROR(IF($A18="","",MAX(0,$AE18-$AF18)),"") | AI18: =IFERROR(IF($A18="","",IF($AE18<=0,"Not Required",IF($AG18<=0,"Paid",IF($AH18="","Due Date Needed",IF($AH18<TODAY(),"Overdue","Open"))))),"") | AM18: =IFERROR(IF($A18="","",IF(OR($E18="Canceled",$E18="Lost",$E18="Completed"),"Closed",IF(AND($L18<>"",$L18<TODAY()),"Cutoff Passed",IF(AND($L18<>"",$L18>=TODAY(),$L18<=TODAY()+'Dashboard'!$B$8),"Cutoff Approaching",IF(AND($AK18<>"",$AK18<TODAY()),"Follow-Up Overdue",IF(AND($L18<>"",$L18<=TODAY()+'Dashboard'!$B$8,$N18>0,$P18<'Dashboard'!$B$10),"Low Pickup","On Track")))))),"")
N19: =IFERROR(IF($A19="","",SUMIFS('Daily Room Blocks'!$I$2:$I$201,'Daily Room Blocks'!$B$2:$B$201,$A19)),"") | O19: =IFERROR(IF($A19="","",SUMIFS('Daily Room Blocks'!$J$2:$J$201,'Daily Room Blocks'!$B$2:$B$201,$A19)),"") | P19: =IFERROR(IF($A19="","",$O19/$N19),"") | Q19: =IFERROR(IF($A19="","",SUMIFS('Daily Room Blocks'!$O$2:$O$201,'Daily Room Blocks'!$B$2:$B$201,$A19)/$O19),"") | R19: =IFERROR(IF($A19="","",SUMIFS('Daily Room Blocks'!$O$2:$O$201,'Daily Room Blocks'!$B$2:$B$201,$A19)),"") | V19: =IFERROR(IF($A19="","",IF($U19="",'Dashboard'!$B$5,$U19)),"") | X19: =IFERROR(IF($A19="","",IF($W19="",'Dashboard'!$B$6,$W19)),"") | Z19: =IFERROR(IF($A19="","",IF($Y19="",'Dashboard'!$B$7,$Y19)),"") | AA19: =IFERROR(IF($A19="","",($S19+$T19)*$V19),"") | AB19: =IFERROR(IF($A19="","",($S19+$T19+$AA19)*$X19),"") | AC19: =IFERROR(IF($A19="","",$R19*$Z19),"") | AD19: =IFERROR(IF($A19="","",SUM($R19,$S19,$T19,$AA19,$AB19,$AC19)),"") | AG19: =IFERROR(IF($A19="","",MAX(0,$AE19-$AF19)),"") | AI19: =IFERROR(IF($A19="","",IF($AE19<=0,"Not Required",IF($AG19<=0,"Paid",IF($AH19="","Due Date Needed",IF($AH19<TODAY(),"Overdue","Open"))))),"") | AM19: =IFERROR(IF($A19="","",IF(OR($E19="Canceled",$E19="Lost",$E19="Completed"),"Closed",IF(AND($L19<>"",$L19<TODAY()),"Cutoff Passed",IF(AND($L19<>"",$L19>=TODAY(),$L19<=TODAY()+'Dashboard'!$B$8),"Cutoff Approaching",IF(AND($AK19<>"",$AK19<TODAY()),"Follow-Up Overdue",IF(AND($L19<>"",$L19<=TODAY()+'Dashboard'!$B$8,$N19>0,$P19<'Dashboard'!$B$10),"Low Pickup","On Track")))))),"")
N20: =IFERROR(IF($A20="","",SUMIFS('Daily Room Blocks'!$I$2:$I$201,'Daily Room Blocks'!$B$2:$B$201,$A20)),"") | O20: =IFERROR(IF($A20="","",SUMIFS('Daily Room Blocks'!$J$2:$J$201,'Daily Room Blocks'!$B$2:$B$201,$A20)),"") | P20: =IFERROR(IF($A20="","",$O20/$N20),"") | Q20: =IFERROR(IF($A20="","",SUMIFS('Daily Room Blocks'!$O$2:$O$201,'Daily Room Blocks'!$B$2:$B$201,$A20)/$O20),"") | R20: =IFERROR(IF($A20="","",SUMIFS('Daily Room Blocks'!$O$2:$O$201,'Daily Room Blocks'!$B$2:$B$201,$A20)),"") | V20: =IFERROR(IF($A20="","",IF($U20="",'Dashboard'!$B$5,$U20)),"") | X20: =IFERROR(IF($A20="","",IF($W20="",'Dashboard'!$B$6,$W20)),"") | Z20: =IFERROR(IF($A20="","",IF($Y20="",'Dashboard'!$B$7,$Y20)),"") | AA20: =IFERROR(IF($A20="","",($S20+$T20)*$V20),"") | AB20: =IFERROR(IF($A20="","",($S20+$T20+$AA20)*$X20),"") | AC20: =IFERROR(IF($A20="","",$R20*$Z20),"") | AD20: =IFERROR(IF($A20="","",SUM($R20,$S20,$T20,$AA20,$AB20,$AC20)),"") | AG20: =IFERROR(IF($A20="","",MAX(0,$AE20-$AF20)),"") | AI20: =IFERROR(IF($A20="","",IF($AE20<=0,"Not Required",IF($AG20<=0,"Paid",IF($AH20="","Due Date Needed",IF($AH20<TODAY(),"Overdue","Open"))))),"") | AM20: =IFERROR(IF($A20="","",IF(OR($E20="Canceled",$E20="Lost",$E20="Completed"),"Closed",IF(AND($L20<>"",$L20<TODAY()),"Cutoff Passed",IF(AND($L20<>"",$L20>=TODAY(),$L20<=TODAY()+'Dashboard'!$B$8),"Cutoff Approaching",IF(AND($AK20<>"",$AK20<TODAY()),"Follow-Up Overdue",IF(AND($L20<>"",$L20<=TODAY()+'Dashboard'!$B$8,$N20>0,$P20<'Dashboard'!$B$10),"Low Pickup","On Track")))))),"")
N21: =IFERROR(IF($A21="","",SUMIFS('Daily Room Blocks'!$I$2:$I$201,'Daily Room Blocks'!$B$2:$B$201,$A21)),"") | O21: =IFERROR(IF($A21="","",SUMIFS('Daily Room Blocks'!$J$2:$J$201,'Daily Room Blocks'!$B$2:$B$201,$A21)),"") | P21: =IFERROR(IF($A21="","",$O21/$N21),"") | Q21: =IFERROR(IF($A21="","",SUMIFS('Daily Room Blocks'!$O$2:$O$201,'Daily Room Blocks'!$B$2:$B$201,$A21)/$O21),"") | R21: =IFERROR(IF($A21="","",SUMIFS('Daily Room Blocks'!$O$2:$O$201,'Daily Room Blocks'!$B$2:$B$201,$A21)),"") | V21: =IFERROR(IF($A21="","",IF($U21="",'Dashboard'!$B$5,$U21)),"") | X21: =IFERROR(IF($A21="","",IF($W21="",'Dashboard'!$B$6,$W21)),"") | Z21: =IFERROR(IF($A21="","",IF($Y21="",'Dashboard'!$B$7,$Y21)),"") | AA21: =IFERROR(IF($A21="","",($S21+$T21)*$V21),"") | AB21: =IFERROR(IF($A21="","",($S21+$T21+$AA21)*$X21),"") | AC21: =IFERROR(IF($A21="","",$R21*$Z21),"") | AD21: =IFERROR(IF($A21="","",SUM($R21,$S21,$T21,$AA21,$AB21,$AC21)),"") | AG21: =IFERROR(IF($A21="","",MAX(0,$AE21-$AF21)),"") | AI21: =IFERROR(IF($A21="","",IF($AE21<=0,"Not Required",IF($AG21<=0,"Paid",IF($AH21="","Due Date Needed",IF($AH21<TODAY(),"Overdue","Open"))))),"") | AM21: =IFERROR(IF($A21="","",IF(OR($E21="Canceled",$E21="Lost",$E21="Completed"),"Closed",IF(AND($L21<>"",$L21<TODAY()),"Cutoff Passed",IF(AND($L21<>"",$L21>=TODAY(),$L21<=TODAY()+'Dashboard'!$B$8),"Cutoff Approaching",IF(AND($AK21<>"",$AK21<TODAY()),"Follow-Up Overdue",IF(AND($L21<>"",$L21<=TODAY()+'Dashboard'!$B$8,$N21>0,$P21<'Dashboard'!$B$10),"Low Pickup","On Track")))))),"")
N22: =IFERROR(IF($A22="","",SUMIFS('Daily Room Blocks'!$I$2:$I$201,'Daily Room Blocks'!$B$2:$B$201,$A22)),"") | O22: =IFERROR(IF($A22="","",SUMIFS('Daily Room Blocks'!$J$2:$J$201,'Daily Room Blocks'!$B$2:$B$201,$A22)),"") | P22: =IFERROR(IF($A22="","",$O22/$N22),"") | Q22: =IFERROR(IF($A22="","",SUMIFS('Daily Room Blocks'!$O$2:$O$201,'Daily Room Blocks'!$B$2:$B$201,$A22)/$O22),"") | R22: =IFERROR(IF($A22="","",SUMIFS('Daily Room Blocks'!$O$2:$O$201,'Daily Room Blocks'!$B$2:$B$201,$A22)),"") | V22: =IFERROR(IF($A22="","",IF($U22="",'Dashboard'!$B$5,$U22)),"") | X22: =IFERROR(IF($A22="","",IF($W22="",'Dashboard'!$B$6,$W22)),"") | Z22: =IFERROR(IF($A22="","",IF($Y22="",'Dashboard'!$B$7,$Y22)),"") | AA22: =IFERROR(IF($A22="","",($S22+$T22)*$V22),"") | AB22: =IFERROR(IF($A22="","",($S22+$T22+$AA22)*$X22),"") | AC22: =IFERROR(IF($A22="","",$R22*$Z22),"") | AD22: =IFERROR(IF($A22="","",SUM($R22,$S22,$T22,$AA22,$AB22,$AC22)),"") | AG22: =IFERROR(IF($A22="","",MAX(0,$AE22-$AF22)),"") | AI22: =IFERROR(IF($A22="","",IF($AE22<=0,"Not Required",IF($AG22<=0,"Paid",IF($AH22="","Due Date Needed",IF($AH22<TODAY(),"Overdue","Open"))))),"") | AM22: =IFERROR(IF($A22="","",IF(OR($E22="Canceled",$E22="Lost",$E22="Completed"),"Closed",IF(AND($L22<>"",$L22<TODAY()),"Cutoff Passed",IF(AND($L22<>"",$L22>=TODAY(),$L22<=TODAY()+'Dashboard'!$B$8),"Cutoff Approaching",IF(AND($AK22<>"",$AK22<TODAY()),"Follow-Up Overdue",IF(AND($L22<>"",$L22<=TODAY()+'Dashboard'!$B$8,$N22>0,$P22<'Dashboard'!$B$10),"Low Pickup","On Track")))))),"")
... N151: =IFERROR(IF($A151="","",SUMIFS('Daily Room Blocks'!$I$2:$I$201,'Daily Room Blocks'!$B$2:$B$201,$A151)),"") | O151: =IFERROR(IF($A151="","",SUMIFS('Daily Room Blocks'!$J$2:$J$201,'Daily Room Blocks'!$B$2:$B$201,$A151)),"") | P151: =IFERROR(IF($A151="","",$O151/$N151),"") | Q151: =IFERROR(IF($A151="","",SUMIFS('Daily Room Blocks'!$O$2:$O$201,'Daily Room Blocks'!$B$2:$B$201,$A151)/$O151),"") | R151: =IFERROR(IF($A151="","",SUMIFS('Daily Room Blocks'!$O$2:$O$201,'Daily Room Blocks'!$B$2:$B$201,$A151)),"") | V151: =IFERROR(IF($A151="","",IF($U151="",'Dashboard'!$B$5,$U151)),"") | X151: =IFERROR(IF($A151="","",IF($W151="",'Dashboard'!$B$6,$W151)),"") | Z151: =IFERROR(IF($A151="","",IF($Y151="",'Dashboard'!$B$7,$Y151)),"") | AA151: =IFERROR(IF($A151="","",($S151+$T151)*$V151),"") | AB151: =IFERROR(IF($A151="","",($S151+$T151+$AA151)*$X151),"") | AC151: =IFERROR(IF($A151="","",$R151*$Z151),"") | AD151: =IFERROR(IF($A151="","",SUM($R151,$S151,$T151,$AA151,$AB151,$AC151)),"") | AG151: =IFERROR(IF($A151="","",MAX(0,$AE151-$AF151)),"") | AI151: =IFERROR(IF($A151="","",IF($AE151<=0,"Not Required",IF($AG151<=0,"Paid",IF($AH151="","Due Date Needed",IF($AH151<TODAY(),"Overdue","Open"))))),"") | AM151: =IFERROR(IF($A151="","",IF(OR($E151="Canceled",$E151="Lost",$E151="Completed"),"Closed",IF(AND($L151<>"",$L151<TODAY()),"Cutoff Passed",IF(AND($L151<>"",$L151>=TODAY(),$L151<=TODAY()+'Dashboard'!$B$8),"Cutoff Approaching",IF(AND($AK151<>"",$AK151<TODAY()),"Follow-Up Overdue",IF(AND($L151<>"",$L151<=TODAY()+'Dashboard'!$B$8,$N151>0,$P151<'Dashboard'!$B$10),"Low Pickup","On Track")))))),"")

Sheet Daily Room Blocks
A1: Block Line ID | B1: Group ID | C1: Group Name | D1: Booking Status | E1: Stay Date | F1: Day | G1: Room Type | H1: Rooms Available | I1: Rooms Blocked | J1: Rooms Picked Up | K1: Rooms Remaining | L1: Pickup Percentage | M1: Group Rate | N1: Blocked Room Revenue | O1: Picked-Up Room Revenue | P1: Inventory Use Percentage | Q1: Cutoff Date | R1: Block Check | S1: Operations Notes
