Workbook

Sheet Dashboard
A1: Front Desk Shift Log Dashboard
A2: Operational handoff and follow-up overview
A3: Report Date | B3: =TODAY() | D3: Property Name | E3: ='Lists and Settings'!B5 | G3: Open Item Alert Threshold | H3: ='Lists and Settings'!B7 | I3: hours
A4: Dashboard results are based on entries in the Shift Log. Update status, due dates, assignments, and resolution details as work progresses.
A6: Open Items | C6: Overdue Items | E6: High-Priority Open Items | G6: Items Due Today
A7: =COUNTIFS('Shift Log'!$A$6:$A$505,"<>",'Shift Log'!$Q$6:$Q$505,"<>Closed") | C7: =COUNTIF('Shift Log'!$Y$6:$Y$505,"Overdue") | E7: =COUNTIFS('Shift Log'!$G$6:$G$505,"High",'Shift Log'!$Q$6:$Q$505,"<>Closed")+COUNTIFS('Shift Log'!$G$6:$G$505,"Critical",'Shift Log'!$Q$6:$Q$505,"<>Closed") | G7: =COUNTIFS('Shift Log'!$O$6:$O$505,TODAY(),'Shift Log'!$Q$6:$Q$505,"<>Closed")
A9: Open Guest Concerns | C9: Open Maintenance Items | E9: Estimated Open Recovery Cost | G9: Average Open Age in Hours
A10: =COUNTIFS('Shift Log'!$F$6:$F$505,"Guest Concern",'Shift Log'!$Q$6:$Q$505,"<>Closed") | C10: =COUNTIFS('Shift Log'!$F$6:$F$505,"Maintenance",'Shift Log'!$Q$6:$Q$505,"<>Closed") | E10: =SUMIFS('Shift Log'!$T$6:$T$505,'Shift Log'!$Q$6:$Q$505,"<>Closed",'Shift Log'!$A$6:$A$505,"<>") | G10: =IFERROR(AVERAGEIFS('Shift Log'!$X$6:$X$505,'Shift Log'!$Q$6:$Q$505,"<>Closed",'Shift Log'!$A$6:$A$505,"<>"),0)
E11: =""
E12: =""
A13: Open Items by Assigned Department | E13: ="" | F13: Open Items by Category
A14: Assigned Department | B14: Open Items | C14: Overdue Items | D14: High or Critical | E14: ="" | F14: Category | G14: Open Items | H14: Closed Items | I14: Estimated Open Recovery Cost | J14: Overdue Items
A15: Front Desk | B15: =COUNTIFS('Shift Log'!$M$6:$M$505,A15,'Shift Log'!$Q$6:$Q$505,"<>Closed",'Shift Log'!$A$6:$A$505,"<>") | C15: =COUNTIFS('Shift Log'!$M$6:$M$505,A15,'Shift Log'!$Y$6:$Y$505,"Overdue") | D15: =COUNTIFS('Shift Log'!$M$6:$M$505,A15,'Shift Log'!$G$6:$G$505,"High",'Shift Log'!$Q$6:$Q$505,"<>Closed")+COUNTIFS('Shift Log'!$M$6:$M$505,A15,'Shift Log'!$G$6:$G$505,"Critical",'Shift Log'!$Q$6:$Q$505,"<>Closed") | E15: ="" | F15: Guest Concern | G15: =COUNTIFS('Shift Log'!$F$6:$F$505,F15,'Shift Log'!$Q$6:$Q$505,"<>Closed",'Shift Log'!$A$6:$A$505,"<>") | H15: =COUNTIFS('Shift Log'!$F$6:$F$505,F15,'Shift Log'!$Q$6:$Q$505,"Closed") | I15: =SUMIFS('Shift Log'!$T$6:$T$505,'Shift Log'!$F$6:$F$505,F15,'Shift Log'!$Q$6:$Q$505,"<>Closed") | J15: =COUNTIFS('Shift Log'!$F$6:$F$505,F15,'Shift Log'!$Y$6:$Y$505,"Overdue")
A16: Housekeeping | B16: =COUNTIFS('Shift Log'!$M$6:$M$505,A16,'Shift Log'!$Q$6:$Q$505,"<>Closed",'Shift Log'!$A$6:$A$505,"<>") | C16: =COUNTIFS('Shift Log'!$M$6:$M$505,A16,'Shift Log'!$Y$6:$Y$505,"Overdue") | D16: =COUNTIFS('Shift Log'!$M$6:$M$505,A16,'Shift Log'!$G$6:$G$505,"High",'Shift Log'!$Q$6:$Q$505,"<>Closed")+COUNTIFS('Shift Log'!$M$6:$M$505,A16,'Shift Log'!$G$6:$G$505,"Critical",'Shift Log'!$Q$6:$Q$505,"<>Closed") | E16: ="" | F16: Maintenance | G16: =COUNTIFS('Shift Log'!$F$6:$F$505,F16,'Shift Log'!$Q$6:$Q$505,"<>Closed",'Shift Log'!$A$6:$A$505,"<>") | H16: =COUNTIFS('Shift Log'!$F$6:$F$505,F16,'Shift Log'!$Q$6:$Q$505,"Closed") | I16: =SUMIFS('Shift Log'!$T$6:$T$505,'Shift Log'!$F$6:$F$505,F16,'Shift Log'!$Q$6:$Q$505,"<>Closed") | J16: =COUNTIFS('Shift Log'!$F$6:$F$505,F16,'Shift Log'!$Y$6:$Y$505,"Overdue")
A17: Maintenance | B17: =COUNTIFS('Shift Log'!$M$6:$M$505,A17,'Shift Log'!$Q$6:$Q$505,"<>Closed",'Shift Log'!$A$6:$A$505,"<>") | C17: =COUNTIFS('Shift Log'!$M$6:$M$505,A17,'Shift Log'!$Y$6:$Y$505,"Overdue") | D17: =COUNTIFS('Shift Log'!$M$6:$M$505,A17,'Shift Log'!$G$6:$G$505,"High",'Shift Log'!$Q$6:$Q$505,"<>Closed")+COUNTIFS('Shift Log'!$M$6:$M$505,A17,'Shift Log'!$G$6:$G$505,"Critical",'Shift Log'!$Q$6:$Q$505,"<>Closed") | E17: ="" | F17: Housekeeping | G17: =COUNTIFS('Shift Log'!$F$6:$F$505,F17,'Shift Log'!$Q$6:$Q$505,"<>Closed",'Shift Log'!$A$6:$A$505,"<>") | H17: =COUNTIFS('Shift Log'!$F$6:$F$505,F17,'Shift Log'!$Q$6:$Q$505,"Closed") | I17: =SUMIFS('Shift Log'!$T$6:$T$505,'Shift Log'!$F$6:$F$505,F17,'Shift Log'!$Q$6:$Q$505,"<>Closed") | J17: =COUNTIFS('Shift Log'!$F$6:$F$505,F17,'Shift Log'!$Y$6:$Y$505,"Overdue")
A18: Management | B18: =COUNTIFS('Shift Log'!$M$6:$M$505,A18,'Shift Log'!$Q$6:$Q$505,"<>Closed",'Shift Log'!$A$6:$A$505,"<>") | C18: =COUNTIFS('Shift Log'!$M$6:$M$505,A18,'Shift Log'!$Y$6:$Y$505,"Overdue") | D18: =COUNTIFS('Shift Log'!$M$6:$M$505,A18,'Shift Log'!$G$6:$G$505,"High",'Shift Log'!$Q$6:$Q$505,"<>Closed")+COUNTIFS('Shift Log'!$M$6:$M$505,A18,'Shift Log'!$G$6:$G$505,"Critical",'Shift Log'!$Q$6:$Q$505,"<>Closed") | E18: ="" | F18: Billing or Payment | G18: =COUNTIFS('Shift Log'!$F$6:$F$505,F18,'Shift Log'!$Q$6:$Q$505,"<>Closed",'Shift Log'!$A$6:$A$505,"<>") | H18: =COUNTIFS('Shift Log'!$F$6:$F$505,F18,'Shift Log'!$Q$6:$Q$505,"Closed") | I18: =SUMIFS('Shift Log'!$T$6:$T$505,'Shift Log'!$F$6:$F$505,F18,'Shift Log'!$Q$6:$Q$505,"<>Closed") | J18: =COUNTIFS('Shift Log'!$F$6:$F$505,F18,'Shift Log'!$Y$6:$Y$505,"Overdue")
A19: Security | B19: =COUNTIFS('Shift Log'!$M$6:$M$505,A19,'Shift Log'!$Q$6:$Q$505,"<>Closed",'Shift Log'!$A$6:$A$505,"<>") | C19: =COUNTIFS('Shift Log'!$M$6:$M$505,A19,'Shift Log'!$Y$6:$Y$505,"Overdue") | D19: =COUNTIFS('Shift Log'!$M$6:$M$505,A19,'Shift Log'!$G$6:$G$505,"High",'Shift Log'!$Q$6:$Q$505,"<>Closed")+COUNTIFS('Shift Log'!$M$6:$M$505,A19,'Shift Log'!$G$6:$G$505,"Critical",'Shift Log'!$Q$6:$Q$505,"<>Closed") | E19: ="" | F19: Reservation | G19: =COUNTIFS('Shift Log'!$F$6:$F$505,F19,'Shift Log'!$Q$6:$Q$505,"<>Closed",'Shift Log'!$A$6:$A$505,"<>") | H19: =COUNTIFS('Shift Log'!$F$6:$F$505,F19,'Shift Log'!$Q$6:$Q$505,"Closed") | I19: =SUMIFS('Shift Log'!$T$6:$T$505,'Shift Log'!$F$6:$F$505,F19,'Shift Log'!$Q$6:$Q$505,"<>Closed") | J19: =COUNTIFS('Shift Log'!$F$6:$F$505,F19,'Shift Log'!$Y$6:$Y$505,"Overdue")
A20: Food and Beverage | B20: =COUNTIFS('Shift Log'!$M$6:$M$505,A20,'Shift Log'!$Q$6:$Q$505,"<>Closed",'Shift Log'!$A$6:$A$505,"<>") | C20: =COUNTIFS('Shift Log'!$M$6:$M$505,A20,'Shift Log'!$Y$6:$Y$505,"Overdue") | D20: =COUNTIFS('Shift Log'!$M$6:$M$505,A20,'Shift Log'!$G$6:$G$505,"High",'Shift Log'!$Q$6:$Q$505,"<>Closed")+COUNTIFS('Shift Log'!$M$6:$M$505,A20,'Shift Log'!$G$6:$G$505,"Critical",'Shift Log'!$Q$6:$Q$505,"<>Closed") | E20: ="" | F20: Safety or Security | G20: =COUNTIFS('Shift Log'!$F$6:$F$505,F20,'Shift Log'!$Q$6:$Q$505,"<>Closed",'Shift Log'!$A$6:$A$505,"<>") | H20: =COUNTIFS('Shift Log'!$F$6:$F$505,F20,'Shift Log'!$Q$6:$Q$505,"Closed") | I20: =SUMIFS('Shift Log'!$T$6:$T$505,'Shift Log'!$F$6:$F$505,F20,'Shift Log'!$Q$6:$Q$505,"<>Closed") | J20: =COUNTIFS('Shift Log'!$F$6:$F$505,F20,'Shift Log'!$Y$6:$Y$505,"Overdue")
A21: Sales | B21: =COUNTIFS('Shift Log'!$M$6:$M$505,A21,'Shift Log'!$Q$6:$Q$505,"<>Closed",'Shift Log'!$A$6:$A$505,"<>") | C21: =COUNTIFS('Shift Log'!$M$6:$M$505,A21,'Shift Log'!$Y$6:$Y$505,"Overdue") | D21: =COUNTIFS('Shift Log'!$M$6:$M$505,A21,'Shift Log'!$G$6:$G$505,"High",'Shift Log'!$Q$6:$Q$505,"<>Closed")+COUNTIFS('Shift Log'!$M$6:$M$505,A21,'Shift Log'!$G$6:$G$505,"Critical",'Shift Log'!$Q$6:$Q$505,"<>Closed") | E21: ="" | F21: Lost and Found | G21: =COUNTIFS('Shift Log'!$F$6:$F$505,F21,'Shift Log'!$Q$6:$Q$505,"<>Closed",'Shift Log'!$A$6:$A$505,"<>") | H21: =COUNTIFS('Shift Log'!$F$6:$F$505,F21,'Shift Log'!$Q$6:$Q$505,"Closed") | I21: =SUMIFS('Shift Log'!$T$6:$T$505,'Shift Log'!$F$6:$F$505,F21,'Shift Log'!$Q$6:$Q$505,"<>Closed") | J21: =COUNTIFS('Shift Log'!$F$6:$F$505,F21,'Shift Log'!$Y$6:$Y$505,"Overdue")
A22: Accounting | B22: =COUNTIFS('Shift Log'!$M$6:$M$505,A22,'Shift Log'!$Q$6:$Q$505,"<>Closed",'Shift Log'!$A$6:$A$505,"<>") | C22: =COUNTIFS('Shift Log'!$M$6:$M$505,A22,'Shift Log'!$Y$6:$Y$505,"Overdue") | D22: =COUNTIFS('Shift Log'!$M$6:$M$505,A22,'Shift Log'!$G$6:$G$505,"High",'Shift Log'!$Q$6:$Q$505,"<>Closed")+COUNTIFS('Shift Log'!$M$6:$M$505,A22,'Shift Log'!$G$6:$G$505,"Critical",'Shift Log'!$Q$6:$Q$505,"<>Closed") | E22: ="" | F22: Guest Request | G22: =COUNTIFS('Shift Log'!$F$6:$F$505,F22,'Shift Log'!$Q$6:$Q$505,"<>Closed",'Shift Log'!$A$6:$A$505,"<>") | H22: =COUNTIFS('Shift Log'!$F$6:$F$505,F22,'Shift Log'!$Q$6:$Q$505,"Closed") | I22: =SUMIFS('Shift Log'!$T$6:$T$505,'Shift Log'!$F$6:$F$505,F22,'Shift Log'!$Q$6:$Q$505,"<>Closed") | J22: =COUNTIFS('Shift Log'!$F$6:$F$505,F22,'Shift Log'!$Y$6:$Y$505,"Overdue")
B23: ="" | C23: ="" | D23: ="" | E23: ="" | F23: Front Desk Operations | G23: =COUNTIFS('Shift Log'!$F$6:$F$505,F23,'Shift Log'!$Q$6:$Q$505,"<>Closed",'Shift Log'!$A$6:$A$505,"<>") | H23: =COUNTIFS('Shift Log'!$F$6:$F$505,F23,'Shift Log'!$Q$6:$Q$505,"Closed") | I23: =SUMIFS('Shift Log'!$T$6:$T$505,'Shift Log'!$F$6:$F$505,F23,'Shift Log'!$Q$6:$Q$505,"<>Closed") | J23: =COUNTIFS('Shift Log'!$F$6:$F$505,F23,'Shift Log'!$Y$6:$Y$505,"Overdue")
B24: ="" | C24: ="" | D24: ="" | E24: ="" | F24: Group or Event | G24: =COUNTIFS('Shift Log'!$F$6:$F$505,F24,'Shift Log'!$Q$6:$Q$505,"<>Closed",'Shift Log'!$A$6:$A$505,"<>") | H24: =COUNTIFS('Shift Log'!$F$6:$F$505,F24,'Shift Log'!$Q$6:$Q$505,"Closed") | I24: =SUMIFS('Shift Log'!$T$6:$T$505,'Shift Log'!$F$6:$F$505,F24,'Shift Log'!$Q$6:$Q$505,"<>Closed") | J24: =COUNTIFS('Shift Log'!$F$6:$F$505,F24,'Shift Log'!$Y$6:$Y$505,"Overdue")
B25: ="" | C25: ="" | D25: ="" | E25: ="" | F25: Other | G25: =COUNTIFS('Shift Log'!$F$6:$F$505,F25,'Shift Log'!$Q$6:$Q$505,"<>Closed",'Shift Log'!$A$6:$A$505,"<>") | H25: =COUNTIFS('Shift Log'!$F$6:$F$505,F25,'Shift Log'!$Q$6:$Q$505,"Closed") | I25: =SUMIFS('Shift Log'!$T$6:$T$505,'Shift Log'!$F$6:$F$505,F25,'Shift Log'!$Q$6:$Q$505,"<>Closed") | J25: =COUNTIFS('Shift Log'!$F$6:$F$505,F25,'Shift Log'!$Y$6:$Y$505,"Overdue")
B26: ="" | C26: ="" | D26: ="" | E26: ="" | G26: ="" | H26: ="" | I26: ="" | J26: =""
B27: ="" | C27: ="" | D27: ="" | E27: ="" | G27: ="" | H27: ="" | I27: ="" | J27: =""
B28: ="" | C28: ="" | D28: ="" | E28: ="" | G28: ="" | H28: ="" | I28: ="" | J28: =""
B29: ="" | C29: ="" | D29: ="" | E29: ="" | G29: ="" | H29: ="" | I29: ="" | J29: =""
B30: ="" | C30: ="" | D30: ="" | E30: ="" | G30: ="" | H30: ="" | I30: ="" | J30: =""
B31: ="" | C31: ="" | D31: ="" | E31: ="" | G31: ="" | H31: ="" | I31: ="" | J31: =""
B32: ="" | C32: ="" | D32: ="" | E32: ="" | G32: ="" | H32: ="" | I32: ="" | J32: =""
B33: ="" | C33: ="" | D33: ="" | E33: ="" | G33: ="" | H33: ="" | I33: ="" | J33: =""
B34: ="" | C34: ="" | D34: ="" | E34: ="" | G34: ="" | H34: ="" | I34: ="" | J34: =""
B35: ="" | C35: ="" | D35: ="" | E35: ="" | G35: ="" | H35: ="" | I35: ="" | J35: =""
B36: ="" | C36: ="" | D36: ="" | E36: ="" | G36: ="" | H36: ="" | I36: ="" | J36: =""
B37: ="" | C37: ="" | D37: ="" | E37: ="" | G37: ="" | H37: ="" | I37: ="" | J37: =""
... B101: ="" | C101: ="" | D101: ="" | E101: ="" | G101: ="" | H101: ="" | I101: ="" | J101: =""

Sheet Shift Log
A1: Front Desk Shift Log
A2: Enter one row for each issue, request, exception, or handoff item. Update the same row until the item is closed.
A3: Gold cells are editable. Gray cells contain formulas. Do not enter sensitive personal, payment card, identification, medical, or access-code information.
A5: Entry ID | B5: Date Opened | C5: Time Opened | D5: Shift | E5: Logged By | F5: Category | G5: Priority | H5: Guest Name | I5: Room or Area | J5: PMS or System Reference | K5: Short Description | L5: Action Taken | M5: Assigned Department | N5: Assigned To | O5: Follow-Up Due Date | P5: Follow-Up Due Time | Q5: Status | R5: Guest Contact Needed | S5: Next Shift Handoff | T5: Estimated Guest Recovery Cost | U5: Resolution Details | V5: Date Closed | W5: Time Closed | X5: Age in Hours | Y5: Overdue Flag | Z5: Data Check
A6: FD-2026-001 | B6: 46267 | C6: 0.75694444 | D6: Evening | E6: Sam R. | F6: Maintenance | G6: High | H6: Jamie Parker | I6: 318 | J6: WO-7318 | K6: Guest reported that the room heating unit was not warming the room. | L6: Delivered a portable heater and contacted maintenance. | M6: Maintenance | N6: Engineer on Duty | O6: 46268 | P6: 0.375 | Q6: In Progress | R6: Yes | S6: Yes | T6: 0 | X6: =IF(A6="","",MAX(0,24*(IF(ISNUMBER(V6),V6+IF(ISNUMBER(W6),W6,0),NOW())-(IF(ISNUMBER(B6),B6,TODAY())+IF(ISNUMBER(C6),C6,0))))) | Y6: =IF(A6="","",IF(Q6="Closed","Closed",IF(AND(ISNUMBER(O6),NOW()>O6+IF(ISNUMBER(P6),P6,0)),"Overdue",IF(AND(NOT(ISNUMBER(O6)),X6>'Lists and Settings'!$B$7),"Overdue","On Track")))) | Z6: =IF(A6="","",IF(NOT(ISNUMBER(B6)),"Missing date opened",IF(D6="","Missing shift",IF(K6="","Missing description",IF(M6="","Missing assigned department",IF(AND(Q6="Closed",U6=""),"Closed without resolution",IF(AND(Q6="Closed",NOT(ISNUMBER(V6))),"Closed without close date",IF(AND(ISNUMBER(V6),ISNUMBER(B6),V6<B6),"Close date before open date",IF(AND(S6="Yes",N6=""),"Handoff needs assignment",IF(AND(R6="Yes",Q6<>"Closed",NOT(ISNUMBER(O6))),"Guest follow-up needs due date","OK"))))))))))
A7: FD-2026-002 | B7: 46268 | C7: 0.69097222 | D7: Evening | E7: Dana K. | F7: Billing or Payment | G7: Normal | H7: Morgan Lee | I7: 126 | J7: FOL-68421 | K7: Guest questioned a duplicate incidental authorization. | L7: Reviewed the folio and submitted the reference for manual review. | M7: Accounting | N7: Accounting Manager | O7: 46269 | P7: 0.5 | Q7: Waiting on Vendor | R7: Yes | S7: Yes | T7: 0 | X7: =IF(A7="","",MAX(0,24*(IF(ISNUMBER(V7),V7+IF(ISNUMBER(W7),W7,0),NOW())-(IF(ISNUMBER(B7),B7,TODAY())+IF(ISNUMBER(C7),C7,0))))) | Y7: =IF(A7="","",IF(Q7="Closed","Closed",IF(AND(ISNUMBER(O7),NOW()>O7+IF(ISNUMBER(P7),P7,0)),"Overdue",IF(AND(NOT(ISNUMBER(O7)),X7>'Lists and Settings'!$B$7),"Overdue","On Track")))) | Z7: =IF(A7="","",IF(NOT(ISNUMBER(B7)),"Missing date opened",IF(D7="","Missing shift",IF(K7="","Missing description",IF(M7="","Missing assigned department",IF(AND(Q7="Closed",U7=""),"Closed without resolution",IF(AND(Q7="Closed",NOT(ISNUMBER(V7))),"Closed without close date",IF(AND(ISNUMBER(V7),ISNUMBER(B7),V7<B7),"Close date before open date",IF(AND(S7="Yes",N7=""),"Handoff needs assignment",IF(AND(R7="Yes",Q7<>"Closed",NOT(ISNUMBER(O7))),"Guest follow-up needs due date","OK"))))))))))
A8: FD-2026-003 | B8: 46269 | C8: 0.43055556 | D8: Morning | E8: Jordan M. | F8: Lost and Found | G8: Normal | I8: Lobby | J8: LF-26091 | K8: Black winter glove found near the lobby fireplace. | L8: Tagged the item and placed it in the secured lost-and-found cabinet. | M8: Security | N8: Security Desk | O8: 46272 | P8: 0.41666667 | Q8: Monitoring | R8: No | S8: No | T8: 0 | X8: =IF(A8="","",MAX(0,24*(IF(ISNUMBER(V8),V8+IF(ISNUMBER(W8),W8,0),NOW())-(IF(ISNUMBER(B8),B8,TODAY())+IF(ISNUMBER(C8),C8,0))))) | Y8: =IF(A8="","",IF(Q8="Closed","Closed",IF(AND(ISNUMBER(O8),NOW()>O8+IF(ISNUMBER(P8),P8,0)),"Overdue",IF(AND(NOT(ISNUMBER(O8)),X8>'Lists and Settings'!$B$7),"Overdue","On Track")))) | Z8: =IF(A8="","",IF(NOT(ISNUMBER(B8)),"Missing date opened",IF(D8="","Missing shift",IF(K8="","Missing description",IF(M8="","Missing assigned department",IF(AND(Q8="Closed",U8=""),"Closed without resolution",IF(AND(Q8="Closed",NOT(ISNUMBER(V8))),"Closed without close date",IF(AND(ISNUMBER(V8),ISNUMBER(B8),V8<B8),"Close date before open date",IF(AND(S8="Yes",N8=""),"Handoff needs assignment",IF(AND(R8="Yes",Q8<>"Closed",NOT(ISNUMBER(O8))),"Guest follow-up needs due date","OK"))))))))))
A9: FD-2026-004 | B9: 46269 | C9: 0.96527778 | D9: Overnight | E9: Chris T. | F9: Safety or Security | G9: Critical | I9: North Stairwell | J9: WO-7455 | K9: Exit door did not latch after closing. | L9: Secured the area and notified the manager and maintenance. | M9: Management | N9: Manager on Duty | O9: 46270 | P9: 0.33333333 | Q9: In Progress | R9: No | S9: Yes | T9: 0 | X9: =IF(A9="","",MAX(0,24*(IF(ISNUMBER(V9),V9+IF(ISNUMBER(W9),W9,0),NOW())-(IF(ISNUMBER(B9),B9,TODAY())+IF(ISNUMBER(C9),C9,0))))) | Y9: =IF(A9="","",IF(Q9="Closed","Closed",IF(AND(ISNUMBER(O9),NOW()>O9+IF(ISNUMBER(P9),P9,0)),"Overdue",IF(AND(NOT(ISNUMBER(O9)),X9>'Lists and Settings'!$B$7),"Overdue","On Track")))) | Z9: =IF(A9="","",IF(NOT(ISNUMBER(B9)),"Missing date opened",IF(D9="","Missing shift",IF(K9="","Missing description",IF(M9="","Missing assigned department",IF(AND(Q9="Closed",U9=""),"Closed without resolution",IF(AND(Q9="Closed",NOT(ISNUMBER(V9))),"Closed without close date",IF(AND(ISNUMBER(V9),ISNUMBER(B9),V9<B9),"Close date before open date",IF(AND(S9="Yes",N9=""),"Handoff needs assignment",IF(AND(R9="Yes",Q9<>"Closed",NOT(ISNUMBER(O9))),"Guest follow-up needs due date","OK"))))))))))
A10: FD-2026-005 | B10: 46270 | C10: 0.35069444 | D10: Morning | E10: Morgan S. | F10: Group or Event | G10: Normal | I10: Ballroom Foyer | J10: EVT-26117 | K10: Event organizer requested updated directional signage before guest arrival. | L10: Confirmed the requested wording and sent the update to the sales coordinator. | M10: Sales | N10: Event Sales Coordinator | O10: 46270 | P10: 0.58333333 | Q10: Open | R10: No | S10: No | T10: 0 | X10: =IF(A10="","",MAX(0,24*(IF(ISNUMBER(V10),V10+IF(ISNUMBER(W10),W10,0),NOW())-(IF(ISNUMBER(B10),B10,TODAY())+IF(ISNUMBER(C10),C10,0))))) | Y10: =IF(A10="","",IF(Q10="Closed","Closed",IF(AND(ISNUMBER(O10),NOW()>O10+IF(ISNUMBER(P10),P10,0)),"Overdue",IF(AND(NOT(ISNUMBER(O10)),X10>'Lists and Settings'!$B$7),"Overdue","On Track")))) | Z10: =IF(A10="","",IF(NOT(ISNUMBER(B10)),"Missing date opened",IF(D10="","Missing shift",IF(K10="","Missing description",IF(M10="","Missing assigned department",IF(AND(Q10="Closed",U10=""),"Closed without resolution",IF(AND(Q10="Closed",NOT(ISNUMBER(V10))),"Closed without close date",IF(AND(ISNUMBER(V10),ISNUMBER(B10),V10<B10),"Close date before open date",IF(AND(S10="Yes",N10=""),"Handoff needs assignment",IF(AND(R10="Yes",Q10<>"Closed",NOT(ISNUMBER(O10))),"Guest follow-up needs due date","OK"))))))))))
X11: =IF(A11="","",MAX(0,24*(IF(ISNUMBER(V11),V11+IF(ISNUMBER(W11),W11,0),NOW())-(IF(ISNUMBER(B11),B11,TODAY())+IF(ISNUMBER(C11),C11,0))))) | Y11: =IF(A11="","",IF(Q11="Closed","Closed",IF(AND(ISNUMBER(O11),NOW()>O11+IF(ISNUMBER(P11),P11,0)),"Overdue",IF(AND(NOT(ISNUMBER(O11)),X11>'Lists and Settings'!$B$7),"Overdue","On Track")))) | Z11: =IF(A11="","",IF(NOT(ISNUMBER(B11)),"Missing date opened",IF(D11="","Missing shift",IF(K11="","Missing description",IF(M11="","Missing assigned department",IF(AND(Q11="Closed",U11=""),"Closed without resolution",IF(AND(Q11="Closed",NOT(ISNUMBER(V11))),"Closed without close date",IF(AND(ISNUMBER(V11),ISNUMBER(B11),V11<B11),"Close date before open date",IF(AND(S11="Yes",N11=""),"Handoff needs assignment",IF(AND(R11="Yes",Q11<>"Closed",NOT(ISNUMBER(O11))),"Guest follow-up needs due date","OK"))))))))))
X12: =IF(A12="","",MAX(0,24*(IF(ISNUMBER(V12),V12+IF(ISNUMBER(W12),W12,0),NOW())-(IF(ISNUMBER(B12),B12,TODAY())+IF(ISNUMBER(C12),C12,0))))) | Y12: =IF(A12="","",IF(Q12="Closed","Closed",IF(AND(ISNUMBER(O12),NOW()>O12+IF(ISNUMBER(P12),P12,0)),"Overdue",IF(AND(NOT(ISNUMBER(O12)),X12>'Lists and Settings'!$B$7),"Overdue","On Track")))) | Z12: =IF(A12="","",IF(NOT(ISNUMBER(B12)),"Missing date opened",IF(D12="","Missing shift",IF(K12="","Missing description",IF(M12="","Missing assigned department",IF(AND(Q12="Closed",U12=""),"Closed without resolution",IF(AND(Q12="Closed",NOT(ISNUMBER(V12))),"Closed without close date",IF(AND(ISNUMBER(V12),ISNUMBER(B12),V12<B12),"Close date before open date",IF(AND(S12="Yes",N12=""),"Handoff needs assignment",IF(AND(R12="Yes",Q12<>"Closed",NOT(ISNUMBER(O12))),"Guest follow-up needs due date","OK"))))))))))
X13: =IF(A13="","",MAX(0,24*(IF(ISNUMBER(V13),V13+IF(ISNUMBER(W13),W13,0),NOW())-(IF(ISNUMBER(B13),B13,TODAY())+IF(ISNUMBER(C13),C13,0))))) | Y13: =IF(A13="","",IF(Q13="Closed","Closed",IF(AND(ISNUMBER(O13),NOW()>O13+IF(ISNUMBER(P13),P13,0)),"Overdue",IF(AND(NOT(ISNUMBER(O13)),X13>'Lists and Settings'!$B$7),"Overdue","On Track")))) | Z13: =IF(A13="","",IF(NOT(ISNUMBER(B13)),"Missing date opened",IF(D13="","Missing shift",IF(K13="","Missing description",IF(M13="","Missing assigned department",IF(AND(Q13="Closed",U13=""),"Closed without resolution",IF(AND(Q13="Closed",NOT(ISNUMBER(V13))),"Closed without close date",IF(AND(ISNUMBER(V13),ISNUMBER(B13),V13<B13),"Close date before open date",IF(AND(S13="Yes",N13=""),"Handoff needs assignment",IF(AND(R13="Yes",Q13<>"Closed",NOT(ISNUMBER(O13))),"Guest follow-up needs due date","OK"))))))))))
X14: =IF(A14="","",MAX(0,24*(IF(ISNUMBER(V14),V14+IF(ISNUMBER(W14),W14,0),NOW())-(IF(ISNUMBER(B14),B14,TODAY())+IF(ISNUMBER(C14),C14,0))))) | Y14: =IF(A14="","",IF(Q14="Closed","Closed",IF(AND(ISNUMBER(O14),NOW()>O14+IF(ISNUMBER(P14),P14,0)),"Overdue",IF(AND(NOT(ISNUMBER(O14)),X14>'Lists and Settings'!$B$7),"Overdue","On Track")))) | Z14: =IF(A14="","",IF(NOT(ISNUMBER(B14)),"Missing date opened",IF(D14="","Missing shift",IF(K14="","Missing description",IF(M14="","Missing assigned department",IF(AND(Q14="Closed",U14=""),"Closed without resolution",IF(AND(Q14="Closed",NOT(ISNUMBER(V14))),"Closed without close date",IF(AND(ISNUMBER(V14),ISNUMBER(B14),V14<B14),"Close date before open date",IF(AND(S14="Yes",N14=""),"Handoff needs assignment",IF(AND(R14="Yes",Q14<>"Closed",NOT(ISNUMBER(O14))),"Guest follow-up needs due date","OK"))))))))))
X15: =IF(A15="","",MAX(0,24*(IF(ISNUMBER(V15),V15+IF(ISNUMBER(W15),W15,0),NOW())-(IF(ISNUMBER(B15),B15,TODAY())+IF(ISNUMBER(C15),C15,0))))) | Y15: =IF(A15="","",IF(Q15="Closed","Closed",IF(AND(ISNUMBER(O15),NOW()>O15+IF(ISNUMBER(P15),P15,0)),"Overdue",IF(AND(NOT(ISNUMBER(O15)),X15>'Lists and Settings'!$B$7),"Overdue","On Track")))) | Z15: =IF(A15="","",IF(NOT(ISNUMBER(B15)),"Missing date opened",IF(D15="","Missing shift",IF(K15="","Missing description",IF(M15="","Missing assigned department",IF(AND(Q15="Closed",U15=""),"Closed without resolution",IF(AND(Q15="Closed",NOT(ISNUMBER(V15))),"Closed without close date",IF(AND(ISNUMBER(V15),ISNUMBER(B15),V15<B15),"Close date before open date",IF(AND(S15="Yes",N15=""),"Handoff needs assignment",IF(AND(R15="Yes",Q15<>"Closed",NOT(ISNUMBER(O15))),"Guest follow-up needs due date","OK"))))))))))
X16: =IF(A16="","",MAX(0,24*(IF(ISNUMBER(V16),V16+IF(ISNUMBER(W16),W16,0),NOW())-(IF(ISNUMBER(B16),B16,TODAY())+IF(ISNUMBER(C16),C16,0))))) | Y16: =IF(A16="","",IF(Q16="Closed","Closed",IF(AND(ISNUMBER(O16),NOW()>O16+IF(ISNUMBER(P16),P16,0)),"Overdue",IF(AND(NOT(ISNUMBER(O16)),X16>'Lists and Settings'!$B$7),"Overdue","On Track")))) | Z16: =IF(A16="","",IF(NOT(ISNUMBER(B16)),"Missing date opened",IF(D16="","Missing shift",IF(K16="","Missing description",IF(M16="","Missing assigned department",IF(AND(Q16="Closed",U16=""),"Closed without resolution",IF(AND(Q16="Closed",NOT(ISNUMBER(V16))),"Closed without close date",IF(AND(ISNUMBER(V16),ISNUMBER(B16),V16<B16),"Close date before open date",IF(AND(S16="Yes",N16=""),"Handoff needs assignment",IF(AND(R16="Yes",Q16<>"Closed",NOT(ISNUMBER(O16))),"Guest follow-up needs due date","OK"))))))))))
X17: =IF(A17="","",MAX(0,24*(IF(ISNUMBER(V17),V17+IF(ISNUMBER(W17),W17,0),NOW())-(IF(ISNUMBER(B17),B17,TODAY())+IF(ISNUMBER(C17),C17,0))))) | Y17: =IF(A17="","",IF(Q17="Closed","Closed",IF(AND(ISNUMBER(O17),NOW()>O17+IF(ISNUMBER(P17),P17,0)),"Overdue",IF(AND(NOT(ISNUMBER(O17)),X17>'Lists and Settings'!$B$7),"Overdue","On Track")))) | Z17: =IF(A17="","",IF(NOT(ISNUMBER(B17)),"Missing date opened",IF(D17="","Missing shift",IF(K17="","Missing description",IF(M17="","Missing assigned department",IF(AND(Q17="Closed",U17=""),"Closed without resolution",IF(AND(Q17="Closed",NOT(ISNUMBER(V17))),"Closed without close date",IF(AND(ISNUMBER(V17),ISNUMBER(B17),V17<B17),"Close date before open date",IF(AND(S17="Yes",N17=""),"Handoff needs assignment",IF(AND(R17="Yes",Q17<>"Closed",NOT(ISNUMBER(O17))),"Guest follow-up needs due date","OK"))))))))))
X18: =IF(A18="","",MAX(0,24*(IF(ISNUMBER(V18),V18+IF(ISNUMBER(W18),W18,0),NOW())-(IF(ISNUMBER(B18),B18,TODAY())+IF(ISNUMBER(C18),C18,0))))) | Y18: =IF(A18="","",IF(Q18="Closed","Closed",IF(AND(ISNUMBER(O18),NOW()>O18+IF(ISNUMBER(P18),P18,0)),"Overdue",IF(AND(NOT(ISNUMBER(O18)),X18>'Lists and Settings'!$B$7),"Overdue","On Track")))) | Z18: =IF(A18="","",IF(NOT(ISNUMBER(B18)),"Missing date opened",IF(D18="","Missing shift",IF(K18="","Missing description",IF(M18="","Missing assigned department",IF(AND(Q18="Closed",U18=""),"Closed without resolution",IF(AND(Q18="Closed",NOT(ISNUMBER(V18))),"Closed without close date",IF(AND(ISNUMBER(V18),ISNUMBER(B18),V18<B18),"Close date before open date",IF(AND(S18="Yes",N18=""),"Handoff needs assignment",IF(AND(R18="Yes",Q18<>"Closed",NOT(ISNUMBER(O18))),"Guest follow-up needs due date","OK"))))))))))
X19: =IF(A19="","",MAX(0,24*(IF(ISNUMBER(V19),V19+IF(ISNUMBER(W19),W19,0),NOW())-(IF(ISNUMBER(B19),B19,TODAY())+IF(ISNUMBER(C19),C19,0))))) | Y19: =IF(A19="","",IF(Q19="Closed","Closed",IF(AND(ISNUMBER(O19),NOW()>O19+IF(ISNUMBER(P19),P19,0)),"Overdue",IF(AND(NOT(ISNUMBER(O19)),X19>'Lists and Settings'!$B$7),"Overdue","On Track")))) | Z19: =IF(A19="","",IF(NOT(ISNUMBER(B19)),"Missing date opened",IF(D19="","Missing shift",IF(K19="","Missing description",IF(M19="","Missing assigned department",IF(AND(Q19="Closed",U19=""),"Closed without resolution",IF(AND(Q19="Closed",NOT(ISNUMBER(V19))),"Closed without close date",IF(AND(ISNUMBER(V19),ISNUMBER(B19),V19<B19),"Close date before open date",IF(AND(S19="Yes",N19=""),"Handoff needs assignment",IF(AND(R19="Yes",Q19<>"Closed",NOT(ISNUMBER(O19))),"Guest follow-up needs due date","OK"))))))))))
X20: =IF(A20="","",MAX(0,24*(IF(ISNUMBER(V20),V20+IF(ISNUMBER(W20),W20,0),NOW())-(IF(ISNUMBER(B20),B20,TODAY())+IF(ISNUMBER(C20),C20,0))))) | Y20: =IF(A20="","",IF(Q20="Closed","Closed",IF(AND(ISNUMBER(O20),NOW()>O20+IF(ISNUMBER(P20),P20,0)),"Overdue",IF(AND(NOT(ISNUMBER(O20)),X20>'Lists and Settings'!$B$7),"Overdue","On Track")))) | Z20: =IF(A20="","",IF(NOT(ISNUMBER(B20)),"Missing date opened",IF(D20="","Missing shift",IF(K20="","Missing description",IF(M20="","Missing assigned department",IF(AND(Q20="Closed",U20=""),"Closed without resolution",IF(AND(Q20="Closed",NOT(ISNUMBER(V20))),"Closed without close date",IF(AND(ISNUMBER(V20),ISNUMBER(B20),V20<B20),"Close date before open date",IF(AND(S20="Yes",N20=""),"Handoff needs assignment",IF(AND(R20="Yes",Q20<>"Closed",NOT(ISNUMBER(O20))),"Guest follow-up needs due date","OK"))))))))))
X21: =IF(A21="","",MAX(0,24*(IF(ISNUMBER(V21),V21+IF(ISNUMBER(W21),W21,0),NOW())-(IF(ISNUMBER(B21),B21,TODAY())+IF(ISNUMBER(C21),C21,0))))) | Y21: =IF(A21="","",IF(Q21="Closed","Closed",IF(AND(ISNUMBER(O21),NOW()>O21+IF(ISNUMBER(P21),P21,0)),"Overdue",IF(AND(NOT(ISNUMBER(O21)),X21>'Lists and Settings'!$B$7),"Overdue","On Track")))) | Z21: =IF(A21="","",IF(NOT(ISNUMBER(B21)),"Missing date opened",IF(D21="","Missing shift",IF(K21="","Missing description",IF(M21="","Missing assigned department",IF(AND(Q21="Closed",U21=""),"Closed without resolution",IF(AND(Q21="Closed",NOT(ISNUMBER(V21))),"Closed without close date",IF(AND(ISNUMBER(V21),ISNUMBER(B21),V21<B21),"Close date before open date",IF(AND(S21="Yes",N21=""),"Handoff needs assignment",IF(AND(R21="Yes",Q21<>"Closed",NOT(ISNUMBER(O21))),"Guest follow-up needs due date","OK"))))))))))
X22: =IF(A22="","",MAX(0,24*(IF(ISNUMBER(V22),V22+IF(ISNUMBER(W22),W22,0),NOW())-(IF(ISNUMBER(B22),B22,TODAY())+IF(ISNUMBER(C22),C22,0))))) | Y22: =IF(A22="","",IF(Q22="Closed","Closed",IF(AND(ISNUMBER(O22),NOW()>O22+IF(ISNUMBER(P22),P22,0)),"Overdue",IF(AND(NOT(ISNUMBER(O22)),X22>'Lists and Settings'!$B$7),"Overdue","On Track")))) | Z22: =IF(A22="","",IF(NOT(ISNUMBER(B22)),"Missing date opened",IF(D22="","Missing shift",IF(K22="","Missing description",IF(M22="","Missing assigned department",IF(AND(Q22="Closed",U22=""),"Closed without resolution",IF(AND(Q22="Closed",NOT(ISNUMBER(V22))),"Closed without close date",IF(AND(ISNUMBER(V22),ISNUMBER(B22),V22<B22),"Close date before open date",IF(AND(S22="Yes",N22=""),"Handoff needs assignment",IF(AND(R22="Yes",Q22<>"Closed",NOT(ISNUMBER(O22))),"Guest follow-up needs due date","OK"))))))))))
... X505: =IF(A505="","",MAX(0,24*(IF(ISNUMBER(V505),V505+IF(ISNUMBER(W505),W505,0),NOW())-(IF(ISNUMBER(B505),B505,TODAY())+IF(ISNUMBER(C505),C505,0))))) | Y505: =IF(A505="","",IF(Q505="Closed","Closed",IF(AND(ISNUMBER(O505),NOW()>O505+IF(ISNUMBER(P505),P505,0)),"Overdue",IF(AND(NOT(ISNUMBER(O505)),X505>'Lists and Settings'!$B$7),"Overdue","On Track")))) | Z505: =IF(A505="","",IF(NOT(ISNUMBER(B505)),"Missing date opened",IF(D505="","Missing shift",IF(K505="","Missing description",IF(M505="","Missing assigned department",IF(AND(Q505="Closed",U505=""),"Closed without resolution",IF(AND(Q505="Closed",NOT(ISNUMBER(V505))),"Closed without close date",IF(AND(ISNUMBER(V505),ISNUMBER(B505),V505<B505),"Close date before open date",IF(AND(S505="Yes",N505=""),"Handoff needs assignment",IF(AND(R505="Yes",Q505<>"Closed",NOT(ISNUMBER(O505))),"Guest follow-up needs due date","OK"))))))))))

Sheet Lists and Settings
A1: Lists and Settings
A2: Edit property settings in the gold cells. Thresholds are internal operating assumptions, not legal standards.
A4: Editable Property Settings | B4: Value | D4: Shifts | E4: Categories | F4: Priorities | G4: Departments | H4: Statuses | I4: Yes or No
A5: Property Name | B5: Harbor Point Hotel | D5: Morning | E5: Guest Concern | F5: Low | G5: Front Desk | H5: Open | I5: Yes
A6: Property Location | B6: Portland, Maine | D6: Evening | E6: Maintenance | F6: Normal | G6: Housekeeping | H6: In Progress | I6: No
A7: Open Item Alert Threshold in Hours | B7: 24 | D7: Overnight | E7: Housekeeping | F7: High | G7: Maintenance | H7: Waiting on Guest
A8: Guest Recovery Review Threshold | B8: 50 | E8: Billing or Payment | F8: Critical | G8: Management | H8: Waiting on Vendor
A9: Morning Shift Start Time | B9: 0.29166667 | E9: Reservation | G9: Security | H9: Monitoring
A10: Evening Shift Start Time | B10: 0.625 | E10: Safety or Security | G10: Food and Beverage | H10: Closed
A11: Overnight Shift Start Time | B11: 0.95833333 | E11: Lost and Found | G11: Sales
A12: Dashboard Recent Item Limit | B12: 10 | E12: Guest Request | G12: Accounting
E13: Front Desk Operations
E14: Group or Event
E15: Other

Sheet Instructions
A1: Front Desk Shift Log Instructions
A3: Workbook Purpose
A4: This workbook supports front desk shift documentation, handoff continuity, and operational follow-up. It is a stand-alone log and does not connect to hotel operating systems.
A6: Daily Use
A7: 1. Add one Shift Log row for each new issue, guest request, exception, or handoff item.
A8: 2. Enter the date, time, shift, category, priority, and concise description.
A9: 3. Record the immediate action taken and assign the responsible department.
A10: 4. Add a due date and time when follow-up is expected.
A11: 5. Mark Next Shift Handoff as Yes when the incoming shift must review the item.
A12: 6. Update Status and Resolution Details as work progresses.
A13: 7. Enter Date Closed and Time Closed only when the matter is complete.
A14: 8. Review the Dashboard at shift change and during management review.
... A47: Priority labels are operational guides only. Each property should adjust its practices according to established procedures.
