Workbook

Sheet Dashboard
A1: Hotel Channel Commission Dashboard
C2: Key Performance Indicators
A3: Reporting Start Date | B3: 46023 | C3: Bookings | D3: =IFERROR(IF($B$5="All Channels",COUNTIFS('Booking Commissions'!$F$6:$F$155,">="&$B$3,'Booking Commissions'!$F$6:$F$155,"<="&$B$4,'Booking Commissions'!$A$6:$A$155,"<>"),COUNTIFS('Booking Commissions'!$F$6:$F$155,">="&$B$3,'Booking Commissions'!$F$6:$F$155,"<="&$B$4,'Booking Commissions'!$A$6:$A$155,"<>",'Booking Commissions'!$C$6:$C$155,$B$5)),0)
A4: Reporting End Date | B4: 46387 | C4: Room Nights | D4: =IFERROR(IF($B$5="All Channels",SUMIFS('Booking Commissions'!$H$6:$H$155,'Booking Commissions'!$F$6:$F$155,">="&$B$3,'Booking Commissions'!$F$6:$F$155,"<="&$B$4),SUMIFS('Booking Commissions'!$H$6:$H$155,'Booking Commissions'!$F$6:$F$155,">="&$B$3,'Booking Commissions'!$F$6:$F$155,"<="&$B$4,'Booking Commissions'!$C$6:$C$155,$B$5)),0)
A5: Channel Filter | B5: All Channels | C5: Gross Booking Revenue | D5: =IFERROR(IF($B$5="All Channels",SUMIFS('Booking Commissions'!$P$6:$P$155,'Booking Commissions'!$F$6:$F$155,">="&$B$3,'Booking Commissions'!$F$6:$F$155,"<="&$B$4),SUMIFS('Booking Commissions'!$P$6:$P$155,'Booking Commissions'!$F$6:$F$155,">="&$B$3,'Booking Commissions'!$F$6:$F$155,"<="&$B$4,'Booking Commissions'!$C$6:$C$155,$B$5)),0)
A6: Variance Alert Threshold | B6: 25 | C6: Expected Channel Cost | D6: =IFERROR(IF($B$5="All Channels",SUMIFS('Booking Commissions'!$AA$6:$AA$155,'Booking Commissions'!$F$6:$F$155,">="&$B$3,'Booking Commissions'!$F$6:$F$155,"<="&$B$4),SUMIFS('Booking Commissions'!$AA$6:$AA$155,'Booking Commissions'!$F$6:$F$155,">="&$B$3,'Booking Commissions'!$F$6:$F$155,"<="&$B$4,'Booking Commissions'!$C$6:$C$155,$B$5)),0) | T6: =IFERROR(IF(AND('Booking Commissions'!A6<>"",'Booking Commissions'!F6>=$B$3,'Booking Commissions'!F6<=$B$4,OR($B$5="All Channels",'Booking Commissions'!C6=$B$5),COUNTIF('Channel Terms'!$A$6:$A$105,'Booking Commissions'!C6)=0),1,0),0)
A7: As of Date | B7: 46203 | C7: Actual Channel Cost | D7: =IFERROR(IF($B$5="All Channels",SUMIFS('Booking Commissions'!$AD$6:$AD$155,'Booking Commissions'!$F$6:$F$155,">="&$B$3,'Booking Commissions'!$F$6:$F$155,"<="&$B$4,'Booking Commissions'!$AD$6:$AD$155,"<>"),SUMIFS('Booking Commissions'!$AD$6:$AD$155,'Booking Commissions'!$F$6:$F$155,">="&$B$3,'Booking Commissions'!$F$6:$F$155,"<="&$B$4,'Booking Commissions'!$AD$6:$AD$155,"<>",'Booking Commissions'!$C$6:$C$155,$B$5)),0) | T7: =IFERROR(IF(AND('Booking Commissions'!A7<>"",'Booking Commissions'!F7>=$B$3,'Booking Commissions'!F7<=$B$4,OR($B$5="All Channels",'Booking Commissions'!C7=$B$5),COUNTIF('Channel Terms'!$A$6:$A$105,'Booking Commissions'!C7)=0),1,0),0)
C8: Commission Variance | D8: =IFERROR(IF($B$5="All Channels",SUMIFS('Booking Commissions'!$AD$6:$AD$155,'Booking Commissions'!$F$6:$F$155,">="&$B$3,'Booking Commissions'!$F$6:$F$155,"<="&$B$4,'Booking Commissions'!$AD$6:$AD$155,"<>"),SUMIFS('Booking Commissions'!$AD$6:$AD$155,'Booking Commissions'!$F$6:$F$155,">="&$B$3,'Booking Commissions'!$F$6:$F$155,"<="&$B$4,'Booking Commissions'!$AD$6:$AD$155,"<>",'Booking Commissions'!$C$6:$C$155,$B$5))-IF($B$5="All Channels",SUMIFS('Booking Commissions'!$AA$6:$AA$155,'Booking Commissions'!$F$6:$F$155,">="&$B$3,'Booking Commissions'!$F$6:$F$155,"<="&$B$4,'Booking Commissions'!$AD$6:$AD$155,"<>"),SUMIFS('Booking Commissions'!$AA$6:$AA$155,'Booking Commissions'!$F$6:$F$155,">="&$B$3,'Booking Commissions'!$F$6:$F$155,"<="&$B$4,'Booking Commissions'!$AD$6:$AD$155,"<>",'Booking Commissions'!$C$6:$C$155,$B$5)),0) | T8: =IFERROR(IF(AND('Booking Commissions'!A8<>"",'Booking Commissions'!F8>=$B$3,'Booking Commissions'!F8<=$B$4,OR($B$5="All Channels",'Booking Commissions'!C8=$B$5),COUNTIF('Channel Terms'!$A$6:$A$105,'Booking Commissions'!C8)=0),1,0),0)
A9: Change the As of Date to review overdue commission activity at a different point in time. | C9: Net Revenue After Expected Channel Cost | D9: =IFERROR(D5-D6,0) | T9: =IFERROR(IF(AND('Booking Commissions'!A9<>"",'Booking Commissions'!F9>=$B$3,'Booking Commissions'!F9<=$B$4,OR($B$5="All Channels",'Booking Commissions'!C9=$B$5),COUNTIF('Channel Terms'!$A$6:$A$105,'Booking Commissions'!C9)=0),1,0),0)
C10: Effective Channel Cost Rate | D10: =IFERROR(D6/D5,0) | T10: =IFERROR(IF(AND('Booking Commissions'!A10<>"",'Booking Commissions'!F10>=$B$3,'Booking Commissions'!F10<=$B$4,OR($B$5="All Channels",'Booking Commissions'!C10=$B$5),COUNTIF('Channel Terms'!$A$6:$A$105,'Booking Commissions'!C10)=0),1,0),0)
C11: Overdue Commission Records | D11: =IFERROR(IF($B$5="All Channels",COUNTIFS('Booking Commissions'!$F$6:$F$155,">="&$B$3,'Booking Commissions'!$F$6:$F$155,"<="&$B$4,'Booking Commissions'!$AH$6:$AH$155,"Overdue"),COUNTIFS('Booking Commissions'!$F$6:$F$155,">="&$B$3,'Booking Commissions'!$F$6:$F$155,"<="&$B$4,'Booking Commissions'!$AH$6:$AH$155,"Overdue",'Booking Commissions'!$C$6:$C$155,$B$5)),0) | T11: =IFERROR(IF(AND('Booking Commissions'!A11<>"",'Booking Commissions'!F11>=$B$3,'Booking Commissions'!F11<=$B$4,OR($B$5="All Channels",'Booking Commissions'!C11=$B$5),COUNTIF('Channel Terms'!$A$6:$A$105,'Booking Commissions'!C11)=0),1,0),0)
C12: Records Requiring Review | D12: =IFERROR(IF($B$5="All Channels",COUNTIFS('Booking Commissions'!$F$6:$F$155,">="&$B$3,'Booking Commissions'!$F$6:$F$155,"<="&$B$4,'Booking Commissions'!$AI$6:$AI$155,"Review"),COUNTIFS('Booking Commissions'!$F$6:$F$155,">="&$B$3,'Booking Commissions'!$F$6:$F$155,"<="&$B$4,'Booking Commissions'!$AI$6:$AI$155,"Review",'Booking Commissions'!$C$6:$C$155,$B$5)),0) | T12: =IFERROR(IF(AND('Booking Commissions'!A12<>"",'Booking Commissions'!F12>=$B$3,'Booking Commissions'!F12<=$B$4,OR($B$5="All Channels",'Booking Commissions'!C12=$B$5),COUNTIF('Channel Terms'!$A$6:$A$105,'Booking Commissions'!C12)=0),1,0),0)
T13: =IFERROR(IF(AND('Booking Commissions'!A13<>"",'Booking Commissions'!F13>=$B$3,'Booking Commissions'!F13<=$B$4,OR($B$5="All Channels",'Booking Commissions'!C13=$B$5),COUNTIF('Channel Terms'!$A$6:$A$105,'Booking Commissions'!C13)=0),1,0),0)
A14: Channel Performance Summary | T14: =IFERROR(IF(AND('Booking Commissions'!A14<>"",'Booking Commissions'!F14>=$B$3,'Booking Commissions'!F14<=$B$4,OR($B$5="All Channels",'Booking Commissions'!C14=$B$5),COUNTIF('Channel Terms'!$A$6:$A$105,'Booking Commissions'!C14)=0),1,0),0)
T15: =IFERROR(IF(AND('Booking Commissions'!A15<>"",'Booking Commissions'!F15>=$B$3,'Booking Commissions'!F15<=$B$4,OR($B$5="All Channels",'Booking Commissions'!C15=$B$5),COUNTIF('Channel Terms'!$A$6:$A$105,'Booking Commissions'!C15)=0),1,0),0)
A16: Channel | B16: Bookings | C16: Room Nights | D16: Gross Booking Revenue | E16: Expected Channel Cost | F16: Actual Channel Cost | G16: Variance | H16: Net Revenue | I16: Effective Channel Cost Rate | T16: =IFERROR(IF(AND('Booking Commissions'!A16<>"",'Booking Commissions'!F16>=$B$3,'Booking Commissions'!F16<=$B$4,OR($B$5="All Channels",'Booking Commissions'!C16=$B$5),COUNTIF('Channel Terms'!$A$6:$A$105,'Booking Commissions'!C16)=0),1,0),0)
A17: Direct Website | B17: =IFERROR(IF(OR($B$5="All Channels",$B$5=$A17),COUNTIFS('Booking Commissions'!$F$6:$F$155,">="&$B$3,'Booking Commissions'!$F$6:$F$155,"<="&$B$4,'Booking Commissions'!$C$6:$C$155,$A17,'Booking Commissions'!$A$6:$A$155,"<>"),0),0) | C17: =IFERROR(IF(OR($B$5="All Channels",$B$5=$A17),SUMIFS('Booking Commissions'!$H$6:$H$155,'Booking Commissions'!$F$6:$F$155,">="&$B$3,'Booking Commissions'!$F$6:$F$155,"<="&$B$4,'Booking Commissions'!$C$6:$C$155,$A17),0),0) | D17: =IFERROR(IF(OR($B$5="All Channels",$B$5=$A17),SUMIFS('Booking Commissions'!$P$6:$P$155,'Booking Commissions'!$F$6:$F$155,">="&$B$3,'Booking Commissions'!$F$6:$F$155,"<="&$B$4,'Booking Commissions'!$C$6:$C$155,$A17),0),0) | E17: =IFERROR(IF(OR($B$5="All Channels",$B$5=$A17),SUMIFS('Booking Commissions'!$AA$6:$AA$155,'Booking Commissions'!$F$6:$F$155,">="&$B$3,'Booking Commissions'!$F$6:$F$155,"<="&$B$4,'Booking Commissions'!$C$6:$C$155,$A17),0),0) | F17: =IFERROR(IF(OR($B$5="All Channels",$B$5=$A17),SUMIFS('Booking Commissions'!$AD$6:$AD$155,'Booking Commissions'!$F$6:$F$155,">="&$B$3,'Booking Commissions'!$F$6:$F$155,"<="&$B$4,'Booking Commissions'!$C$6:$C$155,$A17,'Booking Commissions'!$AD$6:$AD$155,"<>"),0),0) | G17: =IFERROR(F17-SUMIFS('Booking Commissions'!$AA$6:$AA$155,'Booking Commissions'!$F$6:$F$155,">="&$B$3,'Booking Commissions'!$F$6:$F$155,"<="&$B$4,'Booking Commissions'!$C$6:$C$155,$A17,'Booking Commissions'!$AD$6:$AD$155,"<>"),0) | H17: =IFERROR(D17-E17,0) | I17: =IFERROR(E17/D17,0) | T17: =IFERROR(IF(AND('Booking Commissions'!A17<>"",'Booking Commissions'!F17>=$B$3,'Booking Commissions'!F17<=$B$4,OR($B$5="All Channels",'Booking Commissions'!C17=$B$5),COUNTIF('Channel Terms'!$A$6:$A$105,'Booking Commissions'!C17)=0),1,0),0)
A18: Booking.com | B18: =IFERROR(IF(OR($B$5="All Channels",$B$5=$A18),COUNTIFS('Booking Commissions'!$F$6:$F$155,">="&$B$3,'Booking Commissions'!$F$6:$F$155,"<="&$B$4,'Booking Commissions'!$C$6:$C$155,$A18,'Booking Commissions'!$A$6:$A$155,"<>"),0),0) | C18: =IFERROR(IF(OR($B$5="All Channels",$B$5=$A18),SUMIFS('Booking Commissions'!$H$6:$H$155,'Booking Commissions'!$F$6:$F$155,">="&$B$3,'Booking Commissions'!$F$6:$F$155,"<="&$B$4,'Booking Commissions'!$C$6:$C$155,$A18),0),0) | D18: =IFERROR(IF(OR($B$5="All Channels",$B$5=$A18),SUMIFS('Booking Commissions'!$P$6:$P$155,'Booking Commissions'!$F$6:$F$155,">="&$B$3,'Booking Commissions'!$F$6:$F$155,"<="&$B$4,'Booking Commissions'!$C$6:$C$155,$A18),0),0) | E18: =IFERROR(IF(OR($B$5="All Channels",$B$5=$A18),SUMIFS('Booking Commissions'!$AA$6:$AA$155,'Booking Commissions'!$F$6:$F$155,">="&$B$3,'Booking Commissions'!$F$6:$F$155,"<="&$B$4,'Booking Commissions'!$C$6:$C$155,$A18),0),0) | F18: =IFERROR(IF(OR($B$5="All Channels",$B$5=$A18),SUMIFS('Booking Commissions'!$AD$6:$AD$155,'Booking Commissions'!$F$6:$F$155,">="&$B$3,'Booking Commissions'!$F$6:$F$155,"<="&$B$4,'Booking Commissions'!$C$6:$C$155,$A18,'Booking Commissions'!$AD$6:$AD$155,"<>"),0),0) | G18: =IFERROR(F18-SUMIFS('Booking Commissions'!$AA$6:$AA$155,'Booking Commissions'!$F$6:$F$155,">="&$B$3,'Booking Commissions'!$F$6:$F$155,"<="&$B$4,'Booking Commissions'!$C$6:$C$155,$A18,'Booking Commissions'!$AD$6:$AD$155,"<>"),0) | H18: =IFERROR(D18-E18,0) | I18: =IFERROR(E18/D18,0) | T18: =IFERROR(IF(AND('Booking Commissions'!A18<>"",'Booking Commissions'!F18>=$B$3,'Booking Commissions'!F18<=$B$4,OR($B$5="All Channels",'Booking Commissions'!C18=$B$5),COUNTIF('Channel Terms'!$A$6:$A$105,'Booking Commissions'!C18)=0),1,0),0)
A19: Expedia | B19: =IFERROR(IF(OR($B$5="All Channels",$B$5=$A19),COUNTIFS('Booking Commissions'!$F$6:$F$155,">="&$B$3,'Booking Commissions'!$F$6:$F$155,"<="&$B$4,'Booking Commissions'!$C$6:$C$155,$A19,'Booking Commissions'!$A$6:$A$155,"<>"),0),0) | C19: =IFERROR(IF(OR($B$5="All Channels",$B$5=$A19),SUMIFS('Booking Commissions'!$H$6:$H$155,'Booking Commissions'!$F$6:$F$155,">="&$B$3,'Booking Commissions'!$F$6:$F$155,"<="&$B$4,'Booking Commissions'!$C$6:$C$155,$A19),0),0) | D19: =IFERROR(IF(OR($B$5="All Channels",$B$5=$A19),SUMIFS('Booking Commissions'!$P$6:$P$155,'Booking Commissions'!$F$6:$F$155,">="&$B$3,'Booking Commissions'!$F$6:$F$155,"<="&$B$4,'Booking Commissions'!$C$6:$C$155,$A19),0),0) | E19: =IFERROR(IF(OR($B$5="All Channels",$B$5=$A19),SUMIFS('Booking Commissions'!$AA$6:$AA$155,'Booking Commissions'!$F$6:$F$155,">="&$B$3,'Booking Commissions'!$F$6:$F$155,"<="&$B$4,'Booking Commissions'!$C$6:$C$155,$A19),0),0) | F19: =IFERROR(IF(OR($B$5="All Channels",$B$5=$A19),SUMIFS('Booking Commissions'!$AD$6:$AD$155,'Booking Commissions'!$F$6:$F$155,">="&$B$3,'Booking Commissions'!$F$6:$F$155,"<="&$B$4,'Booking Commissions'!$C$6:$C$155,$A19,'Booking Commissions'!$AD$6:$AD$155,"<>"),0),0) | G19: =IFERROR(F19-SUMIFS('Booking Commissions'!$AA$6:$AA$155,'Booking Commissions'!$F$6:$F$155,">="&$B$3,'Booking Commissions'!$F$6:$F$155,"<="&$B$4,'Booking Commissions'!$C$6:$C$155,$A19,'Booking Commissions'!$AD$6:$AD$155,"<>"),0) | H19: =IFERROR(D19-E19,0) | I19: =IFERROR(E19/D19,0) | T19: =IFERROR(IF(AND('Booking Commissions'!A19<>"",'Booking Commissions'!F19>=$B$3,'Booking Commissions'!F19<=$B$4,OR($B$5="All Channels",'Booking Commissions'!C19=$B$5),COUNTIF('Channel Terms'!$A$6:$A$105,'Booking Commissions'!C19)=0),1,0),0)
A20: Airbnb | B20: =IFERROR(IF(OR($B$5="All Channels",$B$5=$A20),COUNTIFS('Booking Commissions'!$F$6:$F$155,">="&$B$3,'Booking Commissions'!$F$6:$F$155,"<="&$B$4,'Booking Commissions'!$C$6:$C$155,$A20,'Booking Commissions'!$A$6:$A$155,"<>"),0),0) | C20: =IFERROR(IF(OR($B$5="All Channels",$B$5=$A20),SUMIFS('Booking Commissions'!$H$6:$H$155,'Booking Commissions'!$F$6:$F$155,">="&$B$3,'Booking Commissions'!$F$6:$F$155,"<="&$B$4,'Booking Commissions'!$C$6:$C$155,$A20),0),0) | D20: =IFERROR(IF(OR($B$5="All Channels",$B$5=$A20),SUMIFS('Booking Commissions'!$P$6:$P$155,'Booking Commissions'!$F$6:$F$155,">="&$B$3,'Booking Commissions'!$F$6:$F$155,"<="&$B$4,'Booking Commissions'!$C$6:$C$155,$A20),0),0) | E20: =IFERROR(IF(OR($B$5="All Channels",$B$5=$A20),SUMIFS('Booking Commissions'!$AA$6:$AA$155,'Booking Commissions'!$F$6:$F$155,">="&$B$3,'Booking Commissions'!$F$6:$F$155,"<="&$B$4,'Booking Commissions'!$C$6:$C$155,$A20),0),0) | F20: =IFERROR(IF(OR($B$5="All Channels",$B$5=$A20),SUMIFS('Booking Commissions'!$AD$6:$AD$155,'Booking Commissions'!$F$6:$F$155,">="&$B$3,'Booking Commissions'!$F$6:$F$155,"<="&$B$4,'Booking Commissions'!$C$6:$C$155,$A20,'Booking Commissions'!$AD$6:$AD$155,"<>"),0),0) | G20: =IFERROR(F20-SUMIFS('Booking Commissions'!$AA$6:$AA$155,'Booking Commissions'!$F$6:$F$155,">="&$B$3,'Booking Commissions'!$F$6:$F$155,"<="&$B$4,'Booking Commissions'!$C$6:$C$155,$A20,'Booking Commissions'!$AD$6:$AD$155,"<>"),0) | H20: =IFERROR(D20-E20,0) | I20: =IFERROR(E20/D20,0) | T20: =IFERROR(IF(AND('Booking Commissions'!A20<>"",'Booking Commissions'!F20>=$B$3,'Booking Commissions'!F20<=$B$4,OR($B$5="All Channels",'Booking Commissions'!C20=$B$5),COUNTIF('Channel Terms'!$A$6:$A$105,'Booking Commissions'!C20)=0),1,0),0)
A21: Agoda | B21: =IFERROR(IF(OR($B$5="All Channels",$B$5=$A21),COUNTIFS('Booking Commissions'!$F$6:$F$155,">="&$B$3,'Booking Commissions'!$F$6:$F$155,"<="&$B$4,'Booking Commissions'!$C$6:$C$155,$A21,'Booking Commissions'!$A$6:$A$155,"<>"),0),0) | C21: =IFERROR(IF(OR($B$5="All Channels",$B$5=$A21),SUMIFS('Booking Commissions'!$H$6:$H$155,'Booking Commissions'!$F$6:$F$155,">="&$B$3,'Booking Commissions'!$F$6:$F$155,"<="&$B$4,'Booking Commissions'!$C$6:$C$155,$A21),0),0) | D21: =IFERROR(IF(OR($B$5="All Channels",$B$5=$A21),SUMIFS('Booking Commissions'!$P$6:$P$155,'Booking Commissions'!$F$6:$F$155,">="&$B$3,'Booking Commissions'!$F$6:$F$155,"<="&$B$4,'Booking Commissions'!$C$6:$C$155,$A21),0),0) | E21: =IFERROR(IF(OR($B$5="All Channels",$B$5=$A21),SUMIFS('Booking Commissions'!$AA$6:$AA$155,'Booking Commissions'!$F$6:$F$155,">="&$B$3,'Booking Commissions'!$F$6:$F$155,"<="&$B$4,'Booking Commissions'!$C$6:$C$155,$A21),0),0) | F21: =IFERROR(IF(OR($B$5="All Channels",$B$5=$A21),SUMIFS('Booking Commissions'!$AD$6:$AD$155,'Booking Commissions'!$F$6:$F$155,">="&$B$3,'Booking Commissions'!$F$6:$F$155,"<="&$B$4,'Booking Commissions'!$C$6:$C$155,$A21,'Booking Commissions'!$AD$6:$AD$155,"<>"),0),0) | G21: =IFERROR(F21-SUMIFS('Booking Commissions'!$AA$6:$AA$155,'Booking Commissions'!$F$6:$F$155,">="&$B$3,'Booking Commissions'!$F$6:$F$155,"<="&$B$4,'Booking Commissions'!$C$6:$C$155,$A21,'Booking Commissions'!$AD$6:$AD$155,"<>"),0) | H21: =IFERROR(D21-E21,0) | I21: =IFERROR(E21/D21,0) | T21: =IFERROR(IF(AND('Booking Commissions'!A21<>"",'Booking Commissions'!F21>=$B$3,'Booking Commissions'!F21<=$B$4,OR($B$5="All Channels",'Booking Commissions'!C21=$B$5),COUNTIF('Channel Terms'!$A$6:$A$105,'Booking Commissions'!C21)=0),1,0),0)
A22: HotelTonight | B22: =IFERROR(IF(OR($B$5="All Channels",$B$5=$A22),COUNTIFS('Booking Commissions'!$F$6:$F$155,">="&$B$3,'Booking Commissions'!$F$6:$F$155,"<="&$B$4,'Booking Commissions'!$C$6:$C$155,$A22,'Booking Commissions'!$A$6:$A$155,"<>"),0),0) | C22: =IFERROR(IF(OR($B$5="All Channels",$B$5=$A22),SUMIFS('Booking Commissions'!$H$6:$H$155,'Booking Commissions'!$F$6:$F$155,">="&$B$3,'Booking Commissions'!$F$6:$F$155,"<="&$B$4,'Booking Commissions'!$C$6:$C$155,$A22),0),0) | D22: =IFERROR(IF(OR($B$5="All Channels",$B$5=$A22),SUMIFS('Booking Commissions'!$P$6:$P$155,'Booking Commissions'!$F$6:$F$155,">="&$B$3,'Booking Commissions'!$F$6:$F$155,"<="&$B$4,'Booking Commissions'!$C$6:$C$155,$A22),0),0) | E22: =IFERROR(IF(OR($B$5="All Channels",$B$5=$A22),SUMIFS('Booking Commissions'!$AA$6:$AA$155,'Booking Commissions'!$F$6:$F$155,">="&$B$3,'Booking Commissions'!$F$6:$F$155,"<="&$B$4,'Booking Commissions'!$C$6:$C$155,$A22),0),0) | F22: =IFERROR(IF(OR($B$5="All Channels",$B$5=$A22),SUMIFS('Booking Commissions'!$AD$6:$AD$155,'Booking Commissions'!$F$6:$F$155,">="&$B$3,'Booking Commissions'!$F$6:$F$155,"<="&$B$4,'Booking Commissions'!$C$6:$C$155,$A22,'Booking Commissions'!$AD$6:$AD$155,"<>"),0),0) | G22: =IFERROR(F22-SUMIFS('Booking Commissions'!$AA$6:$AA$155,'Booking Commissions'!$F$6:$F$155,">="&$B$3,'Booking Commissions'!$F$6:$F$155,"<="&$B$4,'Booking Commissions'!$C$6:$C$155,$A22,'Booking Commissions'!$AD$6:$AD$155,"<>"),0) | H22: =IFERROR(D22-E22,0) | I22: =IFERROR(E22/D22,0) | T22: =IFERROR(IF(AND('Booking Commissions'!A22<>"",'Booking Commissions'!F22>=$B$3,'Booking Commissions'!F22<=$B$4,OR($B$5="All Channels",'Booking Commissions'!C22=$B$5),COUNTIF('Channel Terms'!$A$6:$A$105,'Booking Commissions'!C22)=0),1,0),0)
A23: GDS / Travel Agency | B23: =IFERROR(IF(OR($B$5="All Channels",$B$5=$A23),COUNTIFS('Booking Commissions'!$F$6:$F$155,">="&$B$3,'Booking Commissions'!$F$6:$F$155,"<="&$B$4,'Booking Commissions'!$C$6:$C$155,$A23,'Booking Commissions'!$A$6:$A$155,"<>"),0),0) | C23: =IFERROR(IF(OR($B$5="All Channels",$B$5=$A23),SUMIFS('Booking Commissions'!$H$6:$H$155,'Booking Commissions'!$F$6:$F$155,">="&$B$3,'Booking Commissions'!$F$6:$F$155,"<="&$B$4,'Booking Commissions'!$C$6:$C$155,$A23),0),0) | D23: =IFERROR(IF(OR($B$5="All Channels",$B$5=$A23),SUMIFS('Booking Commissions'!$P$6:$P$155,'Booking Commissions'!$F$6:$F$155,">="&$B$3,'Booking Commissions'!$F$6:$F$155,"<="&$B$4,'Booking Commissions'!$C$6:$C$155,$A23),0),0) | E23: =IFERROR(IF(OR($B$5="All Channels",$B$5=$A23),SUMIFS('Booking Commissions'!$AA$6:$AA$155,'Booking Commissions'!$F$6:$F$155,">="&$B$3,'Booking Commissions'!$F$6:$F$155,"<="&$B$4,'Booking Commissions'!$C$6:$C$155,$A23),0),0) | F23: =IFERROR(IF(OR($B$5="All Channels",$B$5=$A23),SUMIFS('Booking Commissions'!$AD$6:$AD$155,'Booking Commissions'!$F$6:$F$155,">="&$B$3,'Booking Commissions'!$F$6:$F$155,"<="&$B$4,'Booking Commissions'!$C$6:$C$155,$A23,'Booking Commissions'!$AD$6:$AD$155,"<>"),0),0) | G23: =IFERROR(F23-SUMIFS('Booking Commissions'!$AA$6:$AA$155,'Booking Commissions'!$F$6:$F$155,">="&$B$3,'Booking Commissions'!$F$6:$F$155,"<="&$B$4,'Booking Commissions'!$C$6:$C$155,$A23,'Booking Commissions'!$AD$6:$AD$155,"<>"),0) | H23: =IFERROR(D23-E23,0) | I23: =IFERROR(E23/D23,0) | T23: =IFERROR(IF(AND('Booking Commissions'!A23<>"",'Booking Commissions'!F23>=$B$3,'Booking Commissions'!F23<=$B$4,OR($B$5="All Channels",'Booking Commissions'!C23=$B$5),COUNTIF('Channel Terms'!$A$6:$A$105,'Booking Commissions'!C23)=0),1,0),0)
A24: Wholesale Tour Operator | B24: =IFERROR(IF(OR($B$5="All Channels",$B$5=$A24),COUNTIFS('Booking Commissions'!$F$6:$F$155,">="&$B$3,'Booking Commissions'!$F$6:$F$155,"<="&$B$4,'Booking Commissions'!$C$6:$C$155,$A24,'Booking Commissions'!$A$6:$A$155,"<>"),0),0) | C24: =IFERROR(IF(OR($B$5="All Channels",$B$5=$A24),SUMIFS('Booking Commissions'!$H$6:$H$155,'Booking Commissions'!$F$6:$F$155,">="&$B$3,'Booking Commissions'!$F$6:$F$155,"<="&$B$4,'Booking Commissions'!$C$6:$C$155,$A24),0),0) | D24: =IFERROR(IF(OR($B$5="All Channels",$B$5=$A24),SUMIFS('Booking Commissions'!$P$6:$P$155,'Booking Commissions'!$F$6:$F$155,">="&$B$3,'Booking Commissions'!$F$6:$F$155,"<="&$B$4,'Booking Commissions'!$C$6:$C$155,$A24),0),0) | E24: =IFERROR(IF(OR($B$5="All Channels",$B$5=$A24),SUMIFS('Booking Commissions'!$AA$6:$AA$155,'Booking Commissions'!$F$6:$F$155,">="&$B$3,'Booking Commissions'!$F$6:$F$155,"<="&$B$4,'Booking Commissions'!$C$6:$C$155,$A24),0),0) | F24: =IFERROR(IF(OR($B$5="All Channels",$B$5=$A24),SUMIFS('Booking Commissions'!$AD$6:$AD$155,'Booking Commissions'!$F$6:$F$155,">="&$B$3,'Booking Commissions'!$F$6:$F$155,"<="&$B$4,'Booking Commissions'!$C$6:$C$155,$A24,'Booking Commissions'!$AD$6:$AD$155,"<>"),0),0) | G24: =IFERROR(F24-SUMIFS('Booking Commissions'!$AA$6:$AA$155,'Booking Commissions'!$F$6:$F$155,">="&$B$3,'Booking Commissions'!$F$6:$F$155,"<="&$B$4,'Booking Commissions'!$C$6:$C$155,$A24,'Booking Commissions'!$AD$6:$AD$155,"<>"),0) | H24: =IFERROR(D24-E24,0) | I24: =IFERROR(E24/D24,0) | T24: =IFERROR(IF(AND('Booking Commissions'!A24<>"",'Booking Commissions'!F24>=$B$3,'Booking Commissions'!F24<=$B$4,OR($B$5="All Channels",'Booking Commissions'!C24=$B$5),COUNTIF('Channel Terms'!$A$6:$A$105,'Booking Commissions'!C24)=0),1,0),0)
B25: ="" | C25: ="" | E25: ="" | F25: ="" | G25: ="" | H25: ="" | I25: ="" | T25: =IFERROR(IF(AND('Booking Commissions'!A25<>"",'Booking Commissions'!F25>=$B$3,'Booking Commissions'!F25<=$B$4,OR($B$5="All Channels",'Booking Commissions'!C25=$B$5),COUNTIF('Channel Terms'!$A$6:$A$105,'Booking Commissions'!C25)=0),1,0),0)
B26: ="" | C26: ="" | E26: ="" | F26: ="" | G26: ="" | H26: ="" | I26: ="" | T26: =IFERROR(IF(AND('Booking Commissions'!A26<>"",'Booking Commissions'!F26>=$B$3,'Booking Commissions'!F26<=$B$4,OR($B$5="All Channels",'Booking Commissions'!C26=$B$5),COUNTIF('Channel Terms'!$A$6:$A$105,'Booking Commissions'!C26)=0),1,0),0)
A27: Operational Alerts | B27: ="" | C27: ="" | E27: ="" | F27: ="" | G27: ="" | H27: ="" | I27: ="" | T27: =IFERROR(IF(AND('Booking Commissions'!A27<>"",'Booking Commissions'!F27>=$B$3,'Booking Commissions'!F27<=$B$4,OR($B$5="All Channels",'Booking Commissions'!C27=$B$5),COUNTIF('Channel Terms'!$A$6:$A$105,'Booking Commissions'!C27)=0),1,0),0)
A28: End date before start date | B28: ="" | C28: ="" | D28: =IFERROR(IF($B$4<$B$3,1,"OK"),"OK") | E28: ="" | F28: ="" | G28: ="" | H28: ="" | I28: ="" | T28: =IFERROR(IF(AND('Booking Commissions'!A28<>"",'Booking Commissions'!F28>=$B$3,'Booking Commissions'!F28<=$B$4,OR($B$5="All Channels",'Booking Commissions'!C28=$B$5),COUNTIF('Channel Terms'!$A$6:$A$105,'Booking Commissions'!C28)=0),1,0),0)
A29: Unknown channel records | B29: ="" | C29: ="" | D29: =IFERROR(IF(SUM($T$6:$T$155)=0,"OK",SUM($T$6:$T$155)),"OK") | E29: ="" | F29: ="" | G29: ="" | H29: ="" | I29: ="" | T29: =IFERROR(IF(AND('Booking Commissions'!A29<>"",'Booking Commissions'!F29>=$B$3,'Booking Commissions'!F29<=$B$4,OR($B$5="All Channels",'Booking Commissions'!C29=$B$5),COUNTIF('Channel Terms'!$A$6:$A$105,'Booking Commissions'!C29)=0),1,0),0)
A30: Missing confirmation numbers | B30: ="" | C30: ="" | D30: =IFERROR(IF(IF($B$5="All Channels",COUNTIFS('Booking Commissions'!$F$6:$F$155,">="&$B$3,'Booking Commissions'!$F$6:$F$155,"<="&$B$4,'Booking Commissions'!$D$6:$D$155,"",'Booking Commissions'!$A$6:$A$155,"<>"),COUNTIFS('Booking Commissions'!$F$6:$F$155,">="&$B$3,'Booking Commissions'!$F$6:$F$155,"<="&$B$4,'Booking Commissions'!$D$6:$D$155,"",'Booking Commissions'!$A$6:$A$155,"<>",'Booking Commissions'!$C$6:$C$155,$B$5))=0,"OK",IF($B$5="All Channels",COUNTIFS('Booking Commissions'!$F$6:$F$155,">="&$B$3,'Booking Commissions'!$F$6:$F$155,"<="&$B$4,'Booking Commissions'!$D$6:$D$155,"",'Booking Commissions'!$A$6:$A$155,"<>"),COUNTIFS('Booking Commissions'!$F$6:$F$155,">="&$B$3,'Booking Commissions'!$F$6:$F$155,"<="&$B$4,'Booking Commissions'!$D$6:$D$155,"",'Booking Commissions'!$A$6:$A$155,"<>",'Booking Commissions'!$C$6:$C$155,$B$5))),"OK") | E30: ="" | F30: ="" | G30: ="" | H30: ="" | I30: ="" | T30: =IFERROR(IF(AND('Booking Commissions'!A30<>"",'Booking Commissions'!F30>=$B$3,'Booking Commissions'!F30<=$B$4,OR($B$5="All Channels",'Booking Commissions'!C30=$B$5),COUNTIF('Channel Terms'!$A$6:$A$105,'Booking Commissions'!C30)=0),1,0),0)
A31: Negative revenue records | B31: ="" | C31: ="" | D31: =IFERROR(IF((IF($B$5="All Channels",COUNTIFS('Booking Commissions'!$F$6:$F$155,">="&$B$3,'Booking Commissions'!$F$6:$F$155,"<="&$B$4,'Booking Commissions'!$J$6:$J$155,"<0"),COUNTIFS('Booking Commissions'!$F$6:$F$155,">="&$B$3,'Booking Commissions'!$F$6:$F$155,"<="&$B$4,'Booking Commissions'!$J$6:$J$155,"<0",'Booking Commissions'!$C$6:$C$155,$B$5))+IF($B$5="All Channels",COUNTIFS('Booking Commissions'!$F$6:$F$155,">="&$B$3,'Booking Commissions'!$F$6:$F$155,"<="&$B$4,'Booking Commissions'!$K$6:$K$155,"<0"),COUNTIFS('Booking Commissions'!$F$6:$F$155,">="&$B$3,'Booking Commissions'!$F$6:$F$155,"<="&$B$4,'Booking Commissions'!$K$6:$K$155,"<0",'Booking Commissions'!$C$6:$C$155,$B$5))+IF($B$5="All Channels",COUNTIFS('Booking Commissions'!$F$6:$F$155,">="&$B$3,'Booking Commissions'!$F$6:$F$155,"<="&$B$4,'Booking Commissions'!$M$6:$M$155,"<0"),COUNTIFS('Booking Commissions'!$F$6:$F$155,">="&$B$3,'Booking Commissions'!$F$6:$F$155,"<="&$B$4,'Booking Commissions'!$M$6:$M$155,"<0",'Booking Commissions'!$C$6:$C$155,$B$5))+IF($B$5="All Channels",COUNTIFS('Booking Commissions'!$F$6:$F$155,">="&$B$3,'Booking Commissions'!$F$6:$F$155,"<="&$B$4,'Booking Commissions'!$N$6:$N$155,"<0"),COUNTIFS('Booking Commissions'!$F$6:$F$155,">="&$B$3,'Booking Commissions'!$F$6:$F$155,"<="&$B$4,'Booking Commissions'!$N$6:$N$155,"<0",'Booking Commissions'!$C$6:$C$155,$B$5))+IF($B$5="All Channels",COUNTIFS('Booking Commissions'!$F$6:$F$155,">="&$B$3,'Booking Commissions'!$F$6:$F$155,"<="&$B$4,'Booking Commissions'!$O$6:$O$155,"<0"),COUNTIFS('Booking Commissions'!$F$6:$F$155,">="&$B$3,'Booking Commissions'!$F$6:$F$155,"<="&$B$4,'Booking Commissions'!$O$6:$O$155,"<0",'Booking Commissions'!$C$6:$C$155,$B$5)))=0,"OK",(IF($B$5="All Channels",COUNTIFS('Booking Commissions'!$F$6:$F$155,">="&$B$3,'Booking Commissions'!$F$6:$F$155,"<="&$B$4,'Booking Commissions'!$J$6:$J$155,"<0"),COUNTIFS('Booking Commissions'!$F$6:$F$155,">="&$B$3,'Booking Commissions'!$F$6:$F$155,"<="&$B$4,'Booking Commissions'!$J$6:$J$155,"<0",'Booking Commissions'!$C$6:$C$155,$B$5))+IF($B$5="All Channels",COUNTIFS('Booking Commissions'!$F$6:$F$155,">="&$B$3,'Booking Commissions'!$F$6:$F$155,"<="&$B$4,'Booking Commissions'!$K$6:$K$155,"<0"),COUNTIFS('Booking Commissions'!$F$6:$F$155,">="&$B$3,'Booking Commissions'!$F$6:$F$155,"<="&$B$4,'Booking Commissions'!$K$6:$K$155,"<0",'Booking Commissions'!$C$6:$C$155,$B$5))+IF($B$5="All Channels",COUNTIFS('Booking Commissions'!$F$6:$F$155,">="&$B$3,'Booking Commissions'!$F$6:$F$155,"<="&$B$4,'Booking Commissions'!$M$6:$M$155,"<0"),COUNTIFS('Booking Commissions'!$F$6:$F$155,">="&$B$3,'Booking Commissions'!$F$6:$F$155,"<="&$B$4,'Booking Commissions'!$M$6:$M$155,"<0",'Booking Commissions'!$C$6:$C$155,$B$5))+IF($B$5="All Channels",COUNTIFS('Booking Commissions'!$F$6:$F$155,">="&$B$3,'Booking Commissions'!$F$6:$F$155,"<="&$B$4,'Booking Commissions'!$N$6:$N$155,"<0"),COUNTIFS('Booking Commissions'!$F$6:$F$155,">="&$B$3,'Booking Commissions'!$F$6:$F$155,"<="&$B$4,'Booking Commissions'!$N$6:$N$155,"<0",'Booking Commissions'!$C$6:$C$155,$B$5))+IF($B$5="All Channels",COUNTIFS('Booking Commissions'!$F$6:$F$155,">="&$B$3,'Booking Commissions'!$F$6:$F$155,"<="&$B$4,'Booking Commissions'!$O$6:$O$155,"<0"),COUNTIFS('Booking Commissions'!$F$6:$F$155,">="&$B$3,'Booking Commissions'!$F$6:$F$155,"<="&$B$4,'Booking Commissions'!$O$6:$O$155,"<0",'Booking Commissions'!$C$6:$C$155,$B$5)))),"OK") | E31: ="" | F31: ="" | G31: ="" | H31: ="" | I31: ="" | T31: =IFERROR(IF(AND('Booking Commissions'!A31<>"",'Booking Commissions'!F31>=$B$3,'Booking Commissions'!F31<=$B$4,OR($B$5="All Channels",'Booking Commissions'!C31=$B$5),COUNTIF('Channel Terms'!$A$6:$A$105,'Booking Commissions'!C31)=0),1,0),0)
A32: Actual cost entered without a settlement date | B32: ="" | C32: ="" | D32: =IFERROR(IF(IF($B$5="All Channels",COUNTIFS('Booking Commissions'!$F$6:$F$155,">="&$B$3,'Booking Commissions'!$F$6:$F$155,"<="&$B$4,'Booking Commissions'!$AD$6:$AD$155,"<>",'Booking Commissions'!$AE$6:$AE$155,""),COUNTIFS('Booking Commissions'!$F$6:$F$155,">="&$B$3,'Booking Commissions'!$F$6:$F$155,"<="&$B$4,'Booking Commissions'!$AD$6:$AD$155,"<>",'Booking Commissions'!$AE$6:$AE$155,"",'Booking Commissions'!$C$6:$C$155,$B$5))=0,"OK",IF($B$5="All Channels",COUNTIFS('Booking Commissions'!$F$6:$F$155,">="&$B$3,'Booking Commissions'!$F$6:$F$155,"<="&$B$4,'Booking Commissions'!$AD$6:$AD$155,"<>",'Booking Commissions'!$AE$6:$AE$155,""),COUNTIFS('Booking Commissions'!$F$6:$F$155,">="&$B$3,'Booking Commissions'!$F$6:$F$155,"<="&$B$4,'Booking Commissions'!$AD$6:$AD$155,"<>",'Booking Commissions'!$AE$6:$AE$155,"",'Booking Commissions'!$C$6:$C$155,$B$5))),"OK") | E32: ="" | F32: ="" | G32: ="" | H32: ="" | I32: ="" | T32: =IFERROR(IF(AND('Booking Commissions'!A32<>"",'Booking Commissions'!F32>=$B$3,'Booking Commissions'!F32<=$B$4,OR($B$5="All Channels",'Booking Commissions'!C32=$B$5),COUNTIF('Channel Terms'!$A$6:$A$105,'Booking Commissions'!C32)=0),1,0),0)
A33: Settlement date entered without an actual cost | B33: ="" | C33: ="" | D33: =IFERROR(IF(IF($B$5="All Channels",COUNTIFS('Booking Commissions'!$F$6:$F$155,">="&$B$3,'Booking Commissions'!$F$6:$F$155,"<="&$B$4,'Booking Commissions'!$AE$6:$AE$155,"<>",'Booking Commissions'!$AD$6:$AD$155,""),COUNTIFS('Booking Commissions'!$F$6:$F$155,">="&$B$3,'Booking Commissions'!$F$6:$F$155,"<="&$B$4,'Booking Commissions'!$AE$6:$AE$155,"<>",'Booking Commissions'!$AD$6:$AD$155,"",'Booking Commissions'!$C$6:$C$155,$B$5))=0,"OK",IF($B$5="All Channels",COUNTIFS('Booking Commissions'!$F$6:$F$155,">="&$B$3,'Booking Commissions'!$F$6:$F$155,"<="&$B$4,'Booking Commissions'!$AE$6:$AE$155,"<>",'Booking Commissions'!$AD$6:$AD$155,""),COUNTIFS('Booking Commissions'!$F$6:$F$155,">="&$B$3,'Booking Commissions'!$F$6:$F$155,"<="&$B$4,'Booking Commissions'!$AE$6:$AE$155,"<>",'Booking Commissions'!$AD$6:$AD$155,"",'Booking Commissions'!$C$6:$C$155,$B$5))),"OK") | E33: ="" | F33: ="" | G33: ="" | H33: ="" | I33: ="" | T33: =IFERROR(IF(AND('Booking Commissions'!A33<>"",'Booking Commissions'!F33>=$B$3,'Booking Commissions'!F33<=$B$4,OR($B$5="All Channels",'Booking Commissions'!C33=$B$5),COUNTIF('Channel Terms'!$A$6:$A$105,'Booking Commissions'!C33)=0),1,0),0)
A34: Commission variance over the selected threshold | B34: ="" | C34: ="" | D34: =IFERROR(IF((IF($B$5="All Channels",COUNTIFS('Booking Commissions'!$F$6:$F$155,">="&$B$3,'Booking Commissions'!$F$6:$F$155,"<="&$B$4,'Booking Commissions'!$AF$6:$AF$155,">"&$B$6),COUNTIFS('Booking Commissions'!$F$6:$F$155,">="&$B$3,'Booking Commissions'!$F$6:$F$155,"<="&$B$4,'Booking Commissions'!$AF$6:$AF$155,">"&$B$6,'Booking Commissions'!$C$6:$C$155,$B$5))+IF($B$5="All Channels",COUNTIFS('Booking Commissions'!$F$6:$F$155,">="&$B$3,'Booking Commissions'!$F$6:$F$155,"<="&$B$4,'Booking Commissions'!$AF$6:$AF$155,"<"&(0-$B$6)),COUNTIFS('Booking Commissions'!$F$6:$F$155,">="&$B$3,'Booking Commissions'!$F$6:$F$155,"<="&$B$4,'Booking Commissions'!$AF$6:$AF$155,"<"&(0-$B$6),'Booking Commissions'!$C$6:$C$155,$B$5)))=0,"OK",(IF($B$5="All Channels",COUNTIFS('Booking Commissions'!$F$6:$F$155,">="&$B$3,'Booking Commissions'!$F$6:$F$155,"<="&$B$4,'Booking Commissions'!$AF$6:$AF$155,">"&$B$6),COUNTIFS('Booking Commissions'!$F$6:$F$155,">="&$B$3,'Booking Commissions'!$F$6:$F$155,"<="&$B$4,'Booking Commissions'!$AF$6:$AF$155,">"&$B$6,'Booking Commissions'!$C$6:$C$155,$B$5))+IF($B$5="All Channels",COUNTIFS('Booking Commissions'!$F$6:$F$155,">="&$B$3,'Booking Commissions'!$F$6:$F$155,"<="&$B$4,'Booking Commissions'!$AF$6:$AF$155,"<"&(0-$B$6)),COUNTIFS('Booking Commissions'!$F$6:$F$155,">="&$B$3,'Booking Commissions'!$F$6:$F$155,"<="&$B$4,'Booking Commissions'!$AF$6:$AF$155,"<"&(0-$B$6),'Booking Commissions'!$C$6:$C$155,$B$5)))),"OK") | E34: ="" | F34: ="" | G34: ="" | H34: ="" | I34: ="" | T34: =IFERROR(IF(AND('Booking Commissions'!A34<>"",'Booking Commissions'!F34>=$B$3,'Booking Commissions'!F34<=$B$4,OR($B$5="All Channels",'Booking Commissions'!C34=$B$5),COUNTIF('Channel Terms'!$A$6:$A$105,'Booking Commissions'!C34)=0),1,0),0)
B35: ="" | C35: ="" | D35: ="" | E35: ="" | F35: ="" | G35: ="" | H35: ="" | I35: ="" | T35: =IFERROR(IF(AND('Booking Commissions'!A35<>"",'Booking Commissions'!F35>=$B$3,'Booking Commissions'!F35<=$B$4,OR($B$5="All Channels",'Booking Commissions'!C35=$B$5),COUNTIF('Channel Terms'!$A$6:$A$105,'Booking Commissions'!C35)=0),1,0),0)
B36: ="" | C36: ="" | D36: ="" | E36: ="" | F36: ="" | G36: ="" | H36: ="" | I36: ="" | T36: =IFERROR(IF(AND('Booking Commissions'!A36<>"",'Booking Commissions'!F36>=$B$3,'Booking Commissions'!F36<=$B$4,OR($B$5="All Channels",'Booking Commissions'!C36=$B$5),COUNTIF('Channel Terms'!$A$6:$A$105,'Booking Commissions'!C36)=0),1,0),0)
B37: ="" | C37: ="" | D37: ="" | E37: ="" | F37: ="" | G37: ="" | H37: ="" | I37: ="" | T37: =IFERROR(IF(AND('Booking Commissions'!A37<>"",'Booking Commissions'!F37>=$B$3,'Booking Commissions'!F37<=$B$4,OR($B$5="All Channels",'Booking Commissions'!C37=$B$5),COUNTIF('Channel Terms'!$A$6:$A$105,'Booking Commissions'!C37)=0),1,0),0)
B38: ="" | C38: ="" | D38: ="" | E38: ="" | F38: ="" | G38: ="" | H38: ="" | I38: ="" | T38: =IFERROR(IF(AND('Booking Commissions'!A38<>"",'Booking Commissions'!F38>=$B$3,'Booking Commissions'!F38<=$B$4,OR($B$5="All Channels",'Booking Commissions'!C38=$B$5),COUNTIF('Channel Terms'!$A$6:$A$105,'Booking Commissions'!C38)=0),1,0),0)
B39: ="" | C39: ="" | D39: ="" | E39: ="" | F39: ="" | G39: ="" | H39: ="" | I39: ="" | T39: =IFERROR(IF(AND('Booking Commissions'!A39<>"",'Booking Commissions'!F39>=$B$3,'Booking Commissions'!F39<=$B$4,OR($B$5="All Channels",'Booking Commissions'!C39=$B$5),COUNTIF('Channel Terms'!$A$6:$A$105,'Booking Commissions'!C39)=0),1,0),0)
B40: ="" | C40: ="" | D40: ="" | E40: ="" | F40: ="" | G40: ="" | H40: ="" | I40: ="" | T40: =IFERROR(IF(AND('Booking Commissions'!A40<>"",'Booking Commissions'!F40>=$B$3,'Booking Commissions'!F40<=$B$4,OR($B$5="All Channels",'Booking Commissions'!C40=$B$5),COUNTIF('Channel Terms'!$A$6:$A$105,'Booking Commissions'!C40)=0),1,0),0)
...

Sheet Booking Commissions
A1: Booking Commission Detail and Reconciliation
A2: Enter or paste booking details in the pale gold cells. Calculated and channel-term lookup fields are shaded blue.
A3: Prepared capacity: 150 booking records
A5: Booking ID | B5: Guest Name | C5: Channel | D5: Channel Confirmation Number | E5: Booking Date | F5: Check-In Date | G5: Check-Out Date | H5: Room Nights | I5: Booking Status | J5: Room Revenue Before Discounts | K5: Discounts | L5: Net Room Revenue | M5: Property Fees | N5: Taxes | O5: Cancellation or No-Show Fee Retained | P5: Gross Booking Revenue | Q5: Standard Room Commission Rate | R5: Cancellation Commission Rate | S5: Property Fees Commissionable | T5: Taxes Commissionable | U5: Payment Processing Rate | V5: Flat Booking Fee | W5: Expected Remittance Days | X5: Standard Commission Basis | Y5: Expected Commission | Z5: Expected Processing Charge | AA5: Expected Total Channel Cost | AB5: Expected Net Revenue | AC5: Expected Settlement Date | AD5: Actual Channel Cost | AE5: Actual Settlement Date | AF5: Commission Variance | AG5: Effective Channel Cost Rate | AH5: Commission Payment Status | AI5: Review Flag | AJ5: Notes
A6: BK-26001 | B6: Olivia Martinez | C6: Direct Website | D6: DW-684201 | E6: 46030 | F6: 46065 | G6: 46068 | H6: =IFERROR(IF(A6="","",MAX(0,G6-F6)),"") | I6: Stayed | J6: 747 | K6: 50 | L6: =IFERROR(IF(A6="","",MAX(0,J6-K6)),"") | M6: 75 | N6: 92.64 | O6: 0 | P6: =IFERROR(IF(A6="","",IF(I6="Cancelled",O6+N6,L6+M6+N6+IF(I6="No-Show",O6,0))),"") | Q6: =IFERROR(IF(A6="","",INDEX('Channel Terms'!$B$6:$B$105,MATCH(C6,'Channel Terms'!$A$6:$A$105,0))),"") | R6: =IFERROR(IF(A6="","",INDEX('Channel Terms'!$C$6:$C$105,MATCH(C6,'Channel Terms'!$A$6:$A$105,0))),"") | S6: =IFERROR(IF(A6="","",INDEX('Channel Terms'!$D$6:$D$105,MATCH(C6,'Channel Terms'!$A$6:$A$105,0))),"") | T6: =IFERROR(IF(A6="","",INDEX('Channel Terms'!$E$6:$E$105,MATCH(C6,'Channel Terms'!$A$6:$A$105,0))),"") | U6: =IFERROR(IF(A6="","",INDEX('Channel Terms'!$F$6:$F$105,MATCH(C6,'Channel Terms'!$A$6:$A$105,0))),"") | V6: =IFERROR(IF(A6="","",INDEX('Channel Terms'!$G$6:$G$105,MATCH(C6,'Channel Terms'!$A$6:$A$105,0))),"") | W6: =IFERROR(IF(A6="","",INDEX('Channel Terms'!$H$6:$H$105,MATCH(C6,'Channel Terms'!$A$6:$A$105,0))),"") | X6: =IFERROR(IF(A6="","",IF(I6="Cancelled",O6,L6+IF(S6="Yes",M6,0)+IF(T6="Yes",N6,0)+IF(I6="No-Show",O6,0))),"") | Y6: =IFERROR(IF(A6="","",IF(I6="Cancelled",X6*R6,X6*Q6)+V6),"") | Z6: =IFERROR(IF(A6="","",P6*U6),"") | AA6: =IFERROR(IF(A6="","",Y6+Z6),"") | AB6: =IFERROR(IF(A6="","",P6-AA6),"") | AC6: =IFERROR(IF(A6="","",G6+W6),"") | AD6: 27.61 | AE6: 46071 | AF6: =IFERROR(IF(OR(A6="",AD6=""),"",AD6-AA6),"") | AG6: =IFERROR(IF(A6="","",AA6/P6),"") | AH6: =IFERROR(IF(A6="","",IF(AE6<>"","Settled",IF(AC6="","Missing Date",IF(AC6<Dashboard!$B$7,"Overdue","Not Yet Due")))),"") | AI6: =IFERROR(IF(A6="","",IF(OR(C6="",D6="",G6<=F6,K6>J6,AND(AD6<>"",AE6=""),AND(AD6="",AE6<>""),AND(AF6<>"",OR(AF6>Dashboard!$B$6,AF6<0-Dashboard!$B$6))),"Review","OK")),"") | AJ6: Reconciled to February statement
A7: BK-26002 | B7: Daniel Brooks | C7: Booking.com | D7: BDC-915438 | E7: 46041 | F7: 46087 | G7: 46090 | H7: =IFERROR(IF(A7="","",MAX(0,G7-F7)),"") | I7: Stayed | J7: 897 | K7: 0 | L7: =IFERROR(IF(A7="","",MAX(0,J7-K7)),"") | M7: 90 | N7: 118.44 | O7: 0 | P7: =IFERROR(IF(A7="","",IF(I7="Cancelled",O7+N7,L7+M7+N7+IF(I7="No-Show",O7,0))),"") | Q7: =IFERROR(IF(A7="","",INDEX('Channel Terms'!$B$6:$B$105,MATCH(C7,'Channel Terms'!$A$6:$A$105,0))),"") | R7: =IFERROR(IF(A7="","",INDEX('Channel Terms'!$C$6:$C$105,MATCH(C7,'Channel Terms'!$A$6:$A$105,0))),"") | S7: =IFERROR(IF(A7="","",INDEX('Channel Terms'!$D$6:$D$105,MATCH(C7,'Channel Terms'!$A$6:$A$105,0))),"") | T7: =IFERROR(IF(A7="","",INDEX('Channel Terms'!$E$6:$E$105,MATCH(C7,'Channel Terms'!$A$6:$A$105,0))),"") | U7: =IFERROR(IF(A7="","",INDEX('Channel Terms'!$F$6:$F$105,MATCH(C7,'Channel Terms'!$A$6:$A$105,0))),"") | V7: =IFERROR(IF(A7="","",INDEX('Channel Terms'!$G$6:$G$105,MATCH(C7,'Channel Terms'!$A$6:$A$105,0))),"") | W7: =IFERROR(IF(A7="","",INDEX('Channel Terms'!$H$6:$H$105,MATCH(C7,'Channel Terms'!$A$6:$A$105,0))),"") | X7: =IFERROR(IF(A7="","",IF(I7="Cancelled",O7,L7+IF(S7="Yes",M7,0)+IF(T7="Yes",N7,0)+IF(I7="No-Show",O7,0))),"") | Y7: =IFERROR(IF(A7="","",IF(I7="Cancelled",X7*R7,X7*Q7)+V7),"") | Z7: =IFERROR(IF(A7="","",P7*U7),"") | AA7: =IFERROR(IF(A7="","",Y7+Z7),"") | AB7: =IFERROR(IF(A7="","",P7-AA7),"") | AC7: =IFERROR(IF(A7="","",G7+W7),"") | AD7: 148.05 | AE7: 46101 | AF7: =IFERROR(IF(OR(A7="",AD7=""),"",AD7-AA7),"") | AG7: =IFERROR(IF(A7="","",AA7/P7),"") | AH7: =IFERROR(IF(A7="","",IF(AE7<>"","Settled",IF(AC7="","Missing Date",IF(AC7<Dashboard!$B$7,"Overdue","Not Yet Due")))),"") | AI7: =IFERROR(IF(A7="","",IF(OR(C7="",D7="",G7<=F7,K7>J7,AND(AD7<>"",AE7=""),AND(AD7="",AE7<>""),AND(AF7<>"",OR(AF7>Dashboard!$B$6,AF7<0-Dashboard!$B$6))),"Review","OK")),"") | AJ7: Near expected amount
A8: BK-26003 | B8: Sophia Nguyen | C8: Expedia | D8: EXP-743882 | E8: 46055 | F8: 46101 | G8: 46104 | H8: =IFERROR(IF(A8="","",MAX(0,G8-F8)),"") | I8: Stayed | J8: 825 | K8: 75 | L8: =IFERROR(IF(A8="","",MAX(0,J8-K8)),"") | M8: 90 | N8: 100.8 | O8: 0 | P8: =IFERROR(IF(A8="","",IF(I8="Cancelled",O8+N8,L8+M8+N8+IF(I8="No-Show",O8,0))),"") | Q8: =IFERROR(IF(A8="","",INDEX('Channel Terms'!$B$6:$B$105,MATCH(C8,'Channel Terms'!$A$6:$A$105,0))),"") | R8: =IFERROR(IF(A8="","",INDEX('Channel Terms'!$C$6:$C$105,MATCH(C8,'Channel Terms'!$A$6:$A$105,0))),"") | S8: =IFERROR(IF(A8="","",INDEX('Channel Terms'!$D$6:$D$105,MATCH(C8,'Channel Terms'!$A$6:$A$105,0))),"") | T8: =IFERROR(IF(A8="","",INDEX('Channel Terms'!$E$6:$E$105,MATCH(C8,'Channel Terms'!$A$6:$A$105,0))),"") | U8: =IFERROR(IF(A8="","",INDEX('Channel Terms'!$F$6:$F$105,MATCH(C8,'Channel Terms'!$A$6:$A$105,0))),"") | V8: =IFERROR(IF(A8="","",INDEX('Channel Terms'!$G$6:$G$105,MATCH(C8,'Channel Terms'!$A$6:$A$105,0))),"") | W8: =IFERROR(IF(A8="","",INDEX('Channel Terms'!$H$6:$H$105,MATCH(C8,'Channel Terms'!$A$6:$A$105,0))),"") | X8: =IFERROR(IF(A8="","",IF(I8="Cancelled",O8,L8+IF(S8="Yes",M8,0)+IF(T8="Yes",N8,0)+IF(I8="No-Show",O8,0))),"") | Y8: =IFERROR(IF(A8="","",IF(I8="Cancelled",X8*R8,X8*Q8)+V8),"") | Z8: =IFERROR(IF(A8="","",P8*U8),"") | AA8: =IFERROR(IF(A8="","",Y8+Z8),"") | AB8: =IFERROR(IF(A8="","",P8-AA8),"") | AC8: =IFERROR(IF(A8="","",G8+W8),"") | AD8: 190 | AE8: 46116 | AF8: =IFERROR(IF(OR(A8="",AD8=""),"",AD8-AA8),"") | AG8: =IFERROR(IF(A8="","",AA8/P8),"") | AH8: =IFERROR(IF(A8="","",IF(AE8<>"","Settled",IF(AC8="","Missing Date",IF(AC8<Dashboard!$B$7,"Overdue","Not Yet Due")))),"") | AI8: =IFERROR(IF(A8="","",IF(OR(C8="",D8="",G8<=F8,K8>J8,AND(AD8<>"",AE8=""),AND(AD8="",AE8<>""),AND(AF8<>"",OR(AF8>Dashboard!$B$6,AF8<0-Dashboard!$B$6))),"Review","OK")),"") | AJ8: Review higher actual charge
A9: BK-26004 | B9: Marcus Johnson | C9: Airbnb | D9: AIR-39K7P2 | E9: 46070 | F9: 46122 | G9: 46126 | H9: =IFERROR(IF(A9="","",MAX(0,G9-F9)),"") | I9: Stayed | J9: 1196 | K9: 100 | L9: =IFERROR(IF(A9="","",MAX(0,J9-K9)),"") | M9: 120 | N9: 145.92 | O9: 0 | P9: =IFERROR(IF(A9="","",IF(I9="Cancelled",O9+N9,L9+M9+N9+IF(I9="No-Show",O9,0))),"") | Q9: =IFERROR(IF(A9="","",INDEX('Channel Terms'!$B$6:$B$105,MATCH(C9,'Channel Terms'!$A$6:$A$105,0))),"") | R9: =IFERROR(IF(A9="","",INDEX('Channel Terms'!$C$6:$C$105,MATCH(C9,'Channel Terms'!$A$6:$A$105,0))),"") | S9: =IFERROR(IF(A9="","",INDEX('Channel Terms'!$D$6:$D$105,MATCH(C9,'Channel Terms'!$A$6:$A$105,0))),"") | T9: =IFERROR(IF(A9="","",INDEX('Channel Terms'!$E$6:$E$105,MATCH(C9,'Channel Terms'!$A$6:$A$105,0))),"") | U9: =IFERROR(IF(A9="","",INDEX('Channel Terms'!$F$6:$F$105,MATCH(C9,'Channel Terms'!$A$6:$A$105,0))),"") | V9: =IFERROR(IF(A9="","",INDEX('Channel Terms'!$G$6:$G$105,MATCH(C9,'Channel Terms'!$A$6:$A$105,0))),"") | W9: =IFERROR(IF(A9="","",INDEX('Channel Terms'!$H$6:$H$105,MATCH(C9,'Channel Terms'!$A$6:$A$105,0))),"") | X9: =IFERROR(IF(A9="","",IF(I9="Cancelled",O9,L9+IF(S9="Yes",M9,0)+IF(T9="Yes",N9,0)+IF(I9="No-Show",O9,0))),"") | Y9: =IFERROR(IF(A9="","",IF(I9="Cancelled",X9*R9,X9*Q9)+V9),"") | Z9: =IFERROR(IF(A9="","",P9*U9),"") | AA9: =IFERROR(IF(A9="","",Y9+Z9),"") | AB9: =IFERROR(IF(A9="","",P9-AA9),"") | AC9: =IFERROR(IF(A9="","",G9+W9),"") | AD9: 42.55 | AE9: 46127 | AF9: =IFERROR(IF(OR(A9="",AD9=""),"",AD9-AA9),"") | AG9: =IFERROR(IF(A9="","",AA9/P9),"") | AH9: =IFERROR(IF(A9="","",IF(AE9<>"","Settled",IF(AC9="","Missing Date",IF(AC9<Dashboard!$B$7,"Overdue","Not Yet Due")))),"") | AI9: =IFERROR(IF(A9="","",IF(OR(C9="",D9="",G9<=F9,K9>J9,AND(AD9<>"",AE9=""),AND(AD9="",AE9<>""),AND(AF9<>"",OR(AF9>Dashboard!$B$6,AF9<0-Dashboard!$B$6))),"Review","OK")),"") | AJ9: Settled
A10: BK-26005 | B10: Hannah Wilson | C10: Agoda | D10: AGD-508144 | E10: 46084 | F10: 46143 | G10: 46146 | H10: =IFERROR(IF(A10="","",MAX(0,G10-F10)),"") | I10: Stayed | J10: 747 | K10: 40 | L10: =IFERROR(IF(A10="","",MAX(0,J10-K10)),"") | M10: 75 | N10: 93.84 | O10: 0 | P10: =IFERROR(IF(A10="","",IF(I10="Cancelled",O10+N10,L10+M10+N10+IF(I10="No-Show",O10,0))),"") | Q10: =IFERROR(IF(A10="","",INDEX('Channel Terms'!$B$6:$B$105,MATCH(C10,'Channel Terms'!$A$6:$A$105,0))),"") | R10: =IFERROR(IF(A10="","",INDEX('Channel Terms'!$C$6:$C$105,MATCH(C10,'Channel Terms'!$A$6:$A$105,0))),"") | S10: =IFERROR(IF(A10="","",INDEX('Channel Terms'!$D$6:$D$105,MATCH(C10,'Channel Terms'!$A$6:$A$105,0))),"") | T10: =IFERROR(IF(A10="","",INDEX('Channel Terms'!$E$6:$E$105,MATCH(C10,'Channel Terms'!$A$6:$A$105,0))),"") | U10: =IFERROR(IF(A10="","",INDEX('Channel Terms'!$F$6:$F$105,MATCH(C10,'Channel Terms'!$A$6:$A$105,0))),"") | V10: =IFERROR(IF(A10="","",INDEX('Channel Terms'!$G$6:$G$105,MATCH(C10,'Channel Terms'!$A$6:$A$105,0))),"") | W10: =IFERROR(IF(A10="","",INDEX('Channel Terms'!$H$6:$H$105,MATCH(C10,'Channel Terms'!$A$6:$A$105,0))),"") | X10: =IFERROR(IF(A10="","",IF(I10="Cancelled",O10,L10+IF(S10="Yes",M10,0)+IF(T10="Yes",N10,0)+IF(I10="No-Show",O10,0))),"") | Y10: =IFERROR(IF(A10="","",IF(I10="Cancelled",X10*R10,X10*Q10)+V10),"") | Z10: =IFERROR(IF(A10="","",P10*U10),"") | AA10: =IFERROR(IF(A10="","",Y10+Z10),"") | AB10: =IFERROR(IF(A10="","",P10-AA10),"") | AC10: =IFERROR(IF(A10="","",G10+W10),"") | AD10: 160 | AE10: 46160 | AF10: =IFERROR(IF(OR(A10="",AD10=""),"",AD10-AA10),"") | AG10: =IFERROR(IF(A10="","",AA10/P10),"") | AH10: =IFERROR(IF(A10="","",IF(AE10<>"","Settled",IF(AC10="","Missing Date",IF(AC10<Dashboard!$B$7,"Overdue","Not Yet Due")))),"") | AI10: =IFERROR(IF(A10="","",IF(OR(C10="",D10="",G10<=F10,K10>J10,AND(AD10<>"",AE10=""),AND(AD10="",AE10<>""),AND(AF10<>"",OR(AF10>Dashboard!$B$6,AF10<0-Dashboard!$B$6))),"Review","OK")),"") | AJ10: Review statement variance
H11: =IFERROR(IF(A11="","",MAX(0,G11-F11)),"") | L11: =IFERROR(IF(A11="","",MAX(0,J11-K11)),"") | P11: =IFERROR(IF(A11="","",IF(I11="Cancelled",O11+N11,L11+M11+N11+IF(I11="No-Show",O11,0))),"") | Q11: =IFERROR(IF(A11="","",INDEX('Channel Terms'!$B$6:$B$105,MATCH(C11,'Channel Terms'!$A$6:$A$105,0))),"") | R11: =IFERROR(IF(A11="","",INDEX('Channel Terms'!$C$6:$C$105,MATCH(C11,'Channel Terms'!$A$6:$A$105,0))),"") | S11: =IFERROR(IF(A11="","",INDEX('Channel Terms'!$D$6:$D$105,MATCH(C11,'Channel Terms'!$A$6:$A$105,0))),"") | T11: =IFERROR(IF(A11="","",INDEX('Channel Terms'!$E$6:$E$105,MATCH(C11,'Channel Terms'!$A$6:$A$105,0))),"") | U11: =IFERROR(IF(A11="","",INDEX('Channel Terms'!$F$6:$F$105,MATCH(C11,'Channel Terms'!$A$6:$A$105,0))),"") | V11: =IFERROR(IF(A11="","",INDEX('Channel Terms'!$G$6:$G$105,MATCH(C11,'Channel Terms'!$A$6:$A$105,0))),"") | W11: =IFERROR(IF(A11="","",INDEX('Channel Terms'!$H$6:$H$105,MATCH(C11,'Channel Terms'!$A$6:$A$105,0))),"") | X11: =IFERROR(IF(A11="","",IF(I11="Cancelled",O11,L11+IF(S11="Yes",M11,0)+IF(T11="Yes",N11,0)+IF(I11="No-Show",O11,0))),"") | Y11: =IFERROR(IF(A11="","",IF(I11="Cancelled",X11*R11,X11*Q11)+V11),"") | Z11: =IFERROR(IF(A11="","",P11*U11),"") | AA11: =IFERROR(IF(A11="","",Y11+Z11),"") | AB11: =IFERROR(IF(A11="","",P11-AA11),"") | AC11: =IFERROR(IF(A11="","",G11+W11),"") | AF11: =IFERROR(IF(OR(A11="",AD11=""),"",AD11-AA11),"") | AG11: =IFERROR(IF(A11="","",AA11/P11),"") | AH11: =IFERROR(IF(A11="","",IF(AE11<>"","Settled",IF(AC11="","Missing Date",IF(AC11<Dashboard!$B$7,"Overdue","Not Yet Due")))),"") | AI11: =IFERROR(IF(A11="","",IF(OR(C11="",D11="",G11<=F11,K11>J11,AND(AD11<>"",AE11=""),AND(AD11="",AE11<>""),AND(AF11<>"",OR(AF11>Dashboard!$B$6,AF11<0-Dashboard!$B$6))),"Review","OK")),"")
H12: =IFERROR(IF(A12="","",MAX(0,G12-F12)),"") | L12: =IFERROR(IF(A12="","",MAX(0,J12-K12)),"") | P12: =IFERROR(IF(A12="","",IF(I12="Cancelled",O12+N12,L12+M12+N12+IF(I12="No-Show",O12,0))),"") | Q12: =IFERROR(IF(A12="","",INDEX('Channel Terms'!$B$6:$B$105,MATCH(C12,'Channel Terms'!$A$6:$A$105,0))),"") | R12: =IFERROR(IF(A12="","",INDEX('Channel Terms'!$C$6:$C$105,MATCH(C12,'Channel Terms'!$A$6:$A$105,0))),"") | S12: =IFERROR(IF(A12="","",INDEX('Channel Terms'!$D$6:$D$105,MATCH(C12,'Channel Terms'!$A$6:$A$105,0))),"") | T12: =IFERROR(IF(A12="","",INDEX('Channel Terms'!$E$6:$E$105,MATCH(C12,'Channel Terms'!$A$6:$A$105,0))),"") | U12: =IFERROR(IF(A12="","",INDEX('Channel Terms'!$F$6:$F$105,MATCH(C12,'Channel Terms'!$A$6:$A$105,0))),"") | V12: =IFERROR(IF(A12="","",INDEX('Channel Terms'!$G$6:$G$105,MATCH(C12,'Channel Terms'!$A$6:$A$105,0))),"") | W12: =IFERROR(IF(A12="","",INDEX('Channel Terms'!$H$6:$H$105,MATCH(C12,'Channel Terms'!$A$6:$A$105,0))),"") | X12: =IFERROR(IF(A12="","",IF(I12="Cancelled",O12,L12+IF(S12="Yes",M12,0)+IF(T12="Yes",N12,0)+IF(I12="No-Show",O12,0))),"") | Y12: =IFERROR(IF(A12="","",IF(I12="Cancelled",X12*R12,X12*Q12)+V12),"") | Z12: =IFERROR(IF(A12="","",P12*U12),"") | AA12: =IFERROR(IF(A12="","",Y12+Z12),"") | AB12: =IFERROR(IF(A12="","",P12-AA12),"") | AC12: =IFERROR(IF(A12="","",G12+W12),"") | AF12: =IFERROR(IF(OR(A12="",AD12=""),"",AD12-AA12),"") | AG12: =IFERROR(IF(A12="","",AA12/P12),"") | AH12: =IFERROR(IF(A12="","",IF(AE12<>"","Settled",IF(AC12="","Missing Date",IF(AC12<Dashboard!$B$7,"Overdue","Not Yet Due")))),"") | AI12: =IFERROR(IF(A12="","",IF(OR(C12="",D12="",G12<=F12,K12>J12,AND(AD12<>"",AE12=""),AND(AD12="",AE12<>""),AND(AF12<>"",OR(AF12>Dashboard!$B$6,AF12<0-Dashboard!$B$6))),"Review","OK")),"")
H13: =IFERROR(IF(A13="","",MAX(0,G13-F13)),"") | L13: =IFERROR(IF(A13="","",MAX(0,J13-K13)),"") | P13: =IFERROR(IF(A13="","",IF(I13="Cancelled",O13+N13,L13+M13+N13+IF(I13="No-Show",O13,0))),"") | Q13: =IFERROR(IF(A13="","",INDEX('Channel Terms'!$B$6:$B$105,MATCH(C13,'Channel Terms'!$A$6:$A$105,0))),"") | R13: =IFERROR(IF(A13="","",INDEX('Channel Terms'!$C$6:$C$105,MATCH(C13,'Channel Terms'!$A$6:$A$105,0))),"") | S13: =IFERROR(IF(A13="","",INDEX('Channel Terms'!$D$6:$D$105,MATCH(C13,'Channel Terms'!$A$6:$A$105,0))),"") | T13: =IFERROR(IF(A13="","",INDEX('Channel Terms'!$E$6:$E$105,MATCH(C13,'Channel Terms'!$A$6:$A$105,0))),"") | U13: =IFERROR(IF(A13="","",INDEX('Channel Terms'!$F$6:$F$105,MATCH(C13,'Channel Terms'!$A$6:$A$105,0))),"") | V13: =IFERROR(IF(A13="","",INDEX('Channel Terms'!$G$6:$G$105,MATCH(C13,'Channel Terms'!$A$6:$A$105,0))),"") | W13: =IFERROR(IF(A13="","",INDEX('Channel Terms'!$H$6:$H$105,MATCH(C13,'Channel Terms'!$A$6:$A$105,0))),"") | X13: =IFERROR(IF(A13="","",IF(I13="Cancelled",O13,L13+IF(S13="Yes",M13,0)+IF(T13="Yes",N13,0)+IF(I13="No-Show",O13,0))),"") | Y13: =IFERROR(IF(A13="","",IF(I13="Cancelled",X13*R13,X13*Q13)+V13),"") | Z13: =IFERROR(IF(A13="","",P13*U13),"") | AA13: =IFERROR(IF(A13="","",Y13+Z13),"") | AB13: =IFERROR(IF(A13="","",P13-AA13),"") | AC13: =IFERROR(IF(A13="","",G13+W13),"") | AF13: =IFERROR(IF(OR(A13="",AD13=""),"",AD13-AA13),"") | AG13: =IFERROR(IF(A13="","",AA13/P13),"") | AH13: =IFERROR(IF(A13="","",IF(AE13<>"","Settled",IF(AC13="","Missing Date",IF(AC13<Dashboard!$B$7,"Overdue","Not Yet Due")))),"") | AI13: =IFERROR(IF(A13="","",IF(OR(C13="",D13="",G13<=F13,K13>J13,AND(AD13<>"",AE13=""),AND(AD13="",AE13<>""),AND(AF13<>"",OR(AF13>Dashboard!$B$6,AF13<0-Dashboard!$B$6))),"Review","OK")),"")
H14: =IFERROR(IF(A14="","",MAX(0,G14-F14)),"") | L14: =IFERROR(IF(A14="","",MAX(0,J14-K14)),"") | P14: =IFERROR(IF(A14="","",IF(I14="Cancelled",O14+N14,L14+M14+N14+IF(I14="No-Show",O14,0))),"") | Q14: =IFERROR(IF(A14="","",INDEX('Channel Terms'!$B$6:$B$105,MATCH(C14,'Channel Terms'!$A$6:$A$105,0))),"") | R14: =IFERROR(IF(A14="","",INDEX('Channel Terms'!$C$6:$C$105,MATCH(C14,'Channel Terms'!$A$6:$A$105,0))),"") | S14: =IFERROR(IF(A14="","",INDEX('Channel Terms'!$D$6:$D$105,MATCH(C14,'Channel Terms'!$A$6:$A$105,0))),"") | T14: =IFERROR(IF(A14="","",INDEX('Channel Terms'!$E$6:$E$105,MATCH(C14,'Channel Terms'!$A$6:$A$105,0))),"") | U14: =IFERROR(IF(A14="","",INDEX('Channel Terms'!$F$6:$F$105,MATCH(C14,'Channel Terms'!$A$6:$A$105,0))),"") | V14: =IFERROR(IF(A14="","",INDEX('Channel Terms'!$G$6:$G$105,MATCH(C14,'Channel Terms'!$A$6:$A$105,0))),"") | W14: =IFERROR(IF(A14="","",INDEX('Channel Terms'!$H$6:$H$105,MATCH(C14,'Channel Terms'!$A$6:$A$105,0))),"") | X14: =IFERROR(IF(A14="","",IF(I14="Cancelled",O14,L14+IF(S14="Yes",M14,0)+IF(T14="Yes",N14,0)+IF(I14="No-Show",O14,0))),"") | Y14: =IFERROR(IF(A14="","",IF(I14="Cancelled",X14*R14,X14*Q14)+V14),"") | Z14: =IFERROR(IF(A14="","",P14*U14),"") | AA14: =IFERROR(IF(A14="","",Y14+Z14),"") | AB14: =IFERROR(IF(A14="","",P14-AA14),"") | AC14: =IFERROR(IF(A14="","",G14+W14),"") | AF14: =IFERROR(IF(OR(A14="",AD14=""),"",AD14-AA14),"") | AG14: =IFERROR(IF(A14="","",AA14/P14),"") | AH14: =IFERROR(IF(A14="","",IF(AE14<>"","Settled",IF(AC14="","Missing Date",IF(AC14<Dashboard!$B$7,"Overdue","Not Yet Due")))),"") | AI14: =IFERROR(IF(A14="","",IF(OR(C14="",D14="",G14<=F14,K14>J14,AND(AD14<>"",AE14=""),AND(AD14="",AE14<>""),AND(AF14<>"",OR(AF14>Dashboard!$B$6,AF14<0-Dashboard!$B$6))),"Review","OK")),"")
H15: =IFERROR(IF(A15="","",MAX(0,G15-F15)),"") | L15: =IFERROR(IF(A15="","",MAX(0,J15-K15)),"") | P15: =IFERROR(IF(A15="","",IF(I15="Cancelled",O15+N15,L15+M15+N15+IF(I15="No-Show",O15,0))),"") | Q15: =IFERROR(IF(A15="","",INDEX('Channel Terms'!$B$6:$B$105,MATCH(C15,'Channel Terms'!$A$6:$A$105,0))),"") | R15: =IFERROR(IF(A15="","",INDEX('Channel Terms'!$C$6:$C$105,MATCH(C15,'Channel Terms'!$A$6:$A$105,0))),"") | S15: =IFERROR(IF(A15="","",INDEX('Channel Terms'!$D$6:$D$105,MATCH(C15,'Channel Terms'!$A$6:$A$105,0))),"") | T15: =IFERROR(IF(A15="","",INDEX('Channel Terms'!$E$6:$E$105,MATCH(C15,'Channel Terms'!$A$6:$A$105,0))),"") | U15: =IFERROR(IF(A15="","",INDEX('Channel Terms'!$F$6:$F$105,MATCH(C15,'Channel Terms'!$A$6:$A$105,0))),"") | V15: =IFERROR(IF(A15="","",INDEX('Channel Terms'!$G$6:$G$105,MATCH(C15,'Channel Terms'!$A$6:$A$105,0))),"") | W15: =IFERROR(IF(A15="","",INDEX('Channel Terms'!$H$6:$H$105,MATCH(C15,'Channel Terms'!$A$6:$A$105,0))),"") | X15: =IFERROR(IF(A15="","",IF(I15="Cancelled",O15,L15+IF(S15="Yes",M15,0)+IF(T15="Yes",N15,0)+IF(I15="No-Show",O15,0))),"") | Y15: =IFERROR(IF(A15="","",IF(I15="Cancelled",X15*R15,X15*Q15)+V15),"") | Z15: =IFERROR(IF(A15="","",P15*U15),"") | AA15: =IFERROR(IF(A15="","",Y15+Z15),"") | AB15: =IFERROR(IF(A15="","",P15-AA15),"") | AC15: =IFERROR(IF(A15="","",G15+W15),"") | AF15: =IFERROR(IF(OR(A15="",AD15=""),"",AD15-AA15),"") | AG15: =IFERROR(IF(A15="","",AA15/P15),"") | AH15: =IFERROR(IF(A15="","",IF(AE15<>"","Settled",IF(AC15="","Missing Date",IF(AC15<Dashboard!$B$7,"Overdue","Not Yet Due")))),"") | AI15: =IFERROR(IF(A15="","",IF(OR(C15="",D15="",G15<=F15,K15>J15,AND(AD15<>"",AE15=""),AND(AD15="",AE15<>""),AND(AF15<>"",OR(AF15>Dashboard!$B$6,AF15<0-Dashboard!$B$6))),"Review","OK")),"")
H16: =IFERROR(IF(A16="","",MAX(0,G16-F16)),"") | L16: =IFERROR(IF(A16="","",MAX(0,J16-K16)),"") | P16: =IFERROR(IF(A16="","",IF(I16="Cancelled",O16+N16,L16+M16+N16+IF(I16="No-Show",O16,0))),"") | Q16: =IFERROR(IF(A16="","",INDEX('Channel Terms'!$B$6:$B$105,MATCH(C16,'Channel Terms'!$A$6:$A$105,0))),"") | R16: =IFERROR(IF(A16="","",INDEX('Channel Terms'!$C$6:$C$105,MATCH(C16,'Channel Terms'!$A$6:$A$105,0))),"") | S16: =IFERROR(IF(A16="","",INDEX('Channel Terms'!$D$6:$D$105,MATCH(C16,'Channel Terms'!$A$6:$A$105,0))),"") | T16: =IFERROR(IF(A16="","",INDEX('Channel Terms'!$E$6:$E$105,MATCH(C16,'Channel Terms'!$A$6:$A$105,0))),"") | U16: =IFERROR(IF(A16="","",INDEX('Channel Terms'!$F$6:$F$105,MATCH(C16,'Channel Terms'!$A$6:$A$105,0))),"") | V16: =IFERROR(IF(A16="","",INDEX('Channel Terms'!$G$6:$G$105,MATCH(C16,'Channel Terms'!$A$6:$A$105,0))),"") | W16: =IFERROR(IF(A16="","",INDEX('Channel Terms'!$H$6:$H$105,MATCH(C16,'Channel Terms'!$A$6:$A$105,0))),"") | X16: =IFERROR(IF(A16="","",IF(I16="Cancelled",O16,L16+IF(S16="Yes",M16,0)+IF(T16="Yes",N16,0)+IF(I16="No-Show",O16,0))),"") | Y16: =IFERROR(IF(A16="","",IF(I16="Cancelled",X16*R16,X16*Q16)+V16),"") | Z16: =IFERROR(IF(A16="","",P16*U16),"") | AA16: =IFERROR(IF(A16="","",Y16+Z16),"") | AB16: =IFERROR(IF(A16="","",P16-AA16),"") | AC16: =IFERROR(IF(A16="","",G16+W16),"") | AF16: =IFERROR(IF(OR(A16="",AD16=""),"",AD16-AA16),"") | AG16: =IFERROR(IF(A16="","",AA16/P16),"") | AH16: =IFERROR(IF(A16="","",IF(AE16<>"","Settled",IF(AC16="","Missing Date",IF(AC16<Dashboard!$B$7,"Overdue","Not Yet Due")))),"") | AI16: =IFERROR(IF(A16="","",IF(OR(C16="",D16="",G16<=F16,K16>J16,AND(AD16<>"",AE16=""),AND(AD16="",AE16<>""),AND(AF16<>"",OR(AF16>Dashboard!$B$6,AF16<0-Dashboard!$B$6))),"Review","OK")),"")
H17: =IFERROR(IF(A17="","",MAX(0,G17-F17)),"") | L17: =IFERROR(IF(A17="","",MAX(0,J17-K17)),"") | P17: =IFERROR(IF(A17="","",IF(I17="Cancelled",O17+N17,L17+M17+N17+IF(I17="No-Show",O17,0))),"") | Q17: =IFERROR(IF(A17="","",INDEX('Channel Terms'!$B$6:$B$105,MATCH(C17,'Channel Terms'!$A$6:$A$105,0))),"") | R17: =IFERROR(IF(A17="","",INDEX('Channel Terms'!$C$6:$C$105,MATCH(C17,'Channel Terms'!$A$6:$A$105,0))),"") | S17: =IFERROR(IF(A17="","",INDEX('Channel Terms'!$D$6:$D$105,MATCH(C17,'Channel Terms'!$A$6:$A$105,0))),"") | T17: =IFERROR(IF(A17="","",INDEX('Channel Terms'!$E$6:$E$105,MATCH(C17,'Channel Terms'!$A$6:$A$105,0))),"") | U17: =IFERROR(IF(A17="","",INDEX('Channel Terms'!$F$6:$F$105,MATCH(C17,'Channel Terms'!$A$6:$A$105,0))),"") | V17: =IFERROR(IF(A17="","",INDEX('Channel Terms'!$G$6:$G$105,MATCH(C17,'Channel Terms'!$A$6:$A$105,0))),"") | W17: =IFERROR(IF(A17="","",INDEX('Channel Terms'!$H$6:$H$105,MATCH(C17,'Channel Terms'!$A$6:$A$105,0))),"") | X17: =IFERROR(IF(A17="","",IF(I17="Cancelled",O17,L17+IF(S17="Yes",M17,0)+IF(T17="Yes",N17,0)+IF(I17="No-Show",O17,0))),"") | Y17: =IFERROR(IF(A17="","",IF(I17="Cancelled",X17*R17,X17*Q17)+V17),"") | Z17: =IFERROR(IF(A17="","",P17*U17),"") | AA17: =IFERROR(IF(A17="","",Y17+Z17),"") | AB17: =IFERROR(IF(A17="","",P17-AA17),"") | AC17: =IFERROR(IF(A17="","",G17+W17),"") | AF17: =IFERROR(IF(OR(A17="",AD17=""),"",AD17-AA17),"") | AG17: =IFERROR(IF(A17="","",AA17/P17),"") | AH17: =IFERROR(IF(A17="","",IF(AE17<>"","Settled",IF(AC17="","Missing Date",IF(AC17<Dashboard!$B$7,"Overdue","Not Yet Due")))),"") | AI17: =IFERROR(IF(A17="","",IF(OR(C17="",D17="",G17<=F17,K17>J17,AND(AD17<>"",AE17=""),AND(AD17="",AE17<>""),AND(AF17<>"",OR(AF17>Dashboard!$B$6,AF17<0-Dashboard!$B$6))),"Review","OK")),"")
H18: =IFERROR(IF(A18="","",MAX(0,G18-F18)),"") | L18: =IFERROR(IF(A18="","",MAX(0,J18-K18)),"") | P18: =IFERROR(IF(A18="","",IF(I18="Cancelled",O18+N18,L18+M18+N18+IF(I18="No-Show",O18,0))),"") | Q18: =IFERROR(IF(A18="","",INDEX('Channel Terms'!$B$6:$B$105,MATCH(C18,'Channel Terms'!$A$6:$A$105,0))),"") | R18: =IFERROR(IF(A18="","",INDEX('Channel Terms'!$C$6:$C$105,MATCH(C18,'Channel Terms'!$A$6:$A$105,0))),"") | S18: =IFERROR(IF(A18="","",INDEX('Channel Terms'!$D$6:$D$105,MATCH(C18,'Channel Terms'!$A$6:$A$105,0))),"") | T18: =IFERROR(IF(A18="","",INDEX('Channel Terms'!$E$6:$E$105,MATCH(C18,'Channel Terms'!$A$6:$A$105,0))),"") | U18: =IFERROR(IF(A18="","",INDEX('Channel Terms'!$F$6:$F$105,MATCH(C18,'Channel Terms'!$A$6:$A$105,0))),"") | V18: =IFERROR(IF(A18="","",INDEX('Channel Terms'!$G$6:$G$105,MATCH(C18,'Channel Terms'!$A$6:$A$105,0))),"") | W18: =IFERROR(IF(A18="","",INDEX('Channel Terms'!$H$6:$H$105,MATCH(C18,'Channel Terms'!$A$6:$A$105,0))),"") | X18: =IFERROR(IF(A18="","",IF(I18="Cancelled",O18,L18+IF(S18="Yes",M18,0)+IF(T18="Yes",N18,0)+IF(I18="No-Show",O18,0))),"") | Y18: =IFERROR(IF(A18="","",IF(I18="Cancelled",X18*R18,X18*Q18)+V18),"") | Z18: =IFERROR(IF(A18="","",P18*U18),"") | AA18: =IFERROR(IF(A18="","",Y18+Z18),"") | AB18: =IFERROR(IF(A18="","",P18-AA18),"") | AC18: =IFERROR(IF(A18="","",G18+W18),"") | AF18: =IFERROR(IF(OR(A18="",AD18=""),"",AD18-AA18),"") | AG18: =IFERROR(IF(A18="","",AA18/P18),"") | AH18: =IFERROR(IF(A18="","",IF(AE18<>"","Settled",IF(AC18="","Missing Date",IF(AC18<Dashboard!$B$7,"Overdue","Not Yet Due")))),"") | AI18: =IFERROR(IF(A18="","",IF(OR(C18="",D18="",G18<=F18,K18>J18,AND(AD18<>"",AE18=""),AND(AD18="",AE18<>""),AND(AF18<>"",OR(AF18>Dashboard!$B$6,AF18<0-Dashboard!$B$6))),"Review","OK")),"")
