Workbook

Sheet Dashboard
A1: Hotel Cash Flow Forecast
A3: Property | B3: =IFERROR(VLOOKUP("Property Name",'Assumptions'!$A$4:$B$11,2,0),"")
A4: Forecast As-of Date | B4: =IFERROR('Assumptions'!$B$6,"")
A5: Scenario in Use | B5: =IFERROR('Assumptions'!$B$11,"")
A6: Forecast Horizon | B6: 13 Weeks
A9: Opening Cash Balance | C9: Forecast Cash Inflows | E9: Forecast Cash Outflows | G9: Projected Ending Cash
A10: ='Assumptions'!$B$8 | C10: =SUM('13-Week Forecast'!B21:N21) | E10: =SUM('13-Week Forecast'!B42:N42) | G10: ='13-Week Forecast'!N45
A12: Minimum Weekly Cash | C12: Weeks Below Minimum Cash | E12: Unconfirmed Inflows | G12: Unpaid Items Past Due
A13: =MIN('13-Week Forecast'!B45:N45) | C13: =COUNTIF('13-Week Forecast'!B48:N48,"Below Minimum") | E13: =SUMIFS('Cash Activity'!O5:O254,'Cash Activity'!C5:C254,"Inflow",'Cash Activity'!J5:J254,"Tentative") | G13: =COUNTIFS('Cash Activity'!A5:A254,"<>",'Cash Activity'!B5:B254,"<"&'Assumptions'!B6,'Cash Activity'!J5:J254,"<>Paid",'Cash Activity'!J5:J254,"<>Canceled")
A16: Cash Date | B16: Flow Direction | C16: Category | D16: Description | E16: Counterparty | F16: Scenario-Adjusted Amount | G16: Status | H16: Owner
A17: =IFERROR(IF('Cash Activity'!$A$5="","",'Cash Activity'!$B$5),"") | B17: =IFERROR(IF('Cash Activity'!$A$5="","",'Cash Activity'!$C$5),"") | C17: =IFERROR(IF('Cash Activity'!$A$5="","",'Cash Activity'!$D$5),"") | D17: =IFERROR(IF('Cash Activity'!$A$5="","",'Cash Activity'!$F$5),"") | E17: =IFERROR(IF('Cash Activity'!$A$5="","",'Cash Activity'!$G$5),"") | F17: =IFERROR(IF('Cash Activity'!$A$5="","",'Cash Activity'!$O$5),"") | G17: =IFERROR(IF('Cash Activity'!$A$5="","",'Cash Activity'!$J$5),"") | H17: =IFERROR(IF('Cash Activity'!$A$5="","",'Cash Activity'!$R$5),"")
A18: =IFERROR(IF('Cash Activity'!$A$6="","",'Cash Activity'!$B$6),"") | B18: =IFERROR(IF('Cash Activity'!$A$6="","",'Cash Activity'!$C$6),"") | C18: =IFERROR(IF('Cash Activity'!$A$6="","",'Cash Activity'!$D$6),"") | D18: =IFERROR(IF('Cash Activity'!$A$6="","",'Cash Activity'!$F$6),"") | E18: =IFERROR(IF('Cash Activity'!$A$6="","",'Cash Activity'!$G$6),"") | F18: =IFERROR(IF('Cash Activity'!$A$6="","",'Cash Activity'!$O$6),"") | G18: =IFERROR(IF('Cash Activity'!$A$6="","",'Cash Activity'!$J$6),"") | H18: =IFERROR(IF('Cash Activity'!$A$6="","",'Cash Activity'!$R$6),"")
A19: =IFERROR(IF('Cash Activity'!$A$7="","",'Cash Activity'!$B$7),"") | B19: =IFERROR(IF('Cash Activity'!$A$7="","",'Cash Activity'!$C$7),"") | C19: =IFERROR(IF('Cash Activity'!$A$7="","",'Cash Activity'!$D$7),"") | D19: =IFERROR(IF('Cash Activity'!$A$7="","",'Cash Activity'!$F$7),"") | E19: =IFERROR(IF('Cash Activity'!$A$7="","",'Cash Activity'!$G$7),"") | F19: =IFERROR(IF('Cash Activity'!$A$7="","",'Cash Activity'!$O$7),"") | G19: =IFERROR(IF('Cash Activity'!$A$7="","",'Cash Activity'!$J$7),"") | H19: =IFERROR(IF('Cash Activity'!$A$7="","",'Cash Activity'!$R$7),"")
A20: =IFERROR(IF('Cash Activity'!$A$8="","",'Cash Activity'!$B$8),"") | B20: =IFERROR(IF('Cash Activity'!$A$8="","",'Cash Activity'!$C$8),"") | C20: =IFERROR(IF('Cash Activity'!$A$8="","",'Cash Activity'!$D$8),"") | D20: =IFERROR(IF('Cash Activity'!$A$8="","",'Cash Activity'!$F$8),"") | E20: =IFERROR(IF('Cash Activity'!$A$8="","",'Cash Activity'!$G$8),"") | F20: =IFERROR(IF('Cash Activity'!$A$8="","",'Cash Activity'!$O$8),"") | G20: =IFERROR(IF('Cash Activity'!$A$8="","",'Cash Activity'!$J$8),"") | H20: =IFERROR(IF('Cash Activity'!$A$8="","",'Cash Activity'!$R$8),"")
A21: =IFERROR(IF('Cash Activity'!$A$9="","",'Cash Activity'!$B$9),"") | B21: =IFERROR(IF('Cash Activity'!$A$9="","",'Cash Activity'!$C$9),"") | C21: =IFERROR(IF('Cash Activity'!$A$9="","",'Cash Activity'!$D$9),"") | D21: =IFERROR(IF('Cash Activity'!$A$9="","",'Cash Activity'!$F$9),"") | E21: =IFERROR(IF('Cash Activity'!$A$9="","",'Cash Activity'!$G$9),"") | F21: =IFERROR(IF('Cash Activity'!$A$9="","",'Cash Activity'!$O$9),"") | G21: =IFERROR(IF('Cash Activity'!$A$9="","",'Cash Activity'!$J$9),"") | H21: =IFERROR(IF('Cash Activity'!$A$9="","",'Cash Activity'!$R$9),"")
A22: =IFERROR(IF('Cash Activity'!$A$10="","",'Cash Activity'!$B$10),"") | B22: =IFERROR(IF('Cash Activity'!$A$10="","",'Cash Activity'!$C$10),"") | C22: =IFERROR(IF('Cash Activity'!$A$10="","",'Cash Activity'!$D$10),"") | D22: =IFERROR(IF('Cash Activity'!$A$10="","",'Cash Activity'!$F$10),"") | E22: =IFERROR(IF('Cash Activity'!$A$10="","",'Cash Activity'!$G$10),"") | F22: =IFERROR(IF('Cash Activity'!$A$10="","",'Cash Activity'!$O$10),"") | G22: =IFERROR(IF('Cash Activity'!$A$10="","",'Cash Activity'!$J$10),"") | H22: =IFERROR(IF('Cash Activity'!$A$10="","",'Cash Activity'!$R$10),"")
A23: =IFERROR(IF('Cash Activity'!$A$11="","",'Cash Activity'!$B$11),"") | B23: =IFERROR(IF('Cash Activity'!$A$11="","",'Cash Activity'!$C$11),"") | C23: =IFERROR(IF('Cash Activity'!$A$11="","",'Cash Activity'!$D$11),"") | D23: =IFERROR(IF('Cash Activity'!$A$11="","",'Cash Activity'!$F$11),"") | E23: =IFERROR(IF('Cash Activity'!$A$11="","",'Cash Activity'!$G$11),"") | F23: =IFERROR(IF('Cash Activity'!$A$11="","",'Cash Activity'!$O$11),"") | G23: =IFERROR(IF('Cash Activity'!$A$11="","",'Cash Activity'!$J$11),"") | H23: =IFERROR(IF('Cash Activity'!$A$11="","",'Cash Activity'!$R$11),"")
A24: =IFERROR(IF('Cash Activity'!$A$12="","",'Cash Activity'!$B$12),"") | B24: =IFERROR(IF('Cash Activity'!$A$12="","",'Cash Activity'!$C$12),"") | C24: =IFERROR(IF('Cash Activity'!$A$12="","",'Cash Activity'!$D$12),"") | D24: =IFERROR(IF('Cash Activity'!$A$12="","",'Cash Activity'!$F$12),"") | E24: =IFERROR(IF('Cash Activity'!$A$12="","",'Cash Activity'!$G$12),"") | F24: =IFERROR(IF('Cash Activity'!$A$12="","",'Cash Activity'!$O$12),"") | G24: =IFERROR(IF('Cash Activity'!$A$12="","",'Cash Activity'!$J$12),"") | H24: =IFERROR(IF('Cash Activity'!$A$12="","",'Cash Activity'!$R$12),"")
A25: =IFERROR(IF('Cash Activity'!$A$13="","",'Cash Activity'!$B$13),"") | B25: =IFERROR(IF('Cash Activity'!$A$13="","",'Cash Activity'!$C$13),"") | C25: =IFERROR(IF('Cash Activity'!$A$13="","",'Cash Activity'!$D$13),"") | D25: =IFERROR(IF('Cash Activity'!$A$13="","",'Cash Activity'!$F$13),"") | E25: =IFERROR(IF('Cash Activity'!$A$13="","",'Cash Activity'!$G$13),"") | F25: =IFERROR(IF('Cash Activity'!$A$13="","",'Cash Activity'!$O$13),"") | G25: =IFERROR(IF('Cash Activity'!$A$13="","",'Cash Activity'!$J$13),"") | H25: =IFERROR(IF('Cash Activity'!$A$13="","",'Cash Activity'!$R$13),"")
A26: =IFERROR(IF('Cash Activity'!$A$14="","",'Cash Activity'!$B$14),"") | B26: =IFERROR(IF('Cash Activity'!$A$14="","",'Cash Activity'!$C$14),"") | C26: =IFERROR(IF('Cash Activity'!$A$14="","",'Cash Activity'!$D$14),"") | D26: =IFERROR(IF('Cash Activity'!$A$14="","",'Cash Activity'!$F$14),"") | E26: =IFERROR(IF('Cash Activity'!$A$14="","",'Cash Activity'!$G$14),"") | F26: =IFERROR(IF('Cash Activity'!$A$14="","",'Cash Activity'!$O$14),"") | G26: =IFERROR(IF('Cash Activity'!$A$14="","",'Cash Activity'!$J$14),"") | H26: =IFERROR(IF('Cash Activity'!$A$14="","",'Cash Activity'!$R$14),"")
A27: ="" | B27: ="" | C27: ="" | D27: ="" | E27: ="" | F27: ="" | G27: ="" | H27: =""
A28: ="" | B28: ="" | C28: ="" | D28: ="" | E28: ="" | F28: ="" | G28: ="" | H28: =""
A29: ="" | B29: ="" | C29: ="" | D29: ="" | E29: ="" | F29: ="" | G29: ="" | H29: =""
A30: ="" | B30: ="" | C30: ="" | D30: ="" | E30: ="" | F30: ="" | G30: ="" | H30: =""
A31: ="" | B31: ="" | C31: ="" | D31: ="" | E31: ="" | F31: ="" | G31: ="" | H31: =""
A32: ="" | B32: ="" | C32: ="" | D32: ="" | E32: ="" | F32: ="" | G32: ="" | H32: =""
A33: ="" | B33: ="" | C33: ="" | D33: ="" | E33: ="" | F33: ="" | G33: ="" | H33: =""
A34: ="" | B34: ="" | C34: ="" | D34: ="" | E34: ="" | F34: ="" | G34: ="" | H34: =""
A35: ="" | B35: ="" | C35: ="" | D35: ="" | E35: ="" | F35: ="" | G35: ="" | H35: =""
A36: ="" | B36: ="" | C36: ="" | D36: ="" | E36: ="" | F36: ="" | G36: ="" | H36: =""
A37: ="" | B37: ="" | C37: ="" | D37: ="" | E37: ="" | F37: ="" | G37: ="" | H37: =""
A38: ="" | B38: ="" | C38: ="" | D38: ="" | E38: ="" | F38: ="" | G38: ="" | H38: =""
... A101: ="" | B101: ="" | C101: ="" | D101: ="" | E101: ="" | F101: ="" | G101: ="" | H101: =""

Sheet 13-Week Forecast
A1: 13-Week Cash Flow Forecast
A3: Week Number | B3: 1 | C3: 2 | D3: 3 | E3: 4 | F3: 5 | G3: 6 | H3: 7 | I3: 8 | J3: 9 | K3: 10 | L3: 11 | M3: 12 | N3: 13
A4: Week Start | B4: =IFERROR('Assumptions'!$B$7,"") | C4: =B4+7 | D4: =C4+7 | E4: =D4+7 | F4: =E4+7 | G4: =F4+7 | H4: =G4+7 | I4: =H4+7 | J4: =I4+7 | ... N4: =M4+7
A5: Week End | B5: =B4+6 | C5: =C4+6 | D5: =D4+6 | E5: =E4+6 | F5: =F4+6 | G5: =G4+6 | H5: =H4+6 | I5: =I4+6 | ... N5: =N4+6
A7: Opening Cash
A8: Opening Cash Balance | B8: ='Assumptions'!$B$8 | C8: =B45 | D8: =C45 | E8: =D45 | F8: =E45 | G8: =F45 | H8: =G45 | I8: =H45 | J8: =I45 | ... N8: =M45
A9: Cash Inflows
A10: Room Credit Card Settlements | B10: =IFERROR(SUMIFS('Cash Activity'!$O$5:$O$254,'Cash Activity'!$B$5:$B$254,">="&B$4,'Cash Activity'!$B$5:$B$254,"<="&B$5,'Cash Activity'!$C$5:$C$254,"Inflow",'Cash Activity'!$D$5:$D$254,$A10,'Cash Activity'!$J$5:$J$254,"<>Canceled"),0) | C10: =IFERROR(SUMIFS('Cash Activity'!$O$5:$O$254,'Cash Activity'!$B$5:$B$254,">="&C$4,'Cash Activity'!$B$5:$B$254,"<="&C$5,'Cash Activity'!$C$5:$C$254,"Inflow",'Cash Activity'!$D$5:$D$254,$A10,'Cash Activity'!$J$5:$J$254,"<>Canceled"),0) | D10: =IFERROR(SUMIFS('Cash Activity'!$O$5:$O$254,'Cash Activity'!$B$5:$B$254,">="&D$4,'Cash Activity'!$B$5:$B$254,"<="&D$5,'Cash Activity'!$C$5:$C$254,"Inflow",'Cash Activity'!$D$5:$D$254,$A10,'Cash Activity'!$J$5:$J$254,"<>Canceled"),0) | E10: =IFERROR(SUMIFS('Cash Activity'!$O$5:$O$254,'Cash Activity'!$B$5:$B$254,">="&E$4,'Cash Activity'!$B$5:$B$254,"<="&E$5,'Cash Activity'!$C$5:$C$254,"Inflow",'Cash Activity'!$D$5:$D$254,$A10,'Cash Activity'!$J$5:$J$254,"<>Canceled"),0) | F10: =IFERROR(SUMIFS('Cash Activity'!$O$5:$O$254,'Cash Activity'!$B$5:$B$254,">="&F$4,'Cash Activity'!$B$5:$B$254,"<="&F$5,'Cash Activity'!$C$5:$C$254,"Inflow",'Cash Activity'!$D$5:$D$254,$A10,'Cash Activity'!$J$5:$J$254,"<>Canceled"),0) | G10: =IFERROR(SUMIFS('Cash Activity'!$O$5:$O$254,'Cash Activity'!$B$5:$B$254,">="&G$4,'Cash Activity'!$B$5:$B$254,"<="&G$5,'Cash Activity'!$C$5:$C$254,"Inflow",'Cash Activity'!$D$5:$D$254,$A10,'Cash Activity'!$J$5:$J$254,"<>Canceled"),0) | H10: =IFERROR(SUMIFS('Cash Activity'!$O$5:$O$254,'Cash Activity'!$B$5:$B$254,">="&H$4,'Cash Activity'!$B$5:$B$254,"<="&H$5,'Cash Activity'!$C$5:$C$254,"Inflow",'Cash Activity'!$D$5:$D$254,$A10,'Cash Activity'!$J$5:$J$254,"<>Canceled"),0) | I10: =IFERROR(SUMIFS('Cash Activity'!$O$5:$O$254,'Cash Activity'!$B$5:$B$254,">="&I$4,'Cash Activity'!$B$5:$B$254,"<="&I$5,'Cash Activity'!$C$5:$C$254,"Inflow",'Cash Activity'!$D$5:$D$254,$A10,'Cash Activity'!$J$5:$J$254,"<>Canceled"),0) | ... N10: =IFERROR(SUMIFS('Cash Activity'!$O$5:$O$254,'Cash Activity'!$B$5:$B$254,">="&N$4,'Cash Activity'!$B$5:$B$254,"<="&N$5,'Cash Activity'!$C$5:$C$254,"Inflow",'Cash Activity'!$D$5:$D$254,$A10,'Cash Activity'!$J$5:$J$254,"<>Canceled"),0)
A11: OTA Remittances | B11: =IFERROR(SUMIFS('Cash Activity'!$O$5:$O$254,'Cash Activity'!$B$5:$B$254,">="&B$4,'Cash Activity'!$B$5:$B$254,"<="&B$5,'Cash Activity'!$C$5:$C$254,"Inflow",'Cash Activity'!$D$5:$D$254,$A11,'Cash Activity'!$J$5:$J$254,"<>Canceled"),0) | C11: =IFERROR(SUMIFS('Cash Activity'!$O$5:$O$254,'Cash Activity'!$B$5:$B$254,">="&C$4,'Cash Activity'!$B$5:$B$254,"<="&C$5,'Cash Activity'!$C$5:$C$254,"Inflow",'Cash Activity'!$D$5:$D$254,$A11,'Cash Activity'!$J$5:$J$254,"<>Canceled"),0) | D11: =IFERROR(SUMIFS('Cash Activity'!$O$5:$O$254,'Cash Activity'!$B$5:$B$254,">="&D$4,'Cash Activity'!$B$5:$B$254,"<="&D$5,'Cash Activity'!$C$5:$C$254,"Inflow",'Cash Activity'!$D$5:$D$254,$A11,'Cash Activity'!$J$5:$J$254,"<>Canceled"),0) | E11: =IFERROR(SUMIFS('Cash Activity'!$O$5:$O$254,'Cash Activity'!$B$5:$B$254,">="&E$4,'Cash Activity'!$B$5:$B$254,"<="&E$5,'Cash Activity'!$C$5:$C$254,"Inflow",'Cash Activity'!$D$5:$D$254,$A11,'Cash Activity'!$J$5:$J$254,"<>Canceled"),0) | F11: =IFERROR(SUMIFS('Cash Activity'!$O$5:$O$254,'Cash Activity'!$B$5:$B$254,">="&F$4,'Cash Activity'!$B$5:$B$254,"<="&F$5,'Cash Activity'!$C$5:$C$254,"Inflow",'Cash Activity'!$D$5:$D$254,$A11,'Cash Activity'!$J$5:$J$254,"<>Canceled"),0) | G11: =IFERROR(SUMIFS('Cash Activity'!$O$5:$O$254,'Cash Activity'!$B$5:$B$254,">="&G$4,'Cash Activity'!$B$5:$B$254,"<="&G$5,'Cash Activity'!$C$5:$C$254,"Inflow",'Cash Activity'!$D$5:$D$254,$A11,'Cash Activity'!$J$5:$J$254,"<>Canceled"),0) | H11: =IFERROR(SUMIFS('Cash Activity'!$O$5:$O$254,'Cash Activity'!$B$5:$B$254,">="&H$4,'Cash Activity'!$B$5:$B$254,"<="&H$5,'Cash Activity'!$C$5:$C$254,"Inflow",'Cash Activity'!$D$5:$D$254,$A11,'Cash Activity'!$J$5:$J$254,"<>Canceled"),0) | I11: =IFERROR(SUMIFS('Cash Activity'!$O$5:$O$254,'Cash Activity'!$B$5:$B$254,">="&I$4,'Cash Activity'!$B$5:$B$254,"<="&I$5,'Cash Activity'!$C$5:$C$254,"Inflow",'Cash Activity'!$D$5:$D$254,$A11,'Cash Activity'!$J$5:$J$254,"<>Canceled"),0) | ... N11: =IFERROR(SUMIFS('Cash Activity'!$O$5:$O$254,'Cash Activity'!$B$5:$B$254,">="&N$4,'Cash Activity'!$B$5:$B$254,"<="&N$5,'Cash Activity'!$C$5:$C$254,"Inflow",'Cash Activity'!$D$5:$D$254,$A11,'Cash Activity'!$J$5:$J$254,"<>Canceled"),0)
A12: Group and Event Deposits | B12: =IFERROR(SUMIFS('Cash Activity'!$O$5:$O$254,'Cash Activity'!$B$5:$B$254,">="&B$4,'Cash Activity'!$B$5:$B$254,"<="&B$5,'Cash Activity'!$C$5:$C$254,"Inflow",'Cash Activity'!$D$5:$D$254,$A12,'Cash Activity'!$J$5:$J$254,"<>Canceled"),0) | C12: =IFERROR(SUMIFS('Cash Activity'!$O$5:$O$254,'Cash Activity'!$B$5:$B$254,">="&C$4,'Cash Activity'!$B$5:$B$254,"<="&C$5,'Cash Activity'!$C$5:$C$254,"Inflow",'Cash Activity'!$D$5:$D$254,$A12,'Cash Activity'!$J$5:$J$254,"<>Canceled"),0) | D12: =IFERROR(SUMIFS('Cash Activity'!$O$5:$O$254,'Cash Activity'!$B$5:$B$254,">="&D$4,'Cash Activity'!$B$5:$B$254,"<="&D$5,'Cash Activity'!$C$5:$C$254,"Inflow",'Cash Activity'!$D$5:$D$254,$A12,'Cash Activity'!$J$5:$J$254,"<>Canceled"),0) | E12: =IFERROR(SUMIFS('Cash Activity'!$O$5:$O$254,'Cash Activity'!$B$5:$B$254,">="&E$4,'Cash Activity'!$B$5:$B$254,"<="&E$5,'Cash Activity'!$C$5:$C$254,"Inflow",'Cash Activity'!$D$5:$D$254,$A12,'Cash Activity'!$J$5:$J$254,"<>Canceled"),0) | F12: =IFERROR(SUMIFS('Cash Activity'!$O$5:$O$254,'Cash Activity'!$B$5:$B$254,">="&F$4,'Cash Activity'!$B$5:$B$254,"<="&F$5,'Cash Activity'!$C$5:$C$254,"Inflow",'Cash Activity'!$D$5:$D$254,$A12,'Cash Activity'!$J$5:$J$254,"<>Canceled"),0) | G12: =IFERROR(SUMIFS('Cash Activity'!$O$5:$O$254,'Cash Activity'!$B$5:$B$254,">="&G$4,'Cash Activity'!$B$5:$B$254,"<="&G$5,'Cash Activity'!$C$5:$C$254,"Inflow",'Cash Activity'!$D$5:$D$254,$A12,'Cash Activity'!$J$5:$J$254,"<>Canceled"),0) | H12: =IFERROR(SUMIFS('Cash Activity'!$O$5:$O$254,'Cash Activity'!$B$5:$B$254,">="&H$4,'Cash Activity'!$B$5:$B$254,"<="&H$5,'Cash Activity'!$C$5:$C$254,"Inflow",'Cash Activity'!$D$5:$D$254,$A12,'Cash Activity'!$J$5:$J$254,"<>Canceled"),0) | I12: =IFERROR(SUMIFS('Cash Activity'!$O$5:$O$254,'Cash Activity'!$B$5:$B$254,">="&I$4,'Cash Activity'!$B$5:$B$254,"<="&I$5,'Cash Activity'!$C$5:$C$254,"Inflow",'Cash Activity'!$D$5:$D$254,$A12,'Cash Activity'!$J$5:$J$254,"<>Canceled"),0) | ... N12: =IFERROR(SUMIFS('Cash Activity'!$O$5:$O$254,'Cash Activity'!$B$5:$B$254,">="&N$4,'Cash Activity'!$B$5:$B$254,"<="&N$5,'Cash Activity'!$C$5:$C$254,"Inflow",'Cash Activity'!$D$5:$D$254,$A12,'Cash Activity'!$J$5:$J$254,"<>Canceled"),0)
A13: Group and Event Final Payments | B13: =IFERROR(SUMIFS('Cash Activity'!$O$5:$O$254,'Cash Activity'!$B$5:$B$254,">="&B$4,'Cash Activity'!$B$5:$B$254,"<="&B$5,'Cash Activity'!$C$5:$C$254,"Inflow",'Cash Activity'!$D$5:$D$254,$A13,'Cash Activity'!$J$5:$J$254,"<>Canceled"),0) | C13: =IFERROR(SUMIFS('Cash Activity'!$O$5:$O$254,'Cash Activity'!$B$5:$B$254,">="&C$4,'Cash Activity'!$B$5:$B$254,"<="&C$5,'Cash Activity'!$C$5:$C$254,"Inflow",'Cash Activity'!$D$5:$D$254,$A13,'Cash Activity'!$J$5:$J$254,"<>Canceled"),0) | D13: =IFERROR(SUMIFS('Cash Activity'!$O$5:$O$254,'Cash Activity'!$B$5:$B$254,">="&D$4,'Cash Activity'!$B$5:$B$254,"<="&D$5,'Cash Activity'!$C$5:$C$254,"Inflow",'Cash Activity'!$D$5:$D$254,$A13,'Cash Activity'!$J$5:$J$254,"<>Canceled"),0) | E13: =IFERROR(SUMIFS('Cash Activity'!$O$5:$O$254,'Cash Activity'!$B$5:$B$254,">="&E$4,'Cash Activity'!$B$5:$B$254,"<="&E$5,'Cash Activity'!$C$5:$C$254,"Inflow",'Cash Activity'!$D$5:$D$254,$A13,'Cash Activity'!$J$5:$J$254,"<>Canceled"),0) | F13: =IFERROR(SUMIFS('Cash Activity'!$O$5:$O$254,'Cash Activity'!$B$5:$B$254,">="&F$4,'Cash Activity'!$B$5:$B$254,"<="&F$5,'Cash Activity'!$C$5:$C$254,"Inflow",'Cash Activity'!$D$5:$D$254,$A13,'Cash Activity'!$J$5:$J$254,"<>Canceled"),0) | G13: =IFERROR(SUMIFS('Cash Activity'!$O$5:$O$254,'Cash Activity'!$B$5:$B$254,">="&G$4,'Cash Activity'!$B$5:$B$254,"<="&G$5,'Cash Activity'!$C$5:$C$254,"Inflow",'Cash Activity'!$D$5:$D$254,$A13,'Cash Activity'!$J$5:$J$254,"<>Canceled"),0) | H13: =IFERROR(SUMIFS('Cash Activity'!$O$5:$O$254,'Cash Activity'!$B$5:$B$254,">="&H$4,'Cash Activity'!$B$5:$B$254,"<="&H$5,'Cash Activity'!$C$5:$C$254,"Inflow",'Cash Activity'!$D$5:$D$254,$A13,'Cash Activity'!$J$5:$J$254,"<>Canceled"),0) | I13: =IFERROR(SUMIFS('Cash Activity'!$O$5:$O$254,'Cash Activity'!$B$5:$B$254,">="&I$4,'Cash Activity'!$B$5:$B$254,"<="&I$5,'Cash Activity'!$C$5:$C$254,"Inflow",'Cash Activity'!$D$5:$D$254,$A13,'Cash Activity'!$J$5:$J$254,"<>Canceled"),0) | ... N13: =IFERROR(SUMIFS('Cash Activity'!$O$5:$O$254,'Cash Activity'!$B$5:$B$254,">="&N$4,'Cash Activity'!$B$5:$B$254,"<="&N$5,'Cash Activity'!$C$5:$C$254,"Inflow",'Cash Activity'!$D$5:$D$254,$A13,'Cash Activity'!$J$5:$J$254,"<>Canceled"),0)
A14: Food and Beverage Receipts | B14: =IFERROR(SUMIFS('Cash Activity'!$O$5:$O$254,'Cash Activity'!$B$5:$B$254,">="&B$4,'Cash Activity'!$B$5:$B$254,"<="&B$5,'Cash Activity'!$C$5:$C$254,"Inflow",'Cash Activity'!$D$5:$D$254,$A14,'Cash Activity'!$J$5:$J$254,"<>Canceled"),0) | C14: =IFERROR(SUMIFS('Cash Activity'!$O$5:$O$254,'Cash Activity'!$B$5:$B$254,">="&C$4,'Cash Activity'!$B$5:$B$254,"<="&C$5,'Cash Activity'!$C$5:$C$254,"Inflow",'Cash Activity'!$D$5:$D$254,$A14,'Cash Activity'!$J$5:$J$254,"<>Canceled"),0) | D14: =IFERROR(SUMIFS('Cash Activity'!$O$5:$O$254,'Cash Activity'!$B$5:$B$254,">="&D$4,'Cash Activity'!$B$5:$B$254,"<="&D$5,'Cash Activity'!$C$5:$C$254,"Inflow",'Cash Activity'!$D$5:$D$254,$A14,'Cash Activity'!$J$5:$J$254,"<>Canceled"),0) | E14: =IFERROR(SUMIFS('Cash Activity'!$O$5:$O$254,'Cash Activity'!$B$5:$B$254,">="&E$4,'Cash Activity'!$B$5:$B$254,"<="&E$5,'Cash Activity'!$C$5:$C$254,"Inflow",'Cash Activity'!$D$5:$D$254,$A14,'Cash Activity'!$J$5:$J$254,"<>Canceled"),0) | F14: =IFERROR(SUMIFS('Cash Activity'!$O$5:$O$254,'Cash Activity'!$B$5:$B$254,">="&F$4,'Cash Activity'!$B$5:$B$254,"<="&F$5,'Cash Activity'!$C$5:$C$254,"Inflow",'Cash Activity'!$D$5:$D$254,$A14,'Cash Activity'!$J$5:$J$254,"<>Canceled"),0) | G14: =IFERROR(SUMIFS('Cash Activity'!$O$5:$O$254,'Cash Activity'!$B$5:$B$254,">="&G$4,'Cash Activity'!$B$5:$B$254,"<="&G$5,'Cash Activity'!$C$5:$C$254,"Inflow",'Cash Activity'!$D$5:$D$254,$A14,'Cash Activity'!$J$5:$J$254,"<>Canceled"),0) | H14: =IFERROR(SUMIFS('Cash Activity'!$O$5:$O$254,'Cash Activity'!$B$5:$B$254,">="&H$4,'Cash Activity'!$B$5:$B$254,"<="&H$5,'Cash Activity'!$C$5:$C$254,"Inflow",'Cash Activity'!$D$5:$D$254,$A14,'Cash Activity'!$J$5:$J$254,"<>Canceled"),0) | I14: =IFERROR(SUMIFS('Cash Activity'!$O$5:$O$254,'Cash Activity'!$B$5:$B$254,">="&I$4,'Cash Activity'!$B$5:$B$254,"<="&I$5,'Cash Activity'!$C$5:$C$254,"Inflow",'Cash Activity'!$D$5:$D$254,$A14,'Cash Activity'!$J$5:$J$254,"<>Canceled"),0) | ... N14: =IFERROR(SUMIFS('Cash Activity'!$O$5:$O$254,'Cash Activity'!$B$5:$B$254,">="&N$4,'Cash Activity'!$B$5:$B$254,"<="&N$5,'Cash Activity'!$C$5:$C$254,"Inflow",'Cash Activity'!$D$5:$D$254,$A14,'Cash Activity'!$J$5:$J$254,"<>Canceled"),0)
A15: Parking, Resort, and Other Guest Fees | B15: =IFERROR(SUMIFS('Cash Activity'!$O$5:$O$254,'Cash Activity'!$B$5:$B$254,">="&B$4,'Cash Activity'!$B$5:$B$254,"<="&B$5,'Cash Activity'!$C$5:$C$254,"Inflow",'Cash Activity'!$D$5:$D$254,$A15,'Cash Activity'!$J$5:$J$254,"<>Canceled"),0) | C15: =IFERROR(SUMIFS('Cash Activity'!$O$5:$O$254,'Cash Activity'!$B$5:$B$254,">="&C$4,'Cash Activity'!$B$5:$B$254,"<="&C$5,'Cash Activity'!$C$5:$C$254,"Inflow",'Cash Activity'!$D$5:$D$254,$A15,'Cash Activity'!$J$5:$J$254,"<>Canceled"),0) | D15: =IFERROR(SUMIFS('Cash Activity'!$O$5:$O$254,'Cash Activity'!$B$5:$B$254,">="&D$4,'Cash Activity'!$B$5:$B$254,"<="&D$5,'Cash Activity'!$C$5:$C$254,"Inflow",'Cash Activity'!$D$5:$D$254,$A15,'Cash Activity'!$J$5:$J$254,"<>Canceled"),0) | E15: =IFERROR(SUMIFS('Cash Activity'!$O$5:$O$254,'Cash Activity'!$B$5:$B$254,">="&E$4,'Cash Activity'!$B$5:$B$254,"<="&E$5,'Cash Activity'!$C$5:$C$254,"Inflow",'Cash Activity'!$D$5:$D$254,$A15,'Cash Activity'!$J$5:$J$254,"<>Canceled"),0) | F15: =IFERROR(SUMIFS('Cash Activity'!$O$5:$O$254,'Cash Activity'!$B$5:$B$254,">="&F$4,'Cash Activity'!$B$5:$B$254,"<="&F$5,'Cash Activity'!$C$5:$C$254,"Inflow",'Cash Activity'!$D$5:$D$254,$A15,'Cash Activity'!$J$5:$J$254,"<>Canceled"),0) | G15: =IFERROR(SUMIFS('Cash Activity'!$O$5:$O$254,'Cash Activity'!$B$5:$B$254,">="&G$4,'Cash Activity'!$B$5:$B$254,"<="&G$5,'Cash Activity'!$C$5:$C$254,"Inflow",'Cash Activity'!$D$5:$D$254,$A15,'Cash Activity'!$J$5:$J$254,"<>Canceled"),0) | H15: =IFERROR(SUMIFS('Cash Activity'!$O$5:$O$254,'Cash Activity'!$B$5:$B$254,">="&H$4,'Cash Activity'!$B$5:$B$254,"<="&H$5,'Cash Activity'!$C$5:$C$254,"Inflow",'Cash Activity'!$D$5:$D$254,$A15,'Cash Activity'!$J$5:$J$254,"<>Canceled"),0) | I15: =IFERROR(SUMIFS('Cash Activity'!$O$5:$O$254,'Cash Activity'!$B$5:$B$254,">="&I$4,'Cash Activity'!$B$5:$B$254,"<="&I$5,'Cash Activity'!$C$5:$C$254,"Inflow",'Cash Activity'!$D$5:$D$254,$A15,'Cash Activity'!$J$5:$J$254,"<>Canceled"),0) | ... N15: =IFERROR(SUMIFS('Cash Activity'!$O$5:$O$254,'Cash Activity'!$B$5:$B$254,">="&N$4,'Cash Activity'!$B$5:$B$254,"<="&N$5,'Cash Activity'!$C$5:$C$254,"Inflow",'Cash Activity'!$D$5:$D$254,$A15,'Cash Activity'!$J$5:$J$254,"<>Canceled"),0)
A16: Gift Card and Advance Purchase Receipts | B16: =IFERROR(SUMIFS('Cash Activity'!$O$5:$O$254,'Cash Activity'!$B$5:$B$254,">="&B$4,'Cash Activity'!$B$5:$B$254,"<="&B$5,'Cash Activity'!$C$5:$C$254,"Inflow",'Cash Activity'!$D$5:$D$254,$A16,'Cash Activity'!$J$5:$J$254,"<>Canceled"),0) | C16: =IFERROR(SUMIFS('Cash Activity'!$O$5:$O$254,'Cash Activity'!$B$5:$B$254,">="&C$4,'Cash Activity'!$B$5:$B$254,"<="&C$5,'Cash Activity'!$C$5:$C$254,"Inflow",'Cash Activity'!$D$5:$D$254,$A16,'Cash Activity'!$J$5:$J$254,"<>Canceled"),0) | D16: =IFERROR(SUMIFS('Cash Activity'!$O$5:$O$254,'Cash Activity'!$B$5:$B$254,">="&D$4,'Cash Activity'!$B$5:$B$254,"<="&D$5,'Cash Activity'!$C$5:$C$254,"Inflow",'Cash Activity'!$D$5:$D$254,$A16,'Cash Activity'!$J$5:$J$254,"<>Canceled"),0) | E16: =IFERROR(SUMIFS('Cash Activity'!$O$5:$O$254,'Cash Activity'!$B$5:$B$254,">="&E$4,'Cash Activity'!$B$5:$B$254,"<="&E$5,'Cash Activity'!$C$5:$C$254,"Inflow",'Cash Activity'!$D$5:$D$254,$A16,'Cash Activity'!$J$5:$J$254,"<>Canceled"),0) | F16: =IFERROR(SUMIFS('Cash Activity'!$O$5:$O$254,'Cash Activity'!$B$5:$B$254,">="&F$4,'Cash Activity'!$B$5:$B$254,"<="&F$5,'Cash Activity'!$C$5:$C$254,"Inflow",'Cash Activity'!$D$5:$D$254,$A16,'Cash Activity'!$J$5:$J$254,"<>Canceled"),0) | G16: =IFERROR(SUMIFS('Cash Activity'!$O$5:$O$254,'Cash Activity'!$B$5:$B$254,">="&G$4,'Cash Activity'!$B$5:$B$254,"<="&G$5,'Cash Activity'!$C$5:$C$254,"Inflow",'Cash Activity'!$D$5:$D$254,$A16,'Cash Activity'!$J$5:$J$254,"<>Canceled"),0) | H16: =IFERROR(SUMIFS('Cash Activity'!$O$5:$O$254,'Cash Activity'!$B$5:$B$254,">="&H$4,'Cash Activity'!$B$5:$B$254,"<="&H$5,'Cash Activity'!$C$5:$C$254,"Inflow",'Cash Activity'!$D$5:$D$254,$A16,'Cash Activity'!$J$5:$J$254,"<>Canceled"),0) | I16: =IFERROR(SUMIFS('Cash Activity'!$O$5:$O$254,'Cash Activity'!$B$5:$B$254,">="&I$4,'Cash Activity'!$B$5:$B$254,"<="&I$5,'Cash Activity'!$C$5:$C$254,"Inflow",'Cash Activity'!$D$5:$D$254,$A16,'Cash Activity'!$J$5:$J$254,"<>Canceled"),0) | ... N16: =IFERROR(SUMIFS('Cash Activity'!$O$5:$O$254,'Cash Activity'!$B$5:$B$254,">="&N$4,'Cash Activity'!$B$5:$B$254,"<="&N$5,'Cash Activity'!$C$5:$C$254,"Inflow",'Cash Activity'!$D$5:$D$254,$A16,'Cash Activity'!$J$5:$J$254,"<>Canceled"),0)
A17: Other Operating Inflows | B17: =IFERROR(SUMIFS('Cash Activity'!$O$5:$O$254,'Cash Activity'!$B$5:$B$254,">="&B$4,'Cash Activity'!$B$5:$B$254,"<="&B$5,'Cash Activity'!$C$5:$C$254,"Inflow",'Cash Activity'!$D$5:$D$254,$A17,'Cash Activity'!$J$5:$J$254,"<>Canceled"),0) | C17: =IFERROR(SUMIFS('Cash Activity'!$O$5:$O$254,'Cash Activity'!$B$5:$B$254,">="&C$4,'Cash Activity'!$B$5:$B$254,"<="&C$5,'Cash Activity'!$C$5:$C$254,"Inflow",'Cash Activity'!$D$5:$D$254,$A17,'Cash Activity'!$J$5:$J$254,"<>Canceled"),0) | D17: =IFERROR(SUMIFS('Cash Activity'!$O$5:$O$254,'Cash Activity'!$B$5:$B$254,">="&D$4,'Cash Activity'!$B$5:$B$254,"<="&D$5,'Cash Activity'!$C$5:$C$254,"Inflow",'Cash Activity'!$D$5:$D$254,$A17,'Cash Activity'!$J$5:$J$254,"<>Canceled"),0) | E17: =IFERROR(SUMIFS('Cash Activity'!$O$5:$O$254,'Cash Activity'!$B$5:$B$254,">="&E$4,'Cash Activity'!$B$5:$B$254,"<="&E$5,'Cash Activity'!$C$5:$C$254,"Inflow",'Cash Activity'!$D$5:$D$254,$A17,'Cash Activity'!$J$5:$J$254,"<>Canceled"),0) | F17: =IFERROR(SUMIFS('Cash Activity'!$O$5:$O$254,'Cash Activity'!$B$5:$B$254,">="&F$4,'Cash Activity'!$B$5:$B$254,"<="&F$5,'Cash Activity'!$C$5:$C$254,"Inflow",'Cash Activity'!$D$5:$D$254,$A17,'Cash Activity'!$J$5:$J$254,"<>Canceled"),0) | G17: =IFERROR(SUMIFS('Cash Activity'!$O$5:$O$254,'Cash Activity'!$B$5:$B$254,">="&G$4,'Cash Activity'!$B$5:$B$254,"<="&G$5,'Cash Activity'!$C$5:$C$254,"Inflow",'Cash Activity'!$D$5:$D$254,$A17,'Cash Activity'!$J$5:$J$254,"<>Canceled"),0) | H17: =IFERROR(SUMIFS('Cash Activity'!$O$5:$O$254,'Cash Activity'!$B$5:$B$254,">="&H$4,'Cash Activity'!$B$5:$B$254,"<="&H$5,'Cash Activity'!$C$5:$C$254,"Inflow",'Cash Activity'!$D$5:$D$254,$A17,'Cash Activity'!$J$5:$J$254,"<>Canceled"),0) | I17: =IFERROR(SUMIFS('Cash Activity'!$O$5:$O$254,'Cash Activity'!$B$5:$B$254,">="&I$4,'Cash Activity'!$B$5:$B$254,"<="&I$5,'Cash Activity'!$C$5:$C$254,"Inflow",'Cash Activity'!$D$5:$D$254,$A17,'Cash Activity'!$J$5:$J$254,"<>Canceled"),0) | ... N17: =IFERROR(SUMIFS('Cash Activity'!$O$5:$O$254,'Cash Activity'!$B$5:$B$254,">="&N$4,'Cash Activity'!$B$5:$B$254,"<="&N$5,'Cash Activity'!$C$5:$C$254,"Inflow",'Cash Activity'!$D$5:$D$254,$A17,'Cash Activity'!$J$5:$J$254,"<>Canceled"),0)
A18: Owner Contributions | B18: =IFERROR(SUMIFS('Cash Activity'!$O$5:$O$254,'Cash Activity'!$B$5:$B$254,">="&B$4,'Cash Activity'!$B$5:$B$254,"<="&B$5,'Cash Activity'!$C$5:$C$254,"Inflow",'Cash Activity'!$D$5:$D$254,$A18,'Cash Activity'!$J$5:$J$254,"<>Canceled"),0) | C18: =IFERROR(SUMIFS('Cash Activity'!$O$5:$O$254,'Cash Activity'!$B$5:$B$254,">="&C$4,'Cash Activity'!$B$5:$B$254,"<="&C$5,'Cash Activity'!$C$5:$C$254,"Inflow",'Cash Activity'!$D$5:$D$254,$A18,'Cash Activity'!$J$5:$J$254,"<>Canceled"),0) | D18: =IFERROR(SUMIFS('Cash Activity'!$O$5:$O$254,'Cash Activity'!$B$5:$B$254,">="&D$4,'Cash Activity'!$B$5:$B$254,"<="&D$5,'Cash Activity'!$C$5:$C$254,"Inflow",'Cash Activity'!$D$5:$D$254,$A18,'Cash Activity'!$J$5:$J$254,"<>Canceled"),0) | E18: =IFERROR(SUMIFS('Cash Activity'!$O$5:$O$254,'Cash Activity'!$B$5:$B$254,">="&E$4,'Cash Activity'!$B$5:$B$254,"<="&E$5,'Cash Activity'!$C$5:$C$254,"Inflow",'Cash Activity'!$D$5:$D$254,$A18,'Cash Activity'!$J$5:$J$254,"<>Canceled"),0) | F18: =IFERROR(SUMIFS('Cash Activity'!$O$5:$O$254,'Cash Activity'!$B$5:$B$254,">="&F$4,'Cash Activity'!$B$5:$B$254,"<="&F$5,'Cash Activity'!$C$5:$C$254,"Inflow",'Cash Activity'!$D$5:$D$254,$A18,'Cash Activity'!$J$5:$J$254,"<>Canceled"),0) | G18: =IFERROR(SUMIFS('Cash Activity'!$O$5:$O$254,'Cash Activity'!$B$5:$B$254,">="&G$4,'Cash Activity'!$B$5:$B$254,"<="&G$5,'Cash Activity'!$C$5:$C$254,"Inflow",'Cash Activity'!$D$5:$D$254,$A18,'Cash Activity'!$J$5:$J$254,"<>Canceled"),0) | H18: =IFERROR(SUMIFS('Cash Activity'!$O$5:$O$254,'Cash Activity'!$B$5:$B$254,">="&H$4,'Cash Activity'!$B$5:$B$254,"<="&H$5,'Cash Activity'!$C$5:$C$254,"Inflow",'Cash Activity'!$D$5:$D$254,$A18,'Cash Activity'!$J$5:$J$254,"<>Canceled"),0) | I18: =IFERROR(SUMIFS('Cash Activity'!$O$5:$O$254,'Cash Activity'!$B$5:$B$254,">="&I$4,'Cash Activity'!$B$5:$B$254,"<="&I$5,'Cash Activity'!$C$5:$C$254,"Inflow",'Cash Activity'!$D$5:$D$254,$A18,'Cash Activity'!$J$5:$J$254,"<>Canceled"),0) | ... N18: =IFERROR(SUMIFS('Cash Activity'!$O$5:$O$254,'Cash Activity'!$B$5:$B$254,">="&N$4,'Cash Activity'!$B$5:$B$254,"<="&N$5,'Cash Activity'!$C$5:$C$254,"Inflow",'Cash Activity'!$D$5:$D$254,$A18,'Cash Activity'!$J$5:$J$254,"<>Canceled"),0)
A19: Loan Proceeds | B19: =IFERROR(SUMIFS('Cash Activity'!$O$5:$O$254,'Cash Activity'!$B$5:$B$254,">="&B$4,'Cash Activity'!$B$5:$B$254,"<="&B$5,'Cash Activity'!$C$5:$C$254,"Inflow",'Cash Activity'!$D$5:$D$254,$A19,'Cash Activity'!$J$5:$J$254,"<>Canceled"),0) | C19: =IFERROR(SUMIFS('Cash Activity'!$O$5:$O$254,'Cash Activity'!$B$5:$B$254,">="&C$4,'Cash Activity'!$B$5:$B$254,"<="&C$5,'Cash Activity'!$C$5:$C$254,"Inflow",'Cash Activity'!$D$5:$D$254,$A19,'Cash Activity'!$J$5:$J$254,"<>Canceled"),0) | D19: =IFERROR(SUMIFS('Cash Activity'!$O$5:$O$254,'Cash Activity'!$B$5:$B$254,">="&D$4,'Cash Activity'!$B$5:$B$254,"<="&D$5,'Cash Activity'!$C$5:$C$254,"Inflow",'Cash Activity'!$D$5:$D$254,$A19,'Cash Activity'!$J$5:$J$254,"<>Canceled"),0) | E19: =IFERROR(SUMIFS('Cash Activity'!$O$5:$O$254,'Cash Activity'!$B$5:$B$254,">="&E$4,'Cash Activity'!$B$5:$B$254,"<="&E$5,'Cash Activity'!$C$5:$C$254,"Inflow",'Cash Activity'!$D$5:$D$254,$A19,'Cash Activity'!$J$5:$J$254,"<>Canceled"),0) | F19: =IFERROR(SUMIFS('Cash Activity'!$O$5:$O$254,'Cash Activity'!$B$5:$B$254,">="&F$4,'Cash Activity'!$B$5:$B$254,"<="&F$5,'Cash Activity'!$C$5:$C$254,"Inflow",'Cash Activity'!$D$5:$D$254,$A19,'Cash Activity'!$J$5:$J$254,"<>Canceled"),0) | G19: =IFERROR(SUMIFS('Cash Activity'!$O$5:$O$254,'Cash Activity'!$B$5:$B$254,">="&G$4,'Cash Activity'!$B$5:$B$254,"<="&G$5,'Cash Activity'!$C$5:$C$254,"Inflow",'Cash Activity'!$D$5:$D$254,$A19,'Cash Activity'!$J$5:$J$254,"<>Canceled"),0) | H19: =IFERROR(SUMIFS('Cash Activity'!$O$5:$O$254,'Cash Activity'!$B$5:$B$254,">="&H$4,'Cash Activity'!$B$5:$B$254,"<="&H$5,'Cash Activity'!$C$5:$C$254,"Inflow",'Cash Activity'!$D$5:$D$254,$A19,'Cash Activity'!$J$5:$J$254,"<>Canceled"),0) | I19: =IFERROR(SUMIFS('Cash Activity'!$O$5:$O$254,'Cash Activity'!$B$5:$B$254,">="&I$4,'Cash Activity'!$B$5:$B$254,"<="&I$5,'Cash Activity'!$C$5:$C$254,"Inflow",'Cash Activity'!$D$5:$D$254,$A19,'Cash Activity'!$J$5:$J$254,"<>Canceled"),0) | ... N19: =IFERROR(SUMIFS('Cash Activity'!$O$5:$O$254,'Cash Activity'!$B$5:$B$254,">="&N$4,'Cash Activity'!$B$5:$B$254,"<="&N$5,'Cash Activity'!$C$5:$C$254,"Inflow",'Cash Activity'!$D$5:$D$254,$A19,'Cash Activity'!$J$5:$J$254,"<>Canceled"),0)
A20: Other Financing Inflows | B20: =IFERROR(SUMIFS('Cash Activity'!$O$5:$O$254,'Cash Activity'!$B$5:$B$254,">="&B$4,'Cash Activity'!$B$5:$B$254,"<="&B$5,'Cash Activity'!$C$5:$C$254,"Inflow",'Cash Activity'!$D$5:$D$254,$A20,'Cash Activity'!$J$5:$J$254,"<>Canceled"),0) | C20: =IFERROR(SUMIFS('Cash Activity'!$O$5:$O$254,'Cash Activity'!$B$5:$B$254,">="&C$4,'Cash Activity'!$B$5:$B$254,"<="&C$5,'Cash Activity'!$C$5:$C$254,"Inflow",'Cash Activity'!$D$5:$D$254,$A20,'Cash Activity'!$J$5:$J$254,"<>Canceled"),0) | D20: =IFERROR(SUMIFS('Cash Activity'!$O$5:$O$254,'Cash Activity'!$B$5:$B$254,">="&D$4,'Cash Activity'!$B$5:$B$254,"<="&D$5,'Cash Activity'!$C$5:$C$254,"Inflow",'Cash Activity'!$D$5:$D$254,$A20,'Cash Activity'!$J$5:$J$254,"<>Canceled"),0) | E20: =IFERROR(SUMIFS('Cash Activity'!$O$5:$O$254,'Cash Activity'!$B$5:$B$254,">="&E$4,'Cash Activity'!$B$5:$B$254,"<="&E$5,'Cash Activity'!$C$5:$C$254,"Inflow",'Cash Activity'!$D$5:$D$254,$A20,'Cash Activity'!$J$5:$J$254,"<>Canceled"),0) | F20: =IFERROR(SUMIFS('Cash Activity'!$O$5:$O$254,'Cash Activity'!$B$5:$B$254,">="&F$4,'Cash Activity'!$B$5:$B$254,"<="&F$5,'Cash Activity'!$C$5:$C$254,"Inflow",'Cash Activity'!$D$5:$D$254,$A20,'Cash Activity'!$J$5:$J$254,"<>Canceled"),0) | G20: =IFERROR(SUMIFS('Cash Activity'!$O$5:$O$254,'Cash Activity'!$B$5:$B$254,">="&G$4,'Cash Activity'!$B$5:$B$254,"<="&G$5,'Cash Activity'!$C$5:$C$254,"Inflow",'Cash Activity'!$D$5:$D$254,$A20,'Cash Activity'!$J$5:$J$254,"<>Canceled"),0) | H20: =IFERROR(SUMIFS('Cash Activity'!$O$5:$O$254,'Cash Activity'!$B$5:$B$254,">="&H$4,'Cash Activity'!$B$5:$B$254,"<="&H$5,'Cash Activity'!$C$5:$C$254,"Inflow",'Cash Activity'!$D$5:$D$254,$A20,'Cash Activity'!$J$5:$J$254,"<>Canceled"),0) | I20: =IFERROR(SUMIFS('Cash Activity'!$O$5:$O$254,'Cash Activity'!$B$5:$B$254,">="&I$4,'Cash Activity'!$B$5:$B$254,"<="&I$5,'Cash Activity'!$C$5:$C$254,"Inflow",'Cash Activity'!$D$5:$D$254,$A20,'Cash Activity'!$J$5:$J$254,"<>Canceled"),0) | ... N20: =IFERROR(SUMIFS('Cash Activity'!$O$5:$O$254,'Cash Activity'!$B$5:$B$254,">="&N$4,'Cash Activity'!$B$5:$B$254,"<="&N$5,'Cash Activity'!$C$5:$C$254,"Inflow",'Cash Activity'!$D$5:$D$254,$A20,'Cash Activity'!$J$5:$J$254,"<>Canceled"),0)
A21: Total Cash Inflows | B21: =SUM(B10:B20) | C21: =SUM(C10:C20) | D21: =SUM(D10:D20) | E21: =SUM(E10:E20) | F21: =SUM(F10:F20) | G21: =SUM(G10:G20) | H21: =SUM(H10:H20) | I21: =SUM(I10:I20) | ... N21: =SUM(N10:N20)
A23: Cash Outflows
A24: Payroll and Wages | B24: =IFERROR(SUMIFS('Cash Activity'!$O$5:$O$254,'Cash Activity'!$B$5:$B$254,">="&B$4,'Cash Activity'!$B$5:$B$254,"<="&B$5,'Cash Activity'!$C$5:$C$254,"Outflow",'Cash Activity'!$D$5:$D$254,$A24,'Cash Activity'!$J$5:$J$254,"<>Canceled"),0) | C24: =IFERROR(SUMIFS('Cash Activity'!$O$5:$O$254,'Cash Activity'!$B$5:$B$254,">="&C$4,'Cash Activity'!$B$5:$B$254,"<="&C$5,'Cash Activity'!$C$5:$C$254,"Outflow",'Cash Activity'!$D$5:$D$254,$A24,'Cash Activity'!$J$5:$J$254,"<>Canceled"),0) | D24: =IFERROR(SUMIFS('Cash Activity'!$O$5:$O$254,'Cash Activity'!$B$5:$B$254,">="&D$4,'Cash Activity'!$B$5:$B$254,"<="&D$5,'Cash Activity'!$C$5:$C$254,"Outflow",'Cash Activity'!$D$5:$D$254,$A24,'Cash Activity'!$J$5:$J$254,"<>Canceled"),0) | E24: =IFERROR(SUMIFS('Cash Activity'!$O$5:$O$254,'Cash Activity'!$B$5:$B$254,">="&E$4,'Cash Activity'!$B$5:$B$254,"<="&E$5,'Cash Activity'!$C$5:$C$254,"Outflow",'Cash Activity'!$D$5:$D$254,$A24,'Cash Activity'!$J$5:$J$254,"<>Canceled"),0) | F24: =IFERROR(SUMIFS('Cash Activity'!$O$5:$O$254,'Cash Activity'!$B$5:$B$254,">="&F$4,'Cash Activity'!$B$5:$B$254,"<="&F$5,'Cash Activity'!$C$5:$C$254,"Outflow",'Cash Activity'!$D$5:$D$254,$A24,'Cash Activity'!$J$5:$J$254,"<>Canceled"),0) | G24: =IFERROR(SUMIFS('Cash Activity'!$O$5:$O$254,'Cash Activity'!$B$5:$B$254,">="&G$4,'Cash Activity'!$B$5:$B$254,"<="&G$5,'Cash Activity'!$C$5:$C$254,"Outflow",'Cash Activity'!$D$5:$D$254,$A24,'Cash Activity'!$J$5:$J$254,"<>Canceled"),0) | H24: =IFERROR(SUMIFS('Cash Activity'!$O$5:$O$254,'Cash Activity'!$B$5:$B$254,">="&H$4,'Cash Activity'!$B$5:$B$254,"<="&H$5,'Cash Activity'!$C$5:$C$254,"Outflow",'Cash Activity'!$D$5:$D$254,$A24,'Cash Activity'!$J$5:$J$254,"<>Canceled"),0) | I24: =IFERROR(SUMIFS('Cash Activity'!$O$5:$O$254,'Cash Activity'!$B$5:$B$254,">="&I$4,'Cash Activity'!$B$5:$B$254,"<="&I$5,'Cash Activity'!$C$5:$C$254,"Outflow",'Cash Activity'!$D$5:$D$254,$A24,'Cash Activity'!$J$5:$J$254,"<>Canceled"),0) | ... N24: =IFERROR(SUMIFS('Cash Activity'!$O$5:$O$254,'Cash Activity'!$B$5:$B$254,">="&N$4,'Cash Activity'!$B$5:$B$254,"<="&N$5,'Cash Activity'!$C$5:$C$254,"Outflow",'Cash Activity'!$D$5:$D$254,$A24,'Cash Activity'!$J$5:$J$254,"<>Canceled"),0)
A25: Payroll Taxes and Benefits | B25: =IFERROR(SUMIFS('Cash Activity'!$O$5:$O$254,'Cash Activity'!$B$5:$B$254,">="&B$4,'Cash Activity'!$B$5:$B$254,"<="&B$5,'Cash Activity'!$C$5:$C$254,"Outflow",'Cash Activity'!$D$5:$D$254,$A25,'Cash Activity'!$J$5:$J$254,"<>Canceled"),0) | C25: =IFERROR(SUMIFS('Cash Activity'!$O$5:$O$254,'Cash Activity'!$B$5:$B$254,">="&C$4,'Cash Activity'!$B$5:$B$254,"<="&C$5,'Cash Activity'!$C$5:$C$254,"Outflow",'Cash Activity'!$D$5:$D$254,$A25,'Cash Activity'!$J$5:$J$254,"<>Canceled"),0) | D25: =IFERROR(SUMIFS('Cash Activity'!$O$5:$O$254,'Cash Activity'!$B$5:$B$254,">="&D$4,'Cash Activity'!$B$5:$B$254,"<="&D$5,'Cash Activity'!$C$5:$C$254,"Outflow",'Cash Activity'!$D$5:$D$254,$A25,'Cash Activity'!$J$5:$J$254,"<>Canceled"),0) | E25: =IFERROR(SUMIFS('Cash Activity'!$O$5:$O$254,'Cash Activity'!$B$5:$B$254,">="&E$4,'Cash Activity'!$B$5:$B$254,"<="&E$5,'Cash Activity'!$C$5:$C$254,"Outflow",'Cash Activity'!$D$5:$D$254,$A25,'Cash Activity'!$J$5:$J$254,"<>Canceled"),0) | F25: =IFERROR(SUMIFS('Cash Activity'!$O$5:$O$254,'Cash Activity'!$B$5:$B$254,">="&F$4,'Cash Activity'!$B$5:$B$254,"<="&F$5,'Cash Activity'!$C$5:$C$254,"Outflow",'Cash Activity'!$D$5:$D$254,$A25,'Cash Activity'!$J$5:$J$254,"<>Canceled"),0) | G25: =IFERROR(SUMIFS('Cash Activity'!$O$5:$O$254,'Cash Activity'!$B$5:$B$254,">="&G$4,'Cash Activity'!$B$5:$B$254,"<="&G$5,'Cash Activity'!$C$5:$C$254,"Outflow",'Cash Activity'!$D$5:$D$254,$A25,'Cash Activity'!$J$5:$J$254,"<>Canceled"),0) | H25: =IFERROR(SUMIFS('Cash Activity'!$O$5:$O$254,'Cash Activity'!$B$5:$B$254,">="&H$4,'Cash Activity'!$B$5:$B$254,"<="&H$5,'Cash Activity'!$C$5:$C$254,"Outflow",'Cash Activity'!$D$5:$D$254,$A25,'Cash Activity'!$J$5:$J$254,"<>Canceled"),0) | I25: =IFERROR(SUMIFS('Cash Activity'!$O$5:$O$254,'Cash Activity'!$B$5:$B$254,">="&I$4,'Cash Activity'!$B$5:$B$254,"<="&I$5,'Cash Activity'!$C$5:$C$254,"Outflow",'Cash Activity'!$D$5:$D$254,$A25,'Cash Activity'!$J$5:$J$254,"<>Canceled"),0) | ... N25: =IFERROR(SUMIFS('Cash Activity'!$O$5:$O$254,'Cash Activity'!$B$5:$B$254,">="&N$4,'Cash Activity'!$B$5:$B$254,"<="&N$5,'Cash Activity'!$C$5:$C$254,"Outflow",'Cash Activity'!$D$5:$D$254,$A25,'Cash Activity'!$J$5:$J$254,"<>Canceled"),0)
A26: Food and Beverage Purchases | B26: =IFERROR(SUMIFS('Cash Activity'!$O$5:$O$254,'Cash Activity'!$B$5:$B$254,">="&B$4,'Cash Activity'!$B$5:$B$254,"<="&B$5,'Cash Activity'!$C$5:$C$254,"Outflow",'Cash Activity'!$D$5:$D$254,$A26,'Cash Activity'!$J$5:$J$254,"<>Canceled"),0) | C26: =IFERROR(SUMIFS('Cash Activity'!$O$5:$O$254,'Cash Activity'!$B$5:$B$254,">="&C$4,'Cash Activity'!$B$5:$B$254,"<="&C$5,'Cash Activity'!$C$5:$C$254,"Outflow",'Cash Activity'!$D$5:$D$254,$A26,'Cash Activity'!$J$5:$J$254,"<>Canceled"),0) | D26: =IFERROR(SUMIFS('Cash Activity'!$O$5:$O$254,'Cash Activity'!$B$5:$B$254,">="&D$4,'Cash Activity'!$B$5:$B$254,"<="&D$5,'Cash Activity'!$C$5:$C$254,"Outflow",'Cash Activity'!$D$5:$D$254,$A26,'Cash Activity'!$J$5:$J$254,"<>Canceled"),0) | E26: =IFERROR(SUMIFS('Cash Activity'!$O$5:$O$254,'Cash Activity'!$B$5:$B$254,">="&E$4,'Cash Activity'!$B$5:$B$254,"<="&E$5,'Cash Activity'!$C$5:$C$254,"Outflow",'Cash Activity'!$D$5:$D$254,$A26,'Cash Activity'!$J$5:$J$254,"<>Canceled"),0) | F26: =IFERROR(SUMIFS('Cash Activity'!$O$5:$O$254,'Cash Activity'!$B$5:$B$254,">="&F$4,'Cash Activity'!$B$5:$B$254,"<="&F$5,'Cash Activity'!$C$5:$C$254,"Outflow",'Cash Activity'!$D$5:$D$254,$A26,'Cash Activity'!$J$5:$J$254,"<>Canceled"),0) | G26: =IFERROR(SUMIFS('Cash Activity'!$O$5:$O$254,'Cash Activity'!$B$5:$B$254,">="&G$4,'Cash Activity'!$B$5:$B$254,"<="&G$5,'Cash Activity'!$C$5:$C$254,"Outflow",'Cash Activity'!$D$5:$D$254,$A26,'Cash Activity'!$J$5:$J$254,"<>Canceled"),0) | H26: =IFERROR(SUMIFS('Cash Activity'!$O$5:$O$254,'Cash Activity'!$B$5:$B$254,">="&H$4,'Cash Activity'!$B$5:$B$254,"<="&H$5,'Cash Activity'!$C$5:$C$254,"Outflow",'Cash Activity'!$D$5:$D$254,$A26,'Cash Activity'!$J$5:$J$254,"<>Canceled"),0) | I26: =IFERROR(SUMIFS('Cash Activity'!$O$5:$O$254,'Cash Activity'!$B$5:$B$254,">="&I$4,'Cash Activity'!$B$5:$B$254,"<="&I$5,'Cash Activity'!$C$5:$C$254,"Outflow",'Cash Activity'!$D$5:$D$254,$A26,'Cash Activity'!$J$5:$J$254,"<>Canceled"),0) | ... N26: =IFERROR(SUMIFS('Cash Activity'!$O$5:$O$254,'Cash Activity'!$B$5:$B$254,">="&N$4,'Cash Activity'!$B$5:$B$254,"<="&N$5,'Cash Activity'!$C$5:$C$254,"Outflow",'Cash Activity'!$D$5:$D$254,$A26,'Cash Activity'!$J$5:$J$254,"<>Canceled"),0)
A27: Rooms and Housekeeping Supplies | B27: =IFERROR(SUMIFS('Cash Activity'!$O$5:$O$254,'Cash Activity'!$B$5:$B$254,">="&B$4,'Cash Activity'!$B$5:$B$254,"<="&B$5,'Cash Activity'!$C$5:$C$254,"Outflow",'Cash Activity'!$D$5:$D$254,$A27,'Cash Activity'!$J$5:$J$254,"<>Canceled"),0) | C27: =IFERROR(SUMIFS('Cash Activity'!$O$5:$O$254,'Cash Activity'!$B$5:$B$254,">="&C$4,'Cash Activity'!$B$5:$B$254,"<="&C$5,'Cash Activity'!$C$5:$C$254,"Outflow",'Cash Activity'!$D$5:$D$254,$A27,'Cash Activity'!$J$5:$J$254,"<>Canceled"),0) | D27: =IFERROR(SUMIFS('Cash Activity'!$O$5:$O$254,'Cash Activity'!$B$5:$B$254,">="&D$4,'Cash Activity'!$B$5:$B$254,"<="&D$5,'Cash Activity'!$C$5:$C$254,"Outflow",'Cash Activity'!$D$5:$D$254,$A27,'Cash Activity'!$J$5:$J$254,"<>Canceled"),0) | E27: =IFERROR(SUMIFS('Cash Activity'!$O$5:$O$254,'Cash Activity'!$B$5:$B$254,">="&E$4,'Cash Activity'!$B$5:$B$254,"<="&E$5,'Cash Activity'!$C$5:$C$254,"Outflow",'Cash Activity'!$D$5:$D$254,$A27,'Cash Activity'!$J$5:$J$254,"<>Canceled"),0) | F27: =IFERROR(SUMIFS('Cash Activity'!$O$5:$O$254,'Cash Activity'!$B$5:$B$254,">="&F$4,'Cash Activity'!$B$5:$B$254,"<="&F$5,'Cash Activity'!$C$5:$C$254,"Outflow",'Cash Activity'!$D$5:$D$254,$A27,'Cash Activity'!$J$5:$J$254,"<>Canceled"),0) | G27: =IFERROR(SUMIFS('Cash Activity'!$O$5:$O$254,'Cash Activity'!$B$5:$B$254,">="&G$4,'Cash Activity'!$B$5:$B$254,"<="&G$5,'Cash Activity'!$C$5:$C$254,"Outflow",'Cash Activity'!$D$5:$D$254,$A27,'Cash Activity'!$J$5:$J$254,"<>Canceled"),0) | H27: =IFERROR(SUMIFS('Cash Activity'!$O$5:$O$254,'Cash Activity'!$B$5:$B$254,">="&H$4,'Cash Activity'!$B$5:$B$254,"<="&H$5,'Cash Activity'!$C$5:$C$254,"Outflow",'Cash Activity'!$D$5:$D$254,$A27,'Cash Activity'!$J$5:$J$254,"<>Canceled"),0) | I27: =IFERROR(SUMIFS('Cash Activity'!$O$5:$O$254,'Cash Activity'!$B$5:$B$254,">="&I$4,'Cash Activity'!$B$5:$B$254,"<="&I$5,'Cash Activity'!$C$5:$C$254,"Outflow",'Cash Activity'!$D$5:$D$254,$A27,'Cash Activity'!$J$5:$J$254,"<>Canceled"),0) | ... N27: =IFERROR(SUMIFS('Cash Activity'!$O$5:$O$254,'Cash Activity'!$B$5:$B$254,">="&N$4,'Cash Activity'!$B$5:$B$254,"<="&N$5,'Cash Activity'!$C$5:$C$254,"Outflow",'Cash Activity'!$D$5:$D$254,$A27,'Cash Activity'!$J$5:$J$254,"<>Canceled"),0)
A28: Utilities | B28: =IFERROR(SUMIFS('Cash Activity'!$O$5:$O$254,'Cash Activity'!$B$5:$B$254,">="&B$4,'Cash Activity'!$B$5:$B$254,"<="&B$5,'Cash Activity'!$C$5:$C$254,"Outflow",'Cash Activity'!$D$5:$D$254,$A28,'Cash Activity'!$J$5:$J$254,"<>Canceled"),0) | C28: =IFERROR(SUMIFS('Cash Activity'!$O$5:$O$254,'Cash Activity'!$B$5:$B$254,">="&C$4,'Cash Activity'!$B$5:$B$254,"<="&C$5,'Cash Activity'!$C$5:$C$254,"Outflow",'Cash Activity'!$D$5:$D$254,$A28,'Cash Activity'!$J$5:$J$254,"<>Canceled"),0) | D28: =IFERROR(SUMIFS('Cash Activity'!$O$5:$O$254,'Cash Activity'!$B$5:$B$254,">="&D$4,'Cash Activity'!$B$5:$B$254,"<="&D$5,'Cash Activity'!$C$5:$C$254,"Outflow",'Cash Activity'!$D$5:$D$254,$A28,'Cash Activity'!$J$5:$J$254,"<>Canceled"),0) | E28: =IFERROR(SUMIFS('Cash Activity'!$O$5:$O$254,'Cash Activity'!$B$5:$B$254,">="&E$4,'Cash Activity'!$B$5:$B$254,"<="&E$5,'Cash Activity'!$C$5:$C$254,"Outflow",'Cash Activity'!$D$5:$D$254,$A28,'Cash Activity'!$J$5:$J$254,"<>Canceled"),0) | F28: =IFERROR(SUMIFS('Cash Activity'!$O$5:$O$254,'Cash Activity'!$B$5:$B$254,">="&F$4,'Cash Activity'!$B$5:$B$254,"<="&F$5,'Cash Activity'!$C$5:$C$254,"Outflow",'Cash Activity'!$D$5:$D$254,$A28,'Cash Activity'!$J$5:$J$254,"<>Canceled"),0) | G28: =IFERROR(SUMIFS('Cash Activity'!$O$5:$O$254,'Cash Activity'!$B$5:$B$254,">="&G$4,'Cash Activity'!$B$5:$B$254,"<="&G$5,'Cash Activity'!$C$5:$C$254,"Outflow",'Cash Activity'!$D$5:$D$254,$A28,'Cash Activity'!$J$5:$J$254,"<>Canceled"),0) | H28: =IFERROR(SUMIFS('Cash Activity'!$O$5:$O$254,'Cash Activity'!$B$5:$B$254,">="&H$4,'Cash Activity'!$B$5:$B$254,"<="&H$5,'Cash Activity'!$C$5:$C$254,"Outflow",'Cash Activity'!$D$5:$D$254,$A28,'Cash Activity'!$J$5:$J$254,"<>Canceled"),0) | I28: =IFERROR(SUMIFS('Cash Activity'!$O$5:$O$254,'Cash Activity'!$B$5:$B$254,">="&I$4,'Cash Activity'!$B$5:$B$254,"<="&I$5,'Cash Activity'!$C$5:$C$254,"Outflow",'Cash Activity'!$D$5:$D$254,$A28,'Cash Activity'!$J$5:$J$254,"<>Canceled"),0) | ... N28: =IFERROR(SUMIFS('Cash Activity'!$O$5:$O$254,'Cash Activity'!$B$5:$B$254,">="&N$4,'Cash Activity'!$B$5:$B$254,"<="&N$5,'Cash Activity'!$C$5:$C$254,"Outflow",'Cash Activity'!$D$5:$D$254,$A28,'Cash Activity'!$J$5:$J$254,"<>Canceled"),0)
A29: Repairs and Maintenance | B29: =IFERROR(SUMIFS('Cash Activity'!$O$5:$O$254,'Cash Activity'!$B$5:$B$254,">="&B$4,'Cash Activity'!$B$5:$B$254,"<="&B$5,'Cash Activity'!$C$5:$C$254,"Outflow",'Cash Activity'!$D$5:$D$254,$A29,'Cash Activity'!$J$5:$J$254,"<>Canceled"),0) | C29: =IFERROR(SUMIFS('Cash Activity'!$O$5:$O$254,'Cash Activity'!$B$5:$B$254,">="&C$4,'Cash Activity'!$B$5:$B$254,"<="&C$5,'Cash Activity'!$C$5:$C$254,"Outflow",'Cash Activity'!$D$5:$D$254,$A29,'Cash Activity'!$J$5:$J$254,"<>Canceled"),0) | D29: =IFERROR(SUMIFS('Cash Activity'!$O$5:$O$254,'Cash Activity'!$B$5:$B$254,">="&D$4,'Cash Activity'!$B$5:$B$254,"<="&D$5,'Cash Activity'!$C$5:$C$254,"Outflow",'Cash Activity'!$D$5:$D$254,$A29,'Cash Activity'!$J$5:$J$254,"<>Canceled"),0) | E29: =IFERROR(SUMIFS('Cash Activity'!$O$5:$O$254,'Cash Activity'!$B$5:$B$254,">="&E$4,'Cash Activity'!$B$5:$B$254,"<="&E$5,'Cash Activity'!$C$5:$C$254,"Outflow",'Cash Activity'!$D$5:$D$254,$A29,'Cash Activity'!$J$5:$J$254,"<>Canceled"),0) | F29: =IFERROR(SUMIFS('Cash Activity'!$O$5:$O$254,'Cash Activity'!$B$5:$B$254,">="&F$4,'Cash Activity'!$B$5:$B$254,"<="&F$5,'Cash Activity'!$C$5:$C$254,"Outflow",'Cash Activity'!$D$5:$D$254,$A29,'Cash Activity'!$J$5:$J$254,"<>Canceled"),0) | G29: =IFERROR(SUMIFS('Cash Activity'!$O$5:$O$254,'Cash Activity'!$B$5:$B$254,">="&G$4,'Cash Activity'!$B$5:$B$254,"<="&G$5,'Cash Activity'!$C$5:$C$254,"Outflow",'Cash Activity'!$D$5:$D$254,$A29,'Cash Activity'!$J$5:$J$254,"<>Canceled"),0) | H29: =IFERROR(SUMIFS('Cash Activity'!$O$5:$O$254,'Cash Activity'!$B$5:$B$254,">="&H$4,'Cash Activity'!$B$5:$B$254,"<="&H$5,'Cash Activity'!$C$5:$C$254,"Outflow",'Cash Activity'!$D$5:$D$254,$A29,'Cash Activity'!$J$5:$J$254,"<>Canceled"),0) | I29: =IFERROR(SUMIFS('Cash Activity'!$O$5:$O$254,'Cash Activity'!$B$5:$B$254,">="&I$4,'Cash Activity'!$B$5:$B$254,"<="&I$5,'Cash Activity'!$C$5:$C$254,"Outflow",'Cash Activity'!$D$5:$D$254,$A29,'Cash Activity'!$J$5:$J$254,"<>Canceled"),0) | ... N29: =IFERROR(SUMIFS('Cash Activity'!$O$5:$O$254,'Cash Activity'!$B$5:$B$254,">="&N$4,'Cash Activity'!$B$5:$B$254,"<="&N$5,'Cash Activity'!$C$5:$C$254,"Outflow",'Cash Activity'!$D$5:$D$254,$A29,'Cash Activity'!$J$5:$J$254,"<>Canceled"),0)
A30: Sales and Occupancy Tax Remittances | B30: =IFERROR(SUMIFS('Cash Activity'!$O$5:$O$254,'Cash Activity'!$B$5:$B$254,">="&B$4,'Cash Activity'!$B$5:$B$254,"<="&B$5,'Cash Activity'!$C$5:$C$254,"Outflow",'Cash Activity'!$D$5:$D$254,$A30,'Cash Activity'!$J$5:$J$254,"<>Canceled"),0) | C30: =IFERROR(SUMIFS('Cash Activity'!$O$5:$O$254,'Cash Activity'!$B$5:$B$254,">="&C$4,'Cash Activity'!$B$5:$B$254,"<="&C$5,'Cash Activity'!$C$5:$C$254,"Outflow",'Cash Activity'!$D$5:$D$254,$A30,'Cash Activity'!$J$5:$J$254,"<>Canceled"),0) | D30: =IFERROR(SUMIFS('Cash Activity'!$O$5:$O$254,'Cash Activity'!$B$5:$B$254,">="&D$4,'Cash Activity'!$B$5:$B$254,"<="&D$5,'Cash Activity'!$C$5:$C$254,"Outflow",'Cash Activity'!$D$5:$D$254,$A30,'Cash Activity'!$J$5:$J$254,"<>Canceled"),0) | E30: =IFERROR(SUMIFS('Cash Activity'!$O$5:$O$254,'Cash Activity'!$B$5:$B$254,">="&E$4,'Cash Activity'!$B$5:$B$254,"<="&E$5,'Cash Activity'!$C$5:$C$254,"Outflow",'Cash Activity'!$D$5:$D$254,$A30,'Cash Activity'!$J$5:$J$254,"<>Canceled"),0) | F30: =IFERROR(SUMIFS('Cash Activity'!$O$5:$O$254,'Cash Activity'!$B$5:$B$254,">="&F$4,'Cash Activity'!$B$5:$B$254,"<="&F$5,'Cash Activity'!$C$5:$C$254,"Outflow",'Cash Activity'!$D$5:$D$254,$A30,'Cash Activity'!$J$5:$J$254,"<>Canceled"),0) | G30: =IFERROR(SUMIFS('Cash Activity'!$O$5:$O$254,'Cash Activity'!$B$5:$B$254,">="&G$4,'Cash Activity'!$B$5:$B$254,"<="&G$5,'Cash Activity'!$C$5:$C$254,"Outflow",'Cash Activity'!$D$5:$D$254,$A30,'Cash Activity'!$J$5:$J$254,"<>Canceled"),0) | H30: =IFERROR(SUMIFS('Cash Activity'!$O$5:$O$254,'Cash Activity'!$B$5:$B$254,">="&H$4,'Cash Activity'!$B$5:$B$254,"<="&H$5,'Cash Activity'!$C$5:$C$254,"Outflow",'Cash Activity'!$D$5:$D$254,$A30,'Cash Activity'!$J$5:$J$254,"<>Canceled"),0) | I30: =IFERROR(SUMIFS('Cash Activity'!$O$5:$O$254,'Cash Activity'!$B$5:$B$254,">="&I$4,'Cash Activity'!$B$5:$B$254,"<="&I$5,'Cash Activity'!$C$5:$C$254,"Outflow",'Cash Activity'!$D$5:$D$254,$A30,'Cash Activity'!$J$5:$J$254,"<>Canceled"),0) | ... N30: =IFERROR(SUMIFS('Cash Activity'!$O$5:$O$254,'Cash Activity'!$B$5:$B$254,">="&N$4,'Cash Activity'!$B$5:$B$254,"<="&N$5,'Cash Activity'!$C$5:$C$254,"Outflow",'Cash Activity'!$D$5:$D$254,$A30,'Cash Activity'!$J$5:$J$254,"<>Canceled"),0)
A31: Insurance | B31: =IFERROR(SUMIFS('Cash Activity'!$O$5:$O$254,'Cash Activity'!$B$5:$B$254,">="&B$4,'Cash Activity'!$B$5:$B$254,"<="&B$5,'Cash Activity'!$C$5:$C$254,"Outflow",'Cash Activity'!$D$5:$D$254,$A31,'Cash Activity'!$J$5:$J$254,"<>Canceled"),0) | C31: =IFERROR(SUMIFS('Cash Activity'!$O$5:$O$254,'Cash Activity'!$B$5:$B$254,">="&C$4,'Cash Activity'!$B$5:$B$254,"<="&C$5,'Cash Activity'!$C$5:$C$254,"Outflow",'Cash Activity'!$D$5:$D$254,$A31,'Cash Activity'!$J$5:$J$254,"<>Canceled"),0) | D31: =IFERROR(SUMIFS('Cash Activity'!$O$5:$O$254,'Cash Activity'!$B$5:$B$254,">="&D$4,'Cash Activity'!$B$5:$B$254,"<="&D$5,'Cash Activity'!$C$5:$C$254,"Outflow",'Cash Activity'!$D$5:$D$254,$A31,'Cash Activity'!$J$5:$J$254,"<>Canceled"),0) | E31: =IFERROR(SUMIFS('Cash Activity'!$O$5:$O$254,'Cash Activity'!$B$5:$B$254,">="&E$4,'Cash Activity'!$B$5:$B$254,"<="&E$5,'Cash Activity'!$C$5:$C$254,"Outflow",'Cash Activity'!$D$5:$D$254,$A31,'Cash Activity'!$J$5:$J$254,"<>Canceled"),0) | F31: =IFERROR(SUMIFS('Cash Activity'!$O$5:$O$254,'Cash Activity'!$B$5:$B$254,">="&F$4,'Cash Activity'!$B$5:$B$254,"<="&F$5,'Cash Activity'!$C$5:$C$254,"Outflow",'Cash Activity'!$D$5:$D$254,$A31,'Cash Activity'!$J$5:$J$254,"<>Canceled"),0) | G31: =IFERROR(SUMIFS('Cash Activity'!$O$5:$O$254,'Cash Activity'!$B$5:$B$254,">="&G$4,'Cash Activity'!$B$5:$B$254,"<="&G$5,'Cash Activity'!$C$5:$C$254,"Outflow",'Cash Activity'!$D$5:$D$254,$A31,'Cash Activity'!$J$5:$J$254,"<>Canceled"),0) | H31: =IFERROR(SUMIFS('Cash Activity'!$O$5:$O$254,'Cash Activity'!$B$5:$B$254,">="&H$4,'Cash Activity'!$B$5:$B$254,"<="&H$5,'Cash Activity'!$C$5:$C$254,"Outflow",'Cash Activity'!$D$5:$D$254,$A31,'Cash Activity'!$J$5:$J$254,"<>Canceled"),0) | I31: =IFERROR(SUMIFS('Cash Activity'!$O$5:$O$254,'Cash Activity'!$B$5:$B$254,">="&I$4,'Cash Activity'!$B$5:$B$254,"<="&I$5,'Cash Activity'!$C$5:$C$254,"Outflow",'Cash Activity'!$D$5:$D$254,$A31,'Cash Activity'!$J$5:$J$254,"<>Canceled"),0) | ... N31: =IFERROR(SUMIFS('Cash Activity'!$O$5:$O$254,'Cash Activity'!$B$5:$B$254,">="&N$4,'Cash Activity'!$B$5:$B$254,"<="&N$5,'Cash Activity'!$C$5:$C$254,"Outflow",'Cash Activity'!$D$5:$D$254,$A31,'Cash Activity'!$J$5:$J$254,"<>Canceled"),0)
A32: Property Taxes | B32: =IFERROR(SUMIFS('Cash Activity'!$O$5:$O$254,'Cash Activity'!$B$5:$B$254,">="&B$4,'Cash Activity'!$B$5:$B$254,"<="&B$5,'Cash Activity'!$C$5:$C$254,"Outflow",'Cash Activity'!$D$5:$D$254,$A32,'Cash Activity'!$J$5:$J$254,"<>Canceled"),0) | C32: =IFERROR(SUMIFS('Cash Activity'!$O$5:$O$254,'Cash Activity'!$B$5:$B$254,">="&C$4,'Cash Activity'!$B$5:$B$254,"<="&C$5,'Cash Activity'!$C$5:$C$254,"Outflow",'Cash Activity'!$D$5:$D$254,$A32,'Cash Activity'!$J$5:$J$254,"<>Canceled"),0) | D32: =IFERROR(SUMIFS('Cash Activity'!$O$5:$O$254,'Cash Activity'!$B$5:$B$254,">="&D$4,'Cash Activity'!$B$5:$B$254,"<="&D$5,'Cash Activity'!$C$5:$C$254,"Outflow",'Cash Activity'!$D$5:$D$254,$A32,'Cash Activity'!$J$5:$J$254,"<>Canceled"),0) | E32: =IFERROR(SUMIFS('Cash Activity'!$O$5:$O$254,'Cash Activity'!$B$5:$B$254,">="&E$4,'Cash Activity'!$B$5:$B$254,"<="&E$5,'Cash Activity'!$C$5:$C$254,"Outflow",'Cash Activity'!$D$5:$D$254,$A32,'Cash Activity'!$J$5:$J$254,"<>Canceled"),0) | F32: =IFERROR(SUMIFS('Cash Activity'!$O$5:$O$254,'Cash Activity'!$B$5:$B$254,">="&F$4,'Cash Activity'!$B$5:$B$254,"<="&F$5,'Cash Activity'!$C$5:$C$254,"Outflow",'Cash Activity'!$D$5:$D$254,$A32,'Cash Activity'!$J$5:$J$254,"<>Canceled"),0) | G32: =IFERROR(SUMIFS('Cash Activity'!$O$5:$O$254,'Cash Activity'!$B$5:$B$254,">="&G$4,'Cash Activity'!$B$5:$B$254,"<="&G$5,'Cash Activity'!$C$5:$C$254,"Outflow",'Cash Activity'!$D$5:$D$254,$A32,'Cash Activity'!$J$5:$J$254,"<>Canceled"),0) | H32: =IFERROR(SUMIFS('Cash Activity'!$O$5:$O$254,'Cash Activity'!$B$5:$B$254,">="&H$4,'Cash Activity'!$B$5:$B$254,"<="&H$5,'Cash Activity'!$C$5:$C$254,"Outflow",'Cash Activity'!$D$5:$D$254,$A32,'Cash Activity'!$J$5:$J$254,"<>Canceled"),0) | I32: =IFERROR(SUMIFS('Cash Activity'!$O$5:$O$254,'Cash Activity'!$B$5:$B$254,">="&I$4,'Cash Activity'!$B$5:$B$254,"<="&I$5,'Cash Activity'!$C$5:$C$254,"Outflow",'Cash Activity'!$D$5:$D$254,$A32,'Cash Activity'!$J$5:$J$254,"<>Canceled"),0) | ... N32: =IFERROR(SUMIFS('Cash Activity'!$O$5:$O$254,'Cash Activity'!$B$5:$B$254,">="&N$4,'Cash Activity'!$B$5:$B$254,"<="&N$5,'Cash Activity'!$C$5:$C$254,"Outflow",'Cash Activity'!$D$5:$D$254,$A32,'Cash Activity'!$J$5:$J$254,"<>Canceled"),0)
A33: Marketing and Distribution | B33: =IFERROR(SUMIFS('Cash Activity'!$O$5:$O$254,'Cash Activity'!$B$5:$B$254,">="&B$4,'Cash Activity'!$B$5:$B$254,"<="&B$5,'Cash Activity'!$C$5:$C$254,"Outflow",'Cash Activity'!$D$5:$D$254,$A33,'Cash Activity'!$J$5:$J$254,"<>Canceled"),0) | C33: =IFERROR(SUMIFS('Cash Activity'!$O$5:$O$254,'Cash Activity'!$B$5:$B$254,">="&C$4,'Cash Activity'!$B$5:$B$254,"<="&C$5,'Cash Activity'!$C$5:$C$254,"Outflow",'Cash Activity'!$D$5:$D$254,$A33,'Cash Activity'!$J$5:$J$254,"<>Canceled"),0) | D33: =IFERROR(SUMIFS('Cash Activity'!$O$5:$O$254,'Cash Activity'!$B$5:$B$254,">="&D$4,'Cash Activity'!$B$5:$B$254,"<="&D$5,'Cash Activity'!$C$5:$C$254,"Outflow",'Cash Activity'!$D$5:$D$254,$A33,'Cash Activity'!$J$5:$J$254,"<>Canceled"),0) | E33: =IFERROR(SUMIFS('Cash Activity'!$O$5:$O$254,'Cash Activity'!$B$5:$B$254,">="&E$4,'Cash Activity'!$B$5:$B$254,"<="&E$5,'Cash Activity'!$C$5:$C$254,"Outflow",'Cash Activity'!$D$5:$D$254,$A33,'Cash Activity'!$J$5:$J$254,"<>Canceled"),0) | F33: =IFERROR(SUMIFS('Cash Activity'!$O$5:$O$254,'Cash Activity'!$B$5:$B$254,">="&F$4,'Cash Activity'!$B$5:$B$254,"<="&F$5,'Cash Activity'!$C$5:$C$254,"Outflow",'Cash Activity'!$D$5:$D$254,$A33,'Cash Activity'!$J$5:$J$254,"<>Canceled"),0) | G33: =IFERROR(SUMIFS('Cash Activity'!$O$5:$O$254,'Cash Activity'!$B$5:$B$254,">="&G$4,'Cash Activity'!$B$5:$B$254,"<="&G$5,'Cash Activity'!$C$5:$C$254,"Outflow",'Cash Activity'!$D$5:$D$254,$A33,'Cash Activity'!$J$5:$J$254,"<>Canceled"),0) | H33: =IFERROR(SUMIFS('Cash Activity'!$O$5:$O$254,'Cash Activity'!$B$5:$B$254,">="&H$4,'Cash Activity'!$B$5:$B$254,"<="&H$5,'Cash Activity'!$C$5:$C$254,"Outflow",'Cash Activity'!$D$5:$D$254,$A33,'Cash Activity'!$J$5:$J$254,"<>Canceled"),0) | I33: =IFERROR(SUMIFS('Cash Activity'!$O$5:$O$254,'Cash Activity'!$B$5:$B$254,">="&I$4,'Cash Activity'!$B$5:$B$254,"<="&I$5,'Cash Activity'!$C$5:$C$254,"Outflow",'Cash Activity'!$D$5:$D$254,$A33,'Cash Activity'!$J$5:$J$254,"<>Canceled"),0) | ... N33: =IFERROR(SUMIFS('Cash Activity'!$O$5:$O$254,'Cash Activity'!$B$5:$B$254,">="&N$4,'Cash Activity'!$B$5:$B$254,"<="&N$5,'Cash Activity'!$C$5:$C$254,"Outflow",'Cash Activity'!$D$5:$D$254,$A33,'Cash Activity'!$J$5:$J$254,"<>Canceled"),0)
A34: OTA Commissions | B34: =IFERROR(SUMIFS('Cash Activity'!$O$5:$O$254,'Cash Activity'!$B$5:$B$254,">="&B$4,'Cash Activity'!$B$5:$B$254,"<="&B$5,'Cash Activity'!$C$5:$C$254,"Outflow",'Cash Activity'!$D$5:$D$254,$A34,'Cash Activity'!$J$5:$J$254,"<>Canceled"),0) | C34: =IFERROR(SUMIFS('Cash Activity'!$O$5:$O$254,'Cash Activity'!$B$5:$B$254,">="&C$4,'Cash Activity'!$B$5:$B$254,"<="&C$5,'Cash Activity'!$C$5:$C$254,"Outflow",'Cash Activity'!$D$5:$D$254,$A34,'Cash Activity'!$J$5:$J$254,"<>Canceled"),0) | D34: =IFERROR(SUMIFS('Cash Activity'!$O$5:$O$254,'Cash Activity'!$B$5:$B$254,">="&D$4,'Cash Activity'!$B$5:$B$254,"<="&D$5,'Cash Activity'!$C$5:$C$254,"Outflow",'Cash Activity'!$D$5:$D$254,$A34,'Cash Activity'!$J$5:$J$254,"<>Canceled"),0) | E34: =IFERROR(SUMIFS('Cash Activity'!$O$5:$O$254,'Cash Activity'!$B$5:$B$254,">="&E$4,'Cash Activity'!$B$5:$B$254,"<="&E$5,'Cash Activity'!$C$5:$C$254,"Outflow",'Cash Activity'!$D$5:$D$254,$A34,'Cash Activity'!$J$5:$J$254,"<>Canceled"),0) | F34: =IFERROR(SUMIFS('Cash Activity'!$O$5:$O$254,'Cash Activity'!$B$5:$B$254,">="&F$4,'Cash Activity'!$B$5:$B$254,"<="&F$5,'Cash Activity'!$C$5:$C$254,"Outflow",'Cash Activity'!$D$5:$D$254,$A34,'Cash Activity'!$J$5:$J$254,"<>Canceled"),0) | G34: =IFERROR(SUMIFS('Cash Activity'!$O$5:$O$254,'Cash Activity'!$B$5:$B$254,">="&G$4,'Cash Activity'!$B$5:$B$254,"<="&G$5,'Cash Activity'!$C$5:$C$254,"Outflow",'Cash Activity'!$D$5:$D$254,$A34,'Cash Activity'!$J$5:$J$254,"<>Canceled"),0) | H34: =IFERROR(SUMIFS('Cash Activity'!$O$5:$O$254,'Cash Activity'!$B$5:$B$254,">="&H$4,'Cash Activity'!$B$5:$B$254,"<="&H$5,'Cash Activity'!$C$5:$C$254,"Outflow",'Cash Activity'!$D$5:$D$254,$A34,'Cash Activity'!$J$5:$J$254,"<>Canceled"),0) | I34: =IFERROR(SUMIFS('Cash Activity'!$O$5:$O$254,'Cash Activity'!$B$5:$B$254,">="&I$4,'Cash Activity'!$B$5:$B$254,"<="&I$5,'Cash Activity'!$C$5:$C$254,"Outflow",'Cash Activity'!$D$5:$D$254,$A34,'Cash Activity'!$J$5:$J$254,"<>Canceled"),0) | ... N34: =IFERROR(SUMIFS('Cash Activity'!$O$5:$O$254,'Cash Activity'!$B$5:$B$254,">="&N$4,'Cash Activity'!$B$5:$B$254,"<="&N$5,'Cash Activity'!$C$5:$C$254,"Outflow",'Cash Activity'!$D$5:$D$254,$A34,'Cash Activity'!$J$5:$J$254,"<>Canceled"),0)
A35: Merchant Processing Fees | B35: =IFERROR(SUMIFS('Cash Activity'!$O$5:$O$254,'Cash Activity'!$B$5:$B$254,">="&B$4,'Cash Activity'!$B$5:$B$254,"<="&B$5,'Cash Activity'!$C$5:$C$254,"Outflow",'Cash Activity'!$D$5:$D$254,$A35,'Cash Activity'!$J$5:$J$254,"<>Canceled"),0) | C35: =IFERROR(SUMIFS('Cash Activity'!$O$5:$O$254,'Cash Activity'!$B$5:$B$254,">="&C$4,'Cash Activity'!$B$5:$B$254,"<="&C$5,'Cash Activity'!$C$5:$C$254,"Outflow",'Cash Activity'!$D$5:$D$254,$A35,'Cash Activity'!$J$5:$J$254,"<>Canceled"),0) | D35: =IFERROR(SUMIFS('Cash Activity'!$O$5:$O$254,'Cash Activity'!$B$5:$B$254,">="&D$4,'Cash Activity'!$B$5:$B$254,"<="&D$5,'Cash Activity'!$C$5:$C$254,"Outflow",'Cash Activity'!$D$5:$D$254,$A35,'Cash Activity'!$J$5:$J$254,"<>Canceled"),0) | E35: =IFERROR(SUMIFS('Cash Activity'!$O$5:$O$254,'Cash Activity'!$B$5:$B$254,">="&E$4,'Cash Activity'!$B$5:$B$254,"<="&E$5,'Cash Activity'!$C$5:$C$254,"Outflow",'Cash Activity'!$D$5:$D$254,$A35,'Cash Activity'!$J$5:$J$254,"<>Canceled"),0) | F35: =IFERROR(SUMIFS('Cash Activity'!$O$5:$O$254,'Cash Activity'!$B$5:$B$254,">="&F$4,'Cash Activity'!$B$5:$B$254,"<="&F$5,'Cash Activity'!$C$5:$C$254,"Outflow",'Cash Activity'!$D$5:$D$254,$A35,'Cash Activity'!$J$5:$J$254,"<>Canceled"),0) | G35: =IFERROR(SUMIFS('Cash Activity'!$O$5:$O$254,'Cash Activity'!$B$5:$B$254,">="&G$4,'Cash Activity'!$B$5:$B$254,"<="&G$5,'Cash Activity'!$C$5:$C$254,"Outflow",'Cash Activity'!$D$5:$D$254,$A35,'Cash Activity'!$J$5:$J$254,"<>Canceled"),0) | H35: =IFERROR(SUMIFS('Cash Activity'!$O$5:$O$254,'Cash Activity'!$B$5:$B$254,">="&H$4,'Cash Activity'!$B$5:$B$254,"<="&H$5,'Cash Activity'!$C$5:$C$254,"Outflow",'Cash Activity'!$D$5:$D$254,$A35,'Cash Activity'!$J$5:$J$254,"<>Canceled"),0) | I35: =IFERROR(SUMIFS('Cash Activity'!$O$5:$O$254,'Cash Activity'!$B$5:$B$254,">="&I$4,'Cash Activity'!$B$5:$B$254,"<="&I$5,'Cash Activity'!$C$5:$C$254,"Outflow",'Cash Activity'!$D$5:$D$254,$A35,'Cash Activity'!$J$5:$J$254,"<>Canceled"),0) | ... N35: =IFERROR(SUMIFS('Cash Activity'!$O$5:$O$254,'Cash Activity'!$B$5:$B$254,">="&N$4,'Cash Activity'!$B$5:$B$254,"<="&N$5,'Cash Activity'!$C$5:$C$254,"Outflow",'Cash Activity'!$D$5:$D$254,$A35,'Cash Activity'!$J$5:$J$254,"<>Canceled"),0)
