Workbook

Sheet Dashboard
A1: Hotel Amenity Inventory Dashboard
A2: Inventory position, replenishment needs, stock value, and count status | H2: =IFERROR(TODAY(),0)
A4: Inventory Assumptions | D4: Active Amenity Items | F4: Total Units On Hand | H4: Current Inventory Value | J4: Items Requiring Reorder
A5: Standard Count Interval (Days) | B5: 30 | C5: Edit these operating assumptions to match the property's inventory-counting and replenishment policies. They are management settings, not legal requirements. | D5: =IFERROR(COUNTIF('Amenity Inventory'!$V$6:$V$205,"Yes"),0) | F5: =IFERROR(SUMIFS('Amenity Inventory'!$M$6:$M$205,'Amenity Inventory'!$V$6:$V$205,"Yes"),0) | H5: =IFERROR(SUMIFS('Amenity Inventory'!$Q$6:$Q$205,'Amenity Inventory'!$V$6:$V$205,"Yes"),0) | J5: =IFERROR(COUNTIFS('Amenity Inventory'!$V$6:$V$205,"Yes",'Amenity Inventory'!$P$6:$P$205,">0"),0)
A6: Count Warning Lead Time (Days) | B6: 5
A7: High-Value Item Threshold | B7: 250 | D7: Out-of-Stock Items | F7: Overdue Counts | H7: High-Value Active Items | J7: Reorder Cost Estimate
A8: Low-Stock Alert Percentage | B8: 0.25 | D8: =IFERROR(COUNTIFS('Amenity Inventory'!$V$6:$V$205,"Yes",'Amenity Inventory'!$M$6:$M$205,"<=0",'Amenity Inventory'!$A$6:$A$205,"<>"),0) | F8: =IFERROR(COUNTIFS('Amenity Inventory'!$V$6:$V$205,"Yes",'Amenity Inventory'!$U$6:$U$205,"Overdue"),0) | H8: =IFERROR(COUNTIFS('Amenity Inventory'!$V$6:$V$205,"Yes",'Amenity Inventory'!$Q$6:$Q$205,">="&$B$7),0) | J8: =IFERROR(SUMIFS('Amenity Inventory'!$W$6:$W$205,'Amenity Inventory'!$V$6:$V$205,"Yes"),0)
A9: Dashboard Replenishment Limit | B9: 10
A12: Priority Replenishment List | L12: Stock Status | M12: Item Count
A13: Amenity ID | B13: Item Name | C13: Category | D13: Storage Location | E13: Calculated On Hand | F13: Reorder Point | G13: Reorder Quantity | H13: Unit Cost | I13: Estimated Order Cost | J13: Stock Status | L13: Out of Stock | M13: =IFERROR(COUNTIF('Amenity Inventory'!$R$6:$R$205,L13),0)
A14: =IFERROR(IF(1>$B$9,"",INDEX('Amenity Inventory'!$A$6:$A$205,MATCH(1,$T$32:$T$231,0))),"") | B14: =IFERROR(IF(1>$B$9,"",INDEX('Amenity Inventory'!$C$6:$C$205,MATCH(1,$T$32:$T$231,0))),"") | C14: =IFERROR(IF(1>$B$9,"",INDEX('Amenity Inventory'!$B$6:$B$205,MATCH(1,$T$32:$T$231,0))),"") | D14: =IFERROR(IF(1>$B$9,"",INDEX('Amenity Inventory'!$E$6:$E$205,MATCH(1,$T$32:$T$231,0))),"") | E14: =IFERROR(IF(1>$B$9,"",INDEX('Amenity Inventory'!$M$6:$M$205,MATCH(1,$T$32:$T$231,0))),"") | F14: =IFERROR(IF(1>$B$9,"",INDEX('Amenity Inventory'!$O$6:$O$205,MATCH(1,$T$32:$T$231,0))),"") | G14: =IFERROR(IF(1>$B$9,"",INDEX('Amenity Inventory'!$P$6:$P$205,MATCH(1,$T$32:$T$231,0))),"") | H14: =IFERROR(IF(1>$B$9,"",INDEX('Amenity Inventory'!$H$6:$H$205,MATCH(1,$T$32:$T$231,0))),"") | I14: =IFERROR(IF(1>$B$9,"",INDEX('Amenity Inventory'!$W$6:$W$205,MATCH(1,$T$32:$T$231,0))),"") | J14: =IFERROR(IF(1>$B$9,"",INDEX('Amenity Inventory'!$R$6:$R$205,MATCH(1,$T$32:$T$231,0))),"") | L14: Reorder Now | M14: =IFERROR(COUNTIF('Amenity Inventory'!$R$6:$R$205,L14),0)
A15: =IFERROR(IF(2>$B$9,"",INDEX('Amenity Inventory'!$A$6:$A$205,MATCH(2,$T$32:$T$231,0))),"") | B15: =IFERROR(IF(2>$B$9,"",INDEX('Amenity Inventory'!$C$6:$C$205,MATCH(2,$T$32:$T$231,0))),"") | C15: =IFERROR(IF(2>$B$9,"",INDEX('Amenity Inventory'!$B$6:$B$205,MATCH(2,$T$32:$T$231,0))),"") | D15: =IFERROR(IF(2>$B$9,"",INDEX('Amenity Inventory'!$E$6:$E$205,MATCH(2,$T$32:$T$231,0))),"") | E15: =IFERROR(IF(2>$B$9,"",INDEX('Amenity Inventory'!$M$6:$M$205,MATCH(2,$T$32:$T$231,0))),"") | F15: =IFERROR(IF(2>$B$9,"",INDEX('Amenity Inventory'!$O$6:$O$205,MATCH(2,$T$32:$T$231,0))),"") | G15: =IFERROR(IF(2>$B$9,"",INDEX('Amenity Inventory'!$P$6:$P$205,MATCH(2,$T$32:$T$231,0))),"") | H15: =IFERROR(IF(2>$B$9,"",INDEX('Amenity Inventory'!$H$6:$H$205,MATCH(2,$T$32:$T$231,0))),"") | I15: =IFERROR(IF(2>$B$9,"",INDEX('Amenity Inventory'!$W$6:$W$205,MATCH(2,$T$32:$T$231,0))),"") | J15: =IFERROR(IF(2>$B$9,"",INDEX('Amenity Inventory'!$R$6:$R$205,MATCH(2,$T$32:$T$231,0))),"") | L15: Below Par | M15: =IFERROR(COUNTIF('Amenity Inventory'!$R$6:$R$205,L15),0)
A16: =IFERROR(IF(3>$B$9,"",INDEX('Amenity Inventory'!$A$6:$A$205,MATCH(3,$T$32:$T$231,0))),"") | B16: =IFERROR(IF(3>$B$9,"",INDEX('Amenity Inventory'!$C$6:$C$205,MATCH(3,$T$32:$T$231,0))),"") | C16: =IFERROR(IF(3>$B$9,"",INDEX('Amenity Inventory'!$B$6:$B$205,MATCH(3,$T$32:$T$231,0))),"") | D16: =IFERROR(IF(3>$B$9,"",INDEX('Amenity Inventory'!$E$6:$E$205,MATCH(3,$T$32:$T$231,0))),"") | E16: =IFERROR(IF(3>$B$9,"",INDEX('Amenity Inventory'!$M$6:$M$205,MATCH(3,$T$32:$T$231,0))),"") | F16: =IFERROR(IF(3>$B$9,"",INDEX('Amenity Inventory'!$O$6:$O$205,MATCH(3,$T$32:$T$231,0))),"") | G16: =IFERROR(IF(3>$B$9,"",INDEX('Amenity Inventory'!$P$6:$P$205,MATCH(3,$T$32:$T$231,0))),"") | H16: =IFERROR(IF(3>$B$9,"",INDEX('Amenity Inventory'!$H$6:$H$205,MATCH(3,$T$32:$T$231,0))),"") | I16: =IFERROR(IF(3>$B$9,"",INDEX('Amenity Inventory'!$W$6:$W$205,MATCH(3,$T$32:$T$231,0))),"") | J16: =IFERROR(IF(3>$B$9,"",INDEX('Amenity Inventory'!$R$6:$R$205,MATCH(3,$T$32:$T$231,0))),"") | L16: In Stock | M16: =IFERROR(COUNTIF('Amenity Inventory'!$R$6:$R$205,L16),0)
A17: =IFERROR(IF(4>$B$9,"",INDEX('Amenity Inventory'!$A$6:$A$205,MATCH(4,$T$32:$T$231,0))),"") | B17: =IFERROR(IF(4>$B$9,"",INDEX('Amenity Inventory'!$C$6:$C$205,MATCH(4,$T$32:$T$231,0))),"") | C17: =IFERROR(IF(4>$B$9,"",INDEX('Amenity Inventory'!$B$6:$B$205,MATCH(4,$T$32:$T$231,0))),"") | D17: =IFERROR(IF(4>$B$9,"",INDEX('Amenity Inventory'!$E$6:$E$205,MATCH(4,$T$32:$T$231,0))),"") | E17: =IFERROR(IF(4>$B$9,"",INDEX('Amenity Inventory'!$M$6:$M$205,MATCH(4,$T$32:$T$231,0))),"") | F17: =IFERROR(IF(4>$B$9,"",INDEX('Amenity Inventory'!$O$6:$O$205,MATCH(4,$T$32:$T$231,0))),"") | G17: =IFERROR(IF(4>$B$9,"",INDEX('Amenity Inventory'!$P$6:$P$205,MATCH(4,$T$32:$T$231,0))),"") | H17: =IFERROR(IF(4>$B$9,"",INDEX('Amenity Inventory'!$H$6:$H$205,MATCH(4,$T$32:$T$231,0))),"") | I17: =IFERROR(IF(4>$B$9,"",INDEX('Amenity Inventory'!$W$6:$W$205,MATCH(4,$T$32:$T$231,0))),"") | J17: =IFERROR(IF(4>$B$9,"",INDEX('Amenity Inventory'!$R$6:$R$205,MATCH(4,$T$32:$T$231,0))),"") | L17: Inactive | M17: =IFERROR(COUNTIF('Amenity Inventory'!$R$6:$R$205,L17),0)
A18: =IFERROR(IF(5>$B$9,"",INDEX('Amenity Inventory'!$A$6:$A$205,MATCH(5,$T$32:$T$231,0))),"") | B18: =IFERROR(IF(5>$B$9,"",INDEX('Amenity Inventory'!$C$6:$C$205,MATCH(5,$T$32:$T$231,0))),"") | C18: =IFERROR(IF(5>$B$9,"",INDEX('Amenity Inventory'!$B$6:$B$205,MATCH(5,$T$32:$T$231,0))),"") | D18: =IFERROR(IF(5>$B$9,"",INDEX('Amenity Inventory'!$E$6:$E$205,MATCH(5,$T$32:$T$231,0))),"") | E18: =IFERROR(IF(5>$B$9,"",INDEX('Amenity Inventory'!$M$6:$M$205,MATCH(5,$T$32:$T$231,0))),"") | F18: =IFERROR(IF(5>$B$9,"",INDEX('Amenity Inventory'!$O$6:$O$205,MATCH(5,$T$32:$T$231,0))),"") | G18: =IFERROR(IF(5>$B$9,"",INDEX('Amenity Inventory'!$P$6:$P$205,MATCH(5,$T$32:$T$231,0))),"") | H18: =IFERROR(IF(5>$B$9,"",INDEX('Amenity Inventory'!$H$6:$H$205,MATCH(5,$T$32:$T$231,0))),"") | I18: =IFERROR(IF(5>$B$9,"",INDEX('Amenity Inventory'!$W$6:$W$205,MATCH(5,$T$32:$T$231,0))),"") | J18: =IFERROR(IF(5>$B$9,"",INDEX('Amenity Inventory'!$R$6:$R$205,MATCH(5,$T$32:$T$231,0))),"")
A19: =IFERROR(IF(6>$B$9,"",INDEX('Amenity Inventory'!$A$6:$A$205,MATCH(6,$T$32:$T$231,0))),"") | B19: =IFERROR(IF(6>$B$9,"",INDEX('Amenity Inventory'!$C$6:$C$205,MATCH(6,$T$32:$T$231,0))),"") | C19: =IFERROR(IF(6>$B$9,"",INDEX('Amenity Inventory'!$B$6:$B$205,MATCH(6,$T$32:$T$231,0))),"") | D19: =IFERROR(IF(6>$B$9,"",INDEX('Amenity Inventory'!$E$6:$E$205,MATCH(6,$T$32:$T$231,0))),"") | E19: =IFERROR(IF(6>$B$9,"",INDEX('Amenity Inventory'!$M$6:$M$205,MATCH(6,$T$32:$T$231,0))),"") | F19: =IFERROR(IF(6>$B$9,"",INDEX('Amenity Inventory'!$O$6:$O$205,MATCH(6,$T$32:$T$231,0))),"") | G19: =IFERROR(IF(6>$B$9,"",INDEX('Amenity Inventory'!$P$6:$P$205,MATCH(6,$T$32:$T$231,0))),"") | H19: =IFERROR(IF(6>$B$9,"",INDEX('Amenity Inventory'!$H$6:$H$205,MATCH(6,$T$32:$T$231,0))),"") | I19: =IFERROR(IF(6>$B$9,"",INDEX('Amenity Inventory'!$W$6:$W$205,MATCH(6,$T$32:$T$231,0))),"") | J19: =IFERROR(IF(6>$B$9,"",INDEX('Amenity Inventory'!$R$6:$R$205,MATCH(6,$T$32:$T$231,0))),"") | L19: Category | M19: Active Inventory Value
A20: =IFERROR(IF(7>$B$9,"",INDEX('Amenity Inventory'!$A$6:$A$205,MATCH(7,$T$32:$T$231,0))),"") | B20: =IFERROR(IF(7>$B$9,"",INDEX('Amenity Inventory'!$C$6:$C$205,MATCH(7,$T$32:$T$231,0))),"") | C20: =IFERROR(IF(7>$B$9,"",INDEX('Amenity Inventory'!$B$6:$B$205,MATCH(7,$T$32:$T$231,0))),"") | D20: =IFERROR(IF(7>$B$9,"",INDEX('Amenity Inventory'!$E$6:$E$205,MATCH(7,$T$32:$T$231,0))),"") | E20: =IFERROR(IF(7>$B$9,"",INDEX('Amenity Inventory'!$M$6:$M$205,MATCH(7,$T$32:$T$231,0))),"") | F20: =IFERROR(IF(7>$B$9,"",INDEX('Amenity Inventory'!$O$6:$O$205,MATCH(7,$T$32:$T$231,0))),"") | G20: =IFERROR(IF(7>$B$9,"",INDEX('Amenity Inventory'!$P$6:$P$205,MATCH(7,$T$32:$T$231,0))),"") | H20: =IFERROR(IF(7>$B$9,"",INDEX('Amenity Inventory'!$H$6:$H$205,MATCH(7,$T$32:$T$231,0))),"") | I20: =IFERROR(IF(7>$B$9,"",INDEX('Amenity Inventory'!$W$6:$W$205,MATCH(7,$T$32:$T$231,0))),"") | J20: =IFERROR(IF(7>$B$9,"",INDEX('Amenity Inventory'!$R$6:$R$205,MATCH(7,$T$32:$T$231,0))),"") | L20: Guest Room Toiletries | M20: =IFERROR(SUMIFS('Amenity Inventory'!$Q$6:$Q$205,'Amenity Inventory'!$B$6:$B$205,L20,'Amenity Inventory'!$V$6:$V$205,"Yes"),0)
A21: =IFERROR(IF(8>$B$9,"",INDEX('Amenity Inventory'!$A$6:$A$205,MATCH(8,$T$32:$T$231,0))),"") | B21: =IFERROR(IF(8>$B$9,"",INDEX('Amenity Inventory'!$C$6:$C$205,MATCH(8,$T$32:$T$231,0))),"") | C21: =IFERROR(IF(8>$B$9,"",INDEX('Amenity Inventory'!$B$6:$B$205,MATCH(8,$T$32:$T$231,0))),"") | D21: =IFERROR(IF(8>$B$9,"",INDEX('Amenity Inventory'!$E$6:$E$205,MATCH(8,$T$32:$T$231,0))),"") | E21: =IFERROR(IF(8>$B$9,"",INDEX('Amenity Inventory'!$M$6:$M$205,MATCH(8,$T$32:$T$231,0))),"") | F21: =IFERROR(IF(8>$B$9,"",INDEX('Amenity Inventory'!$O$6:$O$205,MATCH(8,$T$32:$T$231,0))),"") | G21: =IFERROR(IF(8>$B$9,"",INDEX('Amenity Inventory'!$P$6:$P$205,MATCH(8,$T$32:$T$231,0))),"") | H21: =IFERROR(IF(8>$B$9,"",INDEX('Amenity Inventory'!$H$6:$H$205,MATCH(8,$T$32:$T$231,0))),"") | I21: =IFERROR(IF(8>$B$9,"",INDEX('Amenity Inventory'!$W$6:$W$205,MATCH(8,$T$32:$T$231,0))),"") | J21: =IFERROR(IF(8>$B$9,"",INDEX('Amenity Inventory'!$R$6:$R$205,MATCH(8,$T$32:$T$231,0))),"") | L21: In-Room Beverage | M21: =IFERROR(SUMIFS('Amenity Inventory'!$Q$6:$Q$205,'Amenity Inventory'!$B$6:$B$205,L21,'Amenity Inventory'!$V$6:$V$205,"Yes"),0)
A22: =IFERROR(IF(9>$B$9,"",INDEX('Amenity Inventory'!$A$6:$A$205,MATCH(9,$T$32:$T$231,0))),"") | B22: =IFERROR(IF(9>$B$9,"",INDEX('Amenity Inventory'!$C$6:$C$205,MATCH(9,$T$32:$T$231,0))),"") | C22: =IFERROR(IF(9>$B$9,"",INDEX('Amenity Inventory'!$B$6:$B$205,MATCH(9,$T$32:$T$231,0))),"") | D22: =IFERROR(IF(9>$B$9,"",INDEX('Amenity Inventory'!$E$6:$E$205,MATCH(9,$T$32:$T$231,0))),"") | E22: =IFERROR(IF(9>$B$9,"",INDEX('Amenity Inventory'!$M$6:$M$205,MATCH(9,$T$32:$T$231,0))),"") | F22: =IFERROR(IF(9>$B$9,"",INDEX('Amenity Inventory'!$O$6:$O$205,MATCH(9,$T$32:$T$231,0))),"") | G22: =IFERROR(IF(9>$B$9,"",INDEX('Amenity Inventory'!$P$6:$P$205,MATCH(9,$T$32:$T$231,0))),"") | H22: =IFERROR(IF(9>$B$9,"",INDEX('Amenity Inventory'!$H$6:$H$205,MATCH(9,$T$32:$T$231,0))),"") | I22: =IFERROR(IF(9>$B$9,"",INDEX('Amenity Inventory'!$W$6:$W$205,MATCH(9,$T$32:$T$231,0))),"") | J22: =IFERROR(IF(9>$B$9,"",INDEX('Amenity Inventory'!$R$6:$R$205,MATCH(9,$T$32:$T$231,0))),"") | L22: Guest Room Supplies | M22: =IFERROR(SUMIFS('Amenity Inventory'!$Q$6:$Q$205,'Amenity Inventory'!$B$6:$B$205,L22,'Amenity Inventory'!$V$6:$V$205,"Yes"),0)
A23: =IFERROR(IF(10>$B$9,"",INDEX('Amenity Inventory'!$A$6:$A$205,MATCH(10,$T$32:$T$231,0))),"") | B23: =IFERROR(IF(10>$B$9,"",INDEX('Amenity Inventory'!$C$6:$C$205,MATCH(10,$T$32:$T$231,0))),"") | C23: =IFERROR(IF(10>$B$9,"",INDEX('Amenity Inventory'!$B$6:$B$205,MATCH(10,$T$32:$T$231,0))),"") | D23: =IFERROR(IF(10>$B$9,"",INDEX('Amenity Inventory'!$E$6:$E$205,MATCH(10,$T$32:$T$231,0))),"") | E23: =IFERROR(IF(10>$B$9,"",INDEX('Amenity Inventory'!$M$6:$M$205,MATCH(10,$T$32:$T$231,0))),"") | F23: =IFERROR(IF(10>$B$9,"",INDEX('Amenity Inventory'!$O$6:$O$205,MATCH(10,$T$32:$T$231,0))),"") | G23: =IFERROR(IF(10>$B$9,"",INDEX('Amenity Inventory'!$P$6:$P$205,MATCH(10,$T$32:$T$231,0))),"") | H23: =IFERROR(IF(10>$B$9,"",INDEX('Amenity Inventory'!$H$6:$H$205,MATCH(10,$T$32:$T$231,0))),"") | I23: =IFERROR(IF(10>$B$9,"",INDEX('Amenity Inventory'!$W$6:$W$205,MATCH(10,$T$32:$T$231,0))),"") | J23: =IFERROR(IF(10>$B$9,"",INDEX('Amenity Inventory'!$R$6:$R$205,MATCH(10,$T$32:$T$231,0))),"") | L23: Housekeeping | M23: =IFERROR(SUMIFS('Amenity Inventory'!$Q$6:$Q$205,'Amenity Inventory'!$B$6:$B$205,L23,'Amenity Inventory'!$V$6:$V$205,"Yes"),0)
A24: ="" | B24: ="" | C24: ="" | D24: ="" | E24: ="" | F24: ="" | G24: ="" | H24: ="" | ... J24: ="" | L24: Front Desk | M24: =IFERROR(SUMIFS('Amenity Inventory'!$Q$6:$Q$205,'Amenity Inventory'!$B$6:$B$205,L24,'Amenity Inventory'!$V$6:$V$205,"Yes"),0)
A25: ="" | B25: ="" | C25: ="" | D25: ="" | E25: ="" | F25: ="" | G25: ="" | H25: ="" | ... J25: ="" | L25: Pool and Recreation | M25: =IFERROR(SUMIFS('Amenity Inventory'!$Q$6:$Q$205,'Amenity Inventory'!$B$6:$B$205,L25,'Amenity Inventory'!$V$6:$V$205,"Yes"),0)
A26: ="" | B26: ="" | C26: ="" | D26: ="" | E26: ="" | F26: ="" | G26: ="" | H26: ="" | ... J26: ="" | L26: Public Areas | M26: =IFERROR(SUMIFS('Amenity Inventory'!$Q$6:$Q$205,'Amenity Inventory'!$B$6:$B$205,L26,'Amenity Inventory'!$V$6:$V$205,"Yes"),0)
A27: ="" | B27: ="" | C27: ="" | D27: ="" | E27: ="" | F27: ="" | G27: ="" | H27: ="" | ... J27: ="" | L27: Meetings and Events | M27: =IFERROR(SUMIFS('Amenity Inventory'!$Q$6:$Q$205,'Amenity Inventory'!$B$6:$B$205,L27,'Amenity Inventory'!$V$6:$V$205,"Yes"),0)
A28: ="" | B28: ="" | C28: ="" | D28: ="" | E28: ="" | F28: ="" | G28: ="" | H28: ="" | ... J28: ="" | L28: Other | M28: =IFERROR(SUMIFS('Amenity Inventory'!$Q$6:$Q$205,'Amenity Inventory'!$B$6:$B$205,L28,'Amenity Inventory'!$V$6:$V$205,"Yes"),0)
A29: ="" | B29: ="" | C29: ="" | D29: ="" | E29: ="" | F29: ="" | G29: ="" | H29: ="" | ... J29: ="" | M29: =""
A30: ="" | B30: ="" | C30: ="" | D30: ="" | E30: ="" | F30: ="" | G30: ="" | H30: ="" | ... J30: ="" | M30: =""
A31: ="" | B31: ="" | C31: ="" | D31: ="" | E31: ="" | F31: ="" | G31: ="" | H31: ="" | ... J31: ="" | M31: =""
A32: ="" | B32: ="" | C32: ="" | D32: ="" | E32: ="" | F32: ="" | G32: ="" | H32: ="" | ... J32: ="" | M32: ="" | S32: =IFERROR(IF(AND('Amenity Inventory'!$A$6<>"",'Amenity Inventory'!$P$6>0),IF('Amenity Inventory'!$R$6="Out of Stock",1,IF('Amenity Inventory'!$R$6="Reorder Now",2,IF('Amenity Inventory'!$R$6="Below Par",3,4)))+ROW()/10000,""),"") | T32: =IFERROR(IF(S32="","",COUNTIF($S$32:$S$231,"<"&S32)+1),"")
A33: ="" | B33: ="" | C33: ="" | D33: ="" | E33: ="" | F33: ="" | G33: ="" | H33: ="" | ... J33: ="" | M33: ="" | S33: =IFERROR(IF(AND('Amenity Inventory'!$A$7<>"",'Amenity Inventory'!$P$7>0),IF('Amenity Inventory'!$R$7="Out of Stock",1,IF('Amenity Inventory'!$R$7="Reorder Now",2,IF('Amenity Inventory'!$R$7="Below Par",3,4)))+ROW()/10000,""),"") | T33: =IFERROR(IF(S33="","",COUNTIF($S$32:$S$231,"<"&S33)+1),"")
A34: ="" | B34: ="" | C34: ="" | D34: ="" | E34: ="" | F34: ="" | G34: ="" | H34: ="" | ... J34: ="" | M34: ="" | S34: =IFERROR(IF(AND('Amenity Inventory'!$A$8<>"",'Amenity Inventory'!$P$8>0),IF('Amenity Inventory'!$R$8="Out of Stock",1,IF('Amenity Inventory'!$R$8="Reorder Now",2,IF('Amenity Inventory'!$R$8="Below Par",3,4)))+ROW()/10000,""),"") | T34: =IFERROR(IF(S34="","",COUNTIF($S$32:$S$231,"<"&S34)+1),"")
A35: ="" | B35: ="" | C35: ="" | D35: ="" | E35: ="" | F35: ="" | G35: ="" | H35: ="" | ... J35: ="" | M35: ="" | S35: =IFERROR(IF(AND('Amenity Inventory'!$A$9<>"",'Amenity Inventory'!$P$9>0),IF('Amenity Inventory'!$R$9="Out of Stock",1,IF('Amenity Inventory'!$R$9="Reorder Now",2,IF('Amenity Inventory'!$R$9="Below Par",3,4)))+ROW()/10000,""),"") | T35: =IFERROR(IF(S35="","",COUNTIF($S$32:$S$231,"<"&S35)+1),"")
A36: ="" | B36: ="" | C36: ="" | D36: ="" | E36: ="" | F36: ="" | G36: ="" | H36: ="" | ... J36: ="" | M36: ="" | S36: =IFERROR(IF(AND('Amenity Inventory'!$A$10<>"",'Amenity Inventory'!$P$10>0),IF('Amenity Inventory'!$R$10="Out of Stock",1,IF('Amenity Inventory'!$R$10="Reorder Now",2,IF('Amenity Inventory'!$R$10="Below Par",3,4)))+ROW()/10000,""),"") | T36: =IFERROR(IF(S36="","",COUNTIF($S$32:$S$231,"<"&S36)+1),"")
A37: ="" | B37: ="" | C37: ="" | D37: ="" | E37: ="" | F37: ="" | G37: ="" | H37: ="" | ... J37: ="" | M37: ="" | S37: =IFERROR(IF(AND('Amenity Inventory'!$A$11<>"",'Amenity Inventory'!$P$11>0),IF('Amenity Inventory'!$R$11="Out of Stock",1,IF('Amenity Inventory'!$R$11="Reorder Now",2,IF('Amenity Inventory'!$R$11="Below Par",3,4)))+ROW()/10000,""),"") | T37: =IFERROR(IF(S37="","",COUNTIF($S$32:$S$231,"<"&S37)+1),"")
A38: ="" | B38: ="" | C38: ="" | D38: ="" | E38: ="" | F38: ="" | G38: ="" | H38: ="" | ... J38: ="" | M38: ="" | S38: =IFERROR(IF(AND('Amenity Inventory'!$A$12<>"",'Amenity Inventory'!$P$12>0),IF('Amenity Inventory'!$R$12="Out of Stock",1,IF('Amenity Inventory'!$R$12="Reorder Now",2,IF('Amenity Inventory'!$R$12="Below Par",3,4)))+ROW()/10000,""),"") | T38: =IFERROR(IF(S38="","",COUNTIF($S$32:$S$231,"<"&S38)+1),"")
A39: ="" | B39: ="" | C39: ="" | D39: ="" | E39: ="" | F39: ="" | G39: ="" | H39: ="" | ... J39: ="" | M39: ="" | S39: =IFERROR(IF(AND('Amenity Inventory'!$A$13<>"",'Amenity Inventory'!$P$13>0),IF('Amenity Inventory'!$R$13="Out of Stock",1,IF('Amenity Inventory'!$R$13="Reorder Now",2,IF('Amenity Inventory'!$R$13="Below Par",3,4)))+ROW()/10000,""),"") | T39: =IFERROR(IF(S39="","",COUNTIF($S$32:$S$231,"<"&S39)+1),"")
A40: ="" | B40: ="" | C40: ="" | D40: ="" | E40: ="" | F40: ="" | G40: ="" | H40: ="" | ... J40: ="" | M40: ="" | S40: =IFERROR(IF(AND('Amenity Inventory'!$A$14<>"",'Amenity Inventory'!$P$14>0),IF('Amenity Inventory'!$R$14="Out of Stock",1,IF('Amenity Inventory'!$R$14="Reorder Now",2,IF('Amenity Inventory'!$R$14="Below Par",3,4)))+ROW()/10000,""),"") | T40: =IFERROR(IF(S40="","",COUNTIF($S$32:$S$231,"<"&S40)+1),"")
A41: ="" | B41: ="" | C41: ="" | D41: ="" | E41: ="" | F41: ="" | G41: ="" | H41: ="" | ... J41: ="" | M41: ="" | S41: =IFERROR(IF(AND('Amenity Inventory'!$A$15<>"",'Amenity Inventory'!$P$15>0),IF('Amenity Inventory'!$R$15="Out of Stock",1,IF('Amenity Inventory'!$R$15="Reorder Now",2,IF('Amenity Inventory'!$R$15="Below Par",3,4)))+ROW()/10000,""),"") | T41: =IFERROR(IF(S41="","",COUNTIF($S$32:$S$231,"<"&S41)+1),"")
A42: ="" | B42: ="" | C42: ="" | D42: ="" | E42: ="" | F42: ="" | G42: ="" | H42: ="" | ... J42: ="" | M42: ="" | S42: =IFERROR(IF(AND('Amenity Inventory'!$A$16<>"",'Amenity Inventory'!$P$16>0),IF('Amenity Inventory'!$R$16="Out of Stock",1,IF('Amenity Inventory'!$R$16="Reorder Now",2,IF('Amenity Inventory'!$R$16="Below Par",3,4)))+ROW()/10000,""),"") | T42: =IFERROR(IF(S42="","",COUNTIF($S$32:$S$231,"<"&S42)+1),"")
A43: ="" | B43: ="" | C43: ="" | D43: ="" | E43: ="" | F43: ="" | G43: ="" | H43: ="" | ... J43: ="" | M43: ="" | S43: =IFERROR(IF(AND('Amenity Inventory'!$A$17<>"",'Amenity Inventory'!$P$17>0),IF('Amenity Inventory'!$R$17="Out of Stock",1,IF('Amenity Inventory'!$R$17="Reorder Now",2,IF('Amenity Inventory'!$R$17="Below Par",3,4)))+ROW()/10000,""),"") | T43: =IFERROR(IF(S43="","",COUNTIF($S$32:$S$231,"<"&S43)+1),"")
...

Sheet Amenity Inventory
A1: Amenity Inventory
A2: Enter master item details and opening quantities in the yellow cells. Record all receipts, issues, and adjustments on the Stock Movements worksheet.
A5: Amenity ID | B5: Category | C5: Item Name | D5: Unit of Measure | E5: Storage Location | F5: Preferred Supplier | G5: Supplier Item Number | H5: Unit Cost | I5: Opening Quantity | J5: Movement Receipts | K5: Movement Issues | L5: Net Adjustments | M5: Calculated On Hand | N5: Par Level | O5: Reorder Point | P5: Reorder Quantity | Q5: Inventory Value | R5: Stock Status | S5: Last Physical Count | T5: Next Count Due | U5: Count Status | V5: Active | W5: Notes
A6: AMN-1001 | B6: Guest Room Toiletries | C6: Shampoo, 1 oz Bottle | D6: Case | E6: Housekeeping Main Storeroom | F6: Guest Supply Co. | G6: SH-1OZ-200 | H6: 48 | I6: 18 | J6: =IFERROR(IF($A6="","",SUMIFS('Stock Movements'!$F$6:$F$505,'Stock Movements'!$C$6:$C$505,$A6,'Stock Movements'!$E$6:$E$505,"Receipt")),"") | K6: =IFERROR(IF($A6="","",SUMIFS('Stock Movements'!$F$6:$F$505,'Stock Movements'!$C$6:$C$505,$A6,'Stock Movements'!$E$6:$E$505,"Issue")),"") | L6: =IFERROR(IF($A6="","",SUMIFS('Stock Movements'!$G$6:$G$505,'Stock Movements'!$C$6:$C$505,$A6,'Stock Movements'!$E$6:$E$505,"Adjustment Increase")+SUMIFS('Stock Movements'!$G$6:$G$505,'Stock Movements'!$C$6:$C$505,$A6,'Stock Movements'!$E$6:$E$505,"Adjustment Decrease")),"") | M6: =IFERROR(IF($A6="","",$I6+$J6-$K6+$L6),"") | N6: 24 | O6: 8 | P6: =IFERROR(IF($A6="","",IF($V6<>"Yes",0,IF($M6<=$O6,MAX(0,$N6-$M6),0))),"") | Q6: =IFERROR(IF($A6="","",MAX(0,$M6)*$H6),"") | R6: =IFERROR(IF($A6="","",IF($V6<>"Yes","Inactive",IF($M6<=0,"Out of Stock",IF($M6<=$O6,"Reorder Now",IF($M6<$N6,"Below Par","In Stock"))))),"") | S6: 46226 | T6: =IFERROR(IF($A6="","",IF($S6="","",$S6+Dashboard!$B$5)),"") | U6: =IFERROR(IF($A6="","",IF($V6<>"Yes","Inactive",IF($S6="","Never Counted",IF($T6<TODAY(),"Overdue",IF($T6<=TODAY()+Dashboard!$B$6,"Due Soon","Current"))))),"") | V6: Yes | W6: 200 bottles per case
A7: AMN-1002 | B7: Guest Room Toiletries | C7: Conditioner, 1 oz Bottle | D7: Case | E7: Housekeeping Main Storeroom | F7: Guest Supply Co. | G7: CO-1OZ-200 | H7: 49.5 | I7: 16 | J7: =IFERROR(IF($A7="","",SUMIFS('Stock Movements'!$F$6:$F$505,'Stock Movements'!$C$6:$C$505,$A7,'Stock Movements'!$E$6:$E$505,"Receipt")),"") | K7: =IFERROR(IF($A7="","",SUMIFS('Stock Movements'!$F$6:$F$505,'Stock Movements'!$C$6:$C$505,$A7,'Stock Movements'!$E$6:$E$505,"Issue")),"") | L7: =IFERROR(IF($A7="","",SUMIFS('Stock Movements'!$G$6:$G$505,'Stock Movements'!$C$6:$C$505,$A7,'Stock Movements'!$E$6:$E$505,"Adjustment Increase")+SUMIFS('Stock Movements'!$G$6:$G$505,'Stock Movements'!$C$6:$C$505,$A7,'Stock Movements'!$E$6:$E$505,"Adjustment Decrease")),"") | M7: =IFERROR(IF($A7="","",$I7+$J7-$K7+$L7),"") | N7: 24 | O7: 8 | P7: =IFERROR(IF($A7="","",IF($V7<>"Yes",0,IF($M7<=$O7,MAX(0,$N7-$M7),0))),"") | Q7: =IFERROR(IF($A7="","",MAX(0,$M7)*$H7),"") | R7: =IFERROR(IF($A7="","",IF($V7<>"Yes","Inactive",IF($M7<=0,"Out of Stock",IF($M7<=$O7,"Reorder Now",IF($M7<$N7,"Below Par","In Stock"))))),"") | S7: 46244 | T7: =IFERROR(IF($A7="","",IF($S7="","",$S7+Dashboard!$B$5)),"") | U7: =IFERROR(IF($A7="","",IF($V7<>"Yes","Inactive",IF($S7="","Never Counted",IF($T7<TODAY(),"Overdue",IF($T7<=TODAY()+Dashboard!$B$6,"Due Soon","Current"))))),"") | V7: Yes | W7: 200 bottles per case
A8: AMN-1003 | B8: Guest Room Toiletries | C8: Wrapped Bath Soap | D8: Case | E8: Housekeeping Main Storeroom | F8: Guest Supply Co. | G8: BS-075-500 | H8: 62 | I8: 10 | J8: =IFERROR(IF($A8="","",SUMIFS('Stock Movements'!$F$6:$F$505,'Stock Movements'!$C$6:$C$505,$A8,'Stock Movements'!$E$6:$E$505,"Receipt")),"") | K8: =IFERROR(IF($A8="","",SUMIFS('Stock Movements'!$F$6:$F$505,'Stock Movements'!$C$6:$C$505,$A8,'Stock Movements'!$E$6:$E$505,"Issue")),"") | L8: =IFERROR(IF($A8="","",SUMIFS('Stock Movements'!$G$6:$G$505,'Stock Movements'!$C$6:$C$505,$A8,'Stock Movements'!$E$6:$E$505,"Adjustment Increase")+SUMIFS('Stock Movements'!$G$6:$G$505,'Stock Movements'!$C$6:$C$505,$A8,'Stock Movements'!$E$6:$E$505,"Adjustment Decrease")),"") | M8: =IFERROR(IF($A8="","",$I8+$J8-$K8+$L8),"") | N8: 18 | O8: 6 | P8: =IFERROR(IF($A8="","",IF($V8<>"Yes",0,IF($M8<=$O8,MAX(0,$N8-$M8),0))),"") | Q8: =IFERROR(IF($A8="","",MAX(0,$M8)*$H8),"") | R8: =IFERROR(IF($A8="","",IF($V8<>"Yes","Inactive",IF($M8<=0,"Out of Stock",IF($M8<=$O8,"Reorder Now",IF($M8<$N8,"Below Par","In Stock"))))),"") | S8: 46261 | T8: =IFERROR(IF($A8="","",IF($S8="","",$S8+Dashboard!$B$5)),"") | U8: =IFERROR(IF($A8="","",IF($V8<>"Yes","Inactive",IF($S8="","Never Counted",IF($T8<TODAY(),"Overdue",IF($T8<=TODAY()+Dashboard!$B$6,"Due Soon","Current"))))),"") | V8: Yes | W8: 500 bars per case
A9: AMN-1004 | B9: Guest Room Supplies | C9: Facial Tissue Cube | D9: Case | E9: Floor 2 Linen Room | F9: Lodging Essentials | G9: FT-CUBE-36 | H9: 41.75 | I9: 7 | J9: =IFERROR(IF($A9="","",SUMIFS('Stock Movements'!$F$6:$F$505,'Stock Movements'!$C$6:$C$505,$A9,'Stock Movements'!$E$6:$E$505,"Receipt")),"") | K9: =IFERROR(IF($A9="","",SUMIFS('Stock Movements'!$F$6:$F$505,'Stock Movements'!$C$6:$C$505,$A9,'Stock Movements'!$E$6:$E$505,"Issue")),"") | L9: =IFERROR(IF($A9="","",SUMIFS('Stock Movements'!$G$6:$G$505,'Stock Movements'!$C$6:$C$505,$A9,'Stock Movements'!$E$6:$E$505,"Adjustment Increase")+SUMIFS('Stock Movements'!$G$6:$G$505,'Stock Movements'!$C$6:$C$505,$A9,'Stock Movements'!$E$6:$E$505,"Adjustment Decrease")),"") | M9: =IFERROR(IF($A9="","",$I9+$J9-$K9+$L9),"") | N9: 12 | O9: 4 | P9: =IFERROR(IF($A9="","",IF($V9<>"Yes",0,IF($M9<=$O9,MAX(0,$N9-$M9),0))),"") | Q9: =IFERROR(IF($A9="","",MAX(0,$M9)*$H9),"") | R9: =IFERROR(IF($A9="","",IF($V9<>"Yes","Inactive",IF($M9<=0,"Out of Stock",IF($M9<=$O9,"Reorder Now",IF($M9<$N9,"Below Par","In Stock"))))),"") | S9: 46233 | T9: =IFERROR(IF($A9="","",IF($S9="","",$S9+Dashboard!$B$5)),"") | U9: =IFERROR(IF($A9="","",IF($V9<>"Yes","Inactive",IF($S9="","Never Counted",IF($T9<TODAY(),"Overdue",IF($T9<=TODAY()+Dashboard!$B$6,"Due Soon","Current"))))),"") | V9: Yes | W9: 36 boxes per case
A10: AMN-1005 | B10: Guest Room Supplies | C10: Two-Ply Toilet Tissue | D10: Case | E10: Housekeeping Main Storeroom | F10: Lodging Essentials | G10: TT-2PLY-80 | H10: 58.25 | I10: 14 | J10: =IFERROR(IF($A10="","",SUMIFS('Stock Movements'!$F$6:$F$505,'Stock Movements'!$C$6:$C$505,$A10,'Stock Movements'!$E$6:$E$505,"Receipt")),"") | K10: =IFERROR(IF($A10="","",SUMIFS('Stock Movements'!$F$6:$F$505,'Stock Movements'!$C$6:$C$505,$A10,'Stock Movements'!$E$6:$E$505,"Issue")),"") | L10: =IFERROR(IF($A10="","",SUMIFS('Stock Movements'!$G$6:$G$505,'Stock Movements'!$C$6:$C$505,$A10,'Stock Movements'!$E$6:$E$505,"Adjustment Increase")+SUMIFS('Stock Movements'!$G$6:$G$505,'Stock Movements'!$C$6:$C$505,$A10,'Stock Movements'!$E$6:$E$505,"Adjustment Decrease")),"") | M10: =IFERROR(IF($A10="","",$I10+$J10-$K10+$L10),"") | N10: 20 | O10: 7 | P10: =IFERROR(IF($A10="","",IF($V10<>"Yes",0,IF($M10<=$O10,MAX(0,$N10-$M10),0))),"") | Q10: =IFERROR(IF($A10="","",MAX(0,$M10)*$H10),"") | R10: =IFERROR(IF($A10="","",IF($V10<>"Yes","Inactive",IF($M10<=0,"Out of Stock",IF($M10<=$O10,"Reorder Now",IF($M10<$N10,"Below Par","In Stock"))))),"") | S10: 46245 | T10: =IFERROR(IF($A10="","",IF($S10="","",$S10+Dashboard!$B$5)),"") | U10: =IFERROR(IF($A10="","",IF($V10<>"Yes","Inactive",IF($S10="","Never Counted",IF($T10<TODAY(),"Overdue",IF($T10<=TODAY()+Dashboard!$B$6,"Due Soon","Current"))))),"") | V10: Yes | W10: 80 rolls per case
A11: AMN-1006 | B11: In-Room Beverage | C11: Regular Coffee Packet | D11: Box | E11: Breakfast Storage | F11: Hospitality Beverage Supply | G11: CF-REG-100 | H11: 29.95 | I11: 6 | J11: =IFERROR(IF($A11="","",SUMIFS('Stock Movements'!$F$6:$F$505,'Stock Movements'!$C$6:$C$505,$A11,'Stock Movements'!$E$6:$E$505,"Receipt")),"") | K11: =IFERROR(IF($A11="","",SUMIFS('Stock Movements'!$F$6:$F$505,'Stock Movements'!$C$6:$C$505,$A11,'Stock Movements'!$E$6:$E$505,"Issue")),"") | L11: =IFERROR(IF($A11="","",SUMIFS('Stock Movements'!$G$6:$G$505,'Stock Movements'!$C$6:$C$505,$A11,'Stock Movements'!$E$6:$E$505,"Adjustment Increase")+SUMIFS('Stock Movements'!$G$6:$G$505,'Stock Movements'!$C$6:$C$505,$A11,'Stock Movements'!$E$6:$E$505,"Adjustment Decrease")),"") | M11: =IFERROR(IF($A11="","",$I11+$J11-$K11+$L11),"") | N11: 12 | O11: 4 | P11: =IFERROR(IF($A11="","",IF($V11<>"Yes",0,IF($M11<=$O11,MAX(0,$N11-$M11),0))),"") | Q11: =IFERROR(IF($A11="","",MAX(0,$M11)*$H11),"") | R11: =IFERROR(IF($A11="","",IF($V11<>"Yes","Inactive",IF($M11<=0,"Out of Stock",IF($M11<=$O11,"Reorder Now",IF($M11<$N11,"Below Par","In Stock"))))),"") | S11: 46263 | T11: =IFERROR(IF($A11="","",IF($S11="","",$S11+Dashboard!$B$5)),"") | U11: =IFERROR(IF($A11="","",IF($V11<>"Yes","Inactive",IF($S11="","Never Counted",IF($T11<TODAY(),"Overdue",IF($T11<=TODAY()+Dashboard!$B$6,"Due Soon","Current"))))),"") | V11: Yes | W11: 100 packets per box
A12: AMN-1007 | B12: In-Room Beverage | C12: Decaffeinated Coffee Packet | D12: Box | E12: Breakfast Storage | F12: Hospitality Beverage Supply | G12: CF-DEC-100 | H12: 31.5 | I12: 5 | J12: =IFERROR(IF($A12="","",SUMIFS('Stock Movements'!$F$6:$F$505,'Stock Movements'!$C$6:$C$505,$A12,'Stock Movements'!$E$6:$E$505,"Receipt")),"") | K12: =IFERROR(IF($A12="","",SUMIFS('Stock Movements'!$F$6:$F$505,'Stock Movements'!$C$6:$C$505,$A12,'Stock Movements'!$E$6:$E$505,"Issue")),"") | L12: =IFERROR(IF($A12="","",SUMIFS('Stock Movements'!$G$6:$G$505,'Stock Movements'!$C$6:$C$505,$A12,'Stock Movements'!$E$6:$E$505,"Adjustment Increase")+SUMIFS('Stock Movements'!$G$6:$G$505,'Stock Movements'!$C$6:$C$505,$A12,'Stock Movements'!$E$6:$E$505,"Adjustment Decrease")),"") | M12: =IFERROR(IF($A12="","",$I12+$J12-$K12+$L12),"") | N12: 8 | O12: 3 | P12: =IFERROR(IF($A12="","",IF($V12<>"Yes",0,IF($M12<=$O12,MAX(0,$N12-$M12),0))),"") | Q12: =IFERROR(IF($A12="","",MAX(0,$M12)*$H12),"") | R12: =IFERROR(IF($A12="","",IF($V12<>"Yes","Inactive",IF($M12<=0,"Out of Stock",IF($M12<=$O12,"Reorder Now",IF($M12<$N12,"Below Par","In Stock"))))),"") | S12: 46236 | T12: =IFERROR(IF($A12="","",IF($S12="","",$S12+Dashboard!$B$5)),"") | U12: =IFERROR(IF($A12="","",IF($V12<>"Yes","Inactive",IF($S12="","Never Counted",IF($T12<TODAY(),"Overdue",IF($T12<=TODAY()+Dashboard!$B$6,"Due Soon","Current"))))),"") | V12: Yes | W12: 100 packets per box
A13: AMN-1008 | B13: Front Desk | C13: Guest Toothbrush Kit | D13: Pack | E13: Front Desk Back Office | F13: Welcome Kit Distributors | G13: TB-KIT-50 | H13: 22 | I13: 3 | J13: =IFERROR(IF($A13="","",SUMIFS('Stock Movements'!$F$6:$F$505,'Stock Movements'!$C$6:$C$505,$A13,'Stock Movements'!$E$6:$E$505,"Receipt")),"") | K13: =IFERROR(IF($A13="","",SUMIFS('Stock Movements'!$F$6:$F$505,'Stock Movements'!$C$6:$C$505,$A13,'Stock Movements'!$E$6:$E$505,"Issue")),"") | L13: =IFERROR(IF($A13="","",SUMIFS('Stock Movements'!$G$6:$G$505,'Stock Movements'!$C$6:$C$505,$A13,'Stock Movements'!$E$6:$E$505,"Adjustment Increase")+SUMIFS('Stock Movements'!$G$6:$G$505,'Stock Movements'!$C$6:$C$505,$A13,'Stock Movements'!$E$6:$E$505,"Adjustment Decrease")),"") | M13: =IFERROR(IF($A13="","",$I13+$J13-$K13+$L13),"") | N13: 6 | O13: 2 | P13: =IFERROR(IF($A13="","",IF($V13<>"Yes",0,IF($M13<=$O13,MAX(0,$N13-$M13),0))),"") | Q13: =IFERROR(IF($A13="","",MAX(0,$M13)*$H13),"") | R13: =IFERROR(IF($A13="","",IF($V13<>"Yes","Inactive",IF($M13<=0,"Out of Stock",IF($M13<=$O13,"Reorder Now",IF($M13<$N13,"Below Par","In Stock"))))),"") | S13: 46246 | T13: =IFERROR(IF($A13="","",IF($S13="","",$S13+Dashboard!$B$5)),"") | U13: =IFERROR(IF($A13="","",IF($V13<>"Yes","Inactive",IF($S13="","Never Counted",IF($T13<TODAY(),"Overdue",IF($T13<=TODAY()+Dashboard!$B$6,"Due Soon","Current"))))),"") | V13: Yes | W13: 50 kits per pack
A14: AMN-1009 | B14: Pool and Recreation | C14: Pool Towel | D14: Each | E14: Pool Linen Room | F14: Commercial Linen Source | G14: PT-30X60-WH | H14: 8.75 | I14: 85 | J14: =IFERROR(IF($A14="","",SUMIFS('Stock Movements'!$F$6:$F$505,'Stock Movements'!$C$6:$C$505,$A14,'Stock Movements'!$E$6:$E$505,"Receipt")),"") | K14: =IFERROR(IF($A14="","",SUMIFS('Stock Movements'!$F$6:$F$505,'Stock Movements'!$C$6:$C$505,$A14,'Stock Movements'!$E$6:$E$505,"Issue")),"") | L14: =IFERROR(IF($A14="","",SUMIFS('Stock Movements'!$G$6:$G$505,'Stock Movements'!$C$6:$C$505,$A14,'Stock Movements'!$E$6:$E$505,"Adjustment Increase")+SUMIFS('Stock Movements'!$G$6:$G$505,'Stock Movements'!$C$6:$C$505,$A14,'Stock Movements'!$E$6:$E$505,"Adjustment Decrease")),"") | M14: =IFERROR(IF($A14="","",$I14+$J14-$K14+$L14),"") | N14: 120 | O14: 60 | P14: =IFERROR(IF($A14="","",IF($V14<>"Yes",0,IF($M14<=$O14,MAX(0,$N14-$M14),0))),"") | Q14: =IFERROR(IF($A14="","",MAX(0,$M14)*$H14),"") | R14: =IFERROR(IF($A14="","",IF($V14<>"Yes","Inactive",IF($M14<=0,"Out of Stock",IF($M14<=$O14,"Reorder Now",IF($M14<$N14,"Below Par","In Stock"))))),"") | S14: 46259 | T14: =IFERROR(IF($A14="","",IF($S14="","",$S14+Dashboard!$B$5)),"") | U14: =IFERROR(IF($A14="","",IF($V14<>"Yes","Inactive",IF($S14="","Never Counted",IF($T14<TODAY(),"Overdue",IF($T14<=TODAY()+Dashboard!$B$6,"Due Soon","Current"))))),"") | V14: Yes | W14: White cotton pool towel
A15: AMN-1010 | B15: Meetings and Events | C15: Bottled Water, 16.9 oz | D15: Case | E15: Banquet Beverage Storage | F15: Regional Beverage Vendor | G15: BW-169-24 | H15: 7.95 | I15: 22 | J15: =IFERROR(IF($A15="","",SUMIFS('Stock Movements'!$F$6:$F$505,'Stock Movements'!$C$6:$C$505,$A15,'Stock Movements'!$E$6:$E$505,"Receipt")),"") | K15: =IFERROR(IF($A15="","",SUMIFS('Stock Movements'!$F$6:$F$505,'Stock Movements'!$C$6:$C$505,$A15,'Stock Movements'!$E$6:$E$505,"Issue")),"") | L15: =IFERROR(IF($A15="","",SUMIFS('Stock Movements'!$G$6:$G$505,'Stock Movements'!$C$6:$C$505,$A15,'Stock Movements'!$E$6:$E$505,"Adjustment Increase")+SUMIFS('Stock Movements'!$G$6:$G$505,'Stock Movements'!$C$6:$C$505,$A15,'Stock Movements'!$E$6:$E$505,"Adjustment Decrease")),"") | M15: =IFERROR(IF($A15="","",$I15+$J15-$K15+$L15),"") | N15: 30 | O15: 10 | P15: =IFERROR(IF($A15="","",IF($V15<>"Yes",0,IF($M15<=$O15,MAX(0,$N15-$M15),0))),"") | Q15: =IFERROR(IF($A15="","",MAX(0,$M15)*$H15),"") | R15: =IFERROR(IF($A15="","",IF($V15<>"Yes","Inactive",IF($M15<=0,"Out of Stock",IF($M15<=$O15,"Reorder Now",IF($M15<$N15,"Below Par","In Stock"))))),"") | S15: 46229 | T15: =IFERROR(IF($A15="","",IF($S15="","",$S15+Dashboard!$B$5)),"") | U15: =IFERROR(IF($A15="","",IF($V15<>"Yes","Inactive",IF($S15="","Never Counted",IF($T15<TODAY(),"Overdue",IF($T15<=TODAY()+Dashboard!$B$6,"Due Soon","Current"))))),"") | V15: Yes | W15: 24 bottles per case
J16: =IFERROR(IF($A16="","",SUMIFS('Stock Movements'!$F$6:$F$505,'Stock Movements'!$C$6:$C$505,$A16,'Stock Movements'!$E$6:$E$505,"Receipt")),"") | K16: =IFERROR(IF($A16="","",SUMIFS('Stock Movements'!$F$6:$F$505,'Stock Movements'!$C$6:$C$505,$A16,'Stock Movements'!$E$6:$E$505,"Issue")),"") | L16: =IFERROR(IF($A16="","",SUMIFS('Stock Movements'!$G$6:$G$505,'Stock Movements'!$C$6:$C$505,$A16,'Stock Movements'!$E$6:$E$505,"Adjustment Increase")+SUMIFS('Stock Movements'!$G$6:$G$505,'Stock Movements'!$C$6:$C$505,$A16,'Stock Movements'!$E$6:$E$505,"Adjustment Decrease")),"") | M16: =IFERROR(IF($A16="","",$I16+$J16-$K16+$L16),"") | P16: =IFERROR(IF($A16="","",IF($V16<>"Yes",0,IF($M16<=$O16,MAX(0,$N16-$M16),0))),"") | Q16: =IFERROR(IF($A16="","",MAX(0,$M16)*$H16),"") | R16: =IFERROR(IF($A16="","",IF($V16<>"Yes","Inactive",IF($M16<=0,"Out of Stock",IF($M16<=$O16,"Reorder Now",IF($M16<$N16,"Below Par","In Stock"))))),"") | T16: =IFERROR(IF($A16="","",IF($S16="","",$S16+Dashboard!$B$5)),"") | U16: =IFERROR(IF($A16="","",IF($V16<>"Yes","Inactive",IF($S16="","Never Counted",IF($T16<TODAY(),"Overdue",IF($T16<=TODAY()+Dashboard!$B$6,"Due Soon","Current"))))),"")
J17: =IFERROR(IF($A17="","",SUMIFS('Stock Movements'!$F$6:$F$505,'Stock Movements'!$C$6:$C$505,$A17,'Stock Movements'!$E$6:$E$505,"Receipt")),"") | K17: =IFERROR(IF($A17="","",SUMIFS('Stock Movements'!$F$6:$F$505,'Stock Movements'!$C$6:$C$505,$A17,'Stock Movements'!$E$6:$E$505,"Issue")),"") | L17: =IFERROR(IF($A17="","",SUMIFS('Stock Movements'!$G$6:$G$505,'Stock Movements'!$C$6:$C$505,$A17,'Stock Movements'!$E$6:$E$505,"Adjustment Increase")+SUMIFS('Stock Movements'!$G$6:$G$505,'Stock Movements'!$C$6:$C$505,$A17,'Stock Movements'!$E$6:$E$505,"Adjustment Decrease")),"") | M17: =IFERROR(IF($A17="","",$I17+$J17-$K17+$L17),"") | P17: =IFERROR(IF($A17="","",IF($V17<>"Yes",0,IF($M17<=$O17,MAX(0,$N17-$M17),0))),"") | Q17: =IFERROR(IF($A17="","",MAX(0,$M17)*$H17),"") | R17: =IFERROR(IF($A17="","",IF($V17<>"Yes","Inactive",IF($M17<=0,"Out of Stock",IF($M17<=$O17,"Reorder Now",IF($M17<$N17,"Below Par","In Stock"))))),"") | T17: =IFERROR(IF($A17="","",IF($S17="","",$S17+Dashboard!$B$5)),"") | U17: =IFERROR(IF($A17="","",IF($V17<>"Yes","Inactive",IF($S17="","Never Counted",IF($T17<TODAY(),"Overdue",IF($T17<=TODAY()+Dashboard!$B$6,"Due Soon","Current"))))),"")
J18: =IFERROR(IF($A18="","",SUMIFS('Stock Movements'!$F$6:$F$505,'Stock Movements'!$C$6:$C$505,$A18,'Stock Movements'!$E$6:$E$505,"Receipt")),"") | K18: =IFERROR(IF($A18="","",SUMIFS('Stock Movements'!$F$6:$F$505,'Stock Movements'!$C$6:$C$505,$A18,'Stock Movements'!$E$6:$E$505,"Issue")),"") | L18: =IFERROR(IF($A18="","",SUMIFS('Stock Movements'!$G$6:$G$505,'Stock Movements'!$C$6:$C$505,$A18,'Stock Movements'!$E$6:$E$505,"Adjustment Increase")+SUMIFS('Stock Movements'!$G$6:$G$505,'Stock Movements'!$C$6:$C$505,$A18,'Stock Movements'!$E$6:$E$505,"Adjustment Decrease")),"") | M18: =IFERROR(IF($A18="","",$I18+$J18-$K18+$L18),"") | P18: =IFERROR(IF($A18="","",IF($V18<>"Yes",0,IF($M18<=$O18,MAX(0,$N18-$M18),0))),"") | Q18: =IFERROR(IF($A18="","",MAX(0,$M18)*$H18),"") | R18: =IFERROR(IF($A18="","",IF($V18<>"Yes","Inactive",IF($M18<=0,"Out of Stock",IF($M18<=$O18,"Reorder Now",IF($M18<$N18,"Below Par","In Stock"))))),"") | T18: =IFERROR(IF($A18="","",IF($S18="","",$S18+Dashboard!$B$5)),"") | U18: =IFERROR(IF($A18="","",IF($V18<>"Yes","Inactive",IF($S18="","Never Counted",IF($T18<TODAY(),"Overdue",IF($T18<=TODAY()+Dashboard!$B$6,"Due Soon","Current"))))),"")
J19: =IFERROR(IF($A19="","",SUMIFS('Stock Movements'!$F$6:$F$505,'Stock Movements'!$C$6:$C$505,$A19,'Stock Movements'!$E$6:$E$505,"Receipt")),"") | K19: =IFERROR(IF($A19="","",SUMIFS('Stock Movements'!$F$6:$F$505,'Stock Movements'!$C$6:$C$505,$A19,'Stock Movements'!$E$6:$E$505,"Issue")),"") | L19: =IFERROR(IF($A19="","",SUMIFS('Stock Movements'!$G$6:$G$505,'Stock Movements'!$C$6:$C$505,$A19,'Stock Movements'!$E$6:$E$505,"Adjustment Increase")+SUMIFS('Stock Movements'!$G$6:$G$505,'Stock Movements'!$C$6:$C$505,$A19,'Stock Movements'!$E$6:$E$505,"Adjustment Decrease")),"") | M19: =IFERROR(IF($A19="","",$I19+$J19-$K19+$L19),"") | P19: =IFERROR(IF($A19="","",IF($V19<>"Yes",0,IF($M19<=$O19,MAX(0,$N19-$M19),0))),"") | Q19: =IFERROR(IF($A19="","",MAX(0,$M19)*$H19),"") | R19: =IFERROR(IF($A19="","",IF($V19<>"Yes","Inactive",IF($M19<=0,"Out of Stock",IF($M19<=$O19,"Reorder Now",IF($M19<$N19,"Below Par","In Stock"))))),"") | T19: =IFERROR(IF($A19="","",IF($S19="","",$S19+Dashboard!$B$5)),"") | U19: =IFERROR(IF($A19="","",IF($V19<>"Yes","Inactive",IF($S19="","Never Counted",IF($T19<TODAY(),"Overdue",IF($T19<=TODAY()+Dashboard!$B$6,"Due Soon","Current"))))),"")
J20: =IFERROR(IF($A20="","",SUMIFS('Stock Movements'!$F$6:$F$505,'Stock Movements'!$C$6:$C$505,$A20,'Stock Movements'!$E$6:$E$505,"Receipt")),"") | K20: =IFERROR(IF($A20="","",SUMIFS('Stock Movements'!$F$6:$F$505,'Stock Movements'!$C$6:$C$505,$A20,'Stock Movements'!$E$6:$E$505,"Issue")),"") | L20: =IFERROR(IF($A20="","",SUMIFS('Stock Movements'!$G$6:$G$505,'Stock Movements'!$C$6:$C$505,$A20,'Stock Movements'!$E$6:$E$505,"Adjustment Increase")+SUMIFS('Stock Movements'!$G$6:$G$505,'Stock Movements'!$C$6:$C$505,$A20,'Stock Movements'!$E$6:$E$505,"Adjustment Decrease")),"") | M20: =IFERROR(IF($A20="","",$I20+$J20-$K20+$L20),"") | P20: =IFERROR(IF($A20="","",IF($V20<>"Yes",0,IF($M20<=$O20,MAX(0,$N20-$M20),0))),"") | Q20: =IFERROR(IF($A20="","",MAX(0,$M20)*$H20),"") | R20: =IFERROR(IF($A20="","",IF($V20<>"Yes","Inactive",IF($M20<=0,"Out of Stock",IF($M20<=$O20,"Reorder Now",IF($M20<$N20,"Below Par","In Stock"))))),"") | T20: =IFERROR(IF($A20="","",IF($S20="","",$S20+Dashboard!$B$5)),"") | U20: =IFERROR(IF($A20="","",IF($V20<>"Yes","Inactive",IF($S20="","Never Counted",IF($T20<TODAY(),"Overdue",IF($T20<=TODAY()+Dashboard!$B$6,"Due Soon","Current"))))),"")
J21: =IFERROR(IF($A21="","",SUMIFS('Stock Movements'!$F$6:$F$505,'Stock Movements'!$C$6:$C$505,$A21,'Stock Movements'!$E$6:$E$505,"Receipt")),"") | K21: =IFERROR(IF($A21="","",SUMIFS('Stock Movements'!$F$6:$F$505,'Stock Movements'!$C$6:$C$505,$A21,'Stock Movements'!$E$6:$E$505,"Issue")),"") | L21: =IFERROR(IF($A21="","",SUMIFS('Stock Movements'!$G$6:$G$505,'Stock Movements'!$C$6:$C$505,$A21,'Stock Movements'!$E$6:$E$505,"Adjustment Increase")+SUMIFS('Stock Movements'!$G$6:$G$505,'Stock Movements'!$C$6:$C$505,$A21,'Stock Movements'!$E$6:$E$505,"Adjustment Decrease")),"") | M21: =IFERROR(IF($A21="","",$I21+$J21-$K21+$L21),"") | P21: =IFERROR(IF($A21="","",IF($V21<>"Yes",0,IF($M21<=$O21,MAX(0,$N21-$M21),0))),"") | Q21: =IFERROR(IF($A21="","",MAX(0,$M21)*$H21),"") | R21: =IFERROR(IF($A21="","",IF($V21<>"Yes","Inactive",IF($M21<=0,"Out of Stock",IF($M21<=$O21,"Reorder Now",IF($M21<$N21,"Below Par","In Stock"))))),"") | T21: =IFERROR(IF($A21="","",IF($S21="","",$S21+Dashboard!$B$5)),"") | U21: =IFERROR(IF($A21="","",IF($V21<>"Yes","Inactive",IF($S21="","Never Counted",IF($T21<TODAY(),"Overdue",IF($T21<=TODAY()+Dashboard!$B$6,"Due Soon","Current"))))),"")
J22: =IFERROR(IF($A22="","",SUMIFS('Stock Movements'!$F$6:$F$505,'Stock Movements'!$C$6:$C$505,$A22,'Stock Movements'!$E$6:$E$505,"Receipt")),"") | K22: =IFERROR(IF($A22="","",SUMIFS('Stock Movements'!$F$6:$F$505,'Stock Movements'!$C$6:$C$505,$A22,'Stock Movements'!$E$6:$E$505,"Issue")),"") | L22: =IFERROR(IF($A22="","",SUMIFS('Stock Movements'!$G$6:$G$505,'Stock Movements'!$C$6:$C$505,$A22,'Stock Movements'!$E$6:$E$505,"Adjustment Increase")+SUMIFS('Stock Movements'!$G$6:$G$505,'Stock Movements'!$C$6:$C$505,$A22,'Stock Movements'!$E$6:$E$505,"Adjustment Decrease")),"") | M22: =IFERROR(IF($A22="","",$I22+$J22-$K22+$L22),"") | P22: =IFERROR(IF($A22="","",IF($V22<>"Yes",0,IF($M22<=$O22,MAX(0,$N22-$M22),0))),"") | Q22: =IFERROR(IF($A22="","",MAX(0,$M22)*$H22),"") | R22: =IFERROR(IF($A22="","",IF($V22<>"Yes","Inactive",IF($M22<=0,"Out of Stock",IF($M22<=$O22,"Reorder Now",IF($M22<$N22,"Below Par","In Stock"))))),"") | T22: =IFERROR(IF($A22="","",IF($S22="","",$S22+Dashboard!$B$5)),"") | U22: =IFERROR(IF($A22="","",IF($V22<>"Yes","Inactive",IF($S22="","Never Counted",IF($T22<TODAY(),"Overdue",IF($T22<=TODAY()+Dashboard!$B$6,"Due Soon","Current"))))),"")
J23: =IFERROR(IF($A23="","",SUMIFS('Stock Movements'!$F$6:$F$505,'Stock Movements'!$C$6:$C$505,$A23,'Stock Movements'!$E$6:$E$505,"Receipt")),"") | K23: =IFERROR(IF($A23="","",SUMIFS('Stock Movements'!$F$6:$F$505,'Stock Movements'!$C$6:$C$505,$A23,'Stock Movements'!$E$6:$E$505,"Issue")),"") | L23: =IFERROR(IF($A23="","",SUMIFS('Stock Movements'!$G$6:$G$505,'Stock Movements'!$C$6:$C$505,$A23,'Stock Movements'!$E$6:$E$505,"Adjustment Increase")+SUMIFS('Stock Movements'!$G$6:$G$505,'Stock Movements'!$C$6:$C$505,$A23,'Stock Movements'!$E$6:$E$505,"Adjustment Decrease")),"") | M23: =IFERROR(IF($A23="","",$I23+$J23-$K23+$L23),"") | P23: =IFERROR(IF($A23="","",IF($V23<>"Yes",0,IF($M23<=$O23,MAX(0,$N23-$M23),0))),"") | Q23: =IFERROR(IF($A23="","",MAX(0,$M23)*$H23),"") | R23: =IFERROR(IF($A23="","",IF($V23<>"Yes","Inactive",IF($M23<=0,"Out of Stock",IF($M23<=$O23,"Reorder Now",IF($M23<$N23,"Below Par","In Stock"))))),"") | T23: =IFERROR(IF($A23="","",IF($S23="","",$S23+Dashboard!$B$5)),"") | U23: =IFERROR(IF($A23="","",IF($V23<>"Yes","Inactive",IF($S23="","Never Counted",IF($T23<TODAY(),"Overdue",IF($T23<=TODAY()+Dashboard!$B$6,"Due Soon","Current"))))),"")
J24: =IFERROR(IF($A24="","",SUMIFS('Stock Movements'!$F$6:$F$505,'Stock Movements'!$C$6:$C$505,$A24,'Stock Movements'!$E$6:$E$505,"Receipt")),"") | K24: =IFERROR(IF($A24="","",SUMIFS('Stock Movements'!$F$6:$F$505,'Stock Movements'!$C$6:$C$505,$A24,'Stock Movements'!$E$6:$E$505,"Issue")),"") | L24: =IFERROR(IF($A24="","",SUMIFS('Stock Movements'!$G$6:$G$505,'Stock Movements'!$C$6:$C$505,$A24,'Stock Movements'!$E$6:$E$505,"Adjustment Increase")+SUMIFS('Stock Movements'!$G$6:$G$505,'Stock Movements'!$C$6:$C$505,$A24,'Stock Movements'!$E$6:$E$505,"Adjustment Decrease")),"") | M24: =IFERROR(IF($A24="","",$I24+$J24-$K24+$L24),"") | P24: =IFERROR(IF($A24="","",IF($V24<>"Yes",0,IF($M24<=$O24,MAX(0,$N24-$M24),0))),"") | Q24: =IFERROR(IF($A24="","",MAX(0,$M24)*$H24),"") | R24: =IFERROR(IF($A24="","",IF($V24<>"Yes","Inactive",IF($M24<=0,"Out of Stock",IF($M24<=$O24,"Reorder Now",IF($M24<$N24,"Below Par","In Stock"))))),"") | T24: =IFERROR(IF($A24="","",IF($S24="","",$S24+Dashboard!$B$5)),"") | U24: =IFERROR(IF($A24="","",IF($V24<>"Yes","Inactive",IF($S24="","Never Counted",IF($T24<TODAY(),"Overdue",IF($T24<=TODAY()+Dashboard!$B$6,"Due Soon","Current"))))),"")
J25: =IFERROR(IF($A25="","",SUMIFS('Stock Movements'!$F$6:$F$505,'Stock Movements'!$C$6:$C$505,$A25,'Stock Movements'!$E$6:$E$505,"Receipt")),"") | K25: =IFERROR(IF($A25="","",SUMIFS('Stock Movements'!$F$6:$F$505,'Stock Movements'!$C$6:$C$505,$A25,'Stock Movements'!$E$6:$E$505,"Issue")),"") | L25: =IFERROR(IF($A25="","",SUMIFS('Stock Movements'!$G$6:$G$505,'Stock Movements'!$C$6:$C$505,$A25,'Stock Movements'!$E$6:$E$505,"Adjustment Increase")+SUMIFS('Stock Movements'!$G$6:$G$505,'Stock Movements'!$C$6:$C$505,$A25,'Stock Movements'!$E$6:$E$505,"Adjustment Decrease")),"") | M25: =IFERROR(IF($A25="","",$I25+$J25-$K25+$L25),"") | P25: =IFERROR(IF($A25="","",IF($V25<>"Yes",0,IF($M25<=$O25,MAX(0,$N25-$M25),0))),"") | Q25: =IFERROR(IF($A25="","",MAX(0,$M25)*$H25),"") | R25: =IFERROR(IF($A25="","",IF($V25<>"Yes","Inactive",IF($M25<=0,"Out of Stock",IF($M25<=$O25,"Reorder Now",IF($M25<$N25,"Below Par","In Stock"))))),"") | T25: =IFERROR(IF($A25="","",IF($S25="","",$S25+Dashboard!$B$5)),"") | U25: =IFERROR(IF($A25="","",IF($V25<>"Yes","Inactive",IF($S25="","Never Counted",IF($T25<TODAY(),"Overdue",IF($T25<=TODAY()+Dashboard!$B$6,"Due Soon","Current"))))),"")
J26: =IFERROR(IF($A26="","",SUMIFS('Stock Movements'!$F$6:$F$505,'Stock Movements'!$C$6:$C$505,$A26,'Stock Movements'!$E$6:$E$505,"Receipt")),"") | K26: =IFERROR(IF($A26="","",SUMIFS('Stock Movements'!$F$6:$F$505,'Stock Movements'!$C$6:$C$505,$A26,'Stock Movements'!$E$6:$E$505,"Issue")),"") | L26: =IFERROR(IF($A26="","",SUMIFS('Stock Movements'!$G$6:$G$505,'Stock Movements'!$C$6:$C$505,$A26,'Stock Movements'!$E$6:$E$505,"Adjustment Increase")+SUMIFS('Stock Movements'!$G$6:$G$505,'Stock Movements'!$C$6:$C$505,$A26,'Stock Movements'!$E$6:$E$505,"Adjustment Decrease")),"") | M26: =IFERROR(IF($A26="","",$I26+$J26-$K26+$L26),"") | P26: =IFERROR(IF($A26="","",IF($V26<>"Yes",0,IF($M26<=$O26,MAX(0,$N26-$M26),0))),"") | Q26: =IFERROR(IF($A26="","",MAX(0,$M26)*$H26),"") | R26: =IFERROR(IF($A26="","",IF($V26<>"Yes","Inactive",IF($M26<=0,"Out of Stock",IF($M26<=$O26,"Reorder Now",IF($M26<$N26,"Below Par","In Stock"))))),"") | T26: =IFERROR(IF($A26="","",IF($S26="","",$S26+Dashboard!$B$5)),"") | U26: =IFERROR(IF($A26="","",IF($V26<>"Yes","Inactive",IF($S26="","Never Counted",IF($T26<TODAY(),"Overdue",IF($T26<=TODAY()+Dashboard!$B$6,"Due Soon","Current"))))),"")
J27: =IFERROR(IF($A27="","",SUMIFS('Stock Movements'!$F$6:$F$505,'Stock Movements'!$C$6:$C$505,$A27,'Stock Movements'!$E$6:$E$505,"Receipt")),"") | K27: =IFERROR(IF($A27="","",SUMIFS('Stock Movements'!$F$6:$F$505,'Stock Movements'!$C$6:$C$505,$A27,'Stock Movements'!$E$6:$E$505,"Issue")),"") | L27: =IFERROR(IF($A27="","",SUMIFS('Stock Movements'!$G$6:$G$505,'Stock Movements'!$C$6:$C$505,$A27,'Stock Movements'!$E$6:$E$505,"Adjustment Increase")+SUMIFS('Stock Movements'!$G$6:$G$505,'Stock Movements'!$C$6:$C$505,$A27,'Stock Movements'!$E$6:$E$505,"Adjustment Decrease")),"") | M27: =IFERROR(IF($A27="","",$I27+$J27-$K27+$L27),"") | P27: =IFERROR(IF($A27="","",IF($V27<>"Yes",0,IF($M27<=$O27,MAX(0,$N27-$M27),0))),"") | Q27: =IFERROR(IF($A27="","",MAX(0,$M27)*$H27),"") | R27: =IFERROR(IF($A27="","",IF($V27<>"Yes","Inactive",IF($M27<=0,"Out of Stock",IF($M27<=$O27,"Reorder Now",IF($M27<$N27,"Below Par","In Stock"))))),"") | T27: =IFERROR(IF($A27="","",IF($S27="","",$S27+Dashboard!$B$5)),"") | U27: =IFERROR(IF($A27="","",IF($V27<>"Yes","Inactive",IF($S27="","Never Counted",IF($T27<TODAY(),"Overdue",IF($T27<=TODAY()+Dashboard!$B$6,"Due Soon","Current"))))),"")
... J205: =IFERROR(IF($A205="","",SUMIFS('Stock Movements'!$F$6:$F$505,'Stock Movements'!$C$6:$C$505,$A205,'Stock Movements'!$E$6:$E$505,"Receipt")),"") | K205: =IFERROR(IF($A205="","",SUMIFS('Stock Movements'!$F$6:$F$505,'Stock Movements'!$C$6:$C$505,$A205,'Stock Movements'!$E$6:$E$505,"Issue")),"") | L205: =IFERROR(IF($A205="","",SUMIFS('Stock Movements'!$G$6:$G$505,'Stock Movements'!$C$6:$C$505,$A205,'Stock Movements'!$E$6:$E$505,"Adjustment Increase")+SUMIFS('Stock Movements'!$G$6:$G$505,'Stock Movements'!$C$6:$C$505,$A205,'Stock Movements'!$E$6:$E$505,"Adjustment Decrease")),"") | M205: =IFERROR(IF($A205="","",$I205+$J205-$K205+$L205),"") | P205: =IFERROR(IF($A205="","",IF($V205<>"Yes",0,IF($M205<=$O205,MAX(0,$N205-$M205),0))),"") | Q205: =IFERROR(IF($A205="","",MAX(0,$M205)*$H205),"") | R205: =IFERROR(IF($A205="","",IF($V205<>"Yes","Inactive",IF($M205<=0,"Out of Stock",IF($M205<=$O205,"Reorder Now",IF($M205<$N205,"Below Par","In Stock"))))),"") | T205: =IFERROR(IF($A205="","",IF($S205="","",$S205+Dashboard!$B$5)),"") | U205: =IFERROR(IF($A205="","",IF($V205<>"Yes","Inactive",IF($S205="","Never Counted",IF($T205<TODAY(),"Overdue",IF($T205<=TODAY()+Dashboard!$B$6,"Due Soon","Current"))))),"")

Sheet Stock Movements
A1: Stock Movements
A2: Enter every stock receipt, issue, and approved adjustment as a separate row. Enter quantities as positive numbers; the Signed Quantity formula applies the correct direction.
A5: Movement ID | B5: Movement Date | C5: Amenity ID | D5: Item Name | E5: Movement Type | F5: Quantity | G5: Signed Quantity | H5: Unit Cost Used | I5: Extended Value | J5: Department | K5: Storage Location | L5: Reference Number | M5: Entered By | N5: Notes
A6: MOV-260001 | B6: 46027 | C6: AMN-1001 | D6: =IFERROR(IF($C6="","",INDEX('Amenity Inventory'!$C$6:$C$205,MATCH($C6,'Amenity Inventory'!$A$6:$A$205,0))),"Amenity ID Not Found") | E6: Receipt | F6: 8 | G6: =IFERROR(IF(OR($C6="",$F6="",$E6=""),"",IF(OR($E6="Receipt",$E6="Adjustment Increase"),$F6,IF(OR($E6="Issue",$E6="Adjustment Decrease"),-$F6,0))),"") | H6: 48 | I6: =IFERROR(IF($C6="","",$G6*IF($H6="",INDEX('Amenity Inventory'!$H$6:$H$205,MATCH($C6,'Amenity Inventory'!$A$6:$A$205,0)),$H6)),"") | J6: Purchasing | K6: Housekeeping Main Storeroom | L6: PO-260104 | M6: Maria Lopez | N6: Opening-month delivery
A7: MOV-260002 | B7: 46030 | C7: AMN-1001 | D7: =IFERROR(IF($C7="","",INDEX('Amenity Inventory'!$C$6:$C$205,MATCH($C7,'Amenity Inventory'!$A$6:$A$205,0))),"Amenity ID Not Found") | E7: Issue | F7: 12 | G7: =IFERROR(IF(OR($C7="",$F7="",$E7=""),"",IF(OR($E7="Receipt",$E7="Adjustment Increase"),$F7,IF(OR($E7="Issue",$E7="Adjustment Decrease"),-$F7,0))),"") | I7: =IFERROR(IF($C7="","",$G7*IF($H7="",INDEX('Amenity Inventory'!$H$6:$H$205,MATCH($C7,'Amenity Inventory'!$A$6:$A$205,0)),$H7)),"") | J7: Housekeeping | K7: Housekeeping Main Storeroom | L7: HK-0108 | M7: Jordan Reed | N7: Released for room attendants
A8: MOV-260003 | B8: 46030 | C8: AMN-1002 | D8: =IFERROR(IF($C8="","",INDEX('Amenity Inventory'!$C$6:$C$205,MATCH($C8,'Amenity Inventory'!$A$6:$A$205,0))),"Amenity ID Not Found") | E8: Issue | F8: 10 | G8: =IFERROR(IF(OR($C8="",$F8="",$E8=""),"",IF(OR($E8="Receipt",$E8="Adjustment Increase"),$F8,IF(OR($E8="Issue",$E8="Adjustment Decrease"),-$F8,0))),"") | I8: =IFERROR(IF($C8="","",$G8*IF($H8="",INDEX('Amenity Inventory'!$H$6:$H$205,MATCH($C8,'Amenity Inventory'!$A$6:$A$205,0)),$H8)),"") | J8: Housekeeping | K8: Housekeeping Main Storeroom | L8: HK-0108 | M8: Jordan Reed | N8: Released for room attendants
A9: MOV-260004 | B9: 46031 | C9: AMN-1004 | D9: =IFERROR(IF($C9="","",INDEX('Amenity Inventory'!$C$6:$C$205,MATCH($C9,'Amenity Inventory'!$A$6:$A$205,0))),"Amenity ID Not Found") | E9: Issue | F9: 4 | G9: =IFERROR(IF(OR($C9="",$F9="",$E9=""),"",IF(OR($E9="Receipt",$E9="Adjustment Increase"),$F9,IF(OR($E9="Issue",$E9="Adjustment Decrease"),-$F9,0))),"") | I9: =IFERROR(IF($C9="","",$G9*IF($H9="",INDEX('Amenity Inventory'!$H$6:$H$205,MATCH($C9,'Amenity Inventory'!$A$6:$A$205,0)),$H9)),"") | J9: Housekeeping | K9: Floor 2 Linen Room | L9: HK-0109 | M9: Denise Carter | N9: Floor supply restock
A10: MOV-260005 | B10: 46033 | C10: AMN-1006 | D10: =IFERROR(IF($C10="","",INDEX('Amenity Inventory'!$C$6:$C$205,MATCH($C10,'Amenity Inventory'!$A$6:$A$205,0))),"Amenity ID Not Found") | E10: Issue | F10: 3 | G10: =IFERROR(IF(OR($C10="",$F10="",$E10=""),"",IF(OR($E10="Receipt",$E10="Adjustment Increase"),$F10,IF(OR($E10="Issue",$E10="Adjustment Decrease"),-$F10,0))),"") | I10: =IFERROR(IF($C10="","",$G10*IF($H10="",INDEX('Amenity Inventory'!$H$6:$H$205,MATCH($C10,'Amenity Inventory'!$A$6:$A$205,0)),$H10)),"") | J10: Housekeeping | K10: Breakfast Storage | L10: HK-0111 | M10: Jordan Reed | N10: Guest room coffee restock
A11: MOV-260006 | B11: 46035 | C11: AMN-1008 | D11: =IFERROR(IF($C11="","",INDEX('Amenity Inventory'!$C$6:$C$205,MATCH($C11,'Amenity Inventory'!$A$6:$A$205,0))),"Amenity ID Not Found") | E11: Issue | F11: 2 | G11: =IFERROR(IF(OR($C11="",$F11="",$E11=""),"",IF(OR($E11="Receipt",$E11="Adjustment Increase"),$F11,IF(OR($E11="Issue",$E11="Adjustment Decrease"),-$F11,0))),"") | I11: =IFERROR(IF($C11="","",$G11*IF($H11="",INDEX('Amenity Inventory'!$H$6:$H$205,MATCH($C11,'Amenity Inventory'!$A$6:$A$205,0)),$H11)),"") | J11: Front Desk | K11: Front Desk Back Office | L11: FD-0113 | M11: Alex Morgan | N11: Guest-request kits
A12: MOV-260007 | B12: 46036 | C12: AMN-1009 | D12: =IFERROR(IF($C12="","",INDEX('Amenity Inventory'!$C$6:$C$205,MATCH($C12,'Amenity Inventory'!$A$6:$A$205,0))),"Amenity ID Not Found") | E12: Adjustment Decrease | F12: 6 | G12: =IFERROR(IF(OR($C12="",$F12="",$E12=""),"",IF(OR($E12="Receipt",$E12="Adjustment Increase"),$F12,IF(OR($E12="Issue",$E12="Adjustment Decrease"),-$F12,0))),"") | I12: =IFERROR(IF($C12="","",$G12*IF($H12="",INDEX('Amenity Inventory'!$H$6:$H$205,MATCH($C12,'Amenity Inventory'!$A$6:$A$205,0)),$H12)),"") | J12: Pool and Recreation | K12: Pool Linen Room | L12: CNT-0114 | M12: Taylor Brooks | N12: Damaged towels removed after count
A13: MOV-260008 | B13: 46038 | C13: AMN-1010 | D13: =IFERROR(IF($C13="","",INDEX('Amenity Inventory'!$C$6:$C$205,MATCH($C13,'Amenity Inventory'!$A$6:$A$205,0))),"Amenity ID Not Found") | E13: Issue | F13: 14 | G13: =IFERROR(IF(OR($C13="",$F13="",$E13=""),"",IF(OR($E13="Receipt",$E13="Adjustment Increase"),$F13,IF(OR($E13="Issue",$E13="Adjustment Decrease"),-$F13,0))),"") | I13: =IFERROR(IF($C13="","",$G13*IF($H13="",INDEX('Amenity Inventory'!$H$6:$H$205,MATCH($C13,'Amenity Inventory'!$A$6:$A$205,0)),$H13)),"") | J13: Meetings and Events | K13: Banquet Beverage Storage | L13: EVT-26017 | M13: Cameron Lee | N13: Water issued for meeting service
A14: MOV-260009 | B14: 46041 | C14: AMN-1005 | D14: =IFERROR(IF($C14="","",INDEX('Amenity Inventory'!$C$6:$C$205,MATCH($C14,'Amenity Inventory'!$A$6:$A$205,0))),"Amenity ID Not Found") | E14: Receipt | F14: 10 | G14: =IFERROR(IF(OR($C14="",$F14="",$E14=""),"",IF(OR($E14="Receipt",$E14="Adjustment Increase"),$F14,IF(OR($E14="Issue",$E14="Adjustment Decrease"),-$F14,0))),"") | H14: 57.9 | I14: =IFERROR(IF($C14="","",$G14*IF($H14="",INDEX('Amenity Inventory'!$H$6:$H$205,MATCH($C14,'Amenity Inventory'!$A$6:$A$205,0)),$H14)),"") | J14: Purchasing | K14: Housekeeping Main Storeroom | L14: PO-260118 | M14: Maria Lopez | N14: Vendor delivery
A15: MOV-260010 | B15: 46043 | C15: AMN-1007 | D15: =IFERROR(IF($C15="","",INDEX('Amenity Inventory'!$C$6:$C$205,MATCH($C15,'Amenity Inventory'!$A$6:$A$205,0))),"Amenity ID Not Found") | E15: Adjustment Increase | F15: 1 | G15: =IFERROR(IF(OR($C15="",$F15="",$E15=""),"",IF(OR($E15="Receipt",$E15="Adjustment Increase"),$F15,IF(OR($E15="Issue",$E15="Adjustment Decrease"),-$F15,0))),"") | I15: =IFERROR(IF($C15="","",$G15*IF($H15="",INDEX('Amenity Inventory'!$H$6:$H$205,MATCH($C15,'Amenity Inventory'!$A$6:$A$205,0)),$H15)),"") | J15: Housekeeping | K15: Breakfast Storage | L15: CNT-0121 | M15: Denise Carter | N15: Unopened box found during count
D16: =IFERROR(IF($C16="","",INDEX('Amenity Inventory'!$C$6:$C$205,MATCH($C16,'Amenity Inventory'!$A$6:$A$205,0))),"Amenity ID Not Found") | G16: =IFERROR(IF(OR($C16="",$F16="",$E16=""),"",IF(OR($E16="Receipt",$E16="Adjustment Increase"),$F16,IF(OR($E16="Issue",$E16="Adjustment Decrease"),-$F16,0))),"") | I16: =IFERROR(IF($C16="","",$G16*IF($H16="",INDEX('Amenity Inventory'!$H$6:$H$205,MATCH($C16,'Amenity Inventory'!$A$6:$A$205,0)),$H16)),"")
D17: =IFERROR(IF($C17="","",INDEX('Amenity Inventory'!$C$6:$C$205,MATCH($C17,'Amenity Inventory'!$A$6:$A$205,0))),"Amenity ID Not Found") | G17: =IFERROR(IF(OR($C17="",$F17="",$E17=""),"",IF(OR($E17="Receipt",$E17="Adjustment Increase"),$F17,IF(OR($E17="Issue",$E17="Adjustment Decrease"),-$F17,0))),"") | I17: =IFERROR(IF($C17="","",$G17*IF($H17="",INDEX('Amenity Inventory'!$H$6:$H$205,MATCH($C17,'Amenity Inventory'!$A$6:$A$205,0)),$H17)),"")
D18: =IFERROR(IF($C18="","",INDEX('Amenity Inventory'!$C$6:$C$205,MATCH($C18,'Amenity Inventory'!$A$6:$A$205,0))),"Amenity ID Not Found") | G18: =IFERROR(IF(OR($C18="",$F18="",$E18=""),"",IF(OR($E18="Receipt",$E18="Adjustment Increase"),$F18,IF(OR($E18="Issue",$E18="Adjustment Decrease"),-$F18,0))),"") | I18: =IFERROR(IF($C18="","",$G18*IF($H18="",INDEX('Amenity Inventory'!$H$6:$H$205,MATCH($C18,'Amenity Inventory'!$A$6:$A$205,0)),$H18)),"")
D19: =IFERROR(IF($C19="","",INDEX('Amenity Inventory'!$C$6:$C$205,MATCH($C19,'Amenity Inventory'!$A$6:$A$205,0))),"Amenity ID Not Found") | G19: =IFERROR(IF(OR($C19="",$F19="",$E19=""),"",IF(OR($E19="Receipt",$E19="Adjustment Increase"),$F19,IF(OR($E19="Issue",$E19="Adjustment Decrease"),-$F19,0))),"") | I19: =IFERROR(IF($C19="","",$G19*IF($H19="",INDEX('Amenity Inventory'!$H$6:$H$205,MATCH($C19,'Amenity Inventory'!$A$6:$A$205,0)),$H19)),"")
D20: =IFERROR(IF($C20="","",INDEX('Amenity Inventory'!$C$6:$C$205,MATCH($C20,'Amenity Inventory'!$A$6:$A$205,0))),"Amenity ID Not Found") | G20: =IFERROR(IF(OR($C20="",$F20="",$E20=""),"",IF(OR($E20="Receipt",$E20="Adjustment Increase"),$F20,IF(OR($E20="Issue",$E20="Adjustment Decrease"),-$F20,0))),"") | I20: =IFERROR(IF($C20="","",$G20*IF($H20="",INDEX('Amenity Inventory'!$H$6:$H$205,MATCH($C20,'Amenity Inventory'!$A$6:$A$205,0)),$H20)),"")
D21: =IFERROR(IF($C21="","",INDEX('Amenity Inventory'!$C$6:$C$205,MATCH($C21,'Amenity Inventory'!$A$6:$A$205,0))),"Amenity ID Not Found") | G21: =IFERROR(IF(OR($C21="",$F21="",$E21=""),"",IF(OR($E21="Receipt",$E21="Adjustment Increase"),$F21,IF(OR($E21="Issue",$E21="Adjustment Decrease"),-$F21,0))),"") | I21: =IFERROR(IF($C21="","",$G21*IF($H21="",INDEX('Amenity Inventory'!$H$6:$H$205,MATCH($C21,'Amenity Inventory'!$A$6:$A$205,0)),$H21)),"")
D22: =IFERROR(IF($C22="","",INDEX('Amenity Inventory'!$C$6:$C$205,MATCH($C22,'Amenity Inventory'!$A$6:$A$205,0))),"Amenity ID Not Found") | G22: =IFERROR(IF(OR($C22="",$F22="",$E22=""),"",IF(OR($E22="Receipt",$E22="Adjustment Increase"),$F22,IF(OR($E22="Issue",$E22="Adjustment Decrease"),-$F22,0))),"") | I22: =IFERROR(IF($C22="","",$G22*IF($H22="",INDEX('Amenity Inventory'!$H$6:$H$205,MATCH($C22,'Amenity Inventory'!$A$6:$A$205,0)),$H22)),"")
D23: =IFERROR(IF($C23="","",INDEX('Amenity Inventory'!$C$6:$C$205,MATCH($C23,'Amenity Inventory'!$A$6:$A$205,0))),"Amenity ID Not Found") | G23: =IFERROR(IF(OR($C23="",$F23="",$E23=""),"",IF(OR($E23="Receipt",$E23="Adjustment Increase"),$F23,IF(OR($E23="Issue",$E23="Adjustment Decrease"),-$F23,0))),"") | I23: =IFERROR(IF($C23="","",$G23*IF($H23="",INDEX('Amenity Inventory'!$H$6:$H$205,MATCH($C23,'Amenity Inventory'!$A$6:$A$205,0)),$H23)),"")
D24: =IFERROR(IF($C24="","",INDEX('Amenity Inventory'!$C$6:$C$205,MATCH($C24,'Amenity Inventory'!$A$6:$A$205,0))),"Amenity ID Not Found") | G24: =IFERROR(IF(OR($C24="",$F24="",$E24=""),"",IF(OR($E24="Receipt",$E24="Adjustment Increase"),$F24,IF(OR($E24="Issue",$E24="Adjustment Decrease"),-$F24,0))),"") | I24: =IFERROR(IF($C24="","",$G24*IF($H24="",INDEX('Amenity Inventory'!$H$6:$H$205,MATCH($C24,'Amenity Inventory'!$A$6:$A$205,0)),$H24)),"")
