Workbook

Sheet Dashboard
A1: Hotel ADR and RevPAR Dashboard
A2: Review room revenue, occupancy, ADR, RevPAR, and inventory exceptions for the selected period.
A3: Yellow cells are editable. Calculated cells are locked.
A5: Property Name | B5: Harbor View Hotel
A6: Reporting Start Date | B6: 46082
A7: Reporting End Date | B7: 46091 | C7: =IFERROR(IF(B7<B6,"Check date range",""),"")
A8: Target Occupancy | B8: 0.85
A9: Target ADR | B9: 185
A10: Target RevPAR | B10: 157.25
A11: Out-of-Order Warning Threshold | B11: 5
A14: Sellable Room Nights | C14: Rooms Sold | E14: Room Revenue | G14: Occupancy
A15: =IFERROR(SUMIFS('Daily Performance'!$F$5:$F$370,'Daily Performance'!$A$5:$A$370,">="&$B$6,'Daily Performance'!$A$5:$A$370,"<="&$B$7),0) | C15: =IFERROR(SUMIFS('Daily Performance'!$G$5:$G$370,'Daily Performance'!$A$5:$A$370,">="&$B$6,'Daily Performance'!$A$5:$A$370,"<="&$B$7),0) | E15: =IFERROR(SUMIFS('Daily Performance'!$I$5:$I$370,'Daily Performance'!$A$5:$A$370,">="&$B$6,'Daily Performance'!$A$5:$A$370,"<="&$B$7),0) | G15: =IFERROR(SUMIFS('Daily Performance'!$G$5:$G$370,'Daily Performance'!$A$5:$A$370,">="&$B$6,'Daily Performance'!$A$5:$A$370,"<="&$B$7)/SUMIFS('Daily Performance'!$F$5:$F$370,'Daily Performance'!$A$5:$A$370,">="&$B$6,'Daily Performance'!$A$5:$A$370,"<="&$B$7),0)
A16: Period total | C16: Period total | E16: Period total | G16: =IFERROR(G15-$B$8,0)
A17: ADR | C17: RevPAR | E17: Out-of-Order Room Nights | G17: Exception Days
A18: =IFERROR(SUMIFS('Daily Performance'!$I$5:$I$370,'Daily Performance'!$A$5:$A$370,">="&$B$6,'Daily Performance'!$A$5:$A$370,"<="&$B$7)/SUMIFS('Daily Performance'!$G$5:$G$370,'Daily Performance'!$A$5:$A$370,">="&$B$6,'Daily Performance'!$A$5:$A$370,"<="&$B$7),0) | C18: =IFERROR(SUMIFS('Daily Performance'!$I$5:$I$370,'Daily Performance'!$A$5:$A$370,">="&$B$6,'Daily Performance'!$A$5:$A$370,"<="&$B$7)/SUMIFS('Daily Performance'!$F$5:$F$370,'Daily Performance'!$A$5:$A$370,">="&$B$6,'Daily Performance'!$A$5:$A$370,"<="&$B$7),0) | E18: =IFERROR(SUMIFS('Daily Performance'!$E$5:$E$370,'Daily Performance'!$A$5:$A$370,">="&$B$6,'Daily Performance'!$A$5:$A$370,"<="&$B$7),0) | G18: =IFERROR(COUNTIFS('Daily Performance'!$A$5:$A$370,">="&$B$6,'Daily Performance'!$A$5:$A$370,"<="&$B$7,'Daily Performance'!$O$5:$O$370,"<>OK",'Daily Performance'!$O$5:$O$370,"<>"),0)
A19: =IFERROR(A18-$B$9,0) | C19: =IFERROR(C18-$B$10,0) | E19: Period total | G19: Period total
G20: =""
G21: =""
G22: =""
A23: Business Date | B23: Occupancy | C23: ADR | D23: RevPAR | G23: =""
A24: =IFERROR(IF(ROW()-ROW($A$24)+$B$6<=$B$7,ROW()-ROW($A$24)+$B$6,""),"") | B24: =IFERROR(IF($A24="","",SUMIFS('Daily Performance'!$G$5:$G$370,'Daily Performance'!$A$5:$A$370,$A24)/SUMIFS('Daily Performance'!$F$5:$F$370,'Daily Performance'!$A$5:$A$370,$A24)),"") | C24: =IFERROR(IF($A24="","",SUMIFS('Daily Performance'!$I$5:$I$370,'Daily Performance'!$A$5:$A$370,$A24)/SUMIFS('Daily Performance'!$G$5:$G$370,'Daily Performance'!$A$5:$A$370,$A24)),"") | D24: =IFERROR(IF($A24="","",SUMIFS('Daily Performance'!$I$5:$I$370,'Daily Performance'!$A$5:$A$370,$A24)/SUMIFS('Daily Performance'!$F$5:$F$370,'Daily Performance'!$A$5:$A$370,$A24)),"") | G24: =""
A25: =IFERROR(IF(ROW()-ROW($A$24)+$B$6<=$B$7,ROW()-ROW($A$24)+$B$6,""),"") | B25: =IFERROR(IF($A25="","",SUMIFS('Daily Performance'!$G$5:$G$370,'Daily Performance'!$A$5:$A$370,$A25)/SUMIFS('Daily Performance'!$F$5:$F$370,'Daily Performance'!$A$5:$A$370,$A25)),"") | C25: =IFERROR(IF($A25="","",SUMIFS('Daily Performance'!$I$5:$I$370,'Daily Performance'!$A$5:$A$370,$A25)/SUMIFS('Daily Performance'!$G$5:$G$370,'Daily Performance'!$A$5:$A$370,$A25)),"") | D25: =IFERROR(IF($A25="","",SUMIFS('Daily Performance'!$I$5:$I$370,'Daily Performance'!$A$5:$A$370,$A25)/SUMIFS('Daily Performance'!$F$5:$F$370,'Daily Performance'!$A$5:$A$370,$A25)),"") | G25: =""
A26: =IFERROR(IF(ROW()-ROW($A$24)+$B$6<=$B$7,ROW()-ROW($A$24)+$B$6,""),"") | B26: =IFERROR(IF($A26="","",SUMIFS('Daily Performance'!$G$5:$G$370,'Daily Performance'!$A$5:$A$370,$A26)/SUMIFS('Daily Performance'!$F$5:$F$370,'Daily Performance'!$A$5:$A$370,$A26)),"") | C26: =IFERROR(IF($A26="","",SUMIFS('Daily Performance'!$I$5:$I$370,'Daily Performance'!$A$5:$A$370,$A26)/SUMIFS('Daily Performance'!$G$5:$G$370,'Daily Performance'!$A$5:$A$370,$A26)),"") | D26: =IFERROR(IF($A26="","",SUMIFS('Daily Performance'!$I$5:$I$370,'Daily Performance'!$A$5:$A$370,$A26)/SUMIFS('Daily Performance'!$F$5:$F$370,'Daily Performance'!$A$5:$A$370,$A26)),"") | G26: =""
A27: =IFERROR(IF(ROW()-ROW($A$24)+$B$6<=$B$7,ROW()-ROW($A$24)+$B$6,""),"") | B27: =IFERROR(IF($A27="","",SUMIFS('Daily Performance'!$G$5:$G$370,'Daily Performance'!$A$5:$A$370,$A27)/SUMIFS('Daily Performance'!$F$5:$F$370,'Daily Performance'!$A$5:$A$370,$A27)),"") | C27: =IFERROR(IF($A27="","",SUMIFS('Daily Performance'!$I$5:$I$370,'Daily Performance'!$A$5:$A$370,$A27)/SUMIFS('Daily Performance'!$G$5:$G$370,'Daily Performance'!$A$5:$A$370,$A27)),"") | D27: =IFERROR(IF($A27="","",SUMIFS('Daily Performance'!$I$5:$I$370,'Daily Performance'!$A$5:$A$370,$A27)/SUMIFS('Daily Performance'!$F$5:$F$370,'Daily Performance'!$A$5:$A$370,$A27)),"") | G27: =""
A28: =IFERROR(IF(ROW()-ROW($A$24)+$B$6<=$B$7,ROW()-ROW($A$24)+$B$6,""),"") | B28: =IFERROR(IF($A28="","",SUMIFS('Daily Performance'!$G$5:$G$370,'Daily Performance'!$A$5:$A$370,$A28)/SUMIFS('Daily Performance'!$F$5:$F$370,'Daily Performance'!$A$5:$A$370,$A28)),"") | C28: =IFERROR(IF($A28="","",SUMIFS('Daily Performance'!$I$5:$I$370,'Daily Performance'!$A$5:$A$370,$A28)/SUMIFS('Daily Performance'!$G$5:$G$370,'Daily Performance'!$A$5:$A$370,$A28)),"") | D28: =IFERROR(IF($A28="","",SUMIFS('Daily Performance'!$I$5:$I$370,'Daily Performance'!$A$5:$A$370,$A28)/SUMIFS('Daily Performance'!$F$5:$F$370,'Daily Performance'!$A$5:$A$370,$A28)),"") | G28: =""
A29: =IFERROR(IF(ROW()-ROW($A$24)+$B$6<=$B$7,ROW()-ROW($A$24)+$B$6,""),"") | B29: =IFERROR(IF($A29="","",SUMIFS('Daily Performance'!$G$5:$G$370,'Daily Performance'!$A$5:$A$370,$A29)/SUMIFS('Daily Performance'!$F$5:$F$370,'Daily Performance'!$A$5:$A$370,$A29)),"") | C29: =IFERROR(IF($A29="","",SUMIFS('Daily Performance'!$I$5:$I$370,'Daily Performance'!$A$5:$A$370,$A29)/SUMIFS('Daily Performance'!$G$5:$G$370,'Daily Performance'!$A$5:$A$370,$A29)),"") | D29: =IFERROR(IF($A29="","",SUMIFS('Daily Performance'!$I$5:$I$370,'Daily Performance'!$A$5:$A$370,$A29)/SUMIFS('Daily Performance'!$F$5:$F$370,'Daily Performance'!$A$5:$A$370,$A29)),"") | G29: =""
A30: =IFERROR(IF(ROW()-ROW($A$24)+$B$6<=$B$7,ROW()-ROW($A$24)+$B$6,""),"") | B30: =IFERROR(IF($A30="","",SUMIFS('Daily Performance'!$G$5:$G$370,'Daily Performance'!$A$5:$A$370,$A30)/SUMIFS('Daily Performance'!$F$5:$F$370,'Daily Performance'!$A$5:$A$370,$A30)),"") | C30: =IFERROR(IF($A30="","",SUMIFS('Daily Performance'!$I$5:$I$370,'Daily Performance'!$A$5:$A$370,$A30)/SUMIFS('Daily Performance'!$G$5:$G$370,'Daily Performance'!$A$5:$A$370,$A30)),"") | D30: =IFERROR(IF($A30="","",SUMIFS('Daily Performance'!$I$5:$I$370,'Daily Performance'!$A$5:$A$370,$A30)/SUMIFS('Daily Performance'!$F$5:$F$370,'Daily Performance'!$A$5:$A$370,$A30)),"") | G30: =""
A31: =IFERROR(IF(ROW()-ROW($A$24)+$B$6<=$B$7,ROW()-ROW($A$24)+$B$6,""),"") | B31: =IFERROR(IF($A31="","",SUMIFS('Daily Performance'!$G$5:$G$370,'Daily Performance'!$A$5:$A$370,$A31)/SUMIFS('Daily Performance'!$F$5:$F$370,'Daily Performance'!$A$5:$A$370,$A31)),"") | C31: =IFERROR(IF($A31="","",SUMIFS('Daily Performance'!$I$5:$I$370,'Daily Performance'!$A$5:$A$370,$A31)/SUMIFS('Daily Performance'!$G$5:$G$370,'Daily Performance'!$A$5:$A$370,$A31)),"") | D31: =IFERROR(IF($A31="","",SUMIFS('Daily Performance'!$I$5:$I$370,'Daily Performance'!$A$5:$A$370,$A31)/SUMIFS('Daily Performance'!$F$5:$F$370,'Daily Performance'!$A$5:$A$370,$A31)),"") | G31: =""
A32: =IFERROR(IF(ROW()-ROW($A$24)+$B$6<=$B$7,ROW()-ROW($A$24)+$B$6,""),"") | B32: =IFERROR(IF($A32="","",SUMIFS('Daily Performance'!$G$5:$G$370,'Daily Performance'!$A$5:$A$370,$A32)/SUMIFS('Daily Performance'!$F$5:$F$370,'Daily Performance'!$A$5:$A$370,$A32)),"") | C32: =IFERROR(IF($A32="","",SUMIFS('Daily Performance'!$I$5:$I$370,'Daily Performance'!$A$5:$A$370,$A32)/SUMIFS('Daily Performance'!$G$5:$G$370,'Daily Performance'!$A$5:$A$370,$A32)),"") | D32: =IFERROR(IF($A32="","",SUMIFS('Daily Performance'!$I$5:$I$370,'Daily Performance'!$A$5:$A$370,$A32)/SUMIFS('Daily Performance'!$F$5:$F$370,'Daily Performance'!$A$5:$A$370,$A32)),"") | G32: =""
A33: =IFERROR(IF(ROW()-ROW($A$24)+$B$6<=$B$7,ROW()-ROW($A$24)+$B$6,""),"") | B33: =IFERROR(IF($A33="","",SUMIFS('Daily Performance'!$G$5:$G$370,'Daily Performance'!$A$5:$A$370,$A33)/SUMIFS('Daily Performance'!$F$5:$F$370,'Daily Performance'!$A$5:$A$370,$A33)),"") | C33: =IFERROR(IF($A33="","",SUMIFS('Daily Performance'!$I$5:$I$370,'Daily Performance'!$A$5:$A$370,$A33)/SUMIFS('Daily Performance'!$G$5:$G$370,'Daily Performance'!$A$5:$A$370,$A33)),"") | D33: =IFERROR(IF($A33="","",SUMIFS('Daily Performance'!$I$5:$I$370,'Daily Performance'!$A$5:$A$370,$A33)/SUMIFS('Daily Performance'!$F$5:$F$370,'Daily Performance'!$A$5:$A$370,$A33)),"") | G33: =""
A34: =IFERROR(IF(ROW()-ROW($A$24)+$B$6<=$B$7,ROW()-ROW($A$24)+$B$6,""),"") | B34: =IFERROR(IF($A34="","",SUMIFS('Daily Performance'!$G$5:$G$370,'Daily Performance'!$A$5:$A$370,$A34)/SUMIFS('Daily Performance'!$F$5:$F$370,'Daily Performance'!$A$5:$A$370,$A34)),"") | C34: =IFERROR(IF($A34="","",SUMIFS('Daily Performance'!$I$5:$I$370,'Daily Performance'!$A$5:$A$370,$A34)/SUMIFS('Daily Performance'!$G$5:$G$370,'Daily Performance'!$A$5:$A$370,$A34)),"") | D34: =IFERROR(IF($A34="","",SUMIFS('Daily Performance'!$I$5:$I$370,'Daily Performance'!$A$5:$A$370,$A34)/SUMIFS('Daily Performance'!$F$5:$F$370,'Daily Performance'!$A$5:$A$370,$A34)),"") | G34: =""
A35: =IFERROR(IF(ROW()-ROW($A$24)+$B$6<=$B$7,ROW()-ROW($A$24)+$B$6,""),"") | B35: =IFERROR(IF($A35="","",SUMIFS('Daily Performance'!$G$5:$G$370,'Daily Performance'!$A$5:$A$370,$A35)/SUMIFS('Daily Performance'!$F$5:$F$370,'Daily Performance'!$A$5:$A$370,$A35)),"") | C35: =IFERROR(IF($A35="","",SUMIFS('Daily Performance'!$I$5:$I$370,'Daily Performance'!$A$5:$A$370,$A35)/SUMIFS('Daily Performance'!$G$5:$G$370,'Daily Performance'!$A$5:$A$370,$A35)),"") | D35: =IFERROR(IF($A35="","",SUMIFS('Daily Performance'!$I$5:$I$370,'Daily Performance'!$A$5:$A$370,$A35)/SUMIFS('Daily Performance'!$F$5:$F$370,'Daily Performance'!$A$5:$A$370,$A35)),"") | G35: =""
... A54: =IFERROR(IF(ROW()-ROW($A$24)+$B$6<=$B$7,ROW()-ROW($A$24)+$B$6,""),"") | B54: =IFERROR(IF($A54="","",SUMIFS('Daily Performance'!$G$5:$G$370,'Daily Performance'!$A$5:$A$370,$A54)/SUMIFS('Daily Performance'!$F$5:$F$370,'Daily Performance'!$A$5:$A$370,$A54)),"") | C54: =IFERROR(IF($A54="","",SUMIFS('Daily Performance'!$I$5:$I$370,'Daily Performance'!$A$5:$A$370,$A54)/SUMIFS('Daily Performance'!$G$5:$G$370,'Daily Performance'!$A$5:$A$370,$A54)),"") | D54: =IFERROR(IF($A54="","",SUMIFS('Daily Performance'!$I$5:$I$370,'Daily Performance'!$A$5:$A$370,$A54)/SUMIFS('Daily Performance'!$F$5:$F$370,'Daily Performance'!$A$5:$A$370,$A54)),"") | G54: =""
A55: ="" | B55: ="" | C55: ="" | D55: ="" | G55: =""
A56: ="" | B56: ="" | C56: ="" | D56: ="" | G56: =""
A57: ="" | B57: ="" | C57: ="" | D57: ="" | G57: =""
A58: ="" | B58: ="" | C58: ="" | D58: ="" | G58: =""
A59: ="" | B59: ="" | C59: ="" | D59: ="" | G59: =""
A60: ="" | B60: ="" | C60: ="" | D60: ="" | G60: =""
A61: ="" | B61: ="" | C61: ="" | D61: ="" | G61: =""
...

Sheet Daily Performance
A1: Daily Hotel Performance Entry
A2: Enter daily room inventory, rooms sold, and room revenue in the yellow cells. Sellable Rooms, Occupancy, ADR, RevPAR, variances, and checks calculate automatically. Enter room revenue before taxes and separately stated fees unless your property uses a different internal reporting policy.
A4: Business Date | B4: Day of Week | C4: Day Type | D4: Total Rooms | E4: Out-of-Order Rooms | F4: Sellable Rooms | G4: Rooms Sold | H4: Complimentary Rooms | I4: Room Revenue | J4: Occupancy | K4: ADR | L4: RevPAR | M4: ADR Variance to Target | N4: RevPAR Variance to Target | O4: Operational Check | P4: Source Reference | Q4: Notes
A5: 46082 | B5: =IFERROR(IF(A5="","",INDEX({"Monday","Tuesday","Wednesday","Thursday","Friday","Saturday","Sunday"},1,MOD(A5-1,7)+1)),"") | C5: Weekend | D5: 120 | E5: 2 | F5: =IFERROR(IF(A5="","",D5-E5),"") | G5: 96 | H5: 2 | I5: 18240 | J5: =IFERROR(IF(A5="","",G5/F5),"") | K5: =IFERROR(IF(A5="","",I5/G5),"") | L5: =IFERROR(IF(A5="","",I5/F5),"") | M5: =IFERROR(IF(A5="","",K5-'Dashboard'!$B$9),"") | N5: =IFERROR(IF(A5="","",L5-'Dashboard'!$B$10),"") | O5: =IFERROR(IF(A5="","",IF(D5<=0,"Check total rooms",IF(E5<0,"Check out-of-order rooms",IF(E5>D5,"Out-of-order exceeds total",IF(F5<=0,"No sellable rooms",IF(G5<0,"Check rooms sold",IF(G5>F5,"Rooms sold exceed sellable",IF(H5<0,"Check complimentary rooms",IF(H5>G5,"Complimentary exceeds rooms sold",IF(I5<0,"Check room revenue",IF(AND(G5>0,I5=0),"Sold rooms with no revenue",IF(AND(G5=0,I5>0),"Revenue with no rooms sold",IF(E5>'Dashboard'!$B$11,"Review out-of-order rooms","OK"))))))))))))),"") | P5: NA-2026-060 | Q5: Sunday leisure demand
A6: 46083 | B6: =IFERROR(IF(A6="","",INDEX({"Monday","Tuesday","Wednesday","Thursday","Friday","Saturday","Sunday"},1,MOD(A6-1,7)+1)),"") | C6: Weekday | D6: 120 | E6: 2 | F6: =IFERROR(IF(A6="","",D6-E6),"") | G6: 88 | H6: 1 | I6: 15840 | J6: =IFERROR(IF(A6="","",G6/F6),"") | K6: =IFERROR(IF(A6="","",I6/G6),"") | L6: =IFERROR(IF(A6="","",I6/F6),"") | M6: =IFERROR(IF(A6="","",K6-'Dashboard'!$B$9),"") | N6: =IFERROR(IF(A6="","",L6-'Dashboard'!$B$10),"") | O6: =IFERROR(IF(A6="","",IF(D6<=0,"Check total rooms",IF(E6<0,"Check out-of-order rooms",IF(E6>D6,"Out-of-order exceeds total",IF(F6<=0,"No sellable rooms",IF(G6<0,"Check rooms sold",IF(G6>F6,"Rooms sold exceed sellable",IF(H6<0,"Check complimentary rooms",IF(H6>G6,"Complimentary exceeds rooms sold",IF(I6<0,"Check room revenue",IF(AND(G6>0,I6=0),"Sold rooms with no revenue",IF(AND(G6=0,I6>0),"Revenue with no rooms sold",IF(E6>'Dashboard'!$B$11,"Review out-of-order rooms","OK"))))))))))))),"") | P6: NA-2026-061 | Q6: Normal weekday mix
A7: 46084 | B7: =IFERROR(IF(A7="","",INDEX({"Monday","Tuesday","Wednesday","Thursday","Friday","Saturday","Sunday"},1,MOD(A7-1,7)+1)),"") | C7: Weekday | D7: 120 | E7: 3 | F7: =IFERROR(IF(A7="","",D7-E7),"") | G7: 91 | H7: 1 | I7: 16835 | J7: =IFERROR(IF(A7="","",G7/F7),"") | K7: =IFERROR(IF(A7="","",I7/G7),"") | L7: =IFERROR(IF(A7="","",I7/F7),"") | M7: =IFERROR(IF(A7="","",K7-'Dashboard'!$B$9),"") | N7: =IFERROR(IF(A7="","",L7-'Dashboard'!$B$10),"") | O7: =IFERROR(IF(A7="","",IF(D7<=0,"Check total rooms",IF(E7<0,"Check out-of-order rooms",IF(E7>D7,"Out-of-order exceeds total",IF(F7<=0,"No sellable rooms",IF(G7<0,"Check rooms sold",IF(G7>F7,"Rooms sold exceed sellable",IF(H7<0,"Check complimentary rooms",IF(H7>G7,"Complimentary exceeds rooms sold",IF(I7<0,"Check room revenue",IF(AND(G7>0,I7=0),"Sold rooms with no revenue",IF(AND(G7=0,I7>0),"Revenue with no rooms sold",IF(E7>'Dashboard'!$B$11,"Review out-of-order rooms","OK"))))))))))))),"") | P7: NA-2026-062 | Q7: Small corporate group
A8: 46085 | B8: =IFERROR(IF(A8="","",INDEX({"Monday","Tuesday","Wednesday","Thursday","Friday","Saturday","Sunday"},1,MOD(A8-1,7)+1)),"") | C8: Weekday | D8: 120 | E8: 3 | F8: =IFERROR(IF(A8="","",D8-E8),"") | G8: 98 | H8: 2 | I8: 18620 | J8: =IFERROR(IF(A8="","",G8/F8),"") | K8: =IFERROR(IF(A8="","",I8/G8),"") | L8: =IFERROR(IF(A8="","",I8/F8),"") | M8: =IFERROR(IF(A8="","",K8-'Dashboard'!$B$9),"") | N8: =IFERROR(IF(A8="","",L8-'Dashboard'!$B$10),"") | O8: =IFERROR(IF(A8="","",IF(D8<=0,"Check total rooms",IF(E8<0,"Check out-of-order rooms",IF(E8>D8,"Out-of-order exceeds total",IF(F8<=0,"No sellable rooms",IF(G8<0,"Check rooms sold",IF(G8>F8,"Rooms sold exceed sellable",IF(H8<0,"Check complimentary rooms",IF(H8>G8,"Complimentary exceeds rooms sold",IF(I8<0,"Check room revenue",IF(AND(G8>0,I8=0),"Sold rooms with no revenue",IF(AND(G8=0,I8>0),"Revenue with no rooms sold",IF(E8>'Dashboard'!$B$11,"Review out-of-order rooms","OK"))))))))))))),"") | P8: NA-2026-063 | Q8: Strong negotiated demand
A9: 46086 | B9: =IFERROR(IF(A9="","",INDEX({"Monday","Tuesday","Wednesday","Thursday","Friday","Saturday","Sunday"},1,MOD(A9-1,7)+1)),"") | C9: Weekday | D9: 120 | E9: 1 | F9: =IFERROR(IF(A9="","",D9-E9),"") | G9: 105 | H9: 1 | I9: 20475 | J9: =IFERROR(IF(A9="","",G9/F9),"") | K9: =IFERROR(IF(A9="","",I9/G9),"") | L9: =IFERROR(IF(A9="","",I9/F9),"") | M9: =IFERROR(IF(A9="","",K9-'Dashboard'!$B$9),"") | N9: =IFERROR(IF(A9="","",L9-'Dashboard'!$B$10),"") | O9: =IFERROR(IF(A9="","",IF(D9<=0,"Check total rooms",IF(E9<0,"Check out-of-order rooms",IF(E9>D9,"Out-of-order exceeds total",IF(F9<=0,"No sellable rooms",IF(G9<0,"Check rooms sold",IF(G9>F9,"Rooms sold exceed sellable",IF(H9<0,"Check complimentary rooms",IF(H9>G9,"Complimentary exceeds rooms sold",IF(I9<0,"Check room revenue",IF(AND(G9>0,I9=0),"Sold rooms with no revenue",IF(AND(G9=0,I9>0),"Revenue with no rooms sold",IF(E9>'Dashboard'!$B$11,"Review out-of-order rooms","OK"))))))))))))),"") | P9: NA-2026-064 | Q9: Higher transient pickup
A10: 46087 | B10: =IFERROR(IF(A10="","",INDEX({"Monday","Tuesday","Wednesday","Thursday","Friday","Saturday","Sunday"},1,MOD(A10-1,7)+1)),"") | C10: Weekend | D10: 120 | E10: 1 | F10: =IFERROR(IF(A10="","",D10-E10),"") | G10: 113 | H10: 2 | I10: 23730 | J10: =IFERROR(IF(A10="","",G10/F10),"") | K10: =IFERROR(IF(A10="","",I10/G10),"") | L10: =IFERROR(IF(A10="","",I10/F10),"") | M10: =IFERROR(IF(A10="","",K10-'Dashboard'!$B$9),"") | N10: =IFERROR(IF(A10="","",L10-'Dashboard'!$B$10),"") | O10: =IFERROR(IF(A10="","",IF(D10<=0,"Check total rooms",IF(E10<0,"Check out-of-order rooms",IF(E10>D10,"Out-of-order exceeds total",IF(F10<=0,"No sellable rooms",IF(G10<0,"Check rooms sold",IF(G10>F10,"Rooms sold exceed sellable",IF(H10<0,"Check complimentary rooms",IF(H10>G10,"Complimentary exceeds rooms sold",IF(I10<0,"Check room revenue",IF(AND(G10>0,I10=0),"Sold rooms with no revenue",IF(AND(G10=0,I10>0),"Revenue with no rooms sold",IF(E10>'Dashboard'!$B$11,"Review out-of-order rooms","OK"))))))))))))),"") | P10: NA-2026-065 | Q10: Friday event demand
A11: 46088 | B11: =IFERROR(IF(A11="","",INDEX({"Monday","Tuesday","Wednesday","Thursday","Friday","Saturday","Sunday"},1,MOD(A11-1,7)+1)),"") | C11: Special Event | D11: 120 | E11: 1 | F11: =IFERROR(IF(A11="","",D11-E11),"") | G11: 118 | H11: 2 | I11: 27140 | J11: =IFERROR(IF(A11="","",G11/F11),"") | K11: =IFERROR(IF(A11="","",I11/G11),"") | L11: =IFERROR(IF(A11="","",I11/F11),"") | M11: =IFERROR(IF(A11="","",K11-'Dashboard'!$B$9),"") | N11: =IFERROR(IF(A11="","",L11-'Dashboard'!$B$10),"") | O11: =IFERROR(IF(A11="","",IF(D11<=0,"Check total rooms",IF(E11<0,"Check out-of-order rooms",IF(E11>D11,"Out-of-order exceeds total",IF(F11<=0,"No sellable rooms",IF(G11<0,"Check rooms sold",IF(G11>F11,"Rooms sold exceed sellable",IF(H11<0,"Check complimentary rooms",IF(H11>G11,"Complimentary exceeds rooms sold",IF(I11<0,"Check room revenue",IF(AND(G11>0,I11=0),"Sold rooms with no revenue",IF(AND(G11=0,I11>0),"Revenue with no rooms sold",IF(E11>'Dashboard'!$B$11,"Review out-of-order rooms","OK"))))))))))))),"") | P11: NA-2026-066 | Q11: Sold out after adjustments
A12: 46089 | B12: =IFERROR(IF(A12="","",INDEX({"Monday","Tuesday","Wednesday","Thursday","Friday","Saturday","Sunday"},1,MOD(A12-1,7)+1)),"") | C12: Weekend | D12: 120 | E12: 4 | F12: =IFERROR(IF(A12="","",D12-E12),"") | G12: 104 | H12: 3 | I12: 21320 | J12: =IFERROR(IF(A12="","",G12/F12),"") | K12: =IFERROR(IF(A12="","",I12/G12),"") | L12: =IFERROR(IF(A12="","",I12/F12),"") | M12: =IFERROR(IF(A12="","",K12-'Dashboard'!$B$9),"") | N12: =IFERROR(IF(A12="","",L12-'Dashboard'!$B$10),"") | O12: =IFERROR(IF(A12="","",IF(D12<=0,"Check total rooms",IF(E12<0,"Check out-of-order rooms",IF(E12>D12,"Out-of-order exceeds total",IF(F12<=0,"No sellable rooms",IF(G12<0,"Check rooms sold",IF(G12>F12,"Rooms sold exceed sellable",IF(H12<0,"Check complimentary rooms",IF(H12>G12,"Complimentary exceeds rooms sold",IF(I12<0,"Check room revenue",IF(AND(G12>0,I12=0),"Sold rooms with no revenue",IF(AND(G12=0,I12>0),"Revenue with no rooms sold",IF(E12>'Dashboard'!$B$11,"Review out-of-order rooms","OK"))))))))))))),"") | P12: NA-2026-067 | Q12: Sunday departures
A13: 46090 | B13: =IFERROR(IF(A13="","",INDEX({"Monday","Tuesday","Wednesday","Thursday","Friday","Saturday","Sunday"},1,MOD(A13-1,7)+1)),"") | C13: Weekday | D13: 120 | E13: 6 | F13: =IFERROR(IF(A13="","",D13-E13),"") | G13: 92 | H13: 1 | I13: 17756 | J13: =IFERROR(IF(A13="","",G13/F13),"") | K13: =IFERROR(IF(A13="","",I13/G13),"") | L13: =IFERROR(IF(A13="","",I13/F13),"") | M13: =IFERROR(IF(A13="","",K13-'Dashboard'!$B$9),"") | N13: =IFERROR(IF(A13="","",L13-'Dashboard'!$B$10),"") | O13: =IFERROR(IF(A13="","",IF(D13<=0,"Check total rooms",IF(E13<0,"Check out-of-order rooms",IF(E13>D13,"Out-of-order exceeds total",IF(F13<=0,"No sellable rooms",IF(G13<0,"Check rooms sold",IF(G13>F13,"Rooms sold exceed sellable",IF(H13<0,"Check complimentary rooms",IF(H13>G13,"Complimentary exceeds rooms sold",IF(I13<0,"Check room revenue",IF(AND(G13>0,I13=0),"Sold rooms with no revenue",IF(AND(G13=0,I13>0),"Revenue with no rooms sold",IF(E13>'Dashboard'!$B$11,"Review out-of-order rooms","OK"))))))))))))),"") | P13: NA-2026-068 | Q13: Several rooms under repair
A14: 46091 | B14: =IFERROR(IF(A14="","",INDEX({"Monday","Tuesday","Wednesday","Thursday","Friday","Saturday","Sunday"},1,MOD(A14-1,7)+1)),"") | C14: Weekday | D14: 120 | E14: 2 | F14: =IFERROR(IF(A14="","",D14-E14),"") | G14: 99 | H14: 1 | I14: 19305 | J14: =IFERROR(IF(A14="","",G14/F14),"") | K14: =IFERROR(IF(A14="","",I14/G14),"") | L14: =IFERROR(IF(A14="","",I14/F14),"") | M14: =IFERROR(IF(A14="","",K14-'Dashboard'!$B$9),"") | N14: =IFERROR(IF(A14="","",L14-'Dashboard'!$B$10),"") | O14: =IFERROR(IF(A14="","",IF(D14<=0,"Check total rooms",IF(E14<0,"Check out-of-order rooms",IF(E14>D14,"Out-of-order exceeds total",IF(F14<=0,"No sellable rooms",IF(G14<0,"Check rooms sold",IF(G14>F14,"Rooms sold exceed sellable",IF(H14<0,"Check complimentary rooms",IF(H14>G14,"Complimentary exceeds rooms sold",IF(I14<0,"Check room revenue",IF(AND(G14>0,I14=0),"Sold rooms with no revenue",IF(AND(G14=0,I14>0),"Revenue with no rooms sold",IF(E14>'Dashboard'!$B$11,"Review out-of-order rooms","OK"))))))))))))),"") | P14: NA-2026-069 | Q14: Corporate account activity
B15: =IFERROR(IF(A15="","",INDEX({"Monday","Tuesday","Wednesday","Thursday","Friday","Saturday","Sunday"},1,MOD(A15-1,7)+1)),"") | F15: =IFERROR(IF(A15="","",D15-E15),"") | J15: =IFERROR(IF(A15="","",G15/F15),"") | K15: =IFERROR(IF(A15="","",I15/G15),"") | L15: =IFERROR(IF(A15="","",I15/F15),"") | M15: =IFERROR(IF(A15="","",K15-'Dashboard'!$B$9),"") | N15: =IFERROR(IF(A15="","",L15-'Dashboard'!$B$10),"") | O15: =IFERROR(IF(A15="","",IF(D15<=0,"Check total rooms",IF(E15<0,"Check out-of-order rooms",IF(E15>D15,"Out-of-order exceeds total",IF(F15<=0,"No sellable rooms",IF(G15<0,"Check rooms sold",IF(G15>F15,"Rooms sold exceed sellable",IF(H15<0,"Check complimentary rooms",IF(H15>G15,"Complimentary exceeds rooms sold",IF(I15<0,"Check room revenue",IF(AND(G15>0,I15=0),"Sold rooms with no revenue",IF(AND(G15=0,I15>0),"Revenue with no rooms sold",IF(E15>'Dashboard'!$B$11,"Review out-of-order rooms","OK"))))))))))))),"")
B16: =IFERROR(IF(A16="","",INDEX({"Monday","Tuesday","Wednesday","Thursday","Friday","Saturday","Sunday"},1,MOD(A16-1,7)+1)),"") | F16: =IFERROR(IF(A16="","",D16-E16),"") | J16: =IFERROR(IF(A16="","",G16/F16),"") | K16: =IFERROR(IF(A16="","",I16/G16),"") | L16: =IFERROR(IF(A16="","",I16/F16),"") | M16: =IFERROR(IF(A16="","",K16-'Dashboard'!$B$9),"") | N16: =IFERROR(IF(A16="","",L16-'Dashboard'!$B$10),"") | O16: =IFERROR(IF(A16="","",IF(D16<=0,"Check total rooms",IF(E16<0,"Check out-of-order rooms",IF(E16>D16,"Out-of-order exceeds total",IF(F16<=0,"No sellable rooms",IF(G16<0,"Check rooms sold",IF(G16>F16,"Rooms sold exceed sellable",IF(H16<0,"Check complimentary rooms",IF(H16>G16,"Complimentary exceeds rooms sold",IF(I16<0,"Check room revenue",IF(AND(G16>0,I16=0),"Sold rooms with no revenue",IF(AND(G16=0,I16>0),"Revenue with no rooms sold",IF(E16>'Dashboard'!$B$11,"Review out-of-order rooms","OK"))))))))))))),"")
B17: =IFERROR(IF(A17="","",INDEX({"Monday","Tuesday","Wednesday","Thursday","Friday","Saturday","Sunday"},1,MOD(A17-1,7)+1)),"") | F17: =IFERROR(IF(A17="","",D17-E17),"") | J17: =IFERROR(IF(A17="","",G17/F17),"") | K17: =IFERROR(IF(A17="","",I17/G17),"") | L17: =IFERROR(IF(A17="","",I17/F17),"") | M17: =IFERROR(IF(A17="","",K17-'Dashboard'!$B$9),"") | N17: =IFERROR(IF(A17="","",L17-'Dashboard'!$B$10),"") | O17: =IFERROR(IF(A17="","",IF(D17<=0,"Check total rooms",IF(E17<0,"Check out-of-order rooms",IF(E17>D17,"Out-of-order exceeds total",IF(F17<=0,"No sellable rooms",IF(G17<0,"Check rooms sold",IF(G17>F17,"Rooms sold exceed sellable",IF(H17<0,"Check complimentary rooms",IF(H17>G17,"Complimentary exceeds rooms sold",IF(I17<0,"Check room revenue",IF(AND(G17>0,I17=0),"Sold rooms with no revenue",IF(AND(G17=0,I17>0),"Revenue with no rooms sold",IF(E17>'Dashboard'!$B$11,"Review out-of-order rooms","OK"))))))))))))),"")
B18: =IFERROR(IF(A18="","",INDEX({"Monday","Tuesday","Wednesday","Thursday","Friday","Saturday","Sunday"},1,MOD(A18-1,7)+1)),"") | F18: =IFERROR(IF(A18="","",D18-E18),"") | J18: =IFERROR(IF(A18="","",G18/F18),"") | K18: =IFERROR(IF(A18="","",I18/G18),"") | L18: =IFERROR(IF(A18="","",I18/F18),"") | M18: =IFERROR(IF(A18="","",K18-'Dashboard'!$B$9),"") | N18: =IFERROR(IF(A18="","",L18-'Dashboard'!$B$10),"") | O18: =IFERROR(IF(A18="","",IF(D18<=0,"Check total rooms",IF(E18<0,"Check out-of-order rooms",IF(E18>D18,"Out-of-order exceeds total",IF(F18<=0,"No sellable rooms",IF(G18<0,"Check rooms sold",IF(G18>F18,"Rooms sold exceed sellable",IF(H18<0,"Check complimentary rooms",IF(H18>G18,"Complimentary exceeds rooms sold",IF(I18<0,"Check room revenue",IF(AND(G18>0,I18=0),"Sold rooms with no revenue",IF(AND(G18=0,I18>0),"Revenue with no rooms sold",IF(E18>'Dashboard'!$B$11,"Review out-of-order rooms","OK"))))))))))))),"")
B19: =IFERROR(IF(A19="","",INDEX({"Monday","Tuesday","Wednesday","Thursday","Friday","Saturday","Sunday"},1,MOD(A19-1,7)+1)),"") | F19: =IFERROR(IF(A19="","",D19-E19),"") | J19: =IFERROR(IF(A19="","",G19/F19),"") | K19: =IFERROR(IF(A19="","",I19/G19),"") | L19: =IFERROR(IF(A19="","",I19/F19),"") | M19: =IFERROR(IF(A19="","",K19-'Dashboard'!$B$9),"") | N19: =IFERROR(IF(A19="","",L19-'Dashboard'!$B$10),"") | O19: =IFERROR(IF(A19="","",IF(D19<=0,"Check total rooms",IF(E19<0,"Check out-of-order rooms",IF(E19>D19,"Out-of-order exceeds total",IF(F19<=0,"No sellable rooms",IF(G19<0,"Check rooms sold",IF(G19>F19,"Rooms sold exceed sellable",IF(H19<0,"Check complimentary rooms",IF(H19>G19,"Complimentary exceeds rooms sold",IF(I19<0,"Check room revenue",IF(AND(G19>0,I19=0),"Sold rooms with no revenue",IF(AND(G19=0,I19>0),"Revenue with no rooms sold",IF(E19>'Dashboard'!$B$11,"Review out-of-order rooms","OK"))))))))))))),"")
B20: =IFERROR(IF(A20="","",INDEX({"Monday","Tuesday","Wednesday","Thursday","Friday","Saturday","Sunday"},1,MOD(A20-1,7)+1)),"") | F20: =IFERROR(IF(A20="","",D20-E20),"") | J20: =IFERROR(IF(A20="","",G20/F20),"") | K20: =IFERROR(IF(A20="","",I20/G20),"") | L20: =IFERROR(IF(A20="","",I20/F20),"") | M20: =IFERROR(IF(A20="","",K20-'Dashboard'!$B$9),"") | N20: =IFERROR(IF(A20="","",L20-'Dashboard'!$B$10),"") | O20: =IFERROR(IF(A20="","",IF(D20<=0,"Check total rooms",IF(E20<0,"Check out-of-order rooms",IF(E20>D20,"Out-of-order exceeds total",IF(F20<=0,"No sellable rooms",IF(G20<0,"Check rooms sold",IF(G20>F20,"Rooms sold exceed sellable",IF(H20<0,"Check complimentary rooms",IF(H20>G20,"Complimentary exceeds rooms sold",IF(I20<0,"Check room revenue",IF(AND(G20>0,I20=0),"Sold rooms with no revenue",IF(AND(G20=0,I20>0),"Revenue with no rooms sold",IF(E20>'Dashboard'!$B$11,"Review out-of-order rooms","OK"))))))))))))),"")
B21: =IFERROR(IF(A21="","",INDEX({"Monday","Tuesday","Wednesday","Thursday","Friday","Saturday","Sunday"},1,MOD(A21-1,7)+1)),"") | F21: =IFERROR(IF(A21="","",D21-E21),"") | J21: =IFERROR(IF(A21="","",G21/F21),"") | K21: =IFERROR(IF(A21="","",I21/G21),"") | L21: =IFERROR(IF(A21="","",I21/F21),"") | M21: =IFERROR(IF(A21="","",K21-'Dashboard'!$B$9),"") | N21: =IFERROR(IF(A21="","",L21-'Dashboard'!$B$10),"") | O21: =IFERROR(IF(A21="","",IF(D21<=0,"Check total rooms",IF(E21<0,"Check out-of-order rooms",IF(E21>D21,"Out-of-order exceeds total",IF(F21<=0,"No sellable rooms",IF(G21<0,"Check rooms sold",IF(G21>F21,"Rooms sold exceed sellable",IF(H21<0,"Check complimentary rooms",IF(H21>G21,"Complimentary exceeds rooms sold",IF(I21<0,"Check room revenue",IF(AND(G21>0,I21=0),"Sold rooms with no revenue",IF(AND(G21=0,I21>0),"Revenue with no rooms sold",IF(E21>'Dashboard'!$B$11,"Review out-of-order rooms","OK"))))))))))))),"")
B22: =IFERROR(IF(A22="","",INDEX({"Monday","Tuesday","Wednesday","Thursday","Friday","Saturday","Sunday"},1,MOD(A22-1,7)+1)),"") | F22: =IFERROR(IF(A22="","",D22-E22),"") | J22: =IFERROR(IF(A22="","",G22/F22),"") | K22: =IFERROR(IF(A22="","",I22/G22),"") | L22: =IFERROR(IF(A22="","",I22/F22),"") | M22: =IFERROR(IF(A22="","",K22-'Dashboard'!$B$9),"") | N22: =IFERROR(IF(A22="","",L22-'Dashboard'!$B$10),"") | O22: =IFERROR(IF(A22="","",IF(D22<=0,"Check total rooms",IF(E22<0,"Check out-of-order rooms",IF(E22>D22,"Out-of-order exceeds total",IF(F22<=0,"No sellable rooms",IF(G22<0,"Check rooms sold",IF(G22>F22,"Rooms sold exceed sellable",IF(H22<0,"Check complimentary rooms",IF(H22>G22,"Complimentary exceeds rooms sold",IF(I22<0,"Check room revenue",IF(AND(G22>0,I22=0),"Sold rooms with no revenue",IF(AND(G22=0,I22>0),"Revenue with no rooms sold",IF(E22>'Dashboard'!$B$11,"Review out-of-order rooms","OK"))))))))))))),"")
B23: =IFERROR(IF(A23="","",INDEX({"Monday","Tuesday","Wednesday","Thursday","Friday","Saturday","Sunday"},1,MOD(A23-1,7)+1)),"") | F23: =IFERROR(IF(A23="","",D23-E23),"") | J23: =IFERROR(IF(A23="","",G23/F23),"") | K23: =IFERROR(IF(A23="","",I23/G23),"") | L23: =IFERROR(IF(A23="","",I23/F23),"") | M23: =IFERROR(IF(A23="","",K23-'Dashboard'!$B$9),"") | N23: =IFERROR(IF(A23="","",L23-'Dashboard'!$B$10),"") | O23: =IFERROR(IF(A23="","",IF(D23<=0,"Check total rooms",IF(E23<0,"Check out-of-order rooms",IF(E23>D23,"Out-of-order exceeds total",IF(F23<=0,"No sellable rooms",IF(G23<0,"Check rooms sold",IF(G23>F23,"Rooms sold exceed sellable",IF(H23<0,"Check complimentary rooms",IF(H23>G23,"Complimentary exceeds rooms sold",IF(I23<0,"Check room revenue",IF(AND(G23>0,I23=0),"Sold rooms with no revenue",IF(AND(G23=0,I23>0),"Revenue with no rooms sold",IF(E23>'Dashboard'!$B$11,"Review out-of-order rooms","OK"))))))))))))),"")
B24: =IFERROR(IF(A24="","",INDEX({"Monday","Tuesday","Wednesday","Thursday","Friday","Saturday","Sunday"},1,MOD(A24-1,7)+1)),"") | F24: =IFERROR(IF(A24="","",D24-E24),"") | J24: =IFERROR(IF(A24="","",G24/F24),"") | K24: =IFERROR(IF(A24="","",I24/G24),"") | L24: =IFERROR(IF(A24="","",I24/F24),"") | M24: =IFERROR(IF(A24="","",K24-'Dashboard'!$B$9),"") | N24: =IFERROR(IF(A24="","",L24-'Dashboard'!$B$10),"") | O24: =IFERROR(IF(A24="","",IF(D24<=0,"Check total rooms",IF(E24<0,"Check out-of-order rooms",IF(E24>D24,"Out-of-order exceeds total",IF(F24<=0,"No sellable rooms",IF(G24<0,"Check rooms sold",IF(G24>F24,"Rooms sold exceed sellable",IF(H24<0,"Check complimentary rooms",IF(H24>G24,"Complimentary exceeds rooms sold",IF(I24<0,"Check room revenue",IF(AND(G24>0,I24=0),"Sold rooms with no revenue",IF(AND(G24=0,I24>0),"Revenue with no rooms sold",IF(E24>'Dashboard'!$B$11,"Review out-of-order rooms","OK"))))))))))))),"")
B25: =IFERROR(IF(A25="","",INDEX({"Monday","Tuesday","Wednesday","Thursday","Friday","Saturday","Sunday"},1,MOD(A25-1,7)+1)),"") | F25: =IFERROR(IF(A25="","",D25-E25),"") | J25: =IFERROR(IF(A25="","",G25/F25),"") | K25: =IFERROR(IF(A25="","",I25/G25),"") | L25: =IFERROR(IF(A25="","",I25/F25),"") | M25: =IFERROR(IF(A25="","",K25-'Dashboard'!$B$9),"") | N25: =IFERROR(IF(A25="","",L25-'Dashboard'!$B$10),"") | O25: =IFERROR(IF(A25="","",IF(D25<=0,"Check total rooms",IF(E25<0,"Check out-of-order rooms",IF(E25>D25,"Out-of-order exceeds total",IF(F25<=0,"No sellable rooms",IF(G25<0,"Check rooms sold",IF(G25>F25,"Rooms sold exceed sellable",IF(H25<0,"Check complimentary rooms",IF(H25>G25,"Complimentary exceeds rooms sold",IF(I25<0,"Check room revenue",IF(AND(G25>0,I25=0),"Sold rooms with no revenue",IF(AND(G25=0,I25>0),"Revenue with no rooms sold",IF(E25>'Dashboard'!$B$11,"Review out-of-order rooms","OK"))))))))))))),"")
B26: =IFERROR(IF(A26="","",INDEX({"Monday","Tuesday","Wednesday","Thursday","Friday","Saturday","Sunday"},1,MOD(A26-1,7)+1)),"") | F26: =IFERROR(IF(A26="","",D26-E26),"") | J26: =IFERROR(IF(A26="","",G26/F26),"") | K26: =IFERROR(IF(A26="","",I26/G26),"") | L26: =IFERROR(IF(A26="","",I26/F26),"") | M26: =IFERROR(IF(A26="","",K26-'Dashboard'!$B$9),"") | N26: =IFERROR(IF(A26="","",L26-'Dashboard'!$B$10),"") | O26: =IFERROR(IF(A26="","",IF(D26<=0,"Check total rooms",IF(E26<0,"Check out-of-order rooms",IF(E26>D26,"Out-of-order exceeds total",IF(F26<=0,"No sellable rooms",IF(G26<0,"Check rooms sold",IF(G26>F26,"Rooms sold exceed sellable",IF(H26<0,"Check complimentary rooms",IF(H26>G26,"Complimentary exceeds rooms sold",IF(I26<0,"Check room revenue",IF(AND(G26>0,I26=0),"Sold rooms with no revenue",IF(AND(G26=0,I26>0),"Revenue with no rooms sold",IF(E26>'Dashboard'!$B$11,"Review out-of-order rooms","OK"))))))))))))),"")
... B370: =IFERROR(IF(A370="","",INDEX({"Monday","Tuesday","Wednesday","Thursday","Friday","Saturday","Sunday"},1,MOD(A370-1,7)+1)),"") | F370: =IFERROR(IF(A370="","",D370-E370),"") | J370: =IFERROR(IF(A370="","",G370/F370),"") | K370: =IFERROR(IF(A370="","",I370/G370),"") | L370: =IFERROR(IF(A370="","",I370/F370),"") | M370: =IFERROR(IF(A370="","",K370-'Dashboard'!$B$9),"") | N370: =IFERROR(IF(A370="","",L370-'Dashboard'!$B$10),"") | O370: =IFERROR(IF(A370="","",IF(D370<=0,"Check total rooms",IF(E370<0,"Check out-of-order rooms",IF(E370>D370,"Out-of-order exceeds total",IF(F370<=0,"No sellable rooms",IF(G370<0,"Check rooms sold",IF(G370>F370,"Rooms sold exceed sellable",IF(H370<0,"Check complimentary rooms",IF(H370>G370,"Complimentary exceeds rooms sold",IF(I370<0,"Check room revenue",IF(AND(G370>0,I370=0),"Sold rooms with no revenue",IF(AND(G370=0,I370>0),"Revenue with no rooms sold",IF(E370>'Dashboard'!$B$11,"Review out-of-order rooms","OK"))))))))))))),"")

Sheet Instructions
A1: Workbook Instructions
A3: Quick Start
A4: 1. On the Dashboard, enter the property name, reporting dates, and operating targets.
A5: 2. On Daily Performance, enter one row for each hotel business date.
A6: 3. Enter Total Rooms, Out-of-Order Rooms, Rooms Sold, Complimentary Rooms, and Room Revenue from the property’s approved daily reporting source.
A7: 4. Review the Operational Check column and correct or document exceptions.
A8: 5. Return to the Dashboard to review Occupancy, ADR, RevPAR, target variances, and trends.
A10: Metric Definitions
A11: Total Rooms: The property’s physical room count used for internal performance reporting.
A12: Out-of-Order Rooms: Rooms removed from sellable inventory for the business date.
A13: Sellable Rooms: Total Rooms minus Out-of-Order Rooms.
A14: Rooms Sold: Occupied rooms counted as sold under the property’s reporting policy.
... A44: Red: Data issue or below-target result
