Workbook

Sheet Dashboard
A1: Campground Reservation Dashboard
A2: Report Date: | B2: =IFERROR(TODAY(),"") | D2: Metrics update from the Reservations and Site Inventory worksheets. | J2: Editable Property Assumptions
J3: Estimated Lodging Tax Rate | K3: 0.07
A4: Current Operating Metrics | J4: Standard Reservation Fee | K4: 5
A5: Active Sites | D5: Arrivals Today | J5: Deposit Target | K5: 0.25
A6: =IFERROR(COUNTIF('Site Inventory'!$E$2:$E$101,"Yes"),0) | D6: =IFERROR(COUNTIFS('Reservations'!$H$2:$H$151,TODAY(),'Reservations'!$B$2:$B$151,"Booked"),0) | J6: Cancellation Notice Target | K6: 7
A7: Departures Today | D7: Guests In House | J7: Occupancy Planning Window | K7: 30
A8: =IFERROR(COUNTIFS('Reservations'!$I$2:$I$151,TODAY(),'Reservations'!$B$2:$B$151,"Checked In"),0) | D8: =IFERROR(SUMIFS('Reservations'!$L$2:$L$151,'Reservations'!$H$2:$H$151,"<="&TODAY(),'Reservations'!$I$2:$I$151,">"&TODAY(),'Reservations'!$B$2:$B$151,"Checked In")+SUMIFS('Reservations'!$M$2:$M$151,'Reservations'!$H$2:$H$151,"<="&TODAY(),'Reservations'!$I$2:$I$151,">"&TODAY(),'Reservations'!$B$2:$B$151,"Checked In"),0) | J8: Standard Check-In Time | K8: 0.58333333
A9: Occupied Sites Tonight | D9: Occupancy Tonight | J9: Standard Check-Out Time | K9: 0.45833333
A10: =IFERROR(COUNTIFS('Reservations'!$H$2:$H$151,"<="&TODAY(),'Reservations'!$I$2:$I$151,">"&TODAY(),'Reservations'!$B$2:$B$151,"Booked")+COUNTIFS('Reservations'!$H$2:$H$151,"<="&TODAY(),'Reservations'!$I$2:$I$151,">"&TODAY(),'Reservations'!$B$2:$B$151,"Checked In"),0) | D10: =IFERROR(B9/B5,0) | J10: Update tax rates, fees, and policies to match the property’s own practices. This workbook does not determine legal requirements.
A11: Outstanding Guest Balance | D11: Reservations Requiring Attention
A12: =IFERROR(SUMIFS('Reservations'!$AB$2:$AB$151,'Reservations'!$B$2:$B$151,"Booked")+SUMIFS('Reservations'!$AB$2:$AB$151,'Reservations'!$B$2:$B$151,"Checked In"),0) | D12: =IFERROR(COUNTIFS('Reservations'!$A$2:$A$151,"<>",'Reservations'!$AG$2:$AG$151,"<>OK",'Reservations'!$AG$2:$AG$151,"<>Inactive reservation"),0)
A13: Site Nights in Planning Window | D13: Planning Window Occupancy
A14: =IFERROR(SUMPRODUCT(('Reservations'!$A$2:$A$151<>"")*('Reservations'!$H$2:$H$151<TODAY()+$K$7)*('Reservations'!$I$2:$I$151>TODAY())*('Reservations'!$B$2:$B$151<>"Canceled")*('Reservations'!$B$2:$B$151<>"No Show")*(('Reservations'!$I$2:$I$151<TODAY()+$K$7)*('Reservations'!$I$2:$I$151-TODAY())+('Reservations'!$I$2:$I$151>=TODAY()+$K$7)*$K$7-('Reservations'!$H$2:$H$151>TODAY())*('Reservations'!$H$2:$H$151-TODAY()))),0) | D14: =IFERROR(E9/(B5*$K$7),0)
A15: =""
A16: Operational Summary by Site Type | G16: Reservation Status | H16: Count
A17: Site Type | B17: Active Sites | C17: Reserved Site Nights | D17: Available Site Nights | E17: Occupancy Percentage | G17: Booked | H17: =IFERROR(COUNTIF('Reservations'!$B$2:$B$151,G17),0)
A18: RV Full Hookup | B18: =IFERROR(COUNTIFS('Site Inventory'!$C$2:$C$101,A18,'Site Inventory'!$E$2:$E$101,"Yes"),0) | C18: =IFERROR(SUMPRODUCT(('Reservations'!$A$2:$A$151<>"")*('Reservations'!$G$2:$G$151=A18)*('Reservations'!$H$2:$H$151<TODAY()+$K$7)*('Reservations'!$I$2:$I$151>TODAY())*('Reservations'!$B$2:$B$151<>"Canceled")*('Reservations'!$B$2:$B$151<>"No Show")*(('Reservations'!$I$2:$I$151<TODAY()+$K$7)*('Reservations'!$I$2:$I$151-TODAY())+('Reservations'!$I$2:$I$151>=TODAY()+$K$7)*$K$7-('Reservations'!$H$2:$H$151>TODAY())*('Reservations'!$H$2:$H$151-TODAY()))),0) | D18: =IFERROR(B18*$K$7,0) | E18: =IFERROR(C18/D18,0) | G18: Checked In | H18: =IFERROR(COUNTIF('Reservations'!$B$2:$B$151,G18),0)
A19: RV Electric/Water | B19: =IFERROR(COUNTIFS('Site Inventory'!$C$2:$C$101,A19,'Site Inventory'!$E$2:$E$101,"Yes"),0) | C19: =IFERROR(SUMPRODUCT(('Reservations'!$A$2:$A$151<>"")*('Reservations'!$G$2:$G$151=A19)*('Reservations'!$H$2:$H$151<TODAY()+$K$7)*('Reservations'!$I$2:$I$151>TODAY())*('Reservations'!$B$2:$B$151<>"Canceled")*('Reservations'!$B$2:$B$151<>"No Show")*(('Reservations'!$I$2:$I$151<TODAY()+$K$7)*('Reservations'!$I$2:$I$151-TODAY())+('Reservations'!$I$2:$I$151>=TODAY()+$K$7)*$K$7-('Reservations'!$H$2:$H$151>TODAY())*('Reservations'!$H$2:$H$151-TODAY()))),0) | D19: =IFERROR(B19*$K$7,0) | E19: =IFERROR(C19/D19,0) | G19: Checked Out | H19: =IFERROR(COUNTIF('Reservations'!$B$2:$B$151,G19),0)
A20: Tent | B20: =IFERROR(COUNTIFS('Site Inventory'!$C$2:$C$101,A20,'Site Inventory'!$E$2:$E$101,"Yes"),0) | C20: =IFERROR(SUMPRODUCT(('Reservations'!$A$2:$A$151<>"")*('Reservations'!$G$2:$G$151=A20)*('Reservations'!$H$2:$H$151<TODAY()+$K$7)*('Reservations'!$I$2:$I$151>TODAY())*('Reservations'!$B$2:$B$151<>"Canceled")*('Reservations'!$B$2:$B$151<>"No Show")*(('Reservations'!$I$2:$I$151<TODAY()+$K$7)*('Reservations'!$I$2:$I$151-TODAY())+('Reservations'!$I$2:$I$151>=TODAY()+$K$7)*$K$7-('Reservations'!$H$2:$H$151>TODAY())*('Reservations'!$H$2:$H$151-TODAY()))),0) | D20: =IFERROR(B20*$K$7,0) | E20: =IFERROR(C20/D20,0) | G20: Canceled | H20: =IFERROR(COUNTIF('Reservations'!$B$2:$B$151,G20),0)
A21: Cabin | B21: =IFERROR(COUNTIFS('Site Inventory'!$C$2:$C$101,A21,'Site Inventory'!$E$2:$E$101,"Yes"),0) | C21: =IFERROR(SUMPRODUCT(('Reservations'!$A$2:$A$151<>"")*('Reservations'!$G$2:$G$151=A21)*('Reservations'!$H$2:$H$151<TODAY()+$K$7)*('Reservations'!$I$2:$I$151>TODAY())*('Reservations'!$B$2:$B$151<>"Canceled")*('Reservations'!$B$2:$B$151<>"No Show")*(('Reservations'!$I$2:$I$151<TODAY()+$K$7)*('Reservations'!$I$2:$I$151-TODAY())+('Reservations'!$I$2:$I$151>=TODAY()+$K$7)*$K$7-('Reservations'!$H$2:$H$151>TODAY())*('Reservations'!$H$2:$H$151-TODAY()))),0) | D21: =IFERROR(B21*$K$7,0) | E21: =IFERROR(C21/D21,0) | G21: No Show | H21: =IFERROR(COUNTIF('Reservations'!$B$2:$B$151,G21),0)
A22: ="" | B22: ="" | C22: ="" | D22: ="" | E22: ="" | H22: =""
A23: ="" | B23: ="" | C23: ="" | D23: ="" | E23: ="" | H23: =""
A24: ="" | B24: ="" | C24: ="" | D24: ="" | E24: ="" | H24: =""
A25: ="" | B25: ="" | C25: ="" | D25: ="" | E25: ="" | H25: =""
A26: ="" | B26: ="" | C26: ="" | D26: ="" | E26: ="" | H26: =""
A27: ="" | B27: ="" | C27: ="" | D27: ="" | E27: ="" | H27: =""
A28: ="" | B28: ="" | C28: ="" | D28: ="" | E28: ="" | H28: =""
A29: ="" | B29: ="" | C29: ="" | D29: ="" | E29: ="" | H29: =""
A30: ="" | B30: ="" | C30: ="" | D30: ="" | E30: ="" | H30: =""
A31: ="" | B31: ="" | C31: ="" | D31: ="" | E31: ="" | H31: =""
A32: ="" | B32: ="" | C32: ="" | D32: ="" | E32: ="" | H32: =""
A33: ="" | B33: ="" | C33: ="" | D33: ="" | E33: ="" | H33: =""
... A101: ="" | B101: ="" | C101: ="" | D101: ="" | E101: ="" | H101: =""

Sheet Reservations
A1: Reservation ID | B1: Status | C1: Guest Name | D1: Phone | E1: Email | F1: Site ID | G1: Site Type | H1: Arrival Date | I1: Departure Date | J1: Nights | K1: Stay Timing | L1: Adults | M1: Children | N1: Pets | O1: RV Length (ft.) | P1: Vehicles | Q1: Base Nightly Rate | R1: Rate Override | S1: Applied Nightly Rate | T1: Site Charge | U1: Extras | V1: Reservation Fee | W1: Estimated Tax Rate | X1: Estimated Tax | Y1: Total Charges | Z1: Payments Received | AA1: Deposit Target | AB1: Balance Due | AC1: Booking Source | AD1: External Confirmation | AE1: Booked Date | AF1: Guest Notes | AG1: Operational Check
A2: RSV-26001 | B2: Booked | C2: Jordan Miller | D2: 555-010-2601 | E2: jordan.miller@example.com | F2: RV-01 | G2: =IFERROR(IF(A2="","",INDEX('Site Inventory'!$C$2:$C$101,MATCH(F2,'Site Inventory'!$A$2:$A$101,0))),"") | H2: 46185 | I2: 46188 | J2: =IFERROR(IF(A2="","",MAX(0,I2-H2)),"") | K2: =IFERROR(IF(A2="","",IF(OR(B2="Canceled",B2="No Show"),B2,IF(I2<TODAY(),"Past Stay",IF(I2=TODAY(),"Due Out Today",IF(AND(H2<=TODAY(),I2>TODAY()),"In House",IF(H2=TODAY(),"Due In Today","Upcoming")))))),"Check dates") | L2: 2 | M2: 1 | N2: 1 | O2: 38 | P2: 2 | Q2: =IFERROR(IF(A2="","",INDEX('Site Inventory'!$K$2:$K$101,MATCH(F2,'Site Inventory'!$A$2:$A$101,0))),"") | S2: =IFERROR(IF(A2="","",IF(R2="",Q2,R2)),"") | T2: =IFERROR(IF(A2="","",J2*S2),"") | U2: 24 | V2: =IFERROR(IF(A2="","",Dashboard!$K$4),"") | W2: =IFERROR(IF(A2="","",Dashboard!$K$3),"") | X2: =IFERROR(IF(A2="","",(T2+U2)*W2),"") | Y2: =IFERROR(IF(A2="","",T2+U2+V2+X2),"") | Z2: 75 | AA2: =IFERROR(IF(A2="","",Y2*Dashboard!$K$5),"") | AB2: =IFERROR(IF(A2="","",MAX(0,Y2-Z2)),"") | AC2: Direct Phone | AE2: 46089 | AF2: Late afternoon arrival; towing vehicle. | AG2: =IFERROR(IF(A2="","",IF(OR(B2="Canceled",B2="No Show"),"Inactive reservation",IF(F2="","Missing Site ID",IF(OR(H2="",I2=""),"Missing stay dates",IF(I2<=H2,"Fix stay dates",IF(L2<1,"Enter at least one adult",IF(COUNTIF('Site Inventory'!$A$2:$A$101,F2)=0,"Site not found",IF(INDEX('Site Inventory'!$E$2:$E$101,MATCH(F2,'Site Inventory'!$A$2:$A$101,0))<>"Yes","Site is inactive",IF(L2+M2>INDEX('Site Inventory'!$F$2:$F$101,MATCH(F2,'Site Inventory'!$A$2:$A$101,0)),"Guest count exceeds site capacity",IF(AND(O2>0,O2>INDEX('Site Inventory'!$G$2:$G$101,MATCH(F2,'Site Inventory'!$A$2:$A$101,0))),"RV exceeds site length",IF(COUNTIFS($F$2:$F$151,F2,$H$2:$H$151,"<"&I2,$I$2:$I$151,">"&H2,$A$2:$A$151,"<>"&A2,$B$2:$B$151,"Booked")+COUNTIFS($F$2:$F$151,F2,$H$2:$H$151,"<"&I2,$I$2:$I$151,">"&H2,$A$2:$A$151,"<>"&A2,$B$2:$B$151,"Checked In")>0,"Overlapping reservation",IF(AND(B2="Booked",Z2<AA2),"Deposit below target",IF(AND(B2="Checked Out",AB2>0),"Balance remains after checkout","OK"))))))))))))),"Review reservation")
A3: RSV-26002 | B3: Booked | C3: Alicia Brown | D3: 555-010-2602 | E3: alicia.brown@example.org | F3: T-01 | G3: =IFERROR(IF(A3="","",INDEX('Site Inventory'!$C$2:$C$101,MATCH(F3,'Site Inventory'!$A$2:$A$101,0))),"") | H3: 46186 | I3: 46189 | J3: =IFERROR(IF(A3="","",MAX(0,I3-H3)),"") | K3: =IFERROR(IF(A3="","",IF(OR(B3="Canceled",B3="No Show"),B3,IF(I3<TODAY(),"Past Stay",IF(I3=TODAY(),"Due Out Today",IF(AND(H3<=TODAY(),I3>TODAY()),"In House",IF(H3=TODAY(),"Due In Today","Upcoming")))))),"Check dates") | L3: 2 | M3: 1 | N3: 0 | O3: 0 | P3: 1 | Q3: =IFERROR(IF(A3="","",INDEX('Site Inventory'!$K$2:$K$101,MATCH(F3,'Site Inventory'!$A$2:$A$101,0))),"") | S3: =IFERROR(IF(A3="","",IF(R3="",Q3,R3)),"") | T3: =IFERROR(IF(A3="","",J3*S3),"") | U3: 12 | V3: =IFERROR(IF(A3="","",Dashboard!$K$4),"") | W3: =IFERROR(IF(A3="","",Dashboard!$K$3),"") | X3: =IFERROR(IF(A3="","",(T3+U3)*W3),"") | Y3: =IFERROR(IF(A3="","",T3+U3+V3+X3),"") | Z3: 35 | AA3: =IFERROR(IF(A3="","",Y3*Dashboard!$K$5),"") | AB3: =IFERROR(IF(A3="","",MAX(0,Y3-Z3)),"") | AC3: Property Website | AD3: WEB-260213 | AE3: 46096 | AF3: Requests a quiet site if available. | AG3: =IFERROR(IF(A3="","",IF(OR(B3="Canceled",B3="No Show"),"Inactive reservation",IF(F3="","Missing Site ID",IF(OR(H3="",I3=""),"Missing stay dates",IF(I3<=H3,"Fix stay dates",IF(L3<1,"Enter at least one adult",IF(COUNTIF('Site Inventory'!$A$2:$A$101,F3)=0,"Site not found",IF(INDEX('Site Inventory'!$E$2:$E$101,MATCH(F3,'Site Inventory'!$A$2:$A$101,0))<>"Yes","Site is inactive",IF(L3+M3>INDEX('Site Inventory'!$F$2:$F$101,MATCH(F3,'Site Inventory'!$A$2:$A$101,0)),"Guest count exceeds site capacity",IF(AND(O3>0,O3>INDEX('Site Inventory'!$G$2:$G$101,MATCH(F3,'Site Inventory'!$A$2:$A$101,0))),"RV exceeds site length",IF(COUNTIFS($F$2:$F$151,F3,$H$2:$H$151,"<"&I3,$I$2:$I$151,">"&H3,$A$2:$A$151,"<>"&A3,$B$2:$B$151,"Booked")+COUNTIFS($F$2:$F$151,F3,$H$2:$H$151,"<"&I3,$I$2:$I$151,">"&H3,$A$2:$A$151,"<>"&A3,$B$2:$B$151,"Checked In")>0,"Overlapping reservation",IF(AND(B3="Booked",Z3<AA3),"Deposit below target",IF(AND(B3="Checked Out",AB3>0),"Balance remains after checkout","OK"))))))))))))),"Review reservation")
A4: RSV-26003 | B4: Checked Out | C4: Marcus Lee | D4: 555-010-2603 | E4: marcus.lee@example.net | F4: C-01 | G4: =IFERROR(IF(A4="","",INDEX('Site Inventory'!$C$2:$C$101,MATCH(F4,'Site Inventory'!$A$2:$A$101,0))),"") | H4: 46164 | I4: 46167 | J4: =IFERROR(IF(A4="","",MAX(0,I4-H4)),"") | K4: =IFERROR(IF(A4="","",IF(OR(B4="Canceled",B4="No Show"),B4,IF(I4<TODAY(),"Past Stay",IF(I4=TODAY(),"Due Out Today",IF(AND(H4<=TODAY(),I4>TODAY()),"In House",IF(H4=TODAY(),"Due In Today","Upcoming")))))),"Check dates") | L4: 2 | M4: 0 | N4: 0 | O4: 0 | P4: 1 | Q4: =IFERROR(IF(A4="","",INDEX('Site Inventory'!$K$2:$K$101,MATCH(F4,'Site Inventory'!$A$2:$A$101,0))),"") | S4: =IFERROR(IF(A4="","",IF(R4="",Q4,R4)),"") | T4: =IFERROR(IF(A4="","",J4*S4),"") | U4: 30 | V4: =IFERROR(IF(A4="","",Dashboard!$K$4),"") | W4: =IFERROR(IF(A4="","",Dashboard!$K$3),"") | X4: =IFERROR(IF(A4="","",(T4+U4)*W4),"") | Y4: =IFERROR(IF(A4="","",T4+U4+V4+X4),"") | Z4: 422.63 | AA4: =IFERROR(IF(A4="","",Y4*Dashboard!$K$5),"") | AB4: =IFERROR(IF(A4="","",MAX(0,Y4-Z4)),"") | AC4: Returning Guest | AE4: 46055 | AF4: Cabin key returned at checkout. | AG4: =IFERROR(IF(A4="","",IF(OR(B4="Canceled",B4="No Show"),"Inactive reservation",IF(F4="","Missing Site ID",IF(OR(H4="",I4=""),"Missing stay dates",IF(I4<=H4,"Fix stay dates",IF(L4<1,"Enter at least one adult",IF(COUNTIF('Site Inventory'!$A$2:$A$101,F4)=0,"Site not found",IF(INDEX('Site Inventory'!$E$2:$E$101,MATCH(F4,'Site Inventory'!$A$2:$A$101,0))<>"Yes","Site is inactive",IF(L4+M4>INDEX('Site Inventory'!$F$2:$F$101,MATCH(F4,'Site Inventory'!$A$2:$A$101,0)),"Guest count exceeds site capacity",IF(AND(O4>0,O4>INDEX('Site Inventory'!$G$2:$G$101,MATCH(F4,'Site Inventory'!$A$2:$A$101,0))),"RV exceeds site length",IF(COUNTIFS($F$2:$F$151,F4,$H$2:$H$151,"<"&I4,$I$2:$I$151,">"&H4,$A$2:$A$151,"<>"&A4,$B$2:$B$151,"Booked")+COUNTIFS($F$2:$F$151,F4,$H$2:$H$151,"<"&I4,$I$2:$I$151,">"&H4,$A$2:$A$151,"<>"&A4,$B$2:$B$151,"Checked In")>0,"Overlapping reservation",IF(AND(B4="Booked",Z4<AA4),"Deposit below target",IF(AND(B4="Checked Out",AB4>0),"Balance remains after checkout","OK"))))))))))))),"Review reservation")
A5: RSV-26004 | B5: Canceled | C5: Emily Carter | D5: 555-010-2604 | E5: emily.carter@example.com | F5: RV-03 | G5: =IFERROR(IF(A5="","",INDEX('Site Inventory'!$C$2:$C$101,MATCH(F5,'Site Inventory'!$A$2:$A$101,0))),"") | H5: 46205 | I5: 46208 | J5: =IFERROR(IF(A5="","",MAX(0,I5-H5)),"") | K5: =IFERROR(IF(A5="","",IF(OR(B5="Canceled",B5="No Show"),B5,IF(I5<TODAY(),"Past Stay",IF(I5=TODAY(),"Due Out Today",IF(AND(H5<=TODAY(),I5>TODAY()),"In House",IF(H5=TODAY(),"Due In Today","Upcoming")))))),"Check dates") | L5: 2 | M5: 0 | N5: 0 | O5: 28 | P5: 1 | Q5: =IFERROR(IF(A5="","",INDEX('Site Inventory'!$K$2:$K$101,MATCH(F5,'Site Inventory'!$A$2:$A$101,0))),"") | S5: =IFERROR(IF(A5="","",IF(R5="",Q5,R5)),"") | T5: =IFERROR(IF(A5="","",J5*S5),"") | U5: 0 | V5: =IFERROR(IF(A5="","",Dashboard!$K$4),"") | W5: =IFERROR(IF(A5="","",Dashboard!$K$3),"") | X5: =IFERROR(IF(A5="","",(T5+U5)*W5),"") | Y5: =IFERROR(IF(A5="","",T5+U5+V5+X5),"") | Z5: 0 | AA5: =IFERROR(IF(A5="","",Y5*Dashboard!$K$5),"") | AB5: =IFERROR(IF(A5="","",MAX(0,Y5-Z5)),"") | AC5: Direct Phone | AE5: 46121 | AF5: Canceled by guest. | AG5: =IFERROR(IF(A5="","",IF(OR(B5="Canceled",B5="No Show"),"Inactive reservation",IF(F5="","Missing Site ID",IF(OR(H5="",I5=""),"Missing stay dates",IF(I5<=H5,"Fix stay dates",IF(L5<1,"Enter at least one adult",IF(COUNTIF('Site Inventory'!$A$2:$A$101,F5)=0,"Site not found",IF(INDEX('Site Inventory'!$E$2:$E$101,MATCH(F5,'Site Inventory'!$A$2:$A$101,0))<>"Yes","Site is inactive",IF(L5+M5>INDEX('Site Inventory'!$F$2:$F$101,MATCH(F5,'Site Inventory'!$A$2:$A$101,0)),"Guest count exceeds site capacity",IF(AND(O5>0,O5>INDEX('Site Inventory'!$G$2:$G$101,MATCH(F5,'Site Inventory'!$A$2:$A$101,0))),"RV exceeds site length",IF(COUNTIFS($F$2:$F$151,F5,$H$2:$H$151,"<"&I5,$I$2:$I$151,">"&H5,$A$2:$A$151,"<>"&A5,$B$2:$B$151,"Booked")+COUNTIFS($F$2:$F$151,F5,$H$2:$H$151,"<"&I5,$I$2:$I$151,">"&H5,$A$2:$A$151,"<>"&A5,$B$2:$B$151,"Checked In")>0,"Overlapping reservation",IF(AND(B5="Booked",Z5<AA5),"Deposit below target",IF(AND(B5="Checked Out",AB5>0),"Balance remains after checkout","OK"))))))))))))),"Review reservation")
A6: RSV-26005 | B6: Booked | C6: Daniel Wilson | D6: 555-010-2605 | E6: daniel.wilson@example.org | F6: RV-02 | G6: =IFERROR(IF(A6="","",INDEX('Site Inventory'!$C$2:$C$101,MATCH(F6,'Site Inventory'!$A$2:$A$101,0))),"") | H6: 46205 | I6: 46209 | J6: =IFERROR(IF(A6="","",MAX(0,I6-H6)),"") | K6: =IFERROR(IF(A6="","",IF(OR(B6="Canceled",B6="No Show"),B6,IF(I6<TODAY(),"Past Stay",IF(I6=TODAY(),"Due Out Today",IF(AND(H6<=TODAY(),I6>TODAY()),"In House",IF(H6=TODAY(),"Due In Today","Upcoming")))))),"Check dates") | L6: 2 | M6: 2 | N6: 1 | O6: 35 | P6: 2 | Q6: =IFERROR(IF(A6="","",INDEX('Site Inventory'!$K$2:$K$101,MATCH(F6,'Site Inventory'!$A$2:$A$101,0))),"") | S6: =IFERROR(IF(A6="","",IF(R6="",Q6,R6)),"") | T6: =IFERROR(IF(A6="","",J6*S6),"") | U6: 42 | V6: =IFERROR(IF(A6="","",Dashboard!$K$4),"") | W6: =IFERROR(IF(A6="","",Dashboard!$K$3),"") | X6: =IFERROR(IF(A6="","",(T6+U6)*W6),"") | Y6: =IFERROR(IF(A6="","",T6+U6+V6+X6),"") | Z6: 100 | AA6: =IFERROR(IF(A6="","",Y6*Dashboard!$K$5),"") | AB6: =IFERROR(IF(A6="","",MAX(0,Y6-Z6)),"") | AC6: Online Travel Agency | AD6: OTA-EX-67205 | AE6: 46130 | AF6: Traveling with a tow vehicle. | AG6: =IFERROR(IF(A6="","",IF(OR(B6="Canceled",B6="No Show"),"Inactive reservation",IF(F6="","Missing Site ID",IF(OR(H6="",I6=""),"Missing stay dates",IF(I6<=H6,"Fix stay dates",IF(L6<1,"Enter at least one adult",IF(COUNTIF('Site Inventory'!$A$2:$A$101,F6)=0,"Site not found",IF(INDEX('Site Inventory'!$E$2:$E$101,MATCH(F6,'Site Inventory'!$A$2:$A$101,0))<>"Yes","Site is inactive",IF(L6+M6>INDEX('Site Inventory'!$F$2:$F$101,MATCH(F6,'Site Inventory'!$A$2:$A$101,0)),"Guest count exceeds site capacity",IF(AND(O6>0,O6>INDEX('Site Inventory'!$G$2:$G$101,MATCH(F6,'Site Inventory'!$A$2:$A$101,0))),"RV exceeds site length",IF(COUNTIFS($F$2:$F$151,F6,$H$2:$H$151,"<"&I6,$I$2:$I$151,">"&H6,$A$2:$A$151,"<>"&A6,$B$2:$B$151,"Booked")+COUNTIFS($F$2:$F$151,F6,$H$2:$H$151,"<"&I6,$I$2:$I$151,">"&H6,$A$2:$A$151,"<>"&A6,$B$2:$B$151,"Checked In")>0,"Overlapping reservation",IF(AND(B6="Booked",Z6<AA6),"Deposit below target",IF(AND(B6="Checked Out",AB6>0),"Balance remains after checkout","OK"))))))))))))),"Review reservation")
G7: =IFERROR(IF(A7="","",INDEX('Site Inventory'!$C$2:$C$101,MATCH(F7,'Site Inventory'!$A$2:$A$101,0))),"") | J7: =IFERROR(IF(A7="","",MAX(0,I7-H7)),"") | K7: =IFERROR(IF(A7="","",IF(OR(B7="Canceled",B7="No Show"),B7,IF(I7<TODAY(),"Past Stay",IF(I7=TODAY(),"Due Out Today",IF(AND(H7<=TODAY(),I7>TODAY()),"In House",IF(H7=TODAY(),"Due In Today","Upcoming")))))),"Check dates") | Q7: =IFERROR(IF(A7="","",INDEX('Site Inventory'!$K$2:$K$101,MATCH(F7,'Site Inventory'!$A$2:$A$101,0))),"") | S7: =IFERROR(IF(A7="","",IF(R7="",Q7,R7)),"") | T7: =IFERROR(IF(A7="","",J7*S7),"") | V7: =IFERROR(IF(A7="","",Dashboard!$K$4),"") | W7: =IFERROR(IF(A7="","",Dashboard!$K$3),"") | X7: =IFERROR(IF(A7="","",(T7+U7)*W7),"") | Y7: =IFERROR(IF(A7="","",T7+U7+V7+X7),"") | AA7: =IFERROR(IF(A7="","",Y7*Dashboard!$K$5),"") | AB7: =IFERROR(IF(A7="","",MAX(0,Y7-Z7)),"") | AG7: =IFERROR(IF(A7="","",IF(OR(B7="Canceled",B7="No Show"),"Inactive reservation",IF(F7="","Missing Site ID",IF(OR(H7="",I7=""),"Missing stay dates",IF(I7<=H7,"Fix stay dates",IF(L7<1,"Enter at least one adult",IF(COUNTIF('Site Inventory'!$A$2:$A$101,F7)=0,"Site not found",IF(INDEX('Site Inventory'!$E$2:$E$101,MATCH(F7,'Site Inventory'!$A$2:$A$101,0))<>"Yes","Site is inactive",IF(L7+M7>INDEX('Site Inventory'!$F$2:$F$101,MATCH(F7,'Site Inventory'!$A$2:$A$101,0)),"Guest count exceeds site capacity",IF(AND(O7>0,O7>INDEX('Site Inventory'!$G$2:$G$101,MATCH(F7,'Site Inventory'!$A$2:$A$101,0))),"RV exceeds site length",IF(COUNTIFS($F$2:$F$151,F7,$H$2:$H$151,"<"&I7,$I$2:$I$151,">"&H7,$A$2:$A$151,"<>"&A7,$B$2:$B$151,"Booked")+COUNTIFS($F$2:$F$151,F7,$H$2:$H$151,"<"&I7,$I$2:$I$151,">"&H7,$A$2:$A$151,"<>"&A7,$B$2:$B$151,"Checked In")>0,"Overlapping reservation",IF(AND(B7="Booked",Z7<AA7),"Deposit below target",IF(AND(B7="Checked Out",AB7>0),"Balance remains after checkout","OK"))))))))))))),"Review reservation")
G8: =IFERROR(IF(A8="","",INDEX('Site Inventory'!$C$2:$C$101,MATCH(F8,'Site Inventory'!$A$2:$A$101,0))),"") | J8: =IFERROR(IF(A8="","",MAX(0,I8-H8)),"") | K8: =IFERROR(IF(A8="","",IF(OR(B8="Canceled",B8="No Show"),B8,IF(I8<TODAY(),"Past Stay",IF(I8=TODAY(),"Due Out Today",IF(AND(H8<=TODAY(),I8>TODAY()),"In House",IF(H8=TODAY(),"Due In Today","Upcoming")))))),"Check dates") | Q8: =IFERROR(IF(A8="","",INDEX('Site Inventory'!$K$2:$K$101,MATCH(F8,'Site Inventory'!$A$2:$A$101,0))),"") | S8: =IFERROR(IF(A8="","",IF(R8="",Q8,R8)),"") | T8: =IFERROR(IF(A8="","",J8*S8),"") | V8: =IFERROR(IF(A8="","",Dashboard!$K$4),"") | W8: =IFERROR(IF(A8="","",Dashboard!$K$3),"") | X8: =IFERROR(IF(A8="","",(T8+U8)*W8),"") | Y8: =IFERROR(IF(A8="","",T8+U8+V8+X8),"") | AA8: =IFERROR(IF(A8="","",Y8*Dashboard!$K$5),"") | AB8: =IFERROR(IF(A8="","",MAX(0,Y8-Z8)),"") | AG8: =IFERROR(IF(A8="","",IF(OR(B8="Canceled",B8="No Show"),"Inactive reservation",IF(F8="","Missing Site ID",IF(OR(H8="",I8=""),"Missing stay dates",IF(I8<=H8,"Fix stay dates",IF(L8<1,"Enter at least one adult",IF(COUNTIF('Site Inventory'!$A$2:$A$101,F8)=0,"Site not found",IF(INDEX('Site Inventory'!$E$2:$E$101,MATCH(F8,'Site Inventory'!$A$2:$A$101,0))<>"Yes","Site is inactive",IF(L8+M8>INDEX('Site Inventory'!$F$2:$F$101,MATCH(F8,'Site Inventory'!$A$2:$A$101,0)),"Guest count exceeds site capacity",IF(AND(O8>0,O8>INDEX('Site Inventory'!$G$2:$G$101,MATCH(F8,'Site Inventory'!$A$2:$A$101,0))),"RV exceeds site length",IF(COUNTIFS($F$2:$F$151,F8,$H$2:$H$151,"<"&I8,$I$2:$I$151,">"&H8,$A$2:$A$151,"<>"&A8,$B$2:$B$151,"Booked")+COUNTIFS($F$2:$F$151,F8,$H$2:$H$151,"<"&I8,$I$2:$I$151,">"&H8,$A$2:$A$151,"<>"&A8,$B$2:$B$151,"Checked In")>0,"Overlapping reservation",IF(AND(B8="Booked",Z8<AA8),"Deposit below target",IF(AND(B8="Checked Out",AB8>0),"Balance remains after checkout","OK"))))))))))))),"Review reservation")
G9: =IFERROR(IF(A9="","",INDEX('Site Inventory'!$C$2:$C$101,MATCH(F9,'Site Inventory'!$A$2:$A$101,0))),"") | J9: =IFERROR(IF(A9="","",MAX(0,I9-H9)),"") | K9: =IFERROR(IF(A9="","",IF(OR(B9="Canceled",B9="No Show"),B9,IF(I9<TODAY(),"Past Stay",IF(I9=TODAY(),"Due Out Today",IF(AND(H9<=TODAY(),I9>TODAY()),"In House",IF(H9=TODAY(),"Due In Today","Upcoming")))))),"Check dates") | Q9: =IFERROR(IF(A9="","",INDEX('Site Inventory'!$K$2:$K$101,MATCH(F9,'Site Inventory'!$A$2:$A$101,0))),"") | S9: =IFERROR(IF(A9="","",IF(R9="",Q9,R9)),"") | T9: =IFERROR(IF(A9="","",J9*S9),"") | V9: =IFERROR(IF(A9="","",Dashboard!$K$4),"") | W9: =IFERROR(IF(A9="","",Dashboard!$K$3),"") | X9: =IFERROR(IF(A9="","",(T9+U9)*W9),"") | Y9: =IFERROR(IF(A9="","",T9+U9+V9+X9),"") | AA9: =IFERROR(IF(A9="","",Y9*Dashboard!$K$5),"") | AB9: =IFERROR(IF(A9="","",MAX(0,Y9-Z9)),"") | AG9: =IFERROR(IF(A9="","",IF(OR(B9="Canceled",B9="No Show"),"Inactive reservation",IF(F9="","Missing Site ID",IF(OR(H9="",I9=""),"Missing stay dates",IF(I9<=H9,"Fix stay dates",IF(L9<1,"Enter at least one adult",IF(COUNTIF('Site Inventory'!$A$2:$A$101,F9)=0,"Site not found",IF(INDEX('Site Inventory'!$E$2:$E$101,MATCH(F9,'Site Inventory'!$A$2:$A$101,0))<>"Yes","Site is inactive",IF(L9+M9>INDEX('Site Inventory'!$F$2:$F$101,MATCH(F9,'Site Inventory'!$A$2:$A$101,0)),"Guest count exceeds site capacity",IF(AND(O9>0,O9>INDEX('Site Inventory'!$G$2:$G$101,MATCH(F9,'Site Inventory'!$A$2:$A$101,0))),"RV exceeds site length",IF(COUNTIFS($F$2:$F$151,F9,$H$2:$H$151,"<"&I9,$I$2:$I$151,">"&H9,$A$2:$A$151,"<>"&A9,$B$2:$B$151,"Booked")+COUNTIFS($F$2:$F$151,F9,$H$2:$H$151,"<"&I9,$I$2:$I$151,">"&H9,$A$2:$A$151,"<>"&A9,$B$2:$B$151,"Checked In")>0,"Overlapping reservation",IF(AND(B9="Booked",Z9<AA9),"Deposit below target",IF(AND(B9="Checked Out",AB9>0),"Balance remains after checkout","OK"))))))))))))),"Review reservation")
G10: =IFERROR(IF(A10="","",INDEX('Site Inventory'!$C$2:$C$101,MATCH(F10,'Site Inventory'!$A$2:$A$101,0))),"") | J10: =IFERROR(IF(A10="","",MAX(0,I10-H10)),"") | K10: =IFERROR(IF(A10="","",IF(OR(B10="Canceled",B10="No Show"),B10,IF(I10<TODAY(),"Past Stay",IF(I10=TODAY(),"Due Out Today",IF(AND(H10<=TODAY(),I10>TODAY()),"In House",IF(H10=TODAY(),"Due In Today","Upcoming")))))),"Check dates") | Q10: =IFERROR(IF(A10="","",INDEX('Site Inventory'!$K$2:$K$101,MATCH(F10,'Site Inventory'!$A$2:$A$101,0))),"") | S10: =IFERROR(IF(A10="","",IF(R10="",Q10,R10)),"") | T10: =IFERROR(IF(A10="","",J10*S10),"") | V10: =IFERROR(IF(A10="","",Dashboard!$K$4),"") | W10: =IFERROR(IF(A10="","",Dashboard!$K$3),"") | X10: =IFERROR(IF(A10="","",(T10+U10)*W10),"") | Y10: =IFERROR(IF(A10="","",T10+U10+V10+X10),"") | AA10: =IFERROR(IF(A10="","",Y10*Dashboard!$K$5),"") | AB10: =IFERROR(IF(A10="","",MAX(0,Y10-Z10)),"") | AG10: =IFERROR(IF(A10="","",IF(OR(B10="Canceled",B10="No Show"),"Inactive reservation",IF(F10="","Missing Site ID",IF(OR(H10="",I10=""),"Missing stay dates",IF(I10<=H10,"Fix stay dates",IF(L10<1,"Enter at least one adult",IF(COUNTIF('Site Inventory'!$A$2:$A$101,F10)=0,"Site not found",IF(INDEX('Site Inventory'!$E$2:$E$101,MATCH(F10,'Site Inventory'!$A$2:$A$101,0))<>"Yes","Site is inactive",IF(L10+M10>INDEX('Site Inventory'!$F$2:$F$101,MATCH(F10,'Site Inventory'!$A$2:$A$101,0)),"Guest count exceeds site capacity",IF(AND(O10>0,O10>INDEX('Site Inventory'!$G$2:$G$101,MATCH(F10,'Site Inventory'!$A$2:$A$101,0))),"RV exceeds site length",IF(COUNTIFS($F$2:$F$151,F10,$H$2:$H$151,"<"&I10,$I$2:$I$151,">"&H10,$A$2:$A$151,"<>"&A10,$B$2:$B$151,"Booked")+COUNTIFS($F$2:$F$151,F10,$H$2:$H$151,"<"&I10,$I$2:$I$151,">"&H10,$A$2:$A$151,"<>"&A10,$B$2:$B$151,"Checked In")>0,"Overlapping reservation",IF(AND(B10="Booked",Z10<AA10),"Deposit below target",IF(AND(B10="Checked Out",AB10>0),"Balance remains after checkout","OK"))))))))))))),"Review reservation")
G11: =IFERROR(IF(A11="","",INDEX('Site Inventory'!$C$2:$C$101,MATCH(F11,'Site Inventory'!$A$2:$A$101,0))),"") | J11: =IFERROR(IF(A11="","",MAX(0,I11-H11)),"") | K11: =IFERROR(IF(A11="","",IF(OR(B11="Canceled",B11="No Show"),B11,IF(I11<TODAY(),"Past Stay",IF(I11=TODAY(),"Due Out Today",IF(AND(H11<=TODAY(),I11>TODAY()),"In House",IF(H11=TODAY(),"Due In Today","Upcoming")))))),"Check dates") | Q11: =IFERROR(IF(A11="","",INDEX('Site Inventory'!$K$2:$K$101,MATCH(F11,'Site Inventory'!$A$2:$A$101,0))),"") | S11: =IFERROR(IF(A11="","",IF(R11="",Q11,R11)),"") | T11: =IFERROR(IF(A11="","",J11*S11),"") | V11: =IFERROR(IF(A11="","",Dashboard!$K$4),"") | W11: =IFERROR(IF(A11="","",Dashboard!$K$3),"") | X11: =IFERROR(IF(A11="","",(T11+U11)*W11),"") | Y11: =IFERROR(IF(A11="","",T11+U11+V11+X11),"") | AA11: =IFERROR(IF(A11="","",Y11*Dashboard!$K$5),"") | AB11: =IFERROR(IF(A11="","",MAX(0,Y11-Z11)),"") | AG11: =IFERROR(IF(A11="","",IF(OR(B11="Canceled",B11="No Show"),"Inactive reservation",IF(F11="","Missing Site ID",IF(OR(H11="",I11=""),"Missing stay dates",IF(I11<=H11,"Fix stay dates",IF(L11<1,"Enter at least one adult",IF(COUNTIF('Site Inventory'!$A$2:$A$101,F11)=0,"Site not found",IF(INDEX('Site Inventory'!$E$2:$E$101,MATCH(F11,'Site Inventory'!$A$2:$A$101,0))<>"Yes","Site is inactive",IF(L11+M11>INDEX('Site Inventory'!$F$2:$F$101,MATCH(F11,'Site Inventory'!$A$2:$A$101,0)),"Guest count exceeds site capacity",IF(AND(O11>0,O11>INDEX('Site Inventory'!$G$2:$G$101,MATCH(F11,'Site Inventory'!$A$2:$A$101,0))),"RV exceeds site length",IF(COUNTIFS($F$2:$F$151,F11,$H$2:$H$151,"<"&I11,$I$2:$I$151,">"&H11,$A$2:$A$151,"<>"&A11,$B$2:$B$151,"Booked")+COUNTIFS($F$2:$F$151,F11,$H$2:$H$151,"<"&I11,$I$2:$I$151,">"&H11,$A$2:$A$151,"<>"&A11,$B$2:$B$151,"Checked In")>0,"Overlapping reservation",IF(AND(B11="Booked",Z11<AA11),"Deposit below target",IF(AND(B11="Checked Out",AB11>0),"Balance remains after checkout","OK"))))))))))))),"Review reservation")
G12: =IFERROR(IF(A12="","",INDEX('Site Inventory'!$C$2:$C$101,MATCH(F12,'Site Inventory'!$A$2:$A$101,0))),"") | J12: =IFERROR(IF(A12="","",MAX(0,I12-H12)),"") | K12: =IFERROR(IF(A12="","",IF(OR(B12="Canceled",B12="No Show"),B12,IF(I12<TODAY(),"Past Stay",IF(I12=TODAY(),"Due Out Today",IF(AND(H12<=TODAY(),I12>TODAY()),"In House",IF(H12=TODAY(),"Due In Today","Upcoming")))))),"Check dates") | Q12: =IFERROR(IF(A12="","",INDEX('Site Inventory'!$K$2:$K$101,MATCH(F12,'Site Inventory'!$A$2:$A$101,0))),"") | S12: =IFERROR(IF(A12="","",IF(R12="",Q12,R12)),"") | T12: =IFERROR(IF(A12="","",J12*S12),"") | V12: =IFERROR(IF(A12="","",Dashboard!$K$4),"") | W12: =IFERROR(IF(A12="","",Dashboard!$K$3),"") | X12: =IFERROR(IF(A12="","",(T12+U12)*W12),"") | Y12: =IFERROR(IF(A12="","",T12+U12+V12+X12),"") | AA12: =IFERROR(IF(A12="","",Y12*Dashboard!$K$5),"") | AB12: =IFERROR(IF(A12="","",MAX(0,Y12-Z12)),"") | AG12: =IFERROR(IF(A12="","",IF(OR(B12="Canceled",B12="No Show"),"Inactive reservation",IF(F12="","Missing Site ID",IF(OR(H12="",I12=""),"Missing stay dates",IF(I12<=H12,"Fix stay dates",IF(L12<1,"Enter at least one adult",IF(COUNTIF('Site Inventory'!$A$2:$A$101,F12)=0,"Site not found",IF(INDEX('Site Inventory'!$E$2:$E$101,MATCH(F12,'Site Inventory'!$A$2:$A$101,0))<>"Yes","Site is inactive",IF(L12+M12>INDEX('Site Inventory'!$F$2:$F$101,MATCH(F12,'Site Inventory'!$A$2:$A$101,0)),"Guest count exceeds site capacity",IF(AND(O12>0,O12>INDEX('Site Inventory'!$G$2:$G$101,MATCH(F12,'Site Inventory'!$A$2:$A$101,0))),"RV exceeds site length",IF(COUNTIFS($F$2:$F$151,F12,$H$2:$H$151,"<"&I12,$I$2:$I$151,">"&H12,$A$2:$A$151,"<>"&A12,$B$2:$B$151,"Booked")+COUNTIFS($F$2:$F$151,F12,$H$2:$H$151,"<"&I12,$I$2:$I$151,">"&H12,$A$2:$A$151,"<>"&A12,$B$2:$B$151,"Checked In")>0,"Overlapping reservation",IF(AND(B12="Booked",Z12<AA12),"Deposit below target",IF(AND(B12="Checked Out",AB12>0),"Balance remains after checkout","OK"))))))))))))),"Review reservation")
G13: =IFERROR(IF(A13="","",INDEX('Site Inventory'!$C$2:$C$101,MATCH(F13,'Site Inventory'!$A$2:$A$101,0))),"") | J13: =IFERROR(IF(A13="","",MAX(0,I13-H13)),"") | K13: =IFERROR(IF(A13="","",IF(OR(B13="Canceled",B13="No Show"),B13,IF(I13<TODAY(),"Past Stay",IF(I13=TODAY(),"Due Out Today",IF(AND(H13<=TODAY(),I13>TODAY()),"In House",IF(H13=TODAY(),"Due In Today","Upcoming")))))),"Check dates") | Q13: =IFERROR(IF(A13="","",INDEX('Site Inventory'!$K$2:$K$101,MATCH(F13,'Site Inventory'!$A$2:$A$101,0))),"") | S13: =IFERROR(IF(A13="","",IF(R13="",Q13,R13)),"") | T13: =IFERROR(IF(A13="","",J13*S13),"") | V13: =IFERROR(IF(A13="","",Dashboard!$K$4),"") | W13: =IFERROR(IF(A13="","",Dashboard!$K$3),"") | X13: =IFERROR(IF(A13="","",(T13+U13)*W13),"") | Y13: =IFERROR(IF(A13="","",T13+U13+V13+X13),"") | AA13: =IFERROR(IF(A13="","",Y13*Dashboard!$K$5),"") | AB13: =IFERROR(IF(A13="","",MAX(0,Y13-Z13)),"") | AG13: =IFERROR(IF(A13="","",IF(OR(B13="Canceled",B13="No Show"),"Inactive reservation",IF(F13="","Missing Site ID",IF(OR(H13="",I13=""),"Missing stay dates",IF(I13<=H13,"Fix stay dates",IF(L13<1,"Enter at least one adult",IF(COUNTIF('Site Inventory'!$A$2:$A$101,F13)=0,"Site not found",IF(INDEX('Site Inventory'!$E$2:$E$101,MATCH(F13,'Site Inventory'!$A$2:$A$101,0))<>"Yes","Site is inactive",IF(L13+M13>INDEX('Site Inventory'!$F$2:$F$101,MATCH(F13,'Site Inventory'!$A$2:$A$101,0)),"Guest count exceeds site capacity",IF(AND(O13>0,O13>INDEX('Site Inventory'!$G$2:$G$101,MATCH(F13,'Site Inventory'!$A$2:$A$101,0))),"RV exceeds site length",IF(COUNTIFS($F$2:$F$151,F13,$H$2:$H$151,"<"&I13,$I$2:$I$151,">"&H13,$A$2:$A$151,"<>"&A13,$B$2:$B$151,"Booked")+COUNTIFS($F$2:$F$151,F13,$H$2:$H$151,"<"&I13,$I$2:$I$151,">"&H13,$A$2:$A$151,"<>"&A13,$B$2:$B$151,"Checked In")>0,"Overlapping reservation",IF(AND(B13="Booked",Z13<AA13),"Deposit below target",IF(AND(B13="Checked Out",AB13>0),"Balance remains after checkout","OK"))))))))))))),"Review reservation")
G14: =IFERROR(IF(A14="","",INDEX('Site Inventory'!$C$2:$C$101,MATCH(F14,'Site Inventory'!$A$2:$A$101,0))),"") | J14: =IFERROR(IF(A14="","",MAX(0,I14-H14)),"") | K14: =IFERROR(IF(A14="","",IF(OR(B14="Canceled",B14="No Show"),B14,IF(I14<TODAY(),"Past Stay",IF(I14=TODAY(),"Due Out Today",IF(AND(H14<=TODAY(),I14>TODAY()),"In House",IF(H14=TODAY(),"Due In Today","Upcoming")))))),"Check dates") | Q14: =IFERROR(IF(A14="","",INDEX('Site Inventory'!$K$2:$K$101,MATCH(F14,'Site Inventory'!$A$2:$A$101,0))),"") | S14: =IFERROR(IF(A14="","",IF(R14="",Q14,R14)),"") | T14: =IFERROR(IF(A14="","",J14*S14),"") | V14: =IFERROR(IF(A14="","",Dashboard!$K$4),"") | W14: =IFERROR(IF(A14="","",Dashboard!$K$3),"") | X14: =IFERROR(IF(A14="","",(T14+U14)*W14),"") | Y14: =IFERROR(IF(A14="","",T14+U14+V14+X14),"") | AA14: =IFERROR(IF(A14="","",Y14*Dashboard!$K$5),"") | AB14: =IFERROR(IF(A14="","",MAX(0,Y14-Z14)),"") | AG14: =IFERROR(IF(A14="","",IF(OR(B14="Canceled",B14="No Show"),"Inactive reservation",IF(F14="","Missing Site ID",IF(OR(H14="",I14=""),"Missing stay dates",IF(I14<=H14,"Fix stay dates",IF(L14<1,"Enter at least one adult",IF(COUNTIF('Site Inventory'!$A$2:$A$101,F14)=0,"Site not found",IF(INDEX('Site Inventory'!$E$2:$E$101,MATCH(F14,'Site Inventory'!$A$2:$A$101,0))<>"Yes","Site is inactive",IF(L14+M14>INDEX('Site Inventory'!$F$2:$F$101,MATCH(F14,'Site Inventory'!$A$2:$A$101,0)),"Guest count exceeds site capacity",IF(AND(O14>0,O14>INDEX('Site Inventory'!$G$2:$G$101,MATCH(F14,'Site Inventory'!$A$2:$A$101,0))),"RV exceeds site length",IF(COUNTIFS($F$2:$F$151,F14,$H$2:$H$151,"<"&I14,$I$2:$I$151,">"&H14,$A$2:$A$151,"<>"&A14,$B$2:$B$151,"Booked")+COUNTIFS($F$2:$F$151,F14,$H$2:$H$151,"<"&I14,$I$2:$I$151,">"&H14,$A$2:$A$151,"<>"&A14,$B$2:$B$151,"Checked In")>0,"Overlapping reservation",IF(AND(B14="Booked",Z14<AA14),"Deposit below target",IF(AND(B14="Checked Out",AB14>0),"Balance remains after checkout","OK"))))))))))))),"Review reservation")
G15: =IFERROR(IF(A15="","",INDEX('Site Inventory'!$C$2:$C$101,MATCH(F15,'Site Inventory'!$A$2:$A$101,0))),"") | J15: =IFERROR(IF(A15="","",MAX(0,I15-H15)),"") | K15: =IFERROR(IF(A15="","",IF(OR(B15="Canceled",B15="No Show"),B15,IF(I15<TODAY(),"Past Stay",IF(I15=TODAY(),"Due Out Today",IF(AND(H15<=TODAY(),I15>TODAY()),"In House",IF(H15=TODAY(),"Due In Today","Upcoming")))))),"Check dates") | Q15: =IFERROR(IF(A15="","",INDEX('Site Inventory'!$K$2:$K$101,MATCH(F15,'Site Inventory'!$A$2:$A$101,0))),"") | S15: =IFERROR(IF(A15="","",IF(R15="",Q15,R15)),"") | T15: =IFERROR(IF(A15="","",J15*S15),"") | V15: =IFERROR(IF(A15="","",Dashboard!$K$4),"") | W15: =IFERROR(IF(A15="","",Dashboard!$K$3),"") | X15: =IFERROR(IF(A15="","",(T15+U15)*W15),"") | Y15: =IFERROR(IF(A15="","",T15+U15+V15+X15),"") | AA15: =IFERROR(IF(A15="","",Y15*Dashboard!$K$5),"") | AB15: =IFERROR(IF(A15="","",MAX(0,Y15-Z15)),"") | AG15: =IFERROR(IF(A15="","",IF(OR(B15="Canceled",B15="No Show"),"Inactive reservation",IF(F15="","Missing Site ID",IF(OR(H15="",I15=""),"Missing stay dates",IF(I15<=H15,"Fix stay dates",IF(L15<1,"Enter at least one adult",IF(COUNTIF('Site Inventory'!$A$2:$A$101,F15)=0,"Site not found",IF(INDEX('Site Inventory'!$E$2:$E$101,MATCH(F15,'Site Inventory'!$A$2:$A$101,0))<>"Yes","Site is inactive",IF(L15+M15>INDEX('Site Inventory'!$F$2:$F$101,MATCH(F15,'Site Inventory'!$A$2:$A$101,0)),"Guest count exceeds site capacity",IF(AND(O15>0,O15>INDEX('Site Inventory'!$G$2:$G$101,MATCH(F15,'Site Inventory'!$A$2:$A$101,0))),"RV exceeds site length",IF(COUNTIFS($F$2:$F$151,F15,$H$2:$H$151,"<"&I15,$I$2:$I$151,">"&H15,$A$2:$A$151,"<>"&A15,$B$2:$B$151,"Booked")+COUNTIFS($F$2:$F$151,F15,$H$2:$H$151,"<"&I15,$I$2:$I$151,">"&H15,$A$2:$A$151,"<>"&A15,$B$2:$B$151,"Checked In")>0,"Overlapping reservation",IF(AND(B15="Booked",Z15<AA15),"Deposit below target",IF(AND(B15="Checked Out",AB15>0),"Balance remains after checkout","OK"))))))))))))),"Review reservation")
G16: =IFERROR(IF(A16="","",INDEX('Site Inventory'!$C$2:$C$101,MATCH(F16,'Site Inventory'!$A$2:$A$101,0))),"") | J16: =IFERROR(IF(A16="","",MAX(0,I16-H16)),"") | K16: =IFERROR(IF(A16="","",IF(OR(B16="Canceled",B16="No Show"),B16,IF(I16<TODAY(),"Past Stay",IF(I16=TODAY(),"Due Out Today",IF(AND(H16<=TODAY(),I16>TODAY()),"In House",IF(H16=TODAY(),"Due In Today","Upcoming")))))),"Check dates") | Q16: =IFERROR(IF(A16="","",INDEX('Site Inventory'!$K$2:$K$101,MATCH(F16,'Site Inventory'!$A$2:$A$101,0))),"") | S16: =IFERROR(IF(A16="","",IF(R16="",Q16,R16)),"") | T16: =IFERROR(IF(A16="","",J16*S16),"") | V16: =IFERROR(IF(A16="","",Dashboard!$K$4),"") | W16: =IFERROR(IF(A16="","",Dashboard!$K$3),"") | X16: =IFERROR(IF(A16="","",(T16+U16)*W16),"") | Y16: =IFERROR(IF(A16="","",T16+U16+V16+X16),"") | AA16: =IFERROR(IF(A16="","",Y16*Dashboard!$K$5),"") | AB16: =IFERROR(IF(A16="","",MAX(0,Y16-Z16)),"") | AG16: =IFERROR(IF(A16="","",IF(OR(B16="Canceled",B16="No Show"),"Inactive reservation",IF(F16="","Missing Site ID",IF(OR(H16="",I16=""),"Missing stay dates",IF(I16<=H16,"Fix stay dates",IF(L16<1,"Enter at least one adult",IF(COUNTIF('Site Inventory'!$A$2:$A$101,F16)=0,"Site not found",IF(INDEX('Site Inventory'!$E$2:$E$101,MATCH(F16,'Site Inventory'!$A$2:$A$101,0))<>"Yes","Site is inactive",IF(L16+M16>INDEX('Site Inventory'!$F$2:$F$101,MATCH(F16,'Site Inventory'!$A$2:$A$101,0)),"Guest count exceeds site capacity",IF(AND(O16>0,O16>INDEX('Site Inventory'!$G$2:$G$101,MATCH(F16,'Site Inventory'!$A$2:$A$101,0))),"RV exceeds site length",IF(COUNTIFS($F$2:$F$151,F16,$H$2:$H$151,"<"&I16,$I$2:$I$151,">"&H16,$A$2:$A$151,"<>"&A16,$B$2:$B$151,"Booked")+COUNTIFS($F$2:$F$151,F16,$H$2:$H$151,"<"&I16,$I$2:$I$151,">"&H16,$A$2:$A$151,"<>"&A16,$B$2:$B$151,"Checked In")>0,"Overlapping reservation",IF(AND(B16="Booked",Z16<AA16),"Deposit below target",IF(AND(B16="Checked Out",AB16>0),"Balance remains after checkout","OK"))))))))))))),"Review reservation")
G17: =IFERROR(IF(A17="","",INDEX('Site Inventory'!$C$2:$C$101,MATCH(F17,'Site Inventory'!$A$2:$A$101,0))),"") | J17: =IFERROR(IF(A17="","",MAX(0,I17-H17)),"") | K17: =IFERROR(IF(A17="","",IF(OR(B17="Canceled",B17="No Show"),B17,IF(I17<TODAY(),"Past Stay",IF(I17=TODAY(),"Due Out Today",IF(AND(H17<=TODAY(),I17>TODAY()),"In House",IF(H17=TODAY(),"Due In Today","Upcoming")))))),"Check dates") | Q17: =IFERROR(IF(A17="","",INDEX('Site Inventory'!$K$2:$K$101,MATCH(F17,'Site Inventory'!$A$2:$A$101,0))),"") | S17: =IFERROR(IF(A17="","",IF(R17="",Q17,R17)),"") | T17: =IFERROR(IF(A17="","",J17*S17),"") | V17: =IFERROR(IF(A17="","",Dashboard!$K$4),"") | W17: =IFERROR(IF(A17="","",Dashboard!$K$3),"") | X17: =IFERROR(IF(A17="","",(T17+U17)*W17),"") | Y17: =IFERROR(IF(A17="","",T17+U17+V17+X17),"") | AA17: =IFERROR(IF(A17="","",Y17*Dashboard!$K$5),"") | AB17: =IFERROR(IF(A17="","",MAX(0,Y17-Z17)),"") | AG17: =IFERROR(IF(A17="","",IF(OR(B17="Canceled",B17="No Show"),"Inactive reservation",IF(F17="","Missing Site ID",IF(OR(H17="",I17=""),"Missing stay dates",IF(I17<=H17,"Fix stay dates",IF(L17<1,"Enter at least one adult",IF(COUNTIF('Site Inventory'!$A$2:$A$101,F17)=0,"Site not found",IF(INDEX('Site Inventory'!$E$2:$E$101,MATCH(F17,'Site Inventory'!$A$2:$A$101,0))<>"Yes","Site is inactive",IF(L17+M17>INDEX('Site Inventory'!$F$2:$F$101,MATCH(F17,'Site Inventory'!$A$2:$A$101,0)),"Guest count exceeds site capacity",IF(AND(O17>0,O17>INDEX('Site Inventory'!$G$2:$G$101,MATCH(F17,'Site Inventory'!$A$2:$A$101,0))),"RV exceeds site length",IF(COUNTIFS($F$2:$F$151,F17,$H$2:$H$151,"<"&I17,$I$2:$I$151,">"&H17,$A$2:$A$151,"<>"&A17,$B$2:$B$151,"Booked")+COUNTIFS($F$2:$F$151,F17,$H$2:$H$151,"<"&I17,$I$2:$I$151,">"&H17,$A$2:$A$151,"<>"&A17,$B$2:$B$151,"Checked In")>0,"Overlapping reservation",IF(AND(B17="Booked",Z17<AA17),"Deposit below target",IF(AND(B17="Checked Out",AB17>0),"Balance remains after checkout","OK"))))))))))))),"Review reservation")
G18: =IFERROR(IF(A18="","",INDEX('Site Inventory'!$C$2:$C$101,MATCH(F18,'Site Inventory'!$A$2:$A$101,0))),"") | J18: =IFERROR(IF(A18="","",MAX(0,I18-H18)),"") | K18: =IFERROR(IF(A18="","",IF(OR(B18="Canceled",B18="No Show"),B18,IF(I18<TODAY(),"Past Stay",IF(I18=TODAY(),"Due Out Today",IF(AND(H18<=TODAY(),I18>TODAY()),"In House",IF(H18=TODAY(),"Due In Today","Upcoming")))))),"Check dates") | Q18: =IFERROR(IF(A18="","",INDEX('Site Inventory'!$K$2:$K$101,MATCH(F18,'Site Inventory'!$A$2:$A$101,0))),"") | S18: =IFERROR(IF(A18="","",IF(R18="",Q18,R18)),"") | T18: =IFERROR(IF(A18="","",J18*S18),"") | V18: =IFERROR(IF(A18="","",Dashboard!$K$4),"") | W18: =IFERROR(IF(A18="","",Dashboard!$K$3),"") | X18: =IFERROR(IF(A18="","",(T18+U18)*W18),"") | Y18: =IFERROR(IF(A18="","",T18+U18+V18+X18),"") | AA18: =IFERROR(IF(A18="","",Y18*Dashboard!$K$5),"") | AB18: =IFERROR(IF(A18="","",MAX(0,Y18-Z18)),"") | AG18: =IFERROR(IF(A18="","",IF(OR(B18="Canceled",B18="No Show"),"Inactive reservation",IF(F18="","Missing Site ID",IF(OR(H18="",I18=""),"Missing stay dates",IF(I18<=H18,"Fix stay dates",IF(L18<1,"Enter at least one adult",IF(COUNTIF('Site Inventory'!$A$2:$A$101,F18)=0,"Site not found",IF(INDEX('Site Inventory'!$E$2:$E$101,MATCH(F18,'Site Inventory'!$A$2:$A$101,0))<>"Yes","Site is inactive",IF(L18+M18>INDEX('Site Inventory'!$F$2:$F$101,MATCH(F18,'Site Inventory'!$A$2:$A$101,0)),"Guest count exceeds site capacity",IF(AND(O18>0,O18>INDEX('Site Inventory'!$G$2:$G$101,MATCH(F18,'Site Inventory'!$A$2:$A$101,0))),"RV exceeds site length",IF(COUNTIFS($F$2:$F$151,F18,$H$2:$H$151,"<"&I18,$I$2:$I$151,">"&H18,$A$2:$A$151,"<>"&A18,$B$2:$B$151,"Booked")+COUNTIFS($F$2:$F$151,F18,$H$2:$H$151,"<"&I18,$I$2:$I$151,">"&H18,$A$2:$A$151,"<>"&A18,$B$2:$B$151,"Checked In")>0,"Overlapping reservation",IF(AND(B18="Booked",Z18<AA18),"Deposit below target",IF(AND(B18="Checked Out",AB18>0),"Balance remains after checkout","OK"))))))))))))),"Review reservation")
... G151: =IFERROR(IF(A151="","",INDEX('Site Inventory'!$C$2:$C$101,MATCH(F151,'Site Inventory'!$A$2:$A$101,0))),"") | J151: =IFERROR(IF(A151="","",MAX(0,I151-H151)),"") | K151: =IFERROR(IF(A151="","",IF(OR(B151="Canceled",B151="No Show"),B151,IF(I151<TODAY(),"Past Stay",IF(I151=TODAY(),"Due Out Today",IF(AND(H151<=TODAY(),I151>TODAY()),"In House",IF(H151=TODAY(),"Due In Today","Upcoming")))))),"Check dates") | Q151: =IFERROR(IF(A151="","",INDEX('Site Inventory'!$K$2:$K$101,MATCH(F151,'Site Inventory'!$A$2:$A$101,0))),"") | S151: =IFERROR(IF(A151="","",IF(R151="",Q151,R151)),"") | T151: =IFERROR(IF(A151="","",J151*S151),"") | V151: =IFERROR(IF(A151="","",Dashboard!$K$4),"") | W151: =IFERROR(IF(A151="","",Dashboard!$K$3),"") | X151: =IFERROR(IF(A151="","",(T151+U151)*W151),"") | Y151: =IFERROR(IF(A151="","",T151+U151+V151+X151),"") | AA151: =IFERROR(IF(A151="","",Y151*Dashboard!$K$5),"") | AB151: =IFERROR(IF(A151="","",MAX(0,Y151-Z151)),"") | AG151: =IFERROR(IF(A151="","",IF(OR(B151="Canceled",B151="No Show"),"Inactive reservation",IF(F151="","Missing Site ID",IF(OR(H151="",I151=""),"Missing stay dates",IF(I151<=H151,"Fix stay dates",IF(L151<1,"Enter at least one adult",IF(COUNTIF('Site Inventory'!$A$2:$A$101,F151)=0,"Site not found",IF(INDEX('Site Inventory'!$E$2:$E$101,MATCH(F151,'Site Inventory'!$A$2:$A$101,0))<>"Yes","Site is inactive",IF(L151+M151>INDEX('Site Inventory'!$F$2:$F$101,MATCH(F151,'Site Inventory'!$A$2:$A$101,0)),"Guest count exceeds site capacity",IF(AND(O151>0,O151>INDEX('Site Inventory'!$G$2:$G$101,MATCH(F151,'Site Inventory'!$A$2:$A$101,0))),"RV exceeds site length",IF(COUNTIFS($F$2:$F$151,F151,$H$2:$H$151,"<"&I151,$I$2:$I$151,">"&H151,$A$2:$A$151,"<>"&A151,$B$2:$B$151,"Booked")+COUNTIFS($F$2:$F$151,F151,$H$2:$H$151,"<"&I151,$I$2:$I$151,">"&H151,$A$2:$A$151,"<>"&A151,$B$2:$B$151,"Checked In")>0,"Overlapping reservation",IF(AND(B151="Booked",Z151<AA151),"Deposit below target",IF(AND(B151="Checked Out",AB151>0),"Balance remains after checkout","OK"))))))))))))),"Review reservation")

Sheet Site Inventory
A1: Site ID | B1: Site Name | C1: Site Type | D1: Loop or Area | E1: Active | F1: Max Guests | G1: Max RV Length (ft.) | H1: Electric Service | I1: Water Hookup | J1: Sewer Hookup | K1: Base Nightly Rate | L1: Site Notes
A2: RV-01 | B2: Pine Ridge 1 | C2: RV Full Hookup | D2: Pine Ridge Loop | E2: Yes | F2: 6 | G2: 45 | H2: 30/50 Amp | I2: Yes | J2: Yes | K2: 68 | L2: Pull-through site near bathhouse
A3: RV-02 | B3: Pine Ridge 2 | C3: RV Full Hookup | D3: Pine Ridge Loop | E3: Yes | F3: 6 | G3: 40 | H3: 30/50 Amp | I3: Yes | J3: Yes | K3: 65 | L3: Back-in site with partial shade
A4: RV-03 | B4: Creekside 3 | C4: RV Electric/Water | D4: Creekside Loop | E4: Yes | F4: 5 | G4: 32 | H4: 30 Amp | I4: Yes | J4: No | K4: 52 | L4: Creek-side back-in site
A5: RV-04 | B5: Creekside 4 | C5: RV Electric/Water | D5: Creekside Loop | E5: Yes | F5: 6 | G5: 36 | H5: 50 Amp | I5: Yes | J5: No | K5: 56 | L5: Limited turning radius
A6: T-01 | B6: Meadow Tent 1 | C6: Tent | D6: Meadow Area | E6: Yes | F6: 4 | G6: 0 | H6: None | I6: No | J6: No | K6: 29 | L6: Walk-in tent pad
A7: T-02 | B7: Meadow Tent 2 | C7: Tent | D7: Meadow Area | E7: Yes | F7: 6 | G7: 0 | H7: None | I7: No | J7: No | K7: 34 | L7: Large tent pad near water station
A8: T-03 | B8: Forest Tent 3 | C8: Tent | D8: Forest Area | E8: Yes | F8: 4 | G8: 0 | H8: 20 Amp | I8: No | J8: No | K8: 38 | L8: Electric tent site
A9: C-01 | B9: Cedar Cabin | C9: Cabin | D9: Cabin Row | E9: Yes | F9: 4 | G9: 0 | H9: 30 Amp | I9: Yes | J9: No | K9: 119 | L9: One-room cabin; no private bathroom
A10: C-02 | B10: Maple Cabin | C10: Cabin | D10: Cabin Row | E10: Yes | F10: 6 | G10: 0 | H10: 30 Amp | I10: Yes | J10: No | K10: 149 | L10: Two-room cabin
A11: RV-05 | B11: Overflow RV 5 | C11: RV Electric/Water | D11: Overflow Area | E11: No | F11: 4 | G11: 28 | H11: 30 Amp | I11: Yes | J11: No | K11: 45 | L11: Temporarily unavailable

Sheet Instructions
A1: Campground Reservation Tracker Instructions
A3: Getting Started
A4: 1. Review the editable property assumptions on Dashboard.
A5: 2. Enter and maintain reservable sites on Site Inventory.
A6: 3. Add reservations on Reservations.
A7: 4. Review Operational Check results before confirming or changing a stay.
A8: 5. Use Dashboard for daily arrivals, departures, balances, and short-term occupancy.
A10: Recommended Workflow
A11: • Add every reservable campsite or cabin to Site Inventory before entering reservations.
A12: • Use a unique Site ID and Reservation ID.
A13: • Enter arrival and departure dates as overnight stay boundaries; departure is not counted as an occupied night.
A14: • Update Status as guests arrive, depart, cancel, or fail to arrive.
... A44: • Review formulas after inserting, deleting, or renaming columns.
