Workbook

Sheet Dashboard
A1: Boutique Hotel Operations Dashboard
A2: Daily rooms, revenue, labor, guest service, and operational issue overview | J2: Operating Assumptions
A3: Reporting Start Date | B3: 46027 | D3: Blue cells are editable filters or assumptions. | J3: Physical Room Count | K3: 42
A4: Reporting End Date | B4: 46036 | J4: Occupancy Target | K4: 0.75
A5: Issue Department Filter | B5: All | J5: ADR Target | K5: 245
J6: RevPAR Target | K6: 183.75
A7: Occupancy | B7: =IFERROR(SUMIFS('Daily Operations'!$F$5:$F$370,'Daily Operations'!$A$5:$A$370,">="&$B$3,'Daily Operations'!$A$5:$A$370,"<="&$B$4)/SUMIFS('Daily Operations'!$E$5:$E$370,'Daily Operations'!$A$5:$A$370,">="&$B$3,'Daily Operations'!$A$5:$A$370,"<="&$B$4),0) | D7: Average Daily Rate | E7: =IFERROR(SUMIFS('Daily Operations'!$M$5:$M$370,'Daily Operations'!$A$5:$A$370,">="&$B$3,'Daily Operations'!$A$5:$A$370,"<="&$B$4)/SUMIFS('Daily Operations'!$F$5:$F$370,'Daily Operations'!$A$5:$A$370,">="&$B$3,'Daily Operations'!$A$5:$A$370,"<="&$B$4),0) | G7: RevPAR | H7: =IFERROR(SUMIFS('Daily Operations'!$M$5:$M$370,'Daily Operations'!$A$5:$A$370,">="&$B$3,'Daily Operations'!$A$5:$A$370,"<="&$B$4)/SUMIFS('Daily Operations'!$E$5:$E$370,'Daily Operations'!$A$5:$A$370,">="&$B$3,'Daily Operations'!$A$5:$A$370,"<="&$B$4),0) | J7: Labor Cost Target | K7: 0.28
J8: Guest Survey Target | K8: 4.5
J9: Critical Issue Target Days | K9: 1
A10: Total Revenue | B10: =IFERROR(SUMIFS('Daily Operations'!$P$5:$P$370,'Daily Operations'!$A$5:$A$370,">="&$B$3,'Daily Operations'!$A$5:$A$370,"<="&$B$4),0) | D10: Labor Cost % | E10: =IFERROR(SUMIFS('Daily Operations'!$AA$5:$AA$370,'Daily Operations'!$A$5:$A$370,">="&$B$3,'Daily Operations'!$A$5:$A$370,"<="&$B$4)/SUMIFS('Daily Operations'!$P$5:$P$370,'Daily Operations'!$A$5:$A$370,">="&$B$3,'Daily Operations'!$A$5:$A$370,"<="&$B$4),0) | G10: Average Guest Survey Score | H10: =IFERROR(SUMIFS('Daily Operations'!$AE$5:$AE$370,'Daily Operations'!$A$5:$A$370,">="&$B$3,'Daily Operations'!$A$5:$A$370,"<="&$B$4,'Daily Operations'!$AE$5:$AE$370,">0")/COUNTIFS('Daily Operations'!$A$5:$A$370,">="&$B$3,'Daily Operations'!$A$5:$A$370,"<="&$B$4,'Daily Operations'!$AE$5:$AE$370,">0"),0) | J10: High Issue Target Days | K10: 2
J11: Medium Issue Target Days | K11: 5
J12: Low Issue Target Days | K12: 10
A13: Open Issues | B13: =IFERROR(IF($B$5="All",COUNTIFS('Issues & Tasks'!$B$5:$B$204,"<="&$B$4,'Issues & Tasks'!$J$5:$J$204,"<>Closed",'Issues & Tasks'!$J$5:$J$204,"<>Canceled",'Issues & Tasks'!$A$5:$A$204,"<>"),COUNTIFS('Issues & Tasks'!$B$5:$B$204,"<="&$B$4,'Issues & Tasks'!$C$5:$C$204,$B$5,'Issues & Tasks'!$J$5:$J$204,"<>Closed",'Issues & Tasks'!$J$5:$J$204,"<>Canceled",'Issues & Tasks'!$A$5:$A$204,"<>")),0) | D13: Overdue Issues | E13: =IFERROR(IF($B$5="All",COUNTIFS('Issues & Tasks'!$B$5:$B$204,"<="&$B$4,'Issues & Tasks'!$Q$5:$Q$204,"Overdue"),COUNTIFS('Issues & Tasks'!$B$5:$B$204,"<="&$B$4,'Issues & Tasks'!$C$5:$C$204,$B$5,'Issues & Tasks'!$Q$5:$Q$204,"Overdue")),0) | G13: Guest Complaints | H13: =IFERROR(SUMIFS('Daily Operations'!$AC$5:$AC$370,'Daily Operations'!$A$5:$A$370,">="&$B$3,'Daily Operations'!$A$5:$A$370,"<="&$B$4),0) | J13: Housekeeping Rooms per Labor Hour Target | K13: 1.8
H14: =""
H15: =""
A16: Housekeeping Productivity | B16: =IFERROR(SUMIFS('Daily Operations'!$T$5:$T$370,'Daily Operations'!$A$5:$A$370,">="&$B$3,'Daily Operations'!$A$5:$A$370,"<="&$B$4)/SUMIFS('Daily Operations'!$U$5:$U$370,'Daily Operations'!$A$5:$A$370,">="&$B$3,'Daily Operations'!$A$5:$A$370,"<="&$B$4),0) | H16: ="" | J16: Priority | K16: Open Issues | L16: Overdue Issues | N16: Revenue Type | O16: Selected-Period Revenue
H17: ="" | J17: Critical | K17: =IFERROR(IF($B$5="All",COUNTIFS('Issues & Tasks'!$F$5:$F$204,J17,'Issues & Tasks'!$B$5:$B$204,"<="&$B$4,'Issues & Tasks'!$J$5:$J$204,"<>Closed",'Issues & Tasks'!$J$5:$J$204,"<>Canceled"),COUNTIFS('Issues & Tasks'!$F$5:$F$204,J17,'Issues & Tasks'!$B$5:$B$204,"<="&$B$4,'Issues & Tasks'!$C$5:$C$204,$B$5,'Issues & Tasks'!$J$5:$J$204,"<>Closed",'Issues & Tasks'!$J$5:$J$204,"<>Canceled")),0) | L17: =IFERROR(IF($B$5="All",COUNTIFS('Issues & Tasks'!$F$5:$F$204,J17,'Issues & Tasks'!$B$5:$B$204,"<="&$B$4,'Issues & Tasks'!$Q$5:$Q$204,"Overdue"),COUNTIFS('Issues & Tasks'!$F$5:$F$204,J17,'Issues & Tasks'!$B$5:$B$204,"<="&$B$4,'Issues & Tasks'!$C$5:$C$204,$B$5,'Issues & Tasks'!$Q$5:$Q$204,"Overdue")),0) | N17: Room Revenue | O17: =IFERROR(SUMIFS('Daily Operations'!$M$5:$M$370,'Daily Operations'!$A$5:$A$370,">="&$B$3,'Daily Operations'!$A$5:$A$370,"<="&$B$4),0)
A18: Business Date | B18: Occupancy | C18: ADR | D18: RevPAR | E18: Total Revenue | F18: Labor Cost % | H18: ="" | J18: High | K18: =IFERROR(IF($B$5="All",COUNTIFS('Issues & Tasks'!$F$5:$F$204,J18,'Issues & Tasks'!$B$5:$B$204,"<="&$B$4,'Issues & Tasks'!$J$5:$J$204,"<>Closed",'Issues & Tasks'!$J$5:$J$204,"<>Canceled"),COUNTIFS('Issues & Tasks'!$F$5:$F$204,J18,'Issues & Tasks'!$B$5:$B$204,"<="&$B$4,'Issues & Tasks'!$C$5:$C$204,$B$5,'Issues & Tasks'!$J$5:$J$204,"<>Closed",'Issues & Tasks'!$J$5:$J$204,"<>Canceled")),0) | L18: =IFERROR(IF($B$5="All",COUNTIFS('Issues & Tasks'!$F$5:$F$204,J18,'Issues & Tasks'!$B$5:$B$204,"<="&$B$4,'Issues & Tasks'!$Q$5:$Q$204,"Overdue"),COUNTIFS('Issues & Tasks'!$F$5:$F$204,J18,'Issues & Tasks'!$B$5:$B$204,"<="&$B$4,'Issues & Tasks'!$C$5:$C$204,$B$5,'Issues & Tasks'!$Q$5:$Q$204,"Overdue")),0) | N18: Food & Beverage Revenue | O18: =IFERROR(SUMIFS('Daily Operations'!$N$5:$N$370,'Daily Operations'!$A$5:$A$370,">="&$B$3,'Daily Operations'!$A$5:$A$370,"<="&$B$4),0)
A19: =IFERROR('Daily Operations'!A5,"") | B19: =IFERROR('Daily Operations'!Q5,0) | C19: =IFERROR('Daily Operations'!R5,0) | D19: =IFERROR('Daily Operations'!S5,0) | E19: =IFERROR('Daily Operations'!P5,0) | F19: =IFERROR('Daily Operations'!AB5,0) | H19: ="" | J19: Medium | K19: =IFERROR(IF($B$5="All",COUNTIFS('Issues & Tasks'!$F$5:$F$204,J19,'Issues & Tasks'!$B$5:$B$204,"<="&$B$4,'Issues & Tasks'!$J$5:$J$204,"<>Closed",'Issues & Tasks'!$J$5:$J$204,"<>Canceled"),COUNTIFS('Issues & Tasks'!$F$5:$F$204,J19,'Issues & Tasks'!$B$5:$B$204,"<="&$B$4,'Issues & Tasks'!$C$5:$C$204,$B$5,'Issues & Tasks'!$J$5:$J$204,"<>Closed",'Issues & Tasks'!$J$5:$J$204,"<>Canceled")),0) | L19: =IFERROR(IF($B$5="All",COUNTIFS('Issues & Tasks'!$F$5:$F$204,J19,'Issues & Tasks'!$B$5:$B$204,"<="&$B$4,'Issues & Tasks'!$Q$5:$Q$204,"Overdue"),COUNTIFS('Issues & Tasks'!$F$5:$F$204,J19,'Issues & Tasks'!$B$5:$B$204,"<="&$B$4,'Issues & Tasks'!$C$5:$C$204,$B$5,'Issues & Tasks'!$Q$5:$Q$204,"Overdue")),0) | N19: Other Revenue | O19: =IFERROR(SUMIFS('Daily Operations'!$O$5:$O$370,'Daily Operations'!$A$5:$A$370,">="&$B$3,'Daily Operations'!$A$5:$A$370,"<="&$B$4),0)
A20: =IFERROR('Daily Operations'!A6,"") | B20: =IFERROR('Daily Operations'!Q6,0) | C20: =IFERROR('Daily Operations'!R6,0) | D20: =IFERROR('Daily Operations'!S6,0) | E20: =IFERROR('Daily Operations'!P6,0) | F20: =IFERROR('Daily Operations'!AB6,0) | H20: ="" | J20: Low | K20: =IFERROR(IF($B$5="All",COUNTIFS('Issues & Tasks'!$F$5:$F$204,J20,'Issues & Tasks'!$B$5:$B$204,"<="&$B$4,'Issues & Tasks'!$J$5:$J$204,"<>Closed",'Issues & Tasks'!$J$5:$J$204,"<>Canceled"),COUNTIFS('Issues & Tasks'!$F$5:$F$204,J20,'Issues & Tasks'!$B$5:$B$204,"<="&$B$4,'Issues & Tasks'!$C$5:$C$204,$B$5,'Issues & Tasks'!$J$5:$J$204,"<>Closed",'Issues & Tasks'!$J$5:$J$204,"<>Canceled")),0) | L20: =IFERROR(IF($B$5="All",COUNTIFS('Issues & Tasks'!$F$5:$F$204,J20,'Issues & Tasks'!$B$5:$B$204,"<="&$B$4,'Issues & Tasks'!$Q$5:$Q$204,"Overdue"),COUNTIFS('Issues & Tasks'!$F$5:$F$204,J20,'Issues & Tasks'!$B$5:$B$204,"<="&$B$4,'Issues & Tasks'!$C$5:$C$204,$B$5,'Issues & Tasks'!$Q$5:$Q$204,"Overdue")),0) | O20: =""
A21: =IFERROR('Daily Operations'!A7,"") | B21: =IFERROR('Daily Operations'!Q7,0) | C21: =IFERROR('Daily Operations'!R7,0) | D21: =IFERROR('Daily Operations'!S7,0) | E21: =IFERROR('Daily Operations'!P7,0) | F21: =IFERROR('Daily Operations'!AB7,0) | H21: ="" | K21: ="" | L21: ="" | O21: =""
A22: =IFERROR('Daily Operations'!A8,"") | B22: =IFERROR('Daily Operations'!Q8,0) | C22: =IFERROR('Daily Operations'!R8,0) | D22: =IFERROR('Daily Operations'!S8,0) | E22: =IFERROR('Daily Operations'!P8,0) | F22: =IFERROR('Daily Operations'!AB8,0) | H22: ="" | K22: ="" | L22: ="" | O22: =""
A23: =IFERROR('Daily Operations'!A9,"") | B23: =IFERROR('Daily Operations'!Q9,0) | C23: =IFERROR('Daily Operations'!R9,0) | D23: =IFERROR('Daily Operations'!S9,0) | E23: =IFERROR('Daily Operations'!P9,0) | F23: =IFERROR('Daily Operations'!AB9,0) | H23: ="" | K23: ="" | L23: ="" | O23: =""
A24: =IFERROR('Daily Operations'!A10,"") | B24: =IFERROR('Daily Operations'!Q10,0) | C24: =IFERROR('Daily Operations'!R10,0) | D24: =IFERROR('Daily Operations'!S10,0) | E24: =IFERROR('Daily Operations'!P10,0) | F24: =IFERROR('Daily Operations'!AB10,0) | H24: ="" | K24: ="" | L24: ="" | O24: =""
A25: =IFERROR('Daily Operations'!A11,"") | B25: =IFERROR('Daily Operations'!Q11,0) | C25: =IFERROR('Daily Operations'!R11,0) | D25: =IFERROR('Daily Operations'!S11,0) | E25: =IFERROR('Daily Operations'!P11,0) | F25: =IFERROR('Daily Operations'!AB11,0) | H25: ="" | K25: ="" | L25: ="" | O25: =""
A26: =IFERROR('Daily Operations'!A12,"") | B26: =IFERROR('Daily Operations'!Q12,0) | C26: =IFERROR('Daily Operations'!R12,0) | D26: =IFERROR('Daily Operations'!S12,0) | E26: =IFERROR('Daily Operations'!P12,0) | F26: =IFERROR('Daily Operations'!AB12,0) | H26: ="" | K26: ="" | L26: ="" | O26: =""
A27: =IFERROR('Daily Operations'!A13,"") | B27: =IFERROR('Daily Operations'!Q13,0) | C27: =IFERROR('Daily Operations'!R13,0) | D27: =IFERROR('Daily Operations'!S13,0) | E27: =IFERROR('Daily Operations'!P13,0) | F27: =IFERROR('Daily Operations'!AB13,0) | H27: ="" | K27: ="" | L27: ="" | O27: =""
A28: =IFERROR('Daily Operations'!A14,"") | B28: =IFERROR('Daily Operations'!Q14,0) | C28: =IFERROR('Daily Operations'!R14,0) | D28: =IFERROR('Daily Operations'!S14,0) | E28: =IFERROR('Daily Operations'!P14,0) | F28: =IFERROR('Daily Operations'!AB14,0) | H28: ="" | K28: ="" | L28: ="" | O28: =""
A29: ="" | B29: ="" | C29: ="" | D29: ="" | E29: ="" | F29: ="" | H29: ="" | K29: ="" | L29: ="" | O29: =""
A30: ="" | B30: ="" | C30: ="" | D30: ="" | E30: ="" | F30: ="" | H30: ="" | K30: ="" | L30: ="" | O30: =""
A31: ="" | B31: ="" | C31: ="" | D31: ="" | E31: ="" | F31: ="" | H31: ="" | K31: ="" | L31: ="" | O31: =""
A32: ="" | B32: ="" | C32: ="" | D32: ="" | E32: ="" | F32: ="" | H32: ="" | K32: ="" | L32: ="" | O32: =""
A33: ="" | B33: ="" | C33: ="" | D33: ="" | E33: ="" | F33: ="" | H33: ="" | K33: ="" | L33: ="" | O33: =""
A34: ="" | B34: ="" | C34: ="" | D34: ="" | E34: ="" | F34: ="" | H34: ="" | K34: ="" | L34: ="" | O34: =""
A35: ="" | B35: ="" | C35: ="" | D35: ="" | E35: ="" | F35: ="" | H35: ="" | K35: ="" | L35: ="" | O35: =""
A36: ="" | B36: ="" | C36: ="" | D36: ="" | E36: ="" | F36: ="" | H36: ="" | K36: ="" | L36: ="" | O36: =""
A37: ="" | B37: ="" | C37: ="" | D37: ="" | E37: ="" | F37: ="" | H37: ="" | K37: ="" | L37: ="" | O37: =""
A38: ="" | B38: ="" | C38: ="" | D38: ="" | E38: ="" | F38: ="" | H38: ="" | K38: ="" | L38: ="" | O38: =""
A39: ="" | B39: ="" | C39: ="" | D39: ="" | E39: ="" | F39: ="" | H39: ="" | K39: ="" | L39: ="" | O39: =""
A40: ="" | B40: ="" | C40: ="" | D40: ="" | E40: ="" | F40: ="" | H40: ="" | K40: ="" | L40: ="" | O40: =""
... A101: ="" | B101: ="" | C101: ="" | D101: ="" | E101: ="" | F101: ="" | H101: ="" | K101: ="" | L101: ="" | O101: =""

Sheet Daily Operations
A1: Daily Operations Log
A2: Enter one record per business date. Blue columns are manual inputs; gray columns are calculated.
A4: Business Date | B4: Day of Week | C4: Physical Rooms | D4: Out-of-Order Rooms | E4: Sellable Rooms | F4: Occupied Rooms | G4: Complimentary Rooms | H4: Arrivals | I4: Departures | J4: Stayovers | K4: Walk-Ins | L4: No-Shows | M4: Room Revenue | N4: Food & Beverage Revenue | O4: Other Revenue | P4: Total Revenue | Q4: Occupancy | R4: ADR | S4: RevPAR | T4: Rooms Cleaned | U4: Housekeeping Labor Hours | V4: Front Office Labor Hours | W4: Maintenance Labor Hours | X4: Food & Beverage Labor Hours | Y4: Management and Other Labor Hours | Z4: Total Labor Hours | AA4: Total Labor Cost | AB4: Labor Cost % | AC4: Guest Complaints | AD4: Service Recovery Cost | AE4: Guest Survey Score | AF4: Housekeeping Productivity | AG4: Manager on Duty | AH4: Source Report Reference | AI4: Daily Operations Check | AJ4: Manager Notes
A5: 46027 | B5: =IF(A5="","",IFERROR(IF(MOD(A5,7)=0,"Sunday",IF(MOD(A5,7)=1,"Monday",IF(MOD(A5,7)=2,"Tuesday",IF(MOD(A5,7)=3,"Wednesday",IF(MOD(A5,7)=4,"Thursday",IF(MOD(A5,7)=5,"Friday","Saturday")))))),"")) | C5: 42 | D5: 1 | E5: =IF(A5="","",IFERROR(C5-D5,0)) | F5: 28 | G5: 1 | H5: 13 | I5: 11 | J5: 15 | K5: 2 | L5: 1 | M5: 6832 | N5: 1145 | O5: 310 | P5: =IF(A5="","",IFERROR(SUM(M5:O5),0)) | Q5: =IF(A5="","",IFERROR(F5/E5,0)) | R5: =IF(A5="","",IFERROR(M5/F5,0)) | S5: =IF(A5="","",IFERROR(M5/E5,0)) | T5: 24 | U5: 15 | V5: 24 | W5: 8 | X5: 18 | Y5: 12 | Z5: =IF(A5="","",IFERROR(SUM(U5:Y5),0)) | AA5: 4185 | AB5: =IF(A5="","",IFERROR(AA5/P5,0)) | AC5: 1 | AD5: 45 | AE5: 4.4 | AF5: =IF(A5="","",IFERROR(T5/U5,0)) | AG5: Alex Morgan | AH5: Daily packet 0105 | AI5: =IF(A5="","",IFERROR(IF(C5<>'Dashboard'!$K$3,"Check room count",IF(D5>C5,"Out-of-order rooms exceed inventory",IF(F5>E5,"Occupied rooms exceed sellable rooms",IF(G5>F5,"Complimentary rooms exceed occupied rooms",IF(J5>F5,"Stayovers exceed occupied rooms",IF(OR(M5<0,N5<0,O5<0,AA5<0),"Negative amount entered",IF(OR(Q5>1,Q5<0),"Check occupancy","OK"))))))),"Check Data")) | AJ5: Lobby fireplace service scheduled.
A6: 46028 | B6: =IF(A6="","",IFERROR(IF(MOD(A6,7)=0,"Sunday",IF(MOD(A6,7)=1,"Monday",IF(MOD(A6,7)=2,"Tuesday",IF(MOD(A6,7)=3,"Wednesday",IF(MOD(A6,7)=4,"Thursday",IF(MOD(A6,7)=5,"Friday","Saturday")))))),"")) | C6: 42 | D6: 1 | E6: =IF(A6="","",IFERROR(C6-D6,0)) | F6: 30 | G6: 0 | H6: 15 | I6: 13 | J6: 15 | K6: 3 | L6: 0 | M6: 7410 | N6: 1320 | O6: 265 | P6: =IF(A6="","",IFERROR(SUM(M6:O6),0)) | Q6: =IF(A6="","",IFERROR(F6/E6,0)) | R6: =IF(A6="","",IFERROR(M6/F6,0)) | S6: =IF(A6="","",IFERROR(M6/E6,0)) | T6: 27 | U6: 15.5 | V6: 24 | W6: 8 | X6: 20 | Y6: 12 | Z6: =IF(A6="","",IFERROR(SUM(U6:Y6),0)) | AA6: 4310 | AB6: =IF(A6="","",IFERROR(AA6/P6,0)) | AC6: 0 | AD6: 0 | AE6: 4.7 | AF6: =IF(A6="","",IFERROR(T6/U6,0)) | AG6: Dana Ruiz | AH6: Daily packet 0106 | AI6: =IF(A6="","",IFERROR(IF(C6<>'Dashboard'!$K$3,"Check room count",IF(D6>C6,"Out-of-order rooms exceed inventory",IF(F6>E6,"Occupied rooms exceed sellable rooms",IF(G6>F6,"Complimentary rooms exceed occupied rooms",IF(J6>F6,"Stayovers exceed occupied rooms",IF(OR(M6<0,N6<0,O6<0,AA6<0),"Negative amount entered",IF(OR(Q6>1,Q6<0),"Check occupancy","OK"))))))),"Check Data")) | AJ6: Strong direct-booking arrivals.
A7: 46029 | B7: =IF(A7="","",IFERROR(IF(MOD(A7,7)=0,"Sunday",IF(MOD(A7,7)=1,"Monday",IF(MOD(A7,7)=2,"Tuesday",IF(MOD(A7,7)=3,"Wednesday",IF(MOD(A7,7)=4,"Thursday",IF(MOD(A7,7)=5,"Friday","Saturday")))))),"")) | C7: 42 | D7: 0 | E7: =IF(A7="","",IFERROR(C7-D7,0)) | F7: 32 | G7: 1 | H7: 16 | I7: 14 | J7: 16 | K7: 2 | L7: 1 | M7: 8064 | N7: 1510 | O7: 420 | P7: =IF(A7="","",IFERROR(SUM(M7:O7),0)) | Q7: =IF(A7="","",IFERROR(F7/E7,0)) | R7: =IF(A7="","",IFERROR(M7/F7,0)) | S7: =IF(A7="","",IFERROR(M7/E7,0)) | T7: 29 | U7: 16 | V7: 26 | W7: 7.5 | X7: 22 | Y7: 12 | Z7: =IF(A7="","",IFERROR(SUM(U7:Y7),0)) | AA7: 4575 | AB7: =IF(A7="","",IFERROR(AA7/P7,0)) | AC7: 2 | AD7: 110 | AE7: 4.2 | AF7: =IF(A7="","",IFERROR(T7/U7,0)) | AG7: Jordan Lee | AH7: Daily packet 0107 | AI7: =IF(A7="","",IFERROR(IF(C7<>'Dashboard'!$K$3,"Check room count",IF(D7>C7,"Out-of-order rooms exceed inventory",IF(F7>E7,"Occupied rooms exceed sellable rooms",IF(G7>F7,"Complimentary rooms exceed occupied rooms",IF(J7>F7,"Stayovers exceed occupied rooms",IF(OR(M7<0,N7<0,O7<0,AA7<0),"Negative amount entered",IF(OR(Q7>1,Q7<0),"Check occupancy","OK"))))))),"Check Data")) | AJ7: Two noise complaints after 10 p.m.
A8: 46030 | B8: =IF(A8="","",IFERROR(IF(MOD(A8,7)=0,"Sunday",IF(MOD(A8,7)=1,"Monday",IF(MOD(A8,7)=2,"Tuesday",IF(MOD(A8,7)=3,"Wednesday",IF(MOD(A8,7)=4,"Thursday",IF(MOD(A8,7)=5,"Friday","Saturday")))))),"")) | C8: 42 | D8: 0 | E8: =IF(A8="","",IFERROR(C8-D8,0)) | F8: 35 | G8: 0 | H8: 18 | I8: 15 | J8: 17 | K8: 4 | L8: 0 | M8: 9170 | N8: 1860 | O8: 385 | P8: =IF(A8="","",IFERROR(SUM(M8:O8),0)) | Q8: =IF(A8="","",IFERROR(F8/E8,0)) | R8: =IF(A8="","",IFERROR(M8/F8,0)) | S8: =IF(A8="","",IFERROR(M8/E8,0)) | T8: 31 | U8: 17 | V8: 27 | W8: 8 | X8: 25 | Y8: 13 | Z8: =IF(A8="","",IFERROR(SUM(U8:Y8),0)) | AA8: 4920 | AB8: =IF(A8="","",IFERROR(AA8/P8,0)) | AC8: 1 | AD8: 75 | AE8: 4.5 | AF8: =IF(A8="","",IFERROR(T8/U8,0)) | AG8: Priya Shah | AH8: Daily packet 0108 | AI8: =IF(A8="","",IFERROR(IF(C8<>'Dashboard'!$K$3,"Check room count",IF(D8>C8,"Out-of-order rooms exceed inventory",IF(F8>E8,"Occupied rooms exceed sellable rooms",IF(G8>F8,"Complimentary rooms exceed occupied rooms",IF(J8>F8,"Stayovers exceed occupied rooms",IF(OR(M8<0,N8<0,O8<0,AA8<0),"Negative amount entered",IF(OR(Q8>1,Q8<0),"Check occupancy","OK"))))))),"Check Data")) | AJ8: Wedding room block began arriving.
A9: 46031 | B9: =IF(A9="","",IFERROR(IF(MOD(A9,7)=0,"Sunday",IF(MOD(A9,7)=1,"Monday",IF(MOD(A9,7)=2,"Tuesday",IF(MOD(A9,7)=3,"Wednesday",IF(MOD(A9,7)=4,"Thursday",IF(MOD(A9,7)=5,"Friday","Saturday")))))),"")) | C9: 42 | D9: 0 | E9: =IF(A9="","",IFERROR(C9-D9,0)) | F9: 39 | G9: 1 | H9: 22 | I9: 18 | J9: 17 | K9: 5 | L9: 1 | M9: 10647 | N9: 2740 | O9: 590 | P9: =IF(A9="","",IFERROR(SUM(M9:O9),0)) | Q9: =IF(A9="","",IFERROR(F9/E9,0)) | R9: =IF(A9="","",IFERROR(M9/F9,0)) | S9: =IF(A9="","",IFERROR(M9/E9,0)) | T9: 36 | U9: 19 | V9: 30 | W9: 9 | X9: 34 | Y9: 14 | Z9: =IF(A9="","",IFERROR(SUM(U9:Y9),0)) | AA9: 5860 | AB9: =IF(A9="","",IFERROR(AA9/P9,0)) | AC9: 3 | AD9: 220 | AE9: 4.1 | AF9: =IF(A9="","",IFERROR(T9/U9,0)) | AG9: Taylor Brooks | AH9: Daily packet 0109 | AI9: =IF(A9="","",IFERROR(IF(C9<>'Dashboard'!$K$3,"Check room count",IF(D9>C9,"Out-of-order rooms exceed inventory",IF(F9>E9,"Occupied rooms exceed sellable rooms",IF(G9>F9,"Complimentary rooms exceed occupied rooms",IF(J9>F9,"Stayovers exceed occupied rooms",IF(OR(M9<0,N9<0,O9<0,AA9<0),"Negative amount entered",IF(OR(Q9>1,Q9<0),"Check occupancy","OK"))))))),"Check Data")) | AJ9: Valet delays during event arrival peak.
A10: 46032 | B10: =IF(A10="","",IFERROR(IF(MOD(A10,7)=0,"Sunday",IF(MOD(A10,7)=1,"Monday",IF(MOD(A10,7)=2,"Tuesday",IF(MOD(A10,7)=3,"Wednesday",IF(MOD(A10,7)=4,"Thursday",IF(MOD(A10,7)=5,"Friday","Saturday")))))),"")) | C10: 42 | D10: 1 | E10: =IF(A10="","",IFERROR(C10-D10,0)) | F10: 40 | G10: 0 | H10: 19 | I10: 17 | J10: 21 | K10: 3 | L10: 0 | M10: 11320 | N10: 3180 | O10: 720 | P10: =IF(A10="","",IFERROR(SUM(M10:O10),0)) | Q10: =IF(A10="","",IFERROR(F10/E10,0)) | R10: =IF(A10="","",IFERROR(M10/F10,0)) | S10: =IF(A10="","",IFERROR(M10/E10,0)) | T10: 38 | U10: 21 | V10: 31 | W10: 10 | X10: 38 | Y10: 15 | Z10: =IF(A10="","",IFERROR(SUM(U10:Y10),0)) | AA10: 6340 | AB10: =IF(A10="","",IFERROR(AA10/P10,0)) | AC10: 2 | AD10: 165 | AE10: 4.3 | AF10: =IF(A10="","",IFERROR(T10/U10,0)) | AG10: Alex Morgan | AH10: Daily packet 0110 | AI10: =IF(A10="","",IFERROR(IF(C10<>'Dashboard'!$K$3,"Check room count",IF(D10>C10,"Out-of-order rooms exceed inventory",IF(F10>E10,"Occupied rooms exceed sellable rooms",IF(G10>F10,"Complimentary rooms exceed occupied rooms",IF(J10>F10,"Stayovers exceed occupied rooms",IF(OR(M10<0,N10<0,O10<0,AA10<0),"Negative amount entered",IF(OR(Q10>1,Q10<0),"Check occupancy","OK"))))))),"Check Data")) | AJ10: Sold-out Saturday with private dinner.
A11: 46033 | B11: =IF(A11="","",IFERROR(IF(MOD(A11,7)=0,"Sunday",IF(MOD(A11,7)=1,"Monday",IF(MOD(A11,7)=2,"Tuesday",IF(MOD(A11,7)=3,"Wednesday",IF(MOD(A11,7)=4,"Thursday",IF(MOD(A11,7)=5,"Friday","Saturday")))))),"")) | C11: 42 | D11: 1 | E11: =IF(A11="","",IFERROR(C11-D11,0)) | F11: 34 | G11: 1 | H11: 11 | I11: 24 | J11: 23 | K11: 1 | L11: 0 | M11: 8636 | N11: 1980 | O11: 410 | P11: =IF(A11="","",IFERROR(SUM(M11:O11),0)) | Q11: =IF(A11="","",IFERROR(F11/E11,0)) | R11: =IF(A11="","",IFERROR(M11/F11,0)) | S11: =IF(A11="","",IFERROR(M11/E11,0)) | T11: 39 | U11: 22 | V11: 27 | W11: 9 | X11: 25 | Y11: 13 | Z11: =IF(A11="","",IFERROR(SUM(U11:Y11),0)) | AA11: 5260 | AB11: =IF(A11="","",IFERROR(AA11/P11,0)) | AC11: 1 | AD11: 50 | AE11: 4.6 | AF11: =IF(A11="","",IFERROR(T11/U11,0)) | AG11: Dana Ruiz | AH11: Daily packet 0111 | AI11: =IF(A11="","",IFERROR(IF(C11<>'Dashboard'!$K$3,"Check room count",IF(D11>C11,"Out-of-order rooms exceed inventory",IF(F11>E11,"Occupied rooms exceed sellable rooms",IF(G11>F11,"Complimentary rooms exceed occupied rooms",IF(J11>F11,"Stayovers exceed occupied rooms",IF(OR(M11<0,N11<0,O11<0,AA11<0),"Negative amount entered",IF(OR(Q11>1,Q11<0),"Check occupancy","OK"))))))),"Check Data")) | AJ11: Heavy departure and room-turn day.
A12: 46034 | B12: =IF(A12="","",IFERROR(IF(MOD(A12,7)=0,"Sunday",IF(MOD(A12,7)=1,"Monday",IF(MOD(A12,7)=2,"Tuesday",IF(MOD(A12,7)=3,"Wednesday",IF(MOD(A12,7)=4,"Thursday",IF(MOD(A12,7)=5,"Friday","Saturday")))))),"")) | C12: 42 | D12: 2 | E12: =IF(A12="","",IFERROR(C12-D12,0)) | F12: 26 | G12: 0 | H12: 10 | I12: 18 | J12: 16 | K12: 1 | L12: 2 | M12: 6188 | N12: 980 | O12: 235 | P12: =IF(A12="","",IFERROR(SUM(M12:O12),0)) | Q12: =IF(A12="","",IFERROR(F12/E12,0)) | R12: =IF(A12="","",IFERROR(M12/F12,0)) | S12: =IF(A12="","",IFERROR(M12/E12,0)) | T12: 29 | U12: 17 | V12: 23 | W12: 10 | X12: 17 | Y12: 12 | Z12: =IF(A12="","",IFERROR(SUM(U12:Y12),0)) | AA12: 4175 | AB12: =IF(A12="","",IFERROR(AA12/P12,0)) | AC12: 0 | AD12: 0 | AE12: 4.8 | AF12: =IF(A12="","",IFERROR(T12/U12,0)) | AG12: Jordan Lee | AH12: Daily packet 0112 | AI12: =IF(A12="","",IFERROR(IF(C12<>'Dashboard'!$K$3,"Check room count",IF(D12>C12,"Out-of-order rooms exceed inventory",IF(F12>E12,"Occupied rooms exceed sellable rooms",IF(G12>F12,"Complimentary rooms exceed occupied rooms",IF(J12>F12,"Stayovers exceed occupied rooms",IF(OR(M12<0,N12<0,O12<0,AA12<0),"Negative amount entered",IF(OR(Q12>1,Q12<0),"Check occupancy","OK"))))))),"Check Data")) | AJ12: Two rooms held for plumbing repairs.
A13: 46035 | B13: =IF(A13="","",IFERROR(IF(MOD(A13,7)=0,"Sunday",IF(MOD(A13,7)=1,"Monday",IF(MOD(A13,7)=2,"Tuesday",IF(MOD(A13,7)=3,"Wednesday",IF(MOD(A13,7)=4,"Thursday",IF(MOD(A13,7)=5,"Friday","Saturday")))))),"")) | C13: 42 | D13: 1 | E13: =IF(A13="","",IFERROR(C13-D13,0)) | F13: 29 | G13: 1 | H13: 14 | I13: 11 | J13: 15 | K13: 2 | L13: 0 | M13: 7163 | N13: 1210 | O13: 290 | P13: =IF(A13="","",IFERROR(SUM(M13:O13),0)) | Q13: =IF(A13="","",IFERROR(F13/E13,0)) | R13: =IF(A13="","",IFERROR(M13/F13,0)) | S13: =IF(A13="","",IFERROR(M13/E13,0)) | T13: 25 | U13: 14.5 | V13: 24 | W13: 8 | X13: 19 | Y13: 12 | Z13: =IF(A13="","",IFERROR(SUM(U13:Y13),0)) | AA13: 4270 | AB13: =IF(A13="","",IFERROR(AA13/P13,0)) | AC13: 1 | AD13: 60 | AE13: 4.4 | AF13: =IF(A13="","",IFERROR(T13/U13,0)) | AG13: Priya Shah | AH13: Daily packet 0113 | AI13: =IF(A13="","",IFERROR(IF(C13<>'Dashboard'!$K$3,"Check room count",IF(D13>C13,"Out-of-order rooms exceed inventory",IF(F13>E13,"Occupied rooms exceed sellable rooms",IF(G13>F13,"Complimentary rooms exceed occupied rooms",IF(J13>F13,"Stayovers exceed occupied rooms",IF(OR(M13<0,N13<0,O13<0,AA13<0),"Negative amount entered",IF(OR(Q13>1,Q13<0),"Check occupancy","OK"))))))),"Check Data")) | AJ13: Early arrivals required luggage storage.
A14: 46036 | B14: =IF(A14="","",IFERROR(IF(MOD(A14,7)=0,"Sunday",IF(MOD(A14,7)=1,"Monday",IF(MOD(A14,7)=2,"Tuesday",IF(MOD(A14,7)=3,"Wednesday",IF(MOD(A14,7)=4,"Thursday",IF(MOD(A14,7)=5,"Friday","Saturday")))))),"")) | C14: 42 | D14: 0 | E14: =IF(A14="","",IFERROR(C14-D14,0)) | F14: 33 | G14: 0 | H14: 17 | I14: 13 | J14: 16 | K14: 3 | L14: 1 | M14: 8481 | N14: 1475 | O14: 360 | P14: =IF(A14="","",IFERROR(SUM(M14:O14),0)) | Q14: =IF(A14="","",IFERROR(F14/E14,0)) | R14: =IF(A14="","",IFERROR(M14/F14,0)) | S14: =IF(A14="","",IFERROR(M14/E14,0)) | T14: 28 | U14: 15.5 | V14: 26 | W14: 8 | X14: 21 | Y14: 13 | Z14: =IF(A14="","",IFERROR(SUM(U14:Y14),0)) | AA14: 4610 | AB14: =IF(A14="","",IFERROR(AA14/P14,0)) | AC14: 1 | AD14: 85 | AE14: 4.5 | AF14: =IF(A14="","",IFERROR(T14/U14,0)) | AG14: Taylor Brooks | AH14: Daily packet 0114 | AI14: =IF(A14="","",IFERROR(IF(C14<>'Dashboard'!$K$3,"Check room count",IF(D14>C14,"Out-of-order rooms exceed inventory",IF(F14>E14,"Occupied rooms exceed sellable rooms",IF(G14>F14,"Complimentary rooms exceed occupied rooms",IF(J14>F14,"Stayovers exceed occupied rooms",IF(OR(M14<0,N14<0,O14<0,AA14<0),"Negative amount entered",IF(OR(Q14>1,Q14<0),"Check occupancy","OK"))))))),"Check Data")) | AJ14: Guest Wi-Fi issue resolved before evening.
B15: =IF(A15="","",IFERROR(IF(MOD(A15,7)=0,"Sunday",IF(MOD(A15,7)=1,"Monday",IF(MOD(A15,7)=2,"Tuesday",IF(MOD(A15,7)=3,"Wednesday",IF(MOD(A15,7)=4,"Thursday",IF(MOD(A15,7)=5,"Friday","Saturday")))))),"")) | E15: =IF(A15="","",IFERROR(C15-D15,0)) | P15: =IF(A15="","",IFERROR(SUM(M15:O15),0)) | Q15: =IF(A15="","",IFERROR(F15/E15,0)) | R15: =IF(A15="","",IFERROR(M15/F15,0)) | S15: =IF(A15="","",IFERROR(M15/E15,0)) | Z15: =IF(A15="","",IFERROR(SUM(U15:Y15),0)) | AB15: =IF(A15="","",IFERROR(AA15/P15,0)) | AF15: =IF(A15="","",IFERROR(T15/U15,0)) | AI15: =IF(A15="","",IFERROR(IF(C15<>'Dashboard'!$K$3,"Check room count",IF(D15>C15,"Out-of-order rooms exceed inventory",IF(F15>E15,"Occupied rooms exceed sellable rooms",IF(G15>F15,"Complimentary rooms exceed occupied rooms",IF(J15>F15,"Stayovers exceed occupied rooms",IF(OR(M15<0,N15<0,O15<0,AA15<0),"Negative amount entered",IF(OR(Q15>1,Q15<0),"Check occupancy","OK"))))))),"Check Data"))
B16: =IF(A16="","",IFERROR(IF(MOD(A16,7)=0,"Sunday",IF(MOD(A16,7)=1,"Monday",IF(MOD(A16,7)=2,"Tuesday",IF(MOD(A16,7)=3,"Wednesday",IF(MOD(A16,7)=4,"Thursday",IF(MOD(A16,7)=5,"Friday","Saturday")))))),"")) | E16: =IF(A16="","",IFERROR(C16-D16,0)) | P16: =IF(A16="","",IFERROR(SUM(M16:O16),0)) | Q16: =IF(A16="","",IFERROR(F16/E16,0)) | R16: =IF(A16="","",IFERROR(M16/F16,0)) | S16: =IF(A16="","",IFERROR(M16/E16,0)) | Z16: =IF(A16="","",IFERROR(SUM(U16:Y16),0)) | AB16: =IF(A16="","",IFERROR(AA16/P16,0)) | AF16: =IF(A16="","",IFERROR(T16/U16,0)) | AI16: =IF(A16="","",IFERROR(IF(C16<>'Dashboard'!$K$3,"Check room count",IF(D16>C16,"Out-of-order rooms exceed inventory",IF(F16>E16,"Occupied rooms exceed sellable rooms",IF(G16>F16,"Complimentary rooms exceed occupied rooms",IF(J16>F16,"Stayovers exceed occupied rooms",IF(OR(M16<0,N16<0,O16<0,AA16<0),"Negative amount entered",IF(OR(Q16>1,Q16<0),"Check occupancy","OK"))))))),"Check Data"))
B17: =IF(A17="","",IFERROR(IF(MOD(A17,7)=0,"Sunday",IF(MOD(A17,7)=1,"Monday",IF(MOD(A17,7)=2,"Tuesday",IF(MOD(A17,7)=3,"Wednesday",IF(MOD(A17,7)=4,"Thursday",IF(MOD(A17,7)=5,"Friday","Saturday")))))),"")) | E17: =IF(A17="","",IFERROR(C17-D17,0)) | P17: =IF(A17="","",IFERROR(SUM(M17:O17),0)) | Q17: =IF(A17="","",IFERROR(F17/E17,0)) | R17: =IF(A17="","",IFERROR(M17/F17,0)) | S17: =IF(A17="","",IFERROR(M17/E17,0)) | Z17: =IF(A17="","",IFERROR(SUM(U17:Y17),0)) | AB17: =IF(A17="","",IFERROR(AA17/P17,0)) | AF17: =IF(A17="","",IFERROR(T17/U17,0)) | AI17: =IF(A17="","",IFERROR(IF(C17<>'Dashboard'!$K$3,"Check room count",IF(D17>C17,"Out-of-order rooms exceed inventory",IF(F17>E17,"Occupied rooms exceed sellable rooms",IF(G17>F17,"Complimentary rooms exceed occupied rooms",IF(J17>F17,"Stayovers exceed occupied rooms",IF(OR(M17<0,N17<0,O17<0,AA17<0),"Negative amount entered",IF(OR(Q17>1,Q17<0),"Check occupancy","OK"))))))),"Check Data"))
B18: =IF(A18="","",IFERROR(IF(MOD(A18,7)=0,"Sunday",IF(MOD(A18,7)=1,"Monday",IF(MOD(A18,7)=2,"Tuesday",IF(MOD(A18,7)=3,"Wednesday",IF(MOD(A18,7)=4,"Thursday",IF(MOD(A18,7)=5,"Friday","Saturday")))))),"")) | E18: =IF(A18="","",IFERROR(C18-D18,0)) | P18: =IF(A18="","",IFERROR(SUM(M18:O18),0)) | Q18: =IF(A18="","",IFERROR(F18/E18,0)) | R18: =IF(A18="","",IFERROR(M18/F18,0)) | S18: =IF(A18="","",IFERROR(M18/E18,0)) | Z18: =IF(A18="","",IFERROR(SUM(U18:Y18),0)) | AB18: =IF(A18="","",IFERROR(AA18/P18,0)) | AF18: =IF(A18="","",IFERROR(T18/U18,0)) | AI18: =IF(A18="","",IFERROR(IF(C18<>'Dashboard'!$K$3,"Check room count",IF(D18>C18,"Out-of-order rooms exceed inventory",IF(F18>E18,"Occupied rooms exceed sellable rooms",IF(G18>F18,"Complimentary rooms exceed occupied rooms",IF(J18>F18,"Stayovers exceed occupied rooms",IF(OR(M18<0,N18<0,O18<0,AA18<0),"Negative amount entered",IF(OR(Q18>1,Q18<0),"Check occupancy","OK"))))))),"Check Data"))
B19: =IF(A19="","",IFERROR(IF(MOD(A19,7)=0,"Sunday",IF(MOD(A19,7)=1,"Monday",IF(MOD(A19,7)=2,"Tuesday",IF(MOD(A19,7)=3,"Wednesday",IF(MOD(A19,7)=4,"Thursday",IF(MOD(A19,7)=5,"Friday","Saturday")))))),"")) | E19: =IF(A19="","",IFERROR(C19-D19,0)) | P19: =IF(A19="","",IFERROR(SUM(M19:O19),0)) | Q19: =IF(A19="","",IFERROR(F19/E19,0)) | R19: =IF(A19="","",IFERROR(M19/F19,0)) | S19: =IF(A19="","",IFERROR(M19/E19,0)) | Z19: =IF(A19="","",IFERROR(SUM(U19:Y19),0)) | AB19: =IF(A19="","",IFERROR(AA19/P19,0)) | AF19: =IF(A19="","",IFERROR(T19/U19,0)) | AI19: =IF(A19="","",IFERROR(IF(C19<>'Dashboard'!$K$3,"Check room count",IF(D19>C19,"Out-of-order rooms exceed inventory",IF(F19>E19,"Occupied rooms exceed sellable rooms",IF(G19>F19,"Complimentary rooms exceed occupied rooms",IF(J19>F19,"Stayovers exceed occupied rooms",IF(OR(M19<0,N19<0,O19<0,AA19<0),"Negative amount entered",IF(OR(Q19>1,Q19<0),"Check occupancy","OK"))))))),"Check Data"))
B20: =IF(A20="","",IFERROR(IF(MOD(A20,7)=0,"Sunday",IF(MOD(A20,7)=1,"Monday",IF(MOD(A20,7)=2,"Tuesday",IF(MOD(A20,7)=3,"Wednesday",IF(MOD(A20,7)=4,"Thursday",IF(MOD(A20,7)=5,"Friday","Saturday")))))),"")) | E20: =IF(A20="","",IFERROR(C20-D20,0)) | P20: =IF(A20="","",IFERROR(SUM(M20:O20),0)) | Q20: =IF(A20="","",IFERROR(F20/E20,0)) | R20: =IF(A20="","",IFERROR(M20/F20,0)) | S20: =IF(A20="","",IFERROR(M20/E20,0)) | Z20: =IF(A20="","",IFERROR(SUM(U20:Y20),0)) | AB20: =IF(A20="","",IFERROR(AA20/P20,0)) | AF20: =IF(A20="","",IFERROR(T20/U20,0)) | AI20: =IF(A20="","",IFERROR(IF(C20<>'Dashboard'!$K$3,"Check room count",IF(D20>C20,"Out-of-order rooms exceed inventory",IF(F20>E20,"Occupied rooms exceed sellable rooms",IF(G20>F20,"Complimentary rooms exceed occupied rooms",IF(J20>F20,"Stayovers exceed occupied rooms",IF(OR(M20<0,N20<0,O20<0,AA20<0),"Negative amount entered",IF(OR(Q20>1,Q20<0),"Check occupancy","OK"))))))),"Check Data"))
B21: =IF(A21="","",IFERROR(IF(MOD(A21,7)=0,"Sunday",IF(MOD(A21,7)=1,"Monday",IF(MOD(A21,7)=2,"Tuesday",IF(MOD(A21,7)=3,"Wednesday",IF(MOD(A21,7)=4,"Thursday",IF(MOD(A21,7)=5,"Friday","Saturday")))))),"")) | E21: =IF(A21="","",IFERROR(C21-D21,0)) | P21: =IF(A21="","",IFERROR(SUM(M21:O21),0)) | Q21: =IF(A21="","",IFERROR(F21/E21,0)) | R21: =IF(A21="","",IFERROR(M21/F21,0)) | S21: =IF(A21="","",IFERROR(M21/E21,0)) | Z21: =IF(A21="","",IFERROR(SUM(U21:Y21),0)) | AB21: =IF(A21="","",IFERROR(AA21/P21,0)) | AF21: =IF(A21="","",IFERROR(T21/U21,0)) | AI21: =IF(A21="","",IFERROR(IF(C21<>'Dashboard'!$K$3,"Check room count",IF(D21>C21,"Out-of-order rooms exceed inventory",IF(F21>E21,"Occupied rooms exceed sellable rooms",IF(G21>F21,"Complimentary rooms exceed occupied rooms",IF(J21>F21,"Stayovers exceed occupied rooms",IF(OR(M21<0,N21<0,O21<0,AA21<0),"Negative amount entered",IF(OR(Q21>1,Q21<0),"Check occupancy","OK"))))))),"Check Data"))
B22: =IF(A22="","",IFERROR(IF(MOD(A22,7)=0,"Sunday",IF(MOD(A22,7)=1,"Monday",IF(MOD(A22,7)=2,"Tuesday",IF(MOD(A22,7)=3,"Wednesday",IF(MOD(A22,7)=4,"Thursday",IF(MOD(A22,7)=5,"Friday","Saturday")))))),"")) | E22: =IF(A22="","",IFERROR(C22-D22,0)) | P22: =IF(A22="","",IFERROR(SUM(M22:O22),0)) | Q22: =IF(A22="","",IFERROR(F22/E22,0)) | R22: =IF(A22="","",IFERROR(M22/F22,0)) | S22: =IF(A22="","",IFERROR(M22/E22,0)) | Z22: =IF(A22="","",IFERROR(SUM(U22:Y22),0)) | AB22: =IF(A22="","",IFERROR(AA22/P22,0)) | AF22: =IF(A22="","",IFERROR(T22/U22,0)) | AI22: =IF(A22="","",IFERROR(IF(C22<>'Dashboard'!$K$3,"Check room count",IF(D22>C22,"Out-of-order rooms exceed inventory",IF(F22>E22,"Occupied rooms exceed sellable rooms",IF(G22>F22,"Complimentary rooms exceed occupied rooms",IF(J22>F22,"Stayovers exceed occupied rooms",IF(OR(M22<0,N22<0,O22<0,AA22<0),"Negative amount entered",IF(OR(Q22>1,Q22<0),"Check occupancy","OK"))))))),"Check Data"))
B23: =IF(A23="","",IFERROR(IF(MOD(A23,7)=0,"Sunday",IF(MOD(A23,7)=1,"Monday",IF(MOD(A23,7)=2,"Tuesday",IF(MOD(A23,7)=3,"Wednesday",IF(MOD(A23,7)=4,"Thursday",IF(MOD(A23,7)=5,"Friday","Saturday")))))),"")) | E23: =IF(A23="","",IFERROR(C23-D23,0)) | P23: =IF(A23="","",IFERROR(SUM(M23:O23),0)) | Q23: =IF(A23="","",IFERROR(F23/E23,0)) | R23: =IF(A23="","",IFERROR(M23/F23,0)) | S23: =IF(A23="","",IFERROR(M23/E23,0)) | Z23: =IF(A23="","",IFERROR(SUM(U23:Y23),0)) | AB23: =IF(A23="","",IFERROR(AA23/P23,0)) | AF23: =IF(A23="","",IFERROR(T23/U23,0)) | AI23: =IF(A23="","",IFERROR(IF(C23<>'Dashboard'!$K$3,"Check room count",IF(D23>C23,"Out-of-order rooms exceed inventory",IF(F23>E23,"Occupied rooms exceed sellable rooms",IF(G23>F23,"Complimentary rooms exceed occupied rooms",IF(J23>F23,"Stayovers exceed occupied rooms",IF(OR(M23<0,N23<0,O23<0,AA23<0),"Negative amount entered",IF(OR(Q23>1,Q23<0),"Check occupancy","OK"))))))),"Check Data"))
B24: =IF(A24="","",IFERROR(IF(MOD(A24,7)=0,"Sunday",IF(MOD(A24,7)=1,"Monday",IF(MOD(A24,7)=2,"Tuesday",IF(MOD(A24,7)=3,"Wednesday",IF(MOD(A24,7)=4,"Thursday",IF(MOD(A24,7)=5,"Friday","Saturday")))))),"")) | E24: =IF(A24="","",IFERROR(C24-D24,0)) | P24: =IF(A24="","",IFERROR(SUM(M24:O24),0)) | Q24: =IF(A24="","",IFERROR(F24/E24,0)) | R24: =IF(A24="","",IFERROR(M24/F24,0)) | S24: =IF(A24="","",IFERROR(M24/E24,0)) | Z24: =IF(A24="","",IFERROR(SUM(U24:Y24),0)) | AB24: =IF(A24="","",IFERROR(AA24/P24,0)) | AF24: =IF(A24="","",IFERROR(T24/U24,0)) | AI24: =IF(A24="","",IFERROR(IF(C24<>'Dashboard'!$K$3,"Check room count",IF(D24>C24,"Out-of-order rooms exceed inventory",IF(F24>E24,"Occupied rooms exceed sellable rooms",IF(G24>F24,"Complimentary rooms exceed occupied rooms",IF(J24>F24,"Stayovers exceed occupied rooms",IF(OR(M24<0,N24<0,O24<0,AA24<0),"Negative amount entered",IF(OR(Q24>1,Q24<0),"Check occupancy","OK"))))))),"Check Data"))
B25: =IF(A25="","",IFERROR(IF(MOD(A25,7)=0,"Sunday",IF(MOD(A25,7)=1,"Monday",IF(MOD(A25,7)=2,"Tuesday",IF(MOD(A25,7)=3,"Wednesday",IF(MOD(A25,7)=4,"Thursday",IF(MOD(A25,7)=5,"Friday","Saturday")))))),"")) | E25: =IF(A25="","",IFERROR(C25-D25,0)) | P25: =IF(A25="","",IFERROR(SUM(M25:O25),0)) | Q25: =IF(A25="","",IFERROR(F25/E25,0)) | R25: =IF(A25="","",IFERROR(M25/F25,0)) | S25: =IF(A25="","",IFERROR(M25/E25,0)) | Z25: =IF(A25="","",IFERROR(SUM(U25:Y25),0)) | AB25: =IF(A25="","",IFERROR(AA25/P25,0)) | AF25: =IF(A25="","",IFERROR(T25/U25,0)) | AI25: =IF(A25="","",IFERROR(IF(C25<>'Dashboard'!$K$3,"Check room count",IF(D25>C25,"Out-of-order rooms exceed inventory",IF(F25>E25,"Occupied rooms exceed sellable rooms",IF(G25>F25,"Complimentary rooms exceed occupied rooms",IF(J25>F25,"Stayovers exceed occupied rooms",IF(OR(M25<0,N25<0,O25<0,AA25<0),"Negative amount entered",IF(OR(Q25>1,Q25<0),"Check occupancy","OK"))))))),"Check Data"))
B26: =IF(A26="","",IFERROR(IF(MOD(A26,7)=0,"Sunday",IF(MOD(A26,7)=1,"Monday",IF(MOD(A26,7)=2,"Tuesday",IF(MOD(A26,7)=3,"Wednesday",IF(MOD(A26,7)=4,"Thursday",IF(MOD(A26,7)=5,"Friday","Saturday")))))),"")) | E26: =IF(A26="","",IFERROR(C26-D26,0)) | P26: =IF(A26="","",IFERROR(SUM(M26:O26),0)) | Q26: =IF(A26="","",IFERROR(F26/E26,0)) | R26: =IF(A26="","",IFERROR(M26/F26,0)) | S26: =IF(A26="","",IFERROR(M26/E26,0)) | Z26: =IF(A26="","",IFERROR(SUM(U26:Y26),0)) | AB26: =IF(A26="","",IFERROR(AA26/P26,0)) | AF26: =IF(A26="","",IFERROR(T26/U26,0)) | AI26: =IF(A26="","",IFERROR(IF(C26<>'Dashboard'!$K$3,"Check room count",IF(D26>C26,"Out-of-order rooms exceed inventory",IF(F26>E26,"Occupied rooms exceed sellable rooms",IF(G26>F26,"Complimentary rooms exceed occupied rooms",IF(J26>F26,"Stayovers exceed occupied rooms",IF(OR(M26<0,N26<0,O26<0,AA26<0),"Negative amount entered",IF(OR(Q26>1,Q26<0),"Check occupancy","OK"))))))),"Check Data"))
... B370: =IF(A370="","",IFERROR(IF(MOD(A370,7)=0,"Sunday",IF(MOD(A370,7)=1,"Monday",IF(MOD(A370,7)=2,"Tuesday",IF(MOD(A370,7)=3,"Wednesday",IF(MOD(A370,7)=4,"Thursday",IF(MOD(A370,7)=5,"Friday","Saturday")))))),"")) | E370: =IF(A370="","",IFERROR(C370-D370,0)) | P370: =IF(A370="","",IFERROR(SUM(M370:O370),0)) | Q370: =IF(A370="","",IFERROR(F370/E370,0)) | R370: =IF(A370="","",IFERROR(M370/F370,0)) | S370: =IF(A370="","",IFERROR(M370/E370,0)) | Z370: =IF(A370="","",IFERROR(SUM(U370:Y370),0)) | AB370: =IF(A370="","",IFERROR(AA370/P370,0)) | AF370: =IF(A370="","",IFERROR(T370/U370,0)) | AI370: =IF(A370="","",IFERROR(IF(C370<>'Dashboard'!$K$3,"Check room count",IF(D370>C370,"Out-of-order rooms exceed inventory",IF(F370>E370,"Occupied rooms exceed sellable rooms",IF(G370>F370,"Complimentary rooms exceed occupied rooms",IF(J370>F370,"Stayovers exceed occupied rooms",IF(OR(M370<0,N370<0,O370<0,AA370<0),"Negative amount entered",IF(OR(Q370>1,Q370<0),"Check occupancy","OK"))))))),"Check Data"))

Sheet Issues & Tasks
A1: Issues & Tasks Log
A2: Track operational issues from opening through closure. Target days are editable on the Dashboard.
A4: Issue ID | B4: Opened Date | C4: Department | D4: Location or Room | E4: Category | F4: Priority | G4: Issue Description | H4: Assigned To | I4: Due Date | J4: Status | K4: Closed Date | L4: Guest Impacted | M4: Estimated Cost | N4: Actual Cost | O4: Aging Days | P4: Target Days | Q4: SLA Status | R4: Source Reference | S4: Resolution Notes
A5: OPS-26001 | B5: 46027 | C5: Maintenance | D5: Lobby | E5: Public Area Maintenance | F5: Medium | G5: Fireplace ignition was intermittent during morning opening. | H5: Miguel Santos | I5: 46030 | J5: Closed | K5: 46029 | L5: No | M5: 180 | N5: 165 | O5: =IF(B5="","",IFERROR(IF(OR(J5="Closed",J5="Canceled"),MAX(0,K5-B5),MAX(0,TODAY()-B5)),0)) | P5: =IF(B5="","",IFERROR(IF(F5="Critical",'Dashboard'!$K$9,IF(F5="High",'Dashboard'!$K$10,IF(F5="Medium",'Dashboard'!$K$11,IF(F5="Low",'Dashboard'!$K$12,"")))),"")) | Q5: =IF(B5="","",IFERROR(IF(J5="Canceled","Canceled",IF(J5="Closed","Closed",IF(O5>P5,"Overdue","On Track"))),"Check Data")) | R5: MOD log 0105 | S5: Igniter cleaned and tested.
A6: OPS-26002 | B6: 46029 | C6: Front Office | D6: Room 214 | E6: Guest Complaint | F6: High | G6: Guest reported repeated hallway noise after quiet hours. | H6: Dana Ruiz | I6: 46030 | J6: Closed | K6: 46030 | L6: Yes | M6: 100 | N6: 110 | O6: =IF(B6="","",IFERROR(IF(OR(J6="Closed",J6="Canceled"),MAX(0,K6-B6),MAX(0,TODAY()-B6)),0)) | P6: =IF(B6="","",IFERROR(IF(F6="Critical",'Dashboard'!$K$9,IF(F6="High",'Dashboard'!$K$10,IF(F6="Medium",'Dashboard'!$K$11,IF(F6="Low",'Dashboard'!$K$12,"")))),"")) | Q6: =IF(B6="","",IFERROR(IF(J6="Canceled","Canceled",IF(J6="Closed","Closed",IF(O6>P6,"Overdue","On Track"))),"Check Data")) | R6: Guest case 214-0107 | S6: Room charge adjustment approved and floor walk increased.
A7: OPS-26003 | B7: 46030 | C7: Housekeeping | D7: Room 307 | E7: Housekeeping | F7: Medium | G7: Replacement bathrobe was missing from the room. | H7: Renee Carter | I7: 46031 | J7: Closed | K7: 46030 | L7: Yes | M7: 45 | N7: 42 | O7: =IF(B7="","",IFERROR(IF(OR(J7="Closed",J7="Canceled"),MAX(0,K7-B7),MAX(0,TODAY()-B7)),0)) | P7: =IF(B7="","",IFERROR(IF(F7="Critical",'Dashboard'!$K$9,IF(F7="High",'Dashboard'!$K$10,IF(F7="Medium",'Dashboard'!$K$11,IF(F7="Low",'Dashboard'!$K$12,"")))),"")) | Q7: =IF(B7="","",IFERROR(IF(J7="Canceled","Canceled",IF(J7="Closed","Closed",IF(O7>P7,"Overdue","On Track"))),"Check Data")) | R7: Room check 307 | S7: Robe delivered and linen par reviewed.
A8: OPS-26004 | B8: 46031 | C8: Front Office | D8: Main Entrance | E8: Guest Complaint | F8: High | G8: Valet queue exceeded the property's operating target during event arrivals. | H8: Alex Morgan | I8: 46033 | J8: In Progress | L8: Yes | M8: 350 | N8: 0 | O8: =IF(B8="","",IFERROR(IF(OR(J8="Closed",J8="Canceled"),MAX(0,K8-B8),MAX(0,TODAY()-B8)),0)) | P8: =IF(B8="","",IFERROR(IF(F8="Critical",'Dashboard'!$K$9,IF(F8="High",'Dashboard'!$K$10,IF(F8="Medium",'Dashboard'!$K$11,IF(F8="Low",'Dashboard'!$K$12,"")))),"")) | Q8: =IF(B8="","",IFERROR(IF(J8="Canceled","Canceled",IF(J8="Closed","Closed",IF(O8>P8,"Overdue","On Track"))),"Check Data")) | R8: Event debrief 0109 | S8: Reviewing event staffing and temporary signage.
A9: OPS-26005 | B9: 46032 | C9: Food & Beverage | D9: Private Dining Room | E9: Food & Beverage | F9: Medium | G9: One warming cabinet did not hold the selected temperature setting. | H9: Chris Bennett | I9: 46035 | J9: Waiting on Vendor | L9: No | M9: 650 | N9: 0 | O9: =IF(B9="","",IFERROR(IF(OR(J9="Closed",J9="Canceled"),MAX(0,K9-B9),MAX(0,TODAY()-B9)),0)) | P9: =IF(B9="","",IFERROR(IF(F9="Critical",'Dashboard'!$K$9,IF(F9="High",'Dashboard'!$K$10,IF(F9="Medium",'Dashboard'!$K$11,IF(F9="Low",'Dashboard'!$K$12,"")))),"")) | Q9: =IF(B9="","",IFERROR(IF(J9="Canceled","Canceled",IF(J9="Closed","Closed",IF(O9>P9,"Overdue","On Track"))),"Check Data")) | R9: Banquet log 0110 | S9: Vendor service visit requested.
A10: OPS-26006 | B10: 46033 | C10: Maintenance | D10: Room 118 | E10: Room Maintenance | F10: High | G10: Bathroom sink drained slowly after checkout. | H10: Miguel Santos | I10: 46034 | J10: Closed | K10: 46034 | L10: No | M10: 125 | N10: 95 | O10: =IF(B10="","",IFERROR(IF(OR(J10="Closed",J10="Canceled"),MAX(0,K10-B10),MAX(0,TODAY()-B10)),0)) | P10: =IF(B10="","",IFERROR(IF(F10="Critical",'Dashboard'!$K$9,IF(F10="High",'Dashboard'!$K$10,IF(F10="Medium",'Dashboard'!$K$11,IF(F10="Low",'Dashboard'!$K$12,"")))),"")) | Q10: =IF(B10="","",IFERROR(IF(J10="Canceled","Canceled",IF(J10="Closed","Closed",IF(O10>P10,"Overdue","On Track"))),"Check Data")) | R10: Work order 118 | S10: Drain cleared and room returned to service.
A11: OPS-26007 | B11: 46034 | C11: Maintenance | D11: Rooms 402 and 404 | E11: Room Maintenance | F11: Critical | G11: Plumbing isolation required two rooms to be held out of order. | H11: Miguel Santos | I11: 46035 | J11: In Progress | L11: Yes | M11: 1800 | N11: 725 | O11: =IF(B11="","",IFERROR(IF(OR(J11="Closed",J11="Canceled"),MAX(0,K11-B11),MAX(0,TODAY()-B11)),0)) | P11: =IF(B11="","",IFERROR(IF(F11="Critical",'Dashboard'!$K$9,IF(F11="High",'Dashboard'!$K$10,IF(F11="Medium",'Dashboard'!$K$11,IF(F11="Low",'Dashboard'!$K$12,"")))),"")) | Q11: =IF(B11="","",IFERROR(IF(J11="Canceled","Canceled",IF(J11="Closed","Closed",IF(O11>P11,"Overdue","On Track"))),"Check Data")) | R11: Work order 402-404 | S11: Leak isolated; wall access repair remains open.
A12: OPS-26008 | B12: 46035 | C12: Front Office | D12: Bell Desk | E12: Guest Request | F12: Low | G12: Add labeled shelving for stored early-arrival luggage. | H12: Jordan Lee | I12: 46045 | J12: Open | L12: No | M12: 240 | N12: 0 | O12: =IF(B12="","",IFERROR(IF(OR(J12="Closed",J12="Canceled"),MAX(0,K12-B12),MAX(0,TODAY()-B12)),0)) | P12: =IF(B12="","",IFERROR(IF(F12="Critical",'Dashboard'!$K$9,IF(F12="High",'Dashboard'!$K$10,IF(F12="Medium",'Dashboard'!$K$11,IF(F12="Low",'Dashboard'!$K$12,"")))),"")) | Q12: =IF(B12="","",IFERROR(IF(J12="Canceled","Canceled",IF(J12="Closed","Closed",IF(O12>P12,"Overdue","On Track"))),"Check Data")) | R12: MOD log 0113 | S12: Measurements completed for shelving quote.
A13: OPS-26009 | B13: 46036 | C13: Management | D13: Guest Wi-Fi | E13: Technology | F13: High | G13: Intermittent guest Wi-Fi affected the third-floor hallway. | H13: Priya Shah | I13: 46037 | J13: Closed | K13: 46036 | L13: Yes | M13: 300 | N13: 285 | O13: =IF(B13="","",IFERROR(IF(OR(J13="Closed",J13="Canceled"),MAX(0,K13-B13),MAX(0,TODAY()-B13)),0)) | P13: =IF(B13="","",IFERROR(IF(F13="Critical",'Dashboard'!$K$9,IF(F13="High",'Dashboard'!$K$10,IF(F13="Medium",'Dashboard'!$K$11,IF(F13="Low",'Dashboard'!$K$12,"")))),"")) | Q13: =IF(B13="","",IFERROR(IF(J13="Canceled","Canceled",IF(J13="Closed","Closed",IF(O13>P13,"Overdue","On Track"))),"Check Data")) | R13: Network case 0114 | S13: Access point rebooted and firmware updated.
A14: OPS-26010 | B14: 46036 | C14: Housekeeping | D14: Linen Storage | E14: Administrative | F14: Medium | G14: Weekend linen usage variance requires a recount. | H14: Renee Carter | I14: 46041 | J14: Open | L14: No | M14: 0 | N14: 0 | O14: =IF(B14="","",IFERROR(IF(OR(J14="Closed",J14="Canceled"),MAX(0,K14-B14),MAX(0,TODAY()-B14)),0)) | P14: =IF(B14="","",IFERROR(IF(F14="Critical",'Dashboard'!$K$9,IF(F14="High",'Dashboard'!$K$10,IF(F14="Medium",'Dashboard'!$K$11,IF(F14="Low",'Dashboard'!$K$12,"")))),"")) | Q14: =IF(B14="","",IFERROR(IF(J14="Canceled","Canceled",IF(J14="Closed","Closed",IF(O14>P14,"Overdue","On Track"))),"Check Data")) | R14: Linen count 0114 | S14: Recount assigned before the next delivery.
O15: =IF(B15="","",IFERROR(IF(OR(J15="Closed",J15="Canceled"),MAX(0,K15-B15),MAX(0,TODAY()-B15)),0)) | P15: =IF(B15="","",IFERROR(IF(F15="Critical",'Dashboard'!$K$9,IF(F15="High",'Dashboard'!$K$10,IF(F15="Medium",'Dashboard'!$K$11,IF(F15="Low",'Dashboard'!$K$12,"")))),"")) | Q15: =IF(B15="","",IFERROR(IF(J15="Canceled","Canceled",IF(J15="Closed","Closed",IF(O15>P15,"Overdue","On Track"))),"Check Data"))
O16: =IF(B16="","",IFERROR(IF(OR(J16="Closed",J16="Canceled"),MAX(0,K16-B16),MAX(0,TODAY()-B16)),0)) | P16: =IF(B16="","",IFERROR(IF(F16="Critical",'Dashboard'!$K$9,IF(F16="High",'Dashboard'!$K$10,IF(F16="Medium",'Dashboard'!$K$11,IF(F16="Low",'Dashboard'!$K$12,"")))),"")) | Q16: =IF(B16="","",IFERROR(IF(J16="Canceled","Canceled",IF(J16="Closed","Closed",IF(O16>P16,"Overdue","On Track"))),"Check Data"))
O17: =IF(B17="","",IFERROR(IF(OR(J17="Closed",J17="Canceled"),MAX(0,K17-B17),MAX(0,TODAY()-B17)),0)) | P17: =IF(B17="","",IFERROR(IF(F17="Critical",'Dashboard'!$K$9,IF(F17="High",'Dashboard'!$K$10,IF(F17="Medium",'Dashboard'!$K$11,IF(F17="Low",'Dashboard'!$K$12,"")))),"")) | Q17: =IF(B17="","",IFERROR(IF(J17="Canceled","Canceled",IF(J17="Closed","Closed",IF(O17>P17,"Overdue","On Track"))),"Check Data"))
O18: =IF(B18="","",IFERROR(IF(OR(J18="Closed",J18="Canceled"),MAX(0,K18-B18),MAX(0,TODAY()-B18)),0)) | P18: =IF(B18="","",IFERROR(IF(F18="Critical",'Dashboard'!$K$9,IF(F18="High",'Dashboard'!$K$10,IF(F18="Medium",'Dashboard'!$K$11,IF(F18="Low",'Dashboard'!$K$12,"")))),"")) | Q18: =IF(B18="","",IFERROR(IF(J18="Canceled","Canceled",IF(J18="Closed","Closed",IF(O18>P18,"Overdue","On Track"))),"Check Data"))
O19: =IF(B19="","",IFERROR(IF(OR(J19="Closed",J19="Canceled"),MAX(0,K19-B19),MAX(0,TODAY()-B19)),0)) | P19: =IF(B19="","",IFERROR(IF(F19="Critical",'Dashboard'!$K$9,IF(F19="High",'Dashboard'!$K$10,IF(F19="Medium",'Dashboard'!$K$11,IF(F19="Low",'Dashboard'!$K$12,"")))),"")) | Q19: =IF(B19="","",IFERROR(IF(J19="Canceled","Canceled",IF(J19="Closed","Closed",IF(O19>P19,"Overdue","On Track"))),"Check Data"))
O20: =IF(B20="","",IFERROR(IF(OR(J20="Closed",J20="Canceled"),MAX(0,K20-B20),MAX(0,TODAY()-B20)),0)) | P20: =IF(B20="","",IFERROR(IF(F20="Critical",'Dashboard'!$K$9,IF(F20="High",'Dashboard'!$K$10,IF(F20="Medium",'Dashboard'!$K$11,IF(F20="Low",'Dashboard'!$K$12,"")))),"")) | Q20: =IF(B20="","",IFERROR(IF(J20="Canceled","Canceled",IF(J20="Closed","Closed",IF(O20>P20,"Overdue","On Track"))),"Check Data"))
O21: =IF(B21="","",IFERROR(IF(OR(J21="Closed",J21="Canceled"),MAX(0,K21-B21),MAX(0,TODAY()-B21)),0)) | P21: =IF(B21="","",IFERROR(IF(F21="Critical",'Dashboard'!$K$9,IF(F21="High",'Dashboard'!$K$10,IF(F21="Medium",'Dashboard'!$K$11,IF(F21="Low",'Dashboard'!$K$12,"")))),"")) | Q21: =IF(B21="","",IFERROR(IF(J21="Canceled","Canceled",IF(J21="Closed","Closed",IF(O21>P21,"Overdue","On Track"))),"Check Data"))
O22: =IF(B22="","",IFERROR(IF(OR(J22="Closed",J22="Canceled"),MAX(0,K22-B22),MAX(0,TODAY()-B22)),0)) | P22: =IF(B22="","",IFERROR(IF(F22="Critical",'Dashboard'!$K$9,IF(F22="High",'Dashboard'!$K$10,IF(F22="Medium",'Dashboard'!$K$11,IF(F22="Low",'Dashboard'!$K$12,"")))),"")) | Q22: =IF(B22="","",IFERROR(IF(J22="Canceled","Canceled",IF(J22="Closed","Closed",IF(O22>P22,"Overdue","On Track"))),"Check Data"))
O23: =IF(B23="","",IFERROR(IF(OR(J23="Closed",J23="Canceled"),MAX(0,K23-B23),MAX(0,TODAY()-B23)),0)) | P23: =IF(B23="","",IFERROR(IF(F23="Critical",'Dashboard'!$K$9,IF(F23="High",'Dashboard'!$K$10,IF(F23="Medium",'Dashboard'!$K$11,IF(F23="Low",'Dashboard'!$K$12,"")))),"")) | Q23: =IF(B23="","",IFERROR(IF(J23="Canceled","Canceled",IF(J23="Closed","Closed",IF(O23>P23,"Overdue","On Track"))),"Check Data"))
O24: =IF(B24="","",IFERROR(IF(OR(J24="Closed",J24="Canceled"),MAX(0,K24-B24),MAX(0,TODAY()-B24)),0)) | P24: =IF(B24="","",IFERROR(IF(F24="Critical",'Dashboard'!$K$9,IF(F24="High",'Dashboard'!$K$10,IF(F24="Medium",'Dashboard'!$K$11,IF(F24="Low",'Dashboard'!$K$12,"")))),"")) | Q24: =IF(B24="","",IFERROR(IF(J24="Canceled","Canceled",IF(J24="Closed","Closed",IF(O24>P24,"Overdue","On Track"))),"Check Data"))
O25: =IF(B25="","",IFERROR(IF(OR(J25="Closed",J25="Canceled"),MAX(0,K25-B25),MAX(0,TODAY()-B25)),0)) | P25: =IF(B25="","",IFERROR(IF(F25="Critical",'Dashboard'!$K$9,IF(F25="High",'Dashboard'!$K$10,IF(F25="Medium",'Dashboard'!$K$11,IF(F25="Low",'Dashboard'!$K$12,"")))),"")) | Q25: =IF(B25="","",IFERROR(IF(J25="Canceled","Canceled",IF(J25="Closed","Closed",IF(O25>P25,"Overdue","On Track"))),"Check Data"))
O26: =IF(B26="","",IFERROR(IF(OR(J26="Closed",J26="Canceled"),MAX(0,K26-B26),MAX(0,TODAY()-B26)),0)) | P26: =IF(B26="","",IFERROR(IF(F26="Critical",'Dashboard'!$K$9,IF(F26="High",'Dashboard'!$K$10,IF(F26="Medium",'Dashboard'!$K$11,IF(F26="Low",'Dashboard'!$K$12,"")))),"")) | Q26: =IF(B26="","",IFERROR(IF(J26="Canceled","Canceled",IF(J26="Closed","Closed",IF(O26>P26,"Overdue","On Track"))),"Check Data"))
... O204: =IF(B204="","",IFERROR(IF(OR(J204="Closed",J204="Canceled"),MAX(0,K204-B204),MAX(0,TODAY()-B204)),0)) | P204: =IF(B204="","",IFERROR(IF(F204="Critical",'Dashboard'!$K$9,IF(F204="High",'Dashboard'!$K$10,IF(F204="Medium",'Dashboard'!$K$11,IF(F204="Low",'Dashboard'!$K$12,"")))),"")) | Q204: =IF(B204="","",IFERROR(IF(J204="Canceled","Canceled",IF(J204="Closed","Closed",IF(O204>P204,"Overdue","On Track"))),"Check Data"))

Sheet Instructions
A1: Boutique Hotel Operations Workbook Instructions
A3: Workbook Overview
A4: This workbook helps a boutique hotel team record daily room, revenue, labor, and guest-service activity.
A5: Use the Dashboard to compare actual performance with editable operating targets, monitor open and overdue issues, and review trends for management meetings and shift handoffs.
A7: Recommended Daily Workflow
A8: 1. Enter or review the day's room inventory and occupied-room counts.
A9: 2. Enter revenue totals from the property's approved daily reports.
A10: 3. Enter labor hours and total labor cost from available internal records.
A11: 4. Record guest complaints, service recovery cost, and survey results.
A12: 5. Review the Daily Operations Check column.
A13: 6. Add new operational issues or tasks to the Issues & Tasks log.
A14: 7. Update issue status, costs, closed dates, and resolution notes.
... A44: Replace sample data only after confirming formulas and validations remain intact.
